{"text_format":"1","workbook":"xlsx","n_sheets":2,"sheets":["Access Point (Desc)","Access Point (Code)"],"not_rendered":{"charts":0,"images":0,"macros":1,"external_links":1,"defined_names":15,"comments":0,"pivot_tables":0},"unopened":[],"bounds":{"document_bytes":16777216,"sheet_cells":100000,"rows_first":2000,"rows_last":500,"rows_between":2000,"halvings":0,"cell_chars":16384,"cell_head_chars":4096},"cells_cut":0,"cells_raw":0,"read":"whole","date_system":"1900"}

{"sheet":"Access Point (Desc)","index":0,"n_rows":2,"n_cols":17,"rows_kept":2,"cut":false,"hidden":false,"merged":[]}
["Device Id\nfor update ","Site Identification Name","Latitude ","Longitude","Facility Owner","County","Year Installed (YYYY)","Comments","Type of Access Point ","Access Point Material ","Access Point Size (L x W x D)(In.)","Access Point Lid Type ","Access Point Lid Material","Access Point Bolt Type ","Access Point Lock Indicator ","Distance to Travel Lane (Ft.)","Located in Clear Zone (Yes/No)"]
["EQUIP_ID","SITE_NO\nREQUIRED FIELD","PRIM GEOM (Y)\nREQUIRED FIELD","PRIM GEOM (X)\nREQUIRED FIELD","OWNER_CD\nREQUIRED FIELD","COUNTY_CD\nREQUIRED FIELD","YEAR_INSTALLED","NAME","MANHOLE_TYPE_CD\nREQUIRED FIELD","MANHOLE_MTL_CD ","MANHOLE_SIZE_CD ","MANHOLE_LID_TYPE_CD ","LID_MTL_CD ","LID_BOLT_TYPE_CD","LOCK_CD","DISTANCE_TO_EOTL","CLEAR_ZONE_IND_CD"]

{"sheet":"Access Point (Code)","index":1,"n_rows":502,"n_cols":17,"rows_kept":502,"cut":false,"hidden":false,"merged":[]}
["Device Id\nfor update ","Site Identification Name","Latitude ","Longitude","Facility Owner","County","Year Installed (YYYY)","Comments","Type of Access Point ","Access Point Material ","Access Point Size (L x W x D)(In.)","Access Point Lid Type ","Access Point Lid Material","Access Point Bolt Type ","Access Point Lock Indicator ","Distance to Travel Lane (Ft.)","Located in Clear Zone"]
["EQUIP_ID","SITE_NO                                      REQUIRED FIELD","PRIM GEOM (Y) REQUIRED FIELD","PRIM GEOM (X) REQUIRED FIELD","OWNER_CD REQUIRED FIELD","COUNTY_CD REQUIRED FIELD","YEAR_INSTALLED","NAME","MANHOLE_TYPE_CD REQUIRED FIELD","MANHOLE_MTL_CD ","MANHOLE_SIZE_CD ","MANHOLE_LID_TYPE_CD ","LID_MTL_CD ","LID_BOLT_TYPE_CD","LOCK_CD","DISTANCE_TO_EOTL","CLEAR_ZONE_IND_CD"]
[{"$f":"IF('Access Point (Desc)'!A3=\"\",\"\",'Access Point (Desc)'!A3)","v":""},{"$f":"IF('Access Point (Desc)'!B3=\"\",\"\",'Access Point (Desc)'!B3)","v":""},{"$f":"IF('Access Point (Desc)'!C3=\"\",\"\",'Access Point (Desc)'!C3)","v":""},{"$f":"IF('Access Point (Desc)'!D3=\"\",\"\",'Access Point (Desc)'!D3)","v":""},{"$f":"IF('Access Point (Desc)'!E3=\"\",\"\",INDEX([1]OWNER!$A$2:$A$100,MATCH('Access Point (Desc)'!$E3,[1]!MASTER_OWNER_DESC[#Data],0),0))","v":""},{"$f":"IF('Access Point (Desc)'!F3=\"\",\"\",INDEX([1]COUNTY!$A$2:$A$100,MATCH('Access Point (Desc)'!F3,[1]!MASTER_COUNTY_NAME[#Data],0),0))","v":""},{"$f":"IF('Access Point (Desc)'!G3=\"\",\"\",'Access Point (Desc)'!G3)","v":""},{"$f":"IF('Access Point (Desc)'!H3=\"\",\"\",'Access Point (Desc)'!H3)","v":""},{"$f":"IF('Access Point (Desc)'!I3=\"\",\"\",INDEX([1]ROUTE_MH_TYPE!$A$2:$A$100,MATCH('Access Point (Desc)'!$I3,[1]!MASTER_ROUTE_MH_TYPE_DESC[#Data],0),0))","v":""},{"$f":"IF('Access Point (Desc)'!J3=\"\",\"\",INDEX([1]MANHOLE_MTL!$A$2:$A$100,MATCH('Access Point (Desc)'!$J3,[1]!MASTER_MANHOLE_MTL_DESC[#Data],0),0))","v":""},{"$f":"IF('Access Point (Desc)'!K3=\"\",\"\",INDEX([1]MANHOLE_SIZE!$A$2:$A$120,MATCH('Access Point (Desc)'!$K3,[1]!MASTER_MANHOLE_SIZE_DESC[#Data],0),0))","v":""},{"$f":"IF('Access Point (Desc)'!L3=\"\",\"\",INDEX([1]ROUTE_MH_LID_TYPE!$A$2:$A$100,MATCH('Access Point (Desc)'!$L3,[1]!MASTER_ROUTE_MH_LID_TYPE_DESC[#Data],0),0))","v":""},{"$f":"IF('Access Point (Desc)'!M3=\"\",\"\",INDEX([1]MANHOLE_MTL!$A$2:$A$100,MATCH('Access Point (Desc)'!$M3,[1]!MASTER_MANHOLE_MTL_DESC[#Data],0),0))","v":""},{"$f":"IF('Access Point (Desc)'!N3=\"\",\"\",INDEX([1]LID_BOLT_TYPE!$A$2:$A$100,MATCH('Access Point (Desc)'!$N3,[1]!MASTER_LID_BOLT_TYPE_DESC[#Data],0),0))","v":""},{"$f":"IF('Access Point (Desc)'!O3=\"\",\"\",INDEX([1]YES_NO!$A$2:$A$100,MATCH('Access Point (Desc)'!$O3,[1]!MASTER_YES_NO_DESC[#Data],0),0))","v":""},{"$f":"IF('Access Point (Desc)'!P3=\"\",\"\",'Access Point (Desc)'!P3)","v":""},{"$f":"IF('Access Point (Desc)'!Q3=\"\",\"\",INDEX([1]YES_NO!$A$2:$A$100,MATCH('Access Point (Desc)'!$Q3,[1]!MASTER_YES_NO_DESC[#Data],0),0))","v":""}]
[{"$f":"IF('Access Point (Desc)'!A4=\"\",\"\",'Access Point (Desc)'!A4)","v":""},{"$f":"IF('Access Point (Desc)'!B4=\"\",\"\",'Access Point (Desc)'!B4)","v":""},{"$f":"IF('Access Point (Desc)'!C4=\"\",\"\",'Access Point (Desc)'!C4)","v":""},{"$f":"IF('Access Point (Desc)'!D4=\"\",\"\",'Access Point (Desc)'!D4)","v":""},{"$f":"IF('Access Point (Desc)'!E4=\"\",\"\",INDEX([1]OWNER!$A$2:$A$100,MATCH('Access Point (Desc)'!$E4,[1]!MASTER_OWNER_DESC[#Data],0),0))","v":""},{"$f":"IF('Access Point (Desc)'!F4=\"\",\"\",INDEX([1]COUNTY!$A$2:$A$100,MATCH('Access Point (Desc)'!F4,[1]!MASTER_COUNTY_NAME[#Data],0),0))","v":""},{"$f":"IF('Access Point (Desc)'!G4=\"\",\"\",'Access Point (Desc)'!G4)","v":""},{"$f":"IF('Access Point (Desc)'!H4=\"\",\"\",'Access Point (Desc)'!H4)","v":""},{"$f":"IF('Access Point (Desc)'!I4=\"\",\"\",INDEX([1]ROUTE_MH_TYPE!$A$2:$A$100,MATCH('Access Point (Desc)'!$I4,[1]!MASTER_ROUTE_MH_TYPE_DESC[#Data],0),0))","v":""},{"$f":"IF('Access Point (Desc)'!J4=\"\",\"\",INDEX([1]MANHOLE_MTL!$A$2:$A$100,MATCH('Access Point (Desc)'!$J4,[1]!MASTER_MANHOLE_MTL_DESC[#Data],0),0))","v":""},{"$f":"IF('Access Point (Desc)'!K4=\"\",\"\",INDEX([1]MANHOLE_SIZE!$A$2:$A$120,MATCH('Access Point (Desc)'!$K4,[1]!MASTER_MANHOLE_SIZE_DESC[#Data],0),0))","v":""},{"$f":"IF('Access Point (Desc)'!L4=\"\",\"\",INDEX([1]ROUTE_MH_LID_TYPE!$A$2:$A$100,MATCH('Access Point (Desc)'!$L4,[1]!MASTER_ROUTE_MH_LID_TYPE_DESC[#Data],0),0))","v":""},{"$f":"IF('Access Point (Desc)'!M4=\"\",\"\",INDEX([1]MANHOLE_MTL!$A$2:$A$100,MATCH('Access Point (Desc)'!$M4,[1]!MASTER_MANHOLE_MTL_DESC[#Data],0),0))","v":""},{"$f":"IF('Access Point (Desc)'!N4=\"\",\"\",INDEX([1]LID_BOLT_TYPE!$A$2:$A$100,MATCH('Access Point (Desc)'!$N4,[1]!MASTER_LID_BOLT_TYPE_DESC[#Data],0),0))","v":""},{"$f":"IF('Access Point (Desc)'!O4=\"\",\"\",INDEX([1]YES_NO!$A$2:$A$100,MATCH('Access Point (Desc)'!$O4,[1]!MASTER_YES_NO_DESC[#Data],0),0))","v":""},{"$f":"IF('Access Point (Desc)'!P4=\"\",\"\",'Access Point (Desc)'!P4)","v":""},{"$f":"IF('Access Point (Desc)'!Q4=\"\",\"\",INDEX([1]YES_NO!$A$2:$A$100,MATCH('Access Point (Desc)'!$Q4,[1]!MASTER_YES_NO_DESC[#Data],0),0))","v":""}]
[{"$f":"IF('Access Point (Desc)'!A5=\"\",\"\",'Access Point (Desc)'!A5)","v":""},{"$f":"IF('Access Point (Desc)'!B5=\"\",\"\",'Access Point (Desc)'!B5)","v":""},{"$f":"IF('Access Point (Desc)'!C5=\"\",\"\",'Access Point (Desc)'!C5)","v":""},{"$f":"IF('Access Point (Desc)'!D5=\"\",\"\",'Access Point (Desc)'!D5)","v":""},{"$f":"IF('Access Point (Desc)'!E5=\"\",\"\",INDEX([1]OWNER!$A$2:$A$100,MATCH('Access Point (Desc)'!$E5,[1]!MASTER_OWNER_DESC[#Data],0),0))","v":""},{"$f":"IF('Access Point (Desc)'!F5=\"\",\"\",INDEX([1]COUNTY!$A$2:$A$100,MATCH('Access Point (Desc)'!F5,[1]!MASTER_COUNTY_NAME[#Data],0),0))","v":""},{"$f":"IF('Access Point (Desc)'!G5=\"\",\"\",'Access Point (Desc)'!G5)","v":""},{"$f":"IF('Access Point (Desc)'!H5=\"\",\"\",'Access Point (Desc)'!H5)","v":""},{"$f":"IF('Access Point (Desc)'!I5=\"\",\"\",INDEX([1]ROUTE_MH_TYPE!$A$2:$A$100,MATCH('Access Point (Desc)'!$I5,[1]!MASTER_ROUTE_MH_TYPE_DESC[#Data],0),0))","v":""},{"$f":"IF('Access Point (Desc)'!J5=\"\",\"\",INDEX([1]MANHOLE_MTL!$A$2:$A$100,MATCH('Access Point (Desc)'!$J5,[1]!MASTER_MANHOLE_MTL_DESC[#Data],0),0))","v":""},{"$f":"IF('Access Point (Desc)'!K5=\"\",\"\",INDEX([1]MANHOLE_SIZE!$A$2:$A$120,MATCH('Access Point (Desc)'!$K5,[1]!MASTER_MANHOLE_SIZE_DESC[#Data],0),0))","v":""},{"$f":"IF('Access Point (Desc)'!L5=\"\",\"\",INDEX([1]ROUTE_MH_LID_TYPE!$A$2:$A$100,MATCH('Access Point (Desc)'!$L5,[1]!MASTER_ROUTE_MH_LID_TYPE_DESC[#Data],0),0))","v":""},{"$f":"IF('Access Point (Desc)'!M5=\"\",\"\",INDEX([1]MANHOLE_MTL!$A$2:$A$100,MATCH('Access Point (Desc)'!$M5,[1]!MASTER_MANHOLE_MTL_DESC[#Data],0),0))","v":""},{"$f":"IF('Access Point (Desc)'!N5=\"\",\"\",INDEX([1]LID_BOLT_TYPE!$A$2:$A$100,MATCH('Access Point (Desc)'!$N5,[1]!MASTER_LID_BOLT_TYPE_DESC[#Data],0),0))","v":""},{"$f":"IF('Access Point (Desc)'!O5=\"\",\"\",INDEX([1]YES_NO!$A$2:$A$100,MATCH('Access Point (Desc)'!$O5,[1]!MASTER_YES_NO_DESC[#Data],0),0))","v":""},{"$f":"IF('Access Point (Desc)'!P5=\"\",\"\",'Access Point (Desc)'!P5)","v":""},{"$f":"IF('Access Point (Desc)'!Q5=\"\",\"\",INDEX([1]YES_NO!$A$2:$A$100,MATCH('Access Point (Desc)'!$Q5,[1]!MASTER_YES_NO_DESC[#Data],0),0))","v":""}]
[{"$f":"IF('Access Point (Desc)'!A6=\"\",\"\",'Access Point (Desc)'!A6)","v":""},{"$f":"IF('Access Point (Desc)'!B6=\"\",\"\",'Access Point (Desc)'!B6)","v":""},{"$f":"IF('Access Point (Desc)'!C6=\"\",\"\",'Access Point (Desc)'!C6)","v":""},{"$f":"IF('Access Point (Desc)'!D6=\"\",\"\",'Access Point (Desc)'!D6)","v":""},{"$f":"IF('Access Point (Desc)'!E6=\"\",\"\",INDEX([1]OWNER!$A$2:$A$100,MATCH('Access Point (Desc)'!$E6,[1]!MASTER_OWNER_DESC[#Data],0),0))","v":""},{"$f":"IF('Access Point (Desc)'!F6=\"\",\"\",INDEX([1]COUNTY!$A$2:$A$100,MATCH('Access Point (Desc)'!F6,[1]!MASTER_COUNTY_NAME[#Data],0),0))","v":""},{"$f":"IF('Access Point (Desc)'!G6=\"\",\"\",'Access Point (Desc)'!G6)","v":""},{"$f":"IF('Access Point (Desc)'!H6=\"\",\"\",'Access Point (Desc)'!H6)","v":""},{"$f":"IF('Access Point (Desc)'!I6=\"\",\"\",INDEX([1]ROUTE_MH_TYPE!$A$2:$A$100,MATCH('Access Point (Desc)'!$I6,[1]!MASTER_ROUTE_MH_TYPE_DESC[#Data],0),0))","v":""},{"$f":"IF('Access Point (Desc)'!J6=\"\",\"\",INDEX([1]MANHOLE_MTL!$A$2:$A$100,MATCH('Access Point (Desc)'!$J6,[1]!MASTER_MANHOLE_MTL_DESC[#Data],0),0))","v":""},{"$f":"IF('Access Point (Desc)'!K6=\"\",\"\",INDEX([1]MANHOLE_SIZE!$A$2:$A$120,MATCH('Access Point (Desc)'!$K6,[1]!MASTER_MANHOLE_SIZE_DESC[#Data],0),0))","v":""},{"$f":"IF('Access Point (Desc)'!L6=\"\",\"\",INDEX([1]ROUTE_MH_LID_TYPE!$A$2:$A$100,MATCH('Access Point (Desc)'!$L6,[1]!MASTER_ROUTE_MH_LID_TYPE_DESC[#Data],0),0))","v":""},{"$f":"IF('Access Point (Desc)'!M6=\"\",\"\",INDEX([1]MANHOLE_MTL!$A$2:$A$100,MATCH('Access Point (Desc)'!$M6,[1]!MASTER_MANHOLE_MTL_DESC[#Data],0),0))","v":""},{"$f":"IF('Access Point (Desc)'!N6=\"\",\"\",INDEX([1]LID_BOLT_TYPE!$A$2:$A$100,MATCH('Access Point (Desc)'!$N6,[1]!MASTER_LID_BOLT_TYPE_DESC[#Data],0),0))","v":""},{"$f":"IF('Access Point (Desc)'!O6=\"\",\"\",INDEX([1]YES_NO!$A$2:$A$100,MATCH('Access Point (Desc)'!$O6,[1]!MASTER_YES_NO_DESC[#Data],0),0))","v":""},{"$f":"IF('Access Point (Desc)'!P6=\"\",\"\",'Access Point (Desc)'!P6)","v":""},{"$f":"IF('Access Point (Desc)'!Q6=\"\",\"\",INDEX([1]YES_NO!$A$2:$A$100,MATCH('Access Point (Desc)'!$Q6,[1]!MASTER_YES_NO_DESC[#Data],0),0))","v":""}]
[{"$f":"IF('Access Point (Desc)'!A7=\"\",\"\",'Access Point (Desc)'!A7)","v":""},{"$f":"IF('Access Point (Desc)'!B7=\"\",\"\",'Access Point (Desc)'!B7)","v":""},{"$f":"IF('Access Point (Desc)'!C7=\"\",\"\",'Access Point (Desc)'!C7)","v":""},{"$f":"IF('Access Point (Desc)'!D7=\"\",\"\",'Access Point (Desc)'!D7)","v":""},{"$f":"IF('Access Point (Desc)'!E7=\"\",\"\",INDEX([1]OWNER!$A$2:$A$100,MATCH('Access Point (Desc)'!$E7,[1]!MASTER_OWNER_DESC[#Data],0),0))","v":""},{"$f":"IF('Access Point (Desc)'!F7=\"\",\"\",INDEX([1]COUNTY!$A$2:$A$100,MATCH('Access Point (Desc)'!F7,[1]!MASTER_COUNTY_NAME[#Data],0),0))","v":""},{"$f":"IF('Access Point (Desc)'!G7=\"\",\"\",'Access Point (Desc)'!G7)","v":""},{"$f":"IF('Access Point (Desc)'!H7=\"\",\"\",'Access Point (Desc)'!H7)","v":""},{"$f":"IF('Access Point (Desc)'!I7=\"\",\"\",INDEX([1]ROUTE_MH_TYPE!$A$2:$A$100,MATCH('Access Point (Desc)'!$I7,[1]!MASTER_ROUTE_MH_TYPE_DESC[#Data],0),0))","v":""},{"$f":"IF('Access Point (Desc)'!J7=\"\",\"\",INDEX([1]MANHOLE_MTL!$A$2:$A$100,MATCH('Access Point (Desc)'!$J7,[1]!MASTER_MANHOLE_MTL_DESC[#Data],0),0))","v":""},{"$f":"IF('Access Point (Desc)'!K7=\"\",\"\",INDEX([1]MANHOLE_SIZE!$A$2:$A$120,MATCH('Access Point (Desc)'!$K7,[1]!MASTER_MANHOLE_SIZE_DESC[#Data],0),0))","v":""},{"$f":"IF('Access Point (Desc)'!L7=\"\",\"\",INDEX([1]ROUTE_MH_LID_TYPE!$A$2:$A$100,MATCH('Access Point (Desc)'!$L7,[1]!MASTER_ROUTE_MH_LID_TYPE_DESC[#Data],0),0))","v":""},{"$f":"IF('Access Point (Desc)'!M7=\"\",\"\",INDEX([1]MANHOLE_MTL!$A$2:$A$100,MATCH('Access Point (Desc)'!$M7,[1]!MASTER_MANHOLE_MTL_DESC[#Data],0),0))","v":""},{"$f":"IF('Access Point (Desc)'!N7=\"\",\"\",INDEX([1]LID_BOLT_TYPE!$A$2:$A$100,MATCH('Access Point (Desc)'!$N7,[1]!MASTER_LID_BOLT_TYPE_DESC[#Data],0),0))","v":""},{"$f":"IF('Access Point (Desc)'!O7=\"\",\"\",INDEX([1]YES_NO!$A$2:$A$100,MATCH('Access Point (Desc)'!$O7,[1]!MASTER_YES_NO_DESC[#Data],0),0))","v":""},{"$f":"IF('Access Point (Desc)'!P7=\"\",\"\",'Access Point (Desc)'!P7)","v":""},{"$f":"IF('Access Point (Desc)'!Q7=\"\",\"\",INDEX([1]YES_NO!$A$2:$A$100,MATCH('Access Point (Desc)'!$Q7,[1]!MASTER_YES_NO_DESC[#Data],0),0))","v":""}]
[{"$f":"IF('Access Point (Desc)'!A8=\"\",\"\",'Access Point (Desc)'!A8)","v":""},{"$f":"IF('Access Point (Desc)'!B8=\"\",\"\",'Access Point (Desc)'!B8)","v":""},{"$f":"IF('Access Point (Desc)'!C8=\"\",\"\",'Access Point (Desc)'!C8)","v":""},{"$f":"IF('Access Point (Desc)'!D8=\"\",\"\",'Access Point (Desc)'!D8)","v":""},{"$f":"IF('Access Point (Desc)'!E8=\"\",\"\",INDEX([1]OWNER!$A$2:$A$100,MATCH('Access Point (Desc)'!$E8,[1]!MASTER_OWNER_DESC[#Data],0),0))","v":""},{"$f":"IF('Access Point (Desc)'!F8=\"\",\"\",INDEX([1]COUNTY!$A$2:$A$100,MATCH('Access Point (Desc)'!F8,[1]!MASTER_COUNTY_NAME[#Data],0),0))","v":""},{"$f":"IF('Access Point (Desc)'!G8=\"\",\"\",'Access Point (Desc)'!G8)","v":""},{"$f":"IF('Access Point (Desc)'!H8=\"\",\"\",'Access Point (Desc)'!H8)","v":""},{"$f":"IF('Access Point (Desc)'!I8=\"\",\"\",INDEX([1]ROUTE_MH_TYPE!$A$2:$A$100,MATCH('Access Point (Desc)'!$I8,[1]!MASTER_ROUTE_MH_TYPE_DESC[#Data],0),0))","v":""},{"$f":"IF('Access Point (Desc)'!J8=\"\",\"\",INDEX([1]MANHOLE_MTL!$A$2:$A$100,MATCH('Access Point (Desc)'!$J8,[1]!MASTER_MANHOLE_MTL_DESC[#Data],0),0))","v":""},{"$f":"IF('Access Point (Desc)'!K8=\"\",\"\",INDEX([1]MANHOLE_SIZE!$A$2:$A$120,MATCH('Access Point (Desc)'!$K8,[1]!MASTER_MANHOLE_SIZE_DESC[#Data],0),0))","v":""},{"$f":"IF('Access Point (Desc)'!L8=\"\",\"\",INDEX([1]ROUTE_MH_LID_TYPE!$A$2:$A$100,MATCH('Access Point (Desc)'!$L8,[1]!MASTER_ROUTE_MH_LID_TYPE_DESC[#Data],0),0))","v":""},{"$f":"IF('Access Point (Desc)'!M8=\"\",\"\",INDEX([1]MANHOLE_MTL!$A$2:$A$100,MATCH('Access Point (Desc)'!$M8,[1]!MASTER_MANHOLE_MTL_DESC[#Data],0),0))","v":""},{"$f":"IF('Access Point (Desc)'!N8=\"\",\"\",INDEX([1]LID_BOLT_TYPE!$A$2:$A$100,MATCH('Access Point (Desc)'!$N8,[1]!MASTER_LID_BOLT_TYPE_DESC[#Data],0),0))","v":""},{"$f":"IF('Access Point (Desc)'!O8=\"\",\"\",INDEX([1]YES_NO!$A$2:$A$100,MATCH('Access Point (Desc)'!$O8,[1]!MASTER_YES_NO_DESC[#Data],0),0))","v":""},{"$f":"IF('Access Point (Desc)'!P8=\"\",\"\",'Access Point (Desc)'!P8)","v":""},{"$f":"IF('Access Point (Desc)'!Q8=\"\",\"\",INDEX([1]YES_NO!$A$2:$A$100,MATCH('Access Point (Desc)'!$Q8,[1]!MASTER_YES_NO_DESC[#Data],0),0))","v":""}]
[{"$f":"IF('Access Point (Desc)'!A9=\"\",\"\",'Access Point (Desc)'!A9)","v":""},{"$f":"IF('Access Point (Desc)'!B9=\"\",\"\",'Access Point (Desc)'!B9)","v":""},{"$f":"IF('Access Point (Desc)'!C9=\"\",\"\",'Access Point (Desc)'!C9)","v":""},{"$f":"IF('Access Point (Desc)'!D9=\"\",\"\",'Access Point (Desc)'!D9)","v":""},{"$f":"IF('Access Point (Desc)'!E9=\"\",\"\",INDEX([1]OWNER!$A$2:$A$100,MATCH('Access Point (Desc)'!$E9,[1]!MASTER_OWNER_DESC[#Data],0),0))","v":""},{"$f":"IF('Access Point (Desc)'!F9=\"\",\"\",INDEX([1]COUNTY!$A$2:$A$100,MATCH('Access Point (Desc)'!F9,[1]!MASTER_COUNTY_NAME[#Data],0),0))","v":""},{"$f":"IF('Access Point (Desc)'!G9=\"\",\"\",'Access Point (Desc)'!G9)","v":""},{"$f":"IF('Access Point (Desc)'!H9=\"\",\"\",'Access Point (Desc)'!H9)","v":""},{"$f":"IF('Access Point (Desc)'!I9=\"\",\"\",INDEX([1]ROUTE_MH_TYPE!$A$2:$A$100,MATCH('Access Point (Desc)'!$I9,[1]!MASTER_ROUTE_MH_TYPE_DESC[#Data],0),0))","v":""},{"$f":"IF('Access Point (Desc)'!J9=\"\",\"\",INDEX([1]MANHOLE_MTL!$A$2:$A$100,MATCH('Access Point (Desc)'!$J9,[1]!MASTER_MANHOLE_MTL_DESC[#Data],0),0))","v":""},{"$f":"IF('Access Point (Desc)'!K9=\"\",\"\",INDEX([1]MANHOLE_SIZE!$A$2:$A$120,MATCH('Access Point (Desc)'!$K9,[1]!MASTER_MANHOLE_SIZE_DESC[#Data],0),0))","v":""},{"$f":"IF('Access Point (Desc)'!L9=\"\",\"\",INDEX([1]ROUTE_MH_LID_TYPE!$A$2:$A$100,MATCH('Access Point (Desc)'!$L9,[1]!MASTER_ROUTE_MH_LID_TYPE_DESC[#Data],0),0))","v":""},{"$f":"IF('Access Point (Desc)'!M9=\"\",\"\",INDEX([1]MANHOLE_MTL!$A$2:$A$100,MATCH('Access Point (Desc)'!$M9,[1]!MASTER_MANHOLE_MTL_DESC[#Data],0),0))","v":""},{"$f":"IF('Access Point (Desc)'!N9=\"\",\"\",INDEX([1]LID_BOLT_TYPE!$A$2:$A$100,MATCH('Access Point (Desc)'!$N9,[1]!MASTER_LID_BOLT_TYPE_DESC[#Data],0),0))","v":""},{"$f":"IF('Access Point (Desc)'!O9=\"\",\"\",INDEX([1]YES_NO!$A$2:$A$100,MATCH('Access Point (Desc)'!$O9,[1]!MASTER_YES_NO_DESC[#Data],0),0))","v":""},{"$f":"IF('Access Point (Desc)'!P9=\"\",\"\",'Access Point (Desc)'!P9)","v":""},{"$f":"IF('Access Point (Desc)'!Q9=\"\",\"\",INDEX([1]YES_NO!$A$2:$A$100,MATCH('Access Point (Desc)'!$Q9,[1]!MASTER_YES_NO_DESC[#Data],0),0))","v":""}]
[{"$f":"IF('Access Point (Desc)'!A10=\"\",\"\",'Access Point (Desc)'!A10)","v":""},{"$f":"IF('Access Point (Desc)'!B10=\"\",\"\",'Access Point (Desc)'!B10)","v":""},{"$f":"IF('Access Point (Desc)'!C10=\"\",\"\",'Access Point (Desc)'!C10)","v":""},{"$f":"IF('Access Point (Desc)'!D10=\"\",\"\",'Access Point (Desc)'!D10)","v":""},{"$f":"IF('Access Point (Desc)'!E10=\"\",\"\",INDEX([1]OWNER!$A$2:$A$100,MATCH('Access Point (Desc)'!$E10,[1]!MASTER_OWNER_DESC[#Data],0),0))","v":""},{"$f":"IF('Access Point (Desc)'!F10=\"\",\"\",INDEX([1]COUNTY!$A$2:$A$100,MATCH('Access Point (Desc)'!F10,[1]!MASTER_COUNTY_NAME[#Data],0),0))","v":""},{"$f":"IF('Access Point (Desc)'!G10=\"\",\"\",'Access Point (Desc)'!G10)","v":""},{"$f":"IF('Access Point (Desc)'!H10=\"\",\"\",'Access Point (Desc)'!H10)","v":""},{"$f":"IF('Access Point (Desc)'!I10=\"\",\"\",INDEX([1]ROUTE_MH_TYPE!$A$2:$A$100,MATCH('Access Point (Desc)'!$I10,[1]!MASTER_ROUTE_MH_TYPE_DESC[#Data],0),0))","v":""},{"$f":"IF('Access Point (Desc)'!J10=\"\",\"\",INDEX([1]MANHOLE_MTL!$A$2:$A$100,MATCH('Access Point (Desc)'!$J10,[1]!MASTER_MANHOLE_MTL_DESC[#Data],0),0))","v":""},{"$f":"IF('Access Point (Desc)'!K10=\"\",\"\",INDEX([1]MANHOLE_SIZE!$A$2:$A$120,MATCH('Access Point (Desc)'!$K10,[1]!MASTER_MANHOLE_SIZE_DESC[#Data],0),0))","v":""},{"$f":"IF('Access Point (Desc)'!L10=\"\",\"\",INDEX([1]ROUTE_MH_LID_TYPE!$A$2:$A$100,MATCH('Access Point (Desc)'!$L10,[1]!MASTER_ROUTE_MH_LID_TYPE_DESC[#Data],0),0))","v":""},{"$f":"IF('Access Point (Desc)'!M10=\"\",\"\",INDEX([1]MANHOLE_MTL!$A$2:$A$100,MATCH('Access Point (Desc)'!$M10,[1]!MASTER_MANHOLE_MTL_DESC[#Data],0),0))","v":""},{"$f":"IF('Access Point (Desc)'!N10=\"\",\"\",INDEX([1]LID_BOLT_TYPE!$A$2:$A$100,MATCH('Access Point (Desc)'!$N10,[1]!MASTER_LID_BOLT_TYPE_DESC[#Data],0),0))","v":""},{"$f":"IF('Access Point (Desc)'!O10=\"\",\"\",INDEX([1]YES_NO!$A$2:$A$100,MATCH('Access Point (Desc)'!$O10,[1]!MASTER_YES_NO_DESC[#Data],0),0))","v":""},{"$f":"IF('Access Point (Desc)'!P10=\"\",\"\",'Access Point (Desc)'!P10)","v":""},{"$f":"IF('Access Point (Desc)'!Q10=\"\",\"\",INDEX([1]YES_NO!$A$2:$A$100,MATCH('Access Point (Desc)'!$Q10,[1]!MASTER_YES_NO_DESC[#Data],0),0))","v":""}]
[{"$f":"IF('Access Point (Desc)'!A11=\"\",\"\",'Access Point (Desc)'!A11)","v":""},{"$f":"IF('Access Point (Desc)'!B11=\"\",\"\",'Access Point (Desc)'!B11)","v":""},{"$f":"IF('Access Point (Desc)'!C11=\"\",\"\",'Access Point (Desc)'!C11)","v":""},{"$f":"IF('Access Point (Desc)'!D11=\"\",\"\",'Access Point (Desc)'!D11)","v":""},{"$f":"IF('Access Point (Desc)'!E11=\"\",\"\",INDEX([1]OWNER!$A$2:$A$100,MATCH('Access Point (Desc)'!$E11,[1]!MASTER_OWNER_DESC[#Data],0),0))","v":""},{"$f":"IF('Access Point (Desc)'!F11=\"\",\"\",INDEX([1]COUNTY!$A$2:$A$100,MATCH('Access Point (Desc)'!F11,[1]!MASTER_COUNTY_NAME[#Data],0),0))","v":""},{"$f":"IF('Access Point (Desc)'!G11=\"\",\"\",'Access Point (Desc)'!G11)","v":""},{"$f":"IF('Access Point (Desc)'!H11=\"\",\"\",'Access Point (Desc)'!H11)","v":""},{"$f":"IF('Access Point (Desc)'!I11=\"\",\"\",INDEX([1]ROUTE_MH_TYPE!$A$2:$A$100,MATCH('Access Point (Desc)'!$I11,[1]!MASTER_ROUTE_MH_TYPE_DESC[#Data],0),0))","v":""},{"$f":"IF('Access Point (Desc)'!J11=\"\",\"\",INDEX([1]MANHOLE_MTL!$A$2:$A$100,MATCH('Access Point (Desc)'!$J11,[1]!MASTER_MANHOLE_MTL_DESC[#Data],0),0))","v":""},{"$f":"IF('Access Point (Desc)'!K11=\"\",\"\",INDEX([1]MANHOLE_SIZE!$A$2:$A$120,MATCH('Access Point (Desc)'!$K11,[1]!MASTER_MANHOLE_SIZE_DESC[#Data],0),0))","v":""},{"$f":"IF('Access Point (Desc)'!L11=\"\",\"\",INDEX([1]ROUTE_MH_LID_TYPE!$A$2:$A$100,MATCH('Access Point (Desc)'!$L11,[1]!MASTER_ROUTE_MH_LID_TYPE_DESC[#Data],0),0))","v":""},{"$f":"IF('Access Point (Desc)'!M11=\"\",\"\",INDEX([1]MANHOLE_MTL!$A$2:$A$100,MATCH('Access Point (Desc)'!$M11,[1]!MASTER_MANHOLE_MTL_DESC[#Data],0),0))","v":""},{"$f":"IF('Access Point (Desc)'!N11=\"\",\"\",INDEX([1]LID_BOLT_TYPE!$A$2:$A$100,MATCH('Access Point (Desc)'!$N11,[1]!MASTER_LID_BOLT_TYPE_DESC[#Data],0),0))","v":""},{"$f":"IF('Access Point (Desc)'!O11=\"\",\"\",INDEX([1]YES_NO!$A$2:$A$100,MATCH('Access Point (Desc)'!$O11,[1]!MASTER_YES_NO_DESC[#Data],0),0))","v":""},{"$f":"IF('Access Point (Desc)'!P11=\"\",\"\",'Access Point (Desc)'!P11)","v":""},{"$f":"IF('Access Point (Desc)'!Q11=\"\",\"\",INDEX([1]YES_NO!$A$2:$A$100,MATCH('Access Point (Desc)'!$Q11,[1]!MASTER_YES_NO_DESC[#Data],0),0))","v":""}]
[{"$f":"IF('Access Point (Desc)'!A12=\"\",\"\",'Access Point (Desc)'!A12)","v":""},{"$f":"IF('Access Point (Desc)'!B12=\"\",\"\",'Access Point (Desc)'!B12)","v":""},{"$f":"IF('Access Point (Desc)'!C12=\"\",\"\",'Access Point (Desc)'!C12)","v":""},{"$f":"IF('Access Point (Desc)'!D12=\"\",\"\",'Access Point (Desc)'!D12)","v":""},{"$f":"IF('Access Point (Desc)'!E12=\"\",\"\",INDEX([1]OWNER!$A$2:$A$100,MATCH('Access Point (Desc)'!$E12,[1]!MASTER_OWNER_DESC[#Data],0),0))","v":""},{"$f":"IF('Access Point (Desc)'!F12=\"\",\"\",INDEX([1]COUNTY!$A$2:$A$100,MATCH('Access Point (Desc)'!F12,[1]!MASTER_COUNTY_NAME[#Data],0),0))","v":""},{"$f":"IF('Access Point (Desc)'!G12=\"\",\"\",'Access Point (Desc)'!G12)","v":""},{"$f":"IF('Access Point (Desc)'!H12=\"\",\"\",'Access Point (Desc)'!H12)","v":""},{"$f":"IF('Access Point (Desc)'!I12=\"\",\"\",INDEX([1]ROUTE_MH_TYPE!$A$2:$A$100,MATCH('Access Point (Desc)'!$I12,[1]!MASTER_ROUTE_MH_TYPE_DESC[#Data],0),0))","v":""},{"$f":"IF('Access Point (Desc)'!J12=\"\",\"\",INDEX([1]MANHOLE_MTL!$A$2:$A$100,MATCH('Access Point (Desc)'!$J12,[1]!MASTER_MANHOLE_MTL_DESC[#Data],0),0))","v":""},{"$f":"IF('Access Point (Desc)'!K12=\"\",\"\",INDEX([1]MANHOLE_SIZE!$A$2:$A$120,MATCH('Access Point (Desc)'!$K12,[1]!MASTER_MANHOLE_SIZE_DESC[#Data],0),0))","v":""},{"$f":"IF('Access Point (Desc)'!L12=\"\",\"\",INDEX([1]ROUTE_MH_LID_TYPE!$A$2:$A$100,MATCH('Access Point (Desc)'!$L12,[1]!MASTER_ROUTE_MH_LID_TYPE_DESC[#Data],0),0))","v":""},{"$f":"IF('Access Point (Desc)'!M12=\"\",\"\",INDEX([1]MANHOLE_MTL!$A$2:$A$100,MATCH('Access Point (Desc)'!$M12,[1]!MASTER_MANHOLE_MTL_DESC[#Data],0),0))","v":""},{"$f":"IF('Access Point (Desc)'!N12=\"\",\"\",INDEX([1]LID_BOLT_TYPE!$A$2:$A$100,MATCH('Access Point (Desc)'!$N12,[1]!MASTER_LID_BOLT_TYPE_DESC[#Data],0),0))","v":""},{"$f":"IF('Access Point (Desc)'!O12=\"\",\"\",INDEX([1]YES_NO!$A$2:$A$100,MATCH('Access Point (Desc)'!$O12,[1]!MASTER_YES_NO_DESC[#Data],0),0))","v":""},{"$f":"IF('Access Point (Desc)'!P12=\"\",\"\",'Access Point (Desc)'!P12)","v":""},{"$f":"IF('Access Point (Desc)'!Q12=\"\",\"\",INDEX([1]YES_NO!$A$2:$A$100,MATCH('Access Point (Desc)'!$Q12,[1]!MASTER_YES_NO_DESC[#Data],0),0))","v":""}]
[{"$f":"IF('Access Point (Desc)'!A13=\"\",\"\",'Access Point (Desc)'!A13)","v":""},{"$f":"IF('Access Point (Desc)'!B13=\"\",\"\",'Access Point (Desc)'!B13)","v":""},{"$f":"IF('Access Point (Desc)'!C13=\"\",\"\",'Access Point (Desc)'!C13)","v":""},{"$f":"IF('Access Point (Desc)'!D13=\"\",\"\",'Access Point (Desc)'!D13)","v":""},{"$f":"IF('Access Point (Desc)'!E13=\"\",\"\",INDEX([1]OWNER!$A$2:$A$100,MATCH('Access Point (Desc)'!$E13,[1]!MASTER_OWNER_DESC[#Data],0),0))","v":""},{"$f":"IF('Access Point (Desc)'!F13=\"\",\"\",INDEX([1]COUNTY!$A$2:$A$100,MATCH('Access Point (Desc)'!F13,[1]!MASTER_COUNTY_NAME[#Data],0),0))","v":""},{"$f":"IF('Access Point (Desc)'!G13=\"\",\"\",'Access Point (Desc)'!G13)","v":""},{"$f":"IF('Access Point (Desc)'!H13=\"\",\"\",'Access Point (Desc)'!H13)","v":""},{"$f":"IF('Access Point (Desc)'!I13=\"\",\"\",INDEX([1]ROUTE_MH_TYPE!$A$2:$A$100,MATCH('Access Point (Desc)'!$I13,[1]!MASTER_ROUTE_MH_TYPE_DESC[#Data],0),0))","v":""},{"$f":"IF('Access Point (Desc)'!J13=\"\",\"\",INDEX([1]MANHOLE_MTL!$A$2:$A$100,MATCH('Access Point (Desc)'!$J13,[1]!MASTER_MANHOLE_MTL_DESC[#Data],0),0))","v":""},{"$f":"IF('Access Point (Desc)'!K13=\"\",\"\",INDEX([1]MANHOLE_SIZE!$A$2:$A$120,MATCH('Access Point (Desc)'!$K13,[1]!MASTER_MANHOLE_SIZE_DESC[#Data],0),0))","v":""},{"$f":"IF('Access Point (Desc)'!L13=\"\",\"\",INDEX([1]ROUTE_MH_LID_TYPE!$A$2:$A$100,MATCH('Access Point (Desc)'!$L13,[1]!MASTER_ROUTE_MH_LID_TYPE_DESC[#Data],0),0))","v":""},{"$f":"IF('Access Point (Desc)'!M13=\"\",\"\",INDEX([1]MANHOLE_MTL!$A$2:$A$100,MATCH('Access Point (Desc)'!$M13,[1]!MASTER_MANHOLE_MTL_DESC[#Data],0),0))","v":""},{"$f":"IF('Access Point (Desc)'!N13=\"\",\"\",INDEX([1]LID_BOLT_TYPE!$A$2:$A$100,MATCH('Access Point (Desc)'!$N13,[1]!MASTER_LID_BOLT_TYPE_DESC[#Data],0),0))","v":""},{"$f":"IF('Access Point (Desc)'!O13=\"\",\"\",INDEX([1]YES_NO!$A$2:$A$100,MATCH('Access Point (Desc)'!$O13,[1]!MASTER_YES_NO_DESC[#Data],0),0))","v":""},{"$f":"IF('Access Point (Desc)'!P13=\"\",\"\",'Access Point (Desc)'!P13)","v":""},{"$f":"IF('Access Point (Desc)'!Q13=\"\",\"\",INDEX([1]YES_NO!$A$2:$A$100,MATCH('Access Point (Desc)'!$Q13,[1]!MASTER_YES_NO_DESC[#Data],0),0))","v":""}]
[{"$f":"IF('Access Point (Desc)'!A14=\"\",\"\",'Access Point (Desc)'!A14)","v":""},{"$f":"IF('Access Point (Desc)'!B14=\"\",\"\",'Access Point (Desc)'!B14)","v":""},{"$f":"IF('Access Point (Desc)'!C14=\"\",\"\",'Access Point (Desc)'!C14)","v":""},{"$f":"IF('Access Point (Desc)'!D14=\"\",\"\",'Access Point (Desc)'!D14)","v":""},{"$f":"IF('Access Point (Desc)'!E14=\"\",\"\",INDEX([1]OWNER!$A$2:$A$100,MATCH('Access Point (Desc)'!$E14,[1]!MASTER_OWNER_DESC[#Data],0),0))","v":""},{"$f":"IF('Access Point (Desc)'!F14=\"\",\"\",INDEX([1]COUNTY!$A$2:$A$100,MATCH('Access Point (Desc)'!F14,[1]!MASTER_COUNTY_NAME[#Data],0),0))","v":""},{"$f":"IF('Access Point (Desc)'!G14=\"\",\"\",'Access Point (Desc)'!G14)","v":""},{"$f":"IF('Access Point (Desc)'!H14=\"\",\"\",'Access Point (Desc)'!H14)","v":""},{"$f":"IF('Access Point (Desc)'!I14=\"\",\"\",INDEX([1]ROUTE_MH_TYPE!$A$2:$A$100,MATCH('Access Point (Desc)'!$I14,[1]!MASTER_ROUTE_MH_TYPE_DESC[#Data],0),0))","v":""},{"$f":"IF('Access Point (Desc)'!J14=\"\",\"\",INDEX([1]MANHOLE_MTL!$A$2:$A$100,MATCH('Access Point (Desc)'!$J14,[1]!MASTER_MANHOLE_MTL_DESC[#Data],0),0))","v":""},{"$f":"IF('Access Point (Desc)'!K14=\"\",\"\",INDEX([1]MANHOLE_SIZE!$A$2:$A$120,MATCH('Access Point (Desc)'!$K14,[1]!MASTER_MANHOLE_SIZE_DESC[#Data],0),0))","v":""},{"$f":"IF('Access Point (Desc)'!L14=\"\",\"\",INDEX([1]ROUTE_MH_LID_TYPE!$A$2:$A$100,MATCH('Access Point (Desc)'!$L14,[1]!MASTER_ROUTE_MH_LID_TYPE_DESC[#Data],0),0))","v":""},{"$f":"IF('Access Point (Desc)'!M14=\"\",\"\",INDEX([1]MANHOLE_MTL!$A$2:$A$100,MATCH('Access Point (Desc)'!$M14,[1]!MASTER_MANHOLE_MTL_DESC[#Data],0),0))","v":""},{"$f":"IF('Access Point (Desc)'!N14=\"\",\"\",INDEX([1]LID_BOLT_TYPE!$A$2:$A$100,MATCH('Access Point (Desc)'!$N14,[1]!MASTER_LID_BOLT_TYPE_DESC[#Data],0),0))","v":""},{"$f":"IF('Access Point (Desc)'!O14=\"\",\"\",INDEX([1]YES_NO!$A$2:$A$100,MATCH('Access Point (Desc)'!$O14,[1]!MASTER_YES_NO_DESC[#Data],0),0))","v":""},{"$f":"IF('Access Point (Desc)'!P14=\"\",\"\",'Access Point (Desc)'!P14)","v":""},{"$f":"IF('Access Point (Desc)'!Q14=\"\",\"\",INDEX([1]YES_NO!$A$2:$A$100,MATCH('Access Point (Desc)'!$Q14,[1]!MASTER_YES_NO_DESC[#Data],0),0))","v":""}]
[{"$f":"IF('Access Point (Desc)'!A15=\"\",\"\",'Access Point (Desc)'!A15)","v":""},{"$f":"IF('Access Point (Desc)'!B15=\"\",\"\",'Access Point (Desc)'!B15)","v":""},{"$f":"IF('Access Point (Desc)'!C15=\"\",\"\",'Access Point (Desc)'!C15)","v":""},{"$f":"IF('Access Point (Desc)'!D15=\"\",\"\",'Access Point (Desc)'!D15)","v":""},{"$f":"IF('Access Point (Desc)'!E15=\"\",\"\",INDEX([1]OWNER!$A$2:$A$100,MATCH('Access Point (Desc)'!$E15,[1]!MASTER_OWNER_DESC[#Data],0),0))","v":""},{"$f":"IF('Access Point (Desc)'!F15=\"\",\"\",INDEX([1]COUNTY!$A$2:$A$100,MATCH('Access Point (Desc)'!F15,[1]!MASTER_COUNTY_NAME[#Data],0),0))","v":""},{"$f":"IF('Access Point (Desc)'!G15=\"\",\"\",'Access Point (Desc)'!G15)","v":""},{"$f":"IF('Access Point (Desc)'!H15=\"\",\"\",'Access Point (Desc)'!H15)","v":""},{"$f":"IF('Access Point (Desc)'!I15=\"\",\"\",INDEX([1]ROUTE_MH_TYPE!$A$2:$A$100,MATCH('Access Point (Desc)'!$I15,[1]!MASTER_ROUTE_MH_TYPE_DESC[#Data],0),0))","v":""},{"$f":"IF('Access Point (Desc)'!J15=\"\",\"\",INDEX([1]MANHOLE_MTL!$A$2:$A$100,MATCH('Access Point (Desc)'!$J15,[1]!MASTER_MANHOLE_MTL_DESC[#Data],0),0))","v":""},{"$f":"IF('Access Point (Desc)'!K15=\"\",\"\",INDEX([1]MANHOLE_SIZE!$A$2:$A$120,MATCH('Access Point (Desc)'!$K15,[1]!MASTER_MANHOLE_SIZE_DESC[#Data],0),0))","v":""},{"$f":"IF('Access Point (Desc)'!L15=\"\",\"\",INDEX([1]ROUTE_MH_LID_TYPE!$A$2:$A$100,MATCH('Access Point (Desc)'!$L15,[1]!MASTER_ROUTE_MH_LID_TYPE_DESC[#Data],0),0))","v":""},{"$f":"IF('Access Point (Desc)'!M15=\"\",\"\",INDEX([1]MANHOLE_MTL!$A$2:$A$100,MATCH('Access Point (Desc)'!$M15,[1]!MASTER_MANHOLE_MTL_DESC[#Data],0),0))","v":""},{"$f":"IF('Access Point (Desc)'!N15=\"\",\"\",INDEX([1]LID_BOLT_TYPE!$A$2:$A$100,MATCH('Access Point (Desc)'!$N15,[1]!MASTER_LID_BOLT_TYPE_DESC[#Data],0),0))","v":""},{"$f":"IF('Access Point (Desc)'!O15=\"\",\"\",INDEX([1]YES_NO!$A$2:$A$100,MATCH('Access Point (Desc)'!$O15,[1]!MASTER_YES_NO_DESC[#Data],0),0))","v":""},{"$f":"IF('Access Point (Desc)'!P15=\"\",\"\",'Access Point (Desc)'!P15)","v":""},{"$f":"IF('Access Point (Desc)'!Q15=\"\",\"\",INDEX([1]YES_NO!$A$2:$A$100,MATCH('Access Point (Desc)'!$Q15,[1]!MASTER_YES_NO_DESC[#Data],0),0))","v":""}]
[{"$f":"IF('Access Point (Desc)'!A16=\"\",\"\",'Access Point (Desc)'!A16)","v":""},{"$f":"IF('Access Point (Desc)'!B16=\"\",\"\",'Access Point (Desc)'!B16)","v":""},{"$f":"IF('Access Point (Desc)'!C16=\"\",\"\",'Access Point (Desc)'!C16)","v":""},{"$f":"IF('Access Point (Desc)'!D16=\"\",\"\",'Access Point (Desc)'!D16)","v":""},{"$f":"IF('Access Point (Desc)'!E16=\"\",\"\",INDEX([1]OWNER!$A$2:$A$100,MATCH('Access Point (Desc)'!$E16,[1]!MASTER_OWNER_DESC[#Data],0),0))","v":""},{"$f":"IF('Access Point (Desc)'!F16=\"\",\"\",INDEX([1]COUNTY!$A$2:$A$100,MATCH('Access Point (Desc)'!F16,[1]!MASTER_COUNTY_NAME[#Data],0),0))","v":""},{"$f":"IF('Access Point (Desc)'!G16=\"\",\"\",'Access Point (Desc)'!G16)","v":""},{"$f":"IF('Access Point (Desc)'!H16=\"\",\"\",'Access Point (Desc)'!H16)","v":""},{"$f":"IF('Access Point (Desc)'!I16=\"\",\"\",INDEX([1]ROUTE_MH_TYPE!$A$2:$A$100,MATCH('Access Point (Desc)'!$I16,[1]!MASTER_ROUTE_MH_TYPE_DESC[#Data],0),0))","v":""},{"$f":"IF('Access Point (Desc)'!J16=\"\",\"\",INDEX([1]MANHOLE_MTL!$A$2:$A$100,MATCH('Access Point (Desc)'!$J16,[1]!MASTER_MANHOLE_MTL_DESC[#Data],0),0))","v":""},{"$f":"IF('Access Point (Desc)'!K16=\"\",\"\",INDEX([1]MANHOLE_SIZE!$A$2:$A$120,MATCH('Access Point (Desc)'!$K16,[1]!MASTER_MANHOLE_SIZE_DESC[#Data],0),0))","v":""},{"$f":"IF('Access Point (Desc)'!L16=\"\",\"\",INDEX([1]ROUTE_MH_LID_TYPE!$A$2:$A$100,MATCH('Access Point (Desc)'!$L16,[1]!MASTER_ROUTE_MH_LID_TYPE_DESC[#Data],0),0))","v":""},{"$f":"IF('Access Point (Desc)'!M16=\"\",\"\",INDEX([1]MANHOLE_MTL!$A$2:$A$100,MATCH('Access Point (Desc)'!$M16,[1]!MASTER_MANHOLE_MTL_DESC[#Data],0),0))","v":""},{"$f":"IF('Access Point (Desc)'!N16=\"\",\"\",INDEX([1]LID_BOLT_TYPE!$A$2:$A$100,MATCH('Access Point (Desc)'!$N16,[1]!MASTER_LID_BOLT_TYPE_DESC[#Data],0),0))","v":""},{"$f":"IF('Access Point (Desc)'!O16=\"\",\"\",INDEX([1]YES_NO!$A$2:$A$100,MATCH('Access Point (Desc)'!$O16,[1]!MASTER_YES_NO_DESC[#Data],0),0))","v":""},{"$f":"IF('Access Point (Desc)'!P16=\"\",\"\",'Access Point (Desc)'!P16)","v":""},{"$f":"IF('Access Point (Desc)'!Q16=\"\",\"\",INDEX([1]YES_NO!$A$2:$A$100,MATCH('Access Point (Desc)'!$Q16,[1]!MASTER_YES_NO_DESC[#Data],0),0))","v":""}]
[{"$f":"IF('Access Point (Desc)'!A17=\"\",\"\",'Access Point (Desc)'!A17)","v":""},{"$f":"IF('Access Point (Desc)'!B17=\"\",\"\",'Access Point (Desc)'!B17)","v":""},{"$f":"IF('Access Point (Desc)'!C17=\"\",\"\",'Access Point (Desc)'!C17)","v":""},{"$f":"IF('Access Point (Desc)'!D17=\"\",\"\",'Access Point (Desc)'!D17)","v":""},{"$f":"IF('Access Point (Desc)'!E17=\"\",\"\",INDEX([1]OWNER!$A$2:$A$100,MATCH('Access Point (Desc)'!$E17,[1]!MASTER_OWNER_DESC[#Data],0),0))","v":""},{"$f":"IF('Access Point (Desc)'!F17=\"\",\"\",INDEX([1]COUNTY!$A$2:$A$100,MATCH('Access Point (Desc)'!F17,[1]!MASTER_COUNTY_NAME[#Data],0),0))","v":""},{"$f":"IF('Access Point (Desc)'!G17=\"\",\"\",'Access Point (Desc)'!G17)","v":""},{"$f":"IF('Access Point (Desc)'!H17=\"\",\"\",'Access Point (Desc)'!H17)","v":""},{"$f":"IF('Access Point (Desc)'!I17=\"\",\"\",INDEX([1]ROUTE_MH_TYPE!$A$2:$A$100,MATCH('Access Point (Desc)'!$I17,[1]!MASTER_ROUTE_MH_TYPE_DESC[#Data],0),0))","v":""},{"$f":"IF('Access Point (Desc)'!J17=\"\",\"\",INDEX([1]MANHOLE_MTL!$A$2:$A$100,MATCH('Access Point (Desc)'!$J17,[1]!MASTER_MANHOLE_MTL_DESC[#Data],0),0))","v":""},{"$f":"IF('Access Point (Desc)'!K17=\"\",\"\",INDEX([1]MANHOLE_SIZE!$A$2:$A$120,MATCH('Access Point (Desc)'!$K17,[1]!MASTER_MANHOLE_SIZE_DESC[#Data],0),0))","v":""},{"$f":"IF('Access Point (Desc)'!L17=\"\",\"\",INDEX([1]ROUTE_MH_LID_TYPE!$A$2:$A$100,MATCH('Access Point (Desc)'!$L17,[1]!MASTER_ROUTE_MH_LID_TYPE_DESC[#Data],0),0))","v":""},{"$f":"IF('Access Point (Desc)'!M17=\"\",\"\",INDEX([1]MANHOLE_MTL!$A$2:$A$100,MATCH('Access Point (Desc)'!$M17,[1]!MASTER_MANHOLE_MTL_DESC[#Data],0),0))","v":""},{"$f":"IF('Access Point (Desc)'!N17=\"\",\"\",INDEX([1]LID_BOLT_TYPE!$A$2:$A$100,MATCH('Access Point (Desc)'!$N17,[1]!MASTER_LID_BOLT_TYPE_DESC[#Data],0),0))","v":""},{"$f":"IF('Access Point (Desc)'!O17=\"\",\"\",INDEX([1]YES_NO!$A$2:$A$100,MATCH('Access Point (Desc)'!$O17,[1]!MASTER_YES_NO_DESC[#Data],0),0))","v":""},{"$f":"IF('Access Point (Desc)'!P17=\"\",\"\",'Access Point (Desc)'!P17)","v":""},{"$f":"IF('Access Point (Desc)'!Q17=\"\",\"\",INDEX([1]YES_NO!$A$2:$A$100,MATCH('Access Point (Desc)'!$Q17,[1]!MASTER_YES_NO_DESC[#Data],0),0))","v":""}]
[{"$f":"IF('Access Point (Desc)'!A18=\"\",\"\",'Access Point (Desc)'!A18)","v":""},{"$f":"IF('Access Point (Desc)'!B18=\"\",\"\",'Access Point (Desc)'!B18)","v":""},{"$f":"IF('Access Point (Desc)'!C18=\"\",\"\",'Access Point (Desc)'!C18)","v":""},{"$f":"IF('Access Point (Desc)'!D18=\"\",\"\",'Access Point (Desc)'!D18)","v":""},{"$f":"IF('Access Point (Desc)'!E18=\"\",\"\",INDEX([1]OWNER!$A$2:$A$100,MATCH('Access Point (Desc)'!$E18,[1]!MASTER_OWNER_DESC[#Data],0),0))","v":""},{"$f":"IF('Access Point (Desc)'!F18=\"\",\"\",INDEX([1]COUNTY!$A$2:$A$100,MATCH('Access Point (Desc)'!F18,[1]!MASTER_COUNTY_NAME[#Data],0),0))","v":""},{"$f":"IF('Access Point (Desc)'!G18=\"\",\"\",'Access Point (Desc)'!G18)","v":""},{"$f":"IF('Access Point (Desc)'!H18=\"\",\"\",'Access Point (Desc)'!H18)","v":""},{"$f":"IF('Access Point (Desc)'!I18=\"\",\"\",INDEX([1]ROUTE_MH_TYPE!$A$2:$A$100,MATCH('Access Point (Desc)'!$I18,[1]!MASTER_ROUTE_MH_TYPE_DESC[#Data],0),0))","v":""},{"$f":"IF('Access Point (Desc)'!J18=\"\",\"\",INDEX([1]MANHOLE_MTL!$A$2:$A$100,MATCH('Access Point (Desc)'!$J18,[1]!MASTER_MANHOLE_MTL_DESC[#Data],0),0))","v":""},{"$f":"IF('Access Point (Desc)'!K18=\"\",\"\",INDEX([1]MANHOLE_SIZE!$A$2:$A$120,MATCH('Access Point (Desc)'!$K18,[1]!MASTER_MANHOLE_SIZE_DESC[#Data],0),0))","v":""},{"$f":"IF('Access Point (Desc)'!L18=\"\",\"\",INDEX([1]ROUTE_MH_LID_TYPE!$A$2:$A$100,MATCH('Access Point (Desc)'!$L18,[1]!MASTER_ROUTE_MH_LID_TYPE_DESC[#Data],0),0))","v":""},{"$f":"IF('Access Point (Desc)'!M18=\"\",\"\",INDEX([1]MANHOLE_MTL!$A$2:$A$100,MATCH('Access Point (Desc)'!$M18,[1]!MASTER_MANHOLE_MTL_DESC[#Data],0),0))","v":""},{"$f":"IF('Access Point (Desc)'!N18=\"\",\"\",INDEX([1]LID_BOLT_TYPE!$A$2:$A$100,MATCH('Access Point (Desc)'!$N18,[1]!MASTER_LID_BOLT_TYPE_DESC[#Data],0),0))","v":""},{"$f":"IF('Access Point (Desc)'!O18=\"\",\"\",INDEX([1]YES_NO!$A$2:$A$100,MATCH('Access Point (Desc)'!$O18,[1]!MASTER_YES_NO_DESC[#Data],0),0))","v":""},{"$f":"IF('Access Point (Desc)'!P18=\"\",\"\",'Access Point (Desc)'!P18)","v":""},{"$f":"IF('Access Point (Desc)'!Q18=\"\",\"\",INDEX([1]YES_NO!$A$2:$A$100,MATCH('Access Point (Desc)'!$Q18,[1]!MASTER_YES_NO_DESC[#Data],0),0))","v":""}]
[{"$f":"IF('Access Point (Desc)'!A19=\"\",\"\",'Access Point (Desc)'!A19)","v":""},{"$f":"IF('Access Point (Desc)'!B19=\"\",\"\",'Access Point (Desc)'!B19)","v":""},{"$f":"IF('Access Point (Desc)'!C19=\"\",\"\",'Access Point (Desc)'!C19)","v":""},{"$f":"IF('Access Point (Desc)'!D19=\"\",\"\",'Access Point (Desc)'!D19)","v":""},{"$f":"IF('Access Point (Desc)'!E19=\"\",\"\",INDEX([1]OWNER!$A$2:$A$100,MATCH('Access Point (Desc)'!$E19,[1]!MASTER_OWNER_DESC[#Data],0),0))","v":""},{"$f":"IF('Access Point (Desc)'!F19=\"\",\"\",INDEX([1]COUNTY!$A$2:$A$100,MATCH('Access Point (Desc)'!F19,[1]!MASTER_COUNTY_NAME[#Data],0),0))","v":""},{"$f":"IF('Access Point (Desc)'!G19=\"\",\"\",'Access Point (Desc)'!G19)","v":""},{"$f":"IF('Access Point (Desc)'!H19=\"\",\"\",'Access Point (Desc)'!H19)","v":""},{"$f":"IF('Access Point (Desc)'!I19=\"\",\"\",INDEX([1]ROUTE_MH_TYPE!$A$2:$A$100,MATCH('Access Point (Desc)'!$I19,[1]!MASTER_ROUTE_MH_TYPE_DESC[#Data],0),0))","v":""},{"$f":"IF('Access Point (Desc)'!J19=\"\",\"\",INDEX([1]MANHOLE_MTL!$A$2:$A$100,MATCH('Access Point (Desc)'!$J19,[1]!MASTER_MANHOLE_MTL_DESC[#Data],0),0))","v":""},{"$f":"IF('Access Point (Desc)'!K19=\"\",\"\",INDEX([1]MANHOLE_SIZE!$A$2:$A$120,MATCH('Access Point (Desc)'!$K19,[1]!MASTER_MANHOLE_SIZE_DESC[#Data],0),0))","v":""},{"$f":"IF('Access Point (Desc)'!L19=\"\",\"\",INDEX([1]ROUTE_MH_LID_TYPE!$A$2:$A$100,MATCH('Access Point (Desc)'!$L19,[1]!MASTER_ROUTE_MH_LID_TYPE_DESC[#Data],0),0))","v":""},{"$f":"IF('Access Point (Desc)'!M19=\"\",\"\",INDEX([1]MANHOLE_MTL!$A$2:$A$100,MATCH('Access Point (Desc)'!$M19,[1]!MASTER_MANHOLE_MTL_DESC[#Data],0),0))","v":""},{"$f":"IF('Access Point (Desc)'!N19=\"\",\"\",INDEX([1]LID_BOLT_TYPE!$A$2:$A$100,MATCH('Access Point (Desc)'!$N19,[1]!MASTER_LID_BOLT_TYPE_DESC[#Data],0),0))","v":""},{"$f":"IF('Access Point (Desc)'!O19=\"\",\"\",INDEX([1]YES_NO!$A$2:$A$100,MATCH('Access Point (Desc)'!$O19,[1]!MASTER_YES_NO_DESC[#Data],0),0))","v":""},{"$f":"IF('Access Point (Desc)'!P19=\"\",\"\",'Access Point (Desc)'!P19)","v":""},{"$f":"IF('Access Point (Desc)'!Q19=\"\",\"\",INDEX([1]YES_NO!$A$2:$A$100,MATCH('Access Point (Desc)'!$Q19,[1]!MASTER_YES_NO_DESC[#Data],0),0))","v":""}]
[{"$f":"IF('Access Point (Desc)'!A20=\"\",\"\",'Access Point (Desc)'!A20)","v":""},{"$f":"IF('Access Point (Desc)'!B20=\"\",\"\",'Access Point (Desc)'!B20)","v":""},{"$f":"IF('Access Point (Desc)'!C20=\"\",\"\",'Access Point (Desc)'!C20)","v":""},{"$f":"IF('Access Point (Desc)'!D20=\"\",\"\",'Access Point (Desc)'!D20)","v":""},{"$f":"IF('Access Point (Desc)'!E20=\"\",\"\",INDEX([1]OWNER!$A$2:$A$100,MATCH('Access Point (Desc)'!$E20,[1]!MASTER_OWNER_DESC[#Data],0),0))","v":""},{"$f":"IF('Access Point (Desc)'!F20=\"\",\"\",INDEX([1]COUNTY!$A$2:$A$100,MATCH('Access Point (Desc)'!F20,[1]!MASTER_COUNTY_NAME[#Data],0),0))","v":""},{"$f":"IF('Access Point (Desc)'!G20=\"\",\"\",'Access Point (Desc)'!G20)","v":""},{"$f":"IF('Access Point (Desc)'!H20=\"\",\"\",'Access Point (Desc)'!H20)","v":""},{"$f":"IF('Access Point (Desc)'!I20=\"\",\"\",INDEX([1]ROUTE_MH_TYPE!$A$2:$A$100,MATCH('Access Point (Desc)'!$I20,[1]!MASTER_ROUTE_MH_TYPE_DESC[#Data],0),0))","v":""},{"$f":"IF('Access Point (Desc)'!J20=\"\",\"\",INDEX([1]MANHOLE_MTL!$A$2:$A$100,MATCH('Access Point (Desc)'!$J20,[1]!MASTER_MANHOLE_MTL_DESC[#Data],0),0))","v":""},{"$f":"IF('Access Point (Desc)'!K20=\"\",\"\",INDEX([1]MANHOLE_SIZE!$A$2:$A$120,MATCH('Access Point (Desc)'!$K20,[1]!MASTER_MANHOLE_SIZE_DESC[#Data],0),0))","v":""},{"$f":"IF('Access Point (Desc)'!L20=\"\",\"\",INDEX([1]ROUTE_MH_LID_TYPE!$A$2:$A$100,MATCH('Access Point (Desc)'!$L20,[1]!MASTER_ROUTE_MH_LID_TYPE_DESC[#Data],0),0))","v":""},{"$f":"IF('Access Point (Desc)'!M20=\"\",\"\",INDEX([1]MANHOLE_MTL!$A$2:$A$100,MATCH('Access Point (Desc)'!$M20,[1]!MASTER_MANHOLE_MTL_DESC[#Data],0),0))","v":""},{"$f":"IF('Access Point (Desc)'!N20=\"\",\"\",INDEX([1]LID_BOLT_TYPE!$A$2:$A$100,MATCH('Access Point (Desc)'!$N20,[1]!MASTER_LID_BOLT_TYPE_DESC[#Data],0),0))","v":""},{"$f":"IF('Access Point (Desc)'!O20=\"\",\"\",INDEX([1]YES_NO!$A$2:$A$100,MATCH('Access Point (Desc)'!$O20,[1]!MASTER_YES_NO_DESC[#Data],0),0))","v":""},{"$f":"IF('Access Point (Desc)'!P20=\"\",\"\",'Access Point (Desc)'!P20)","v":""},{"$f":"IF('Access Point (Desc)'!Q20=\"\",\"\",INDEX([1]YES_NO!$A$2:$A$100,MATCH('Access Point (Desc)'!$Q20,[1]!MASTER_YES_NO_DESC[#Data],0),0))","v":""}]
[{"$f":"IF('Access Point (Desc)'!A21=\"\",\"\",'Access Point (Desc)'!A21)","v":""},{"$f":"IF('Access Point (Desc)'!B21=\"\",\"\",'Access Point (Desc)'!B21)","v":""},{"$f":"IF('Access Point (Desc)'!C21=\"\",\"\",'Access Point (Desc)'!C21)","v":""},{"$f":"IF('Access Point (Desc)'!D21=\"\",\"\",'Access Point (Desc)'!D21)","v":""},{"$f":"IF('Access Point (Desc)'!E21=\"\",\"\",INDEX([1]OWNER!$A$2:$A$100,MATCH('Access Point (Desc)'!$E21,[1]!MASTER_OWNER_DESC[#Data],0),0))","v":""},{"$f":"IF('Access Point (Desc)'!F21=\"\",\"\",INDEX([1]COUNTY!$A$2:$A$100,MATCH('Access Point (Desc)'!F21,[1]!MASTER_COUNTY_NAME[#Data],0),0))","v":""},{"$f":"IF('Access Point (Desc)'!G21=\"\",\"\",'Access Point (Desc)'!G21)","v":""},{"$f":"IF('Access Point (Desc)'!H21=\"\",\"\",'Access Point (Desc)'!H21)","v":""},{"$f":"IF('Access Point (Desc)'!I21=\"\",\"\",INDEX([1]ROUTE_MH_TYPE!$A$2:$A$100,MATCH('Access Point (Desc)'!$I21,[1]!MASTER_ROUTE_MH_TYPE_DESC[#Data],0),0))","v":""},{"$f":"IF('Access Point (Desc)'!J21=\"\",\"\",INDEX([1]MANHOLE_MTL!$A$2:$A$100,MATCH('Access Point (Desc)'!$J21,[1]!MASTER_MANHOLE_MTL_DESC[#Data],0),0))","v":""},{"$f":"IF('Access Point (Desc)'!K21=\"\",\"\",INDEX([1]MANHOLE_SIZE!$A$2:$A$120,MATCH('Access Point (Desc)'!$K21,[1]!MASTER_MANHOLE_SIZE_DESC[#Data],0),0))","v":""},{"$f":"IF('Access Point (Desc)'!L21=\"\",\"\",INDEX([1]ROUTE_MH_LID_TYPE!$A$2:$A$100,MATCH('Access Point (Desc)'!$L21,[1]!MASTER_ROUTE_MH_LID_TYPE_DESC[#Data],0),0))","v":""},{"$f":"IF('Access Point (Desc)'!M21=\"\",\"\",INDEX([1]MANHOLE_MTL!$A$2:$A$100,MATCH('Access Point (Desc)'!$M21,[1]!MASTER_MANHOLE_MTL_DESC[#Data],0),0))","v":""},{"$f":"IF('Access Point (Desc)'!N21=\"\",\"\",INDEX([1]LID_BOLT_TYPE!$A$2:$A$100,MATCH('Access Point (Desc)'!$N21,[1]!MASTER_LID_BOLT_TYPE_DESC[#Data],0),0))","v":""},{"$f":"IF('Access Point (Desc)'!O21=\"\",\"\",INDEX([1]YES_NO!$A$2:$A$100,MATCH('Access Point (Desc)'!$O21,[1]!MASTER_YES_NO_DESC[#Data],0),0))","v":""},{"$f":"IF('Access Point (Desc)'!P21=\"\",\"\",'Access Point (Desc)'!P21)","v":""},{"$f":"IF('Access Point (Desc)'!Q21=\"\",\"\",INDEX([1]YES_NO!$A$2:$A$100,MATCH('Access Point (Desc)'!$Q21,[1]!MASTER_YES_NO_DESC[#Data],0),0))","v":""}]
[{"$f":"IF('Access Point (Desc)'!A22=\"\",\"\",'Access Point (Desc)'!A22)","v":""},{"$f":"IF('Access Point (Desc)'!B22=\"\",\"\",'Access Point (Desc)'!B22)","v":""},{"$f":"IF('Access Point (Desc)'!C22=\"\",\"\",'Access Point (Desc)'!C22)","v":""},{"$f":"IF('Access Point (Desc)'!D22=\"\",\"\",'Access Point (Desc)'!D22)","v":""},{"$f":"IF('Access Point (Desc)'!E22=\"\",\"\",INDEX([1]OWNER!$A$2:$A$100,MATCH('Access Point (Desc)'!$E22,[1]!MASTER_OWNER_DESC[#Data],0),0))","v":""},{"$f":"IF('Access Point (Desc)'!F22=\"\",\"\",INDEX([1]COUNTY!$A$2:$A$100,MATCH('Access Point (Desc)'!F22,[1]!MASTER_COUNTY_NAME[#Data],0),0))","v":""},{"$f":"IF('Access Point (Desc)'!G22=\"\",\"\",'Access Point (Desc)'!G22)","v":""},{"$f":"IF('Access Point (Desc)'!H22=\"\",\"\",'Access Point (Desc)'!H22)","v":""},{"$f":"IF('Access Point (Desc)'!I22=\"\",\"\",INDEX([1]ROUTE_MH_TYPE!$A$2:$A$100,MATCH('Access Point (Desc)'!$I22,[1]!MASTER_ROUTE_MH_TYPE_DESC[#Data],0),0))","v":""},{"$f":"IF('Access Point (Desc)'!J22=\"\",\"\",INDEX([1]MANHOLE_MTL!$A$2:$A$100,MATCH('Access Point (Desc)'!$J22,[1]!MASTER_MANHOLE_MTL_DESC[#Data],0),0))","v":""},{"$f":"IF('Access Point (Desc)'!K22=\"\",\"\",INDEX([1]MANHOLE_SIZE!$A$2:$A$120,MATCH('Access Point (Desc)'!$K22,[1]!MASTER_MANHOLE_SIZE_DESC[#Data],0),0))","v":""},{"$f":"IF('Access Point (Desc)'!L22=\"\",\"\",INDEX([1]ROUTE_MH_LID_TYPE!$A$2:$A$100,MATCH('Access Point (Desc)'!$L22,[1]!MASTER_ROUTE_MH_LID_TYPE_DESC[#Data],0),0))","v":""},{"$f":"IF('Access Point (Desc)'!M22=\"\",\"\",INDEX([1]MANHOLE_MTL!$A$2:$A$100,MATCH('Access Point (Desc)'!$M22,[1]!MASTER_MANHOLE_MTL_DESC[#Data],0),0))","v":""},{"$f":"IF('Access Point (Desc)'!N22=\"\",\"\",INDEX([1]LID_BOLT_TYPE!$A$2:$A$100,MATCH('Access Point (Desc)'!$N22,[1]!MASTER_LID_BOLT_TYPE_DESC[#Data],0),0))","v":""},{"$f":"IF('Access Point (Desc)'!O22=\"\",\"\",INDEX([1]YES_NO!$A$2:$A$100,MATCH('Access Point (Desc)'!$O22,[1]!MASTER_YES_NO_DESC[#Data],0),0))","v":""},{"$f":"IF('Access Point (Desc)'!P22=\"\",\"\",'Access Point (Desc)'!P22)","v":""},{"$f":"IF('Access Point (Desc)'!Q22=\"\",\"\",INDEX([1]YES_NO!$A$2:$A$100,MATCH('Access Point (Desc)'!$Q22,[1]!MASTER_YES_NO_DESC[#Data],0),0))","v":""}]
[{"$f":"IF('Access Point (Desc)'!A23=\"\",\"\",'Access Point (Desc)'!A23)","v":""},{"$f":"IF('Access Point (Desc)'!B23=\"\",\"\",'Access Point (Desc)'!B23)","v":""},{"$f":"IF('Access Point (Desc)'!C23=\"\",\"\",'Access Point (Desc)'!C23)","v":""},{"$f":"IF('Access Point (Desc)'!D23=\"\",\"\",'Access Point (Desc)'!D23)","v":""},{"$f":"IF('Access Point (Desc)'!E23=\"\",\"\",INDEX([1]OWNER!$A$2:$A$100,MATCH('Access Point (Desc)'!$E23,[1]!MASTER_OWNER_DESC[#Data],0),0))","v":""},{"$f":"IF('Access Point (Desc)'!F23=\"\",\"\",INDEX([1]COUNTY!$A$2:$A$100,MATCH('Access Point (Desc)'!F23,[1]!MASTER_COUNTY_NAME[#Data],0),0))","v":""},{"$f":"IF('Access Point (Desc)'!G23=\"\",\"\",'Access Point (Desc)'!G23)","v":""},{"$f":"IF('Access Point (Desc)'!H23=\"\",\"\",'Access Point (Desc)'!H23)","v":""},{"$f":"IF('Access Point (Desc)'!I23=\"\",\"\",INDEX([1]ROUTE_MH_TYPE!$A$2:$A$100,MATCH('Access Point (Desc)'!$I23,[1]!MASTER_ROUTE_MH_TYPE_DESC[#Data],0),0))","v":""},{"$f":"IF('Access Point (Desc)'!J23=\"\",\"\",INDEX([1]MANHOLE_MTL!$A$2:$A$100,MATCH('Access Point (Desc)'!$J23,[1]!MASTER_MANHOLE_MTL_DESC[#Data],0),0))","v":""},{"$f":"IF('Access Point (Desc)'!K23=\"\",\"\",INDEX([1]MANHOLE_SIZE!$A$2:$A$120,MATCH('Access Point (Desc)'!$K23,[1]!MASTER_MANHOLE_SIZE_DESC[#Data],0),0))","v":""},{"$f":"IF('Access Point (Desc)'!L23=\"\",\"\",INDEX([1]ROUTE_MH_LID_TYPE!$A$2:$A$100,MATCH('Access Point (Desc)'!$L23,[1]!MASTER_ROUTE_MH_LID_TYPE_DESC[#Data],0),0))","v":""},{"$f":"IF('Access Point (Desc)'!M23=\"\",\"\",INDEX([1]MANHOLE_MTL!$A$2:$A$100,MATCH('Access Point (Desc)'!$M23,[1]!MASTER_MANHOLE_MTL_DESC[#Data],0),0))","v":""},{"$f":"IF('Access Point (Desc)'!N23=\"\",\"\",INDEX([1]LID_BOLT_TYPE!$A$2:$A$100,MATCH('Access Point (Desc)'!$N23,[1]!MASTER_LID_BOLT_TYPE_DESC[#Data],0),0))","v":""},{"$f":"IF('Access Point (Desc)'!O23=\"\",\"\",INDEX([1]YES_NO!$A$2:$A$100,MATCH('Access Point (Desc)'!$O23,[1]!MASTER_YES_NO_DESC[#Data],0),0))","v":""},{"$f":"IF('Access Point (Desc)'!P23=\"\",\"\",'Access Point (Desc)'!P23)","v":""},{"$f":"IF('Access Point (Desc)'!Q23=\"\",\"\",INDEX([1]YES_NO!$A$2:$A$100,MATCH('Access Point (Desc)'!$Q23,[1]!MASTER_YES_NO_DESC[#Data],0),0))","v":""}]
[{"$f":"IF('Access Point (Desc)'!A24=\"\",\"\",'Access Point (Desc)'!A24)","v":""},{"$f":"IF('Access Point (Desc)'!B24=\"\",\"\",'Access Point (Desc)'!B24)","v":""},{"$f":"IF('Access Point (Desc)'!C24=\"\",\"\",'Access Point (Desc)'!C24)","v":""},{"$f":"IF('Access Point (Desc)'!D24=\"\",\"\",'Access Point (Desc)'!D24)","v":""},{"$f":"IF('Access Point (Desc)'!E24=\"\",\"\",INDEX([1]OWNER!$A$2:$A$100,MATCH('Access Point (Desc)'!$E24,[1]!MASTER_OWNER_DESC[#Data],0),0))","v":""},{"$f":"IF('Access Point (Desc)'!F24=\"\",\"\",INDEX([1]COUNTY!$A$2:$A$100,MATCH('Access Point (Desc)'!F24,[1]!MASTER_COUNTY_NAME[#Data],0),0))","v":""},{"$f":"IF('Access Point (Desc)'!G24=\"\",\"\",'Access Point (Desc)'!G24)","v":""},{"$f":"IF('Access Point (Desc)'!H24=\"\",\"\",'Access Point (Desc)'!H24)","v":""},{"$f":"IF('Access Point (Desc)'!I24=\"\",\"\",INDEX([1]ROUTE_MH_TYPE!$A$2:$A$100,MATCH('Access Point (Desc)'!$I24,[1]!MASTER_ROUTE_MH_TYPE_DESC[#Data],0),0))","v":""},{"$f":"IF('Access Point (Desc)'!J24=\"\",\"\",INDEX([1]MANHOLE_MTL!$A$2:$A$100,MATCH('Access Point (Desc)'!$J24,[1]!MASTER_MANHOLE_MTL_DESC[#Data],0),0))","v":""},{"$f":"IF('Access Point (Desc)'!K24=\"\",\"\",INDEX([1]MANHOLE_SIZE!$A$2:$A$120,MATCH('Access Point (Desc)'!$K24,[1]!MASTER_MANHOLE_SIZE_DESC[#Data],0),0))","v":""},{"$f":"IF('Access Point (Desc)'!L24=\"\",\"\",INDEX([1]ROUTE_MH_LID_TYPE!$A$2:$A$100,MATCH('Access Point (Desc)'!$L24,[1]!MASTER_ROUTE_MH_LID_TYPE_DESC[#Data],0),0))","v":""},{"$f":"IF('Access Point (Desc)'!M24=\"\",\"\",INDEX([1]MANHOLE_MTL!$A$2:$A$100,MATCH('Access Point (Desc)'!$M24,[1]!MASTER_MANHOLE_MTL_DESC[#Data],0),0))","v":""},{"$f":"IF('Access Point (Desc)'!N24=\"\",\"\",INDEX([1]LID_BOLT_TYPE!$A$2:$A$100,MATCH('Access Point (Desc)'!$N24,[1]!MASTER_LID_BOLT_TYPE_DESC[#Data],0),0))","v":""},{"$f":"IF('Access Point (Desc)'!O24=\"\",\"\",INDEX([1]YES_NO!$A$2:$A$100,MATCH('Access Point (Desc)'!$O24,[1]!MASTER_YES_NO_DESC[#Data],0),0))","v":""},{"$f":"IF('Access Point (Desc)'!P24=\"\",\"\",'Access Point (Desc)'!P24)","v":""},{"$f":"IF('Access Point (Desc)'!Q24=\"\",\"\",INDEX([1]YES_NO!$A$2:$A$100,MATCH('Access Point (Desc)'!$Q24,[1]!MASTER_YES_NO_DESC[#Data],0),0))","v":""}]
[{"$f":"IF('Access Point (Desc)'!A25=\"\",\"\",'Access Point (Desc)'!A25)","v":""},{"$f":"IF('Access Point (Desc)'!B25=\"\",\"\",'Access Point (Desc)'!B25)","v":""},{"$f":"IF('Access Point (Desc)'!C25=\"\",\"\",'Access Point (Desc)'!C25)","v":""},{"$f":"IF('Access Point (Desc)'!D25=\"\",\"\",'Access Point (Desc)'!D25)","v":""},{"$f":"IF('Access Point (Desc)'!E25=\"\",\"\",INDEX([1]OWNER!$A$2:$A$100,MATCH('Access Point (Desc)'!$E25,[1]!MASTER_OWNER_DESC[#Data],0),0))","v":""},{"$f":"IF('Access Point (Desc)'!F25=\"\",\"\",INDEX([1]COUNTY!$A$2:$A$100,MATCH('Access Point (Desc)'!F25,[1]!MASTER_COUNTY_NAME[#Data],0),0))","v":""},{"$f":"IF('Access Point (Desc)'!G25=\"\",\"\",'Access Point (Desc)'!G25)","v":""},{"$f":"IF('Access Point (Desc)'!H25=\"\",\"\",'Access Point (Desc)'!H25)","v":""},{"$f":"IF('Access Point (Desc)'!I25=\"\",\"\",INDEX([1]ROUTE_MH_TYPE!$A$2:$A$100,MATCH('Access Point (Desc)'!$I25,[1]!MASTER_ROUTE_MH_TYPE_DESC[#Data],0),0))","v":""},{"$f":"IF('Access Point (Desc)'!J25=\"\",\"\",INDEX([1]MANHOLE_MTL!$A$2:$A$100,MATCH('Access Point (Desc)'!$J25,[1]!MASTER_MANHOLE_MTL_DESC[#Data],0),0))","v":""},{"$f":"IF('Access Point (Desc)'!K25=\"\",\"\",INDEX([1]MANHOLE_SIZE!$A$2:$A$120,MATCH('Access Point (Desc)'!$K25,[1]!MASTER_MANHOLE_SIZE_DESC[#Data],0),0))","v":""},{"$f":"IF('Access Point (Desc)'!L25=\"\",\"\",INDEX([1]ROUTE_MH_LID_TYPE!$A$2:$A$100,MATCH('Access Point (Desc)'!$L25,[1]!MASTER_ROUTE_MH_LID_TYPE_DESC[#Data],0),0))","v":""},{"$f":"IF('Access Point (Desc)'!M25=\"\",\"\",INDEX([1]MANHOLE_MTL!$A$2:$A$100,MATCH('Access Point (Desc)'!$M25,[1]!MASTER_MANHOLE_MTL_DESC[#Data],0),0))","v":""},{"$f":"IF('Access Point (Desc)'!N25=\"\",\"\",INDEX([1]LID_BOLT_TYPE!$A$2:$A$100,MATCH('Access Point (Desc)'!$N25,[1]!MASTER_LID_BOLT_TYPE_DESC[#Data],0),0))","v":""},{"$f":"IF('Access Point (Desc)'!O25=\"\",\"\",INDEX([1]YES_NO!$A$2:$A$100,MATCH('Access Point (Desc)'!$O25,[1]!MASTER_YES_NO_DESC[#Data],0),0))","v":""},{"$f":"IF('Access Point (Desc)'!P25=\"\",\"\",'Access Point (Desc)'!P25)","v":""},{"$f":"IF('Access Point (Desc)'!Q25=\"\",\"\",INDEX([1]YES_NO!$A$2:$A$100,MATCH('Access Point (Desc)'!$Q25,[1]!MASTER_YES_NO_DESC[#Data],0),0))","v":""}]
[{"$f":"IF('Access Point (Desc)'!A26=\"\",\"\",'Access Point (Desc)'!A26)","v":""},{"$f":"IF('Access Point (Desc)'!B26=\"\",\"\",'Access Point (Desc)'!B26)","v":""},{"$f":"IF('Access Point (Desc)'!C26=\"\",\"\",'Access Point (Desc)'!C26)","v":""},{"$f":"IF('Access Point (Desc)'!D26=\"\",\"\",'Access Point (Desc)'!D26)","v":""},{"$f":"IF('Access Point (Desc)'!E26=\"\",\"\",INDEX([1]OWNER!$A$2:$A$100,MATCH('Access Point (Desc)'!$E26,[1]!MASTER_OWNER_DESC[#Data],0),0))","v":""},{"$f":"IF('Access Point (Desc)'!F26=\"\",\"\",INDEX([1]COUNTY!$A$2:$A$100,MATCH('Access Point (Desc)'!F26,[1]!MASTER_COUNTY_NAME[#Data],0),0))","v":""},{"$f":"IF('Access Point (Desc)'!G26=\"\",\"\",'Access Point (Desc)'!G26)","v":""},{"$f":"IF('Access Point (Desc)'!H26=\"\",\"\",'Access Point (Desc)'!H26)","v":""},{"$f":"IF('Access Point (Desc)'!I26=\"\",\"\",INDEX([1]ROUTE_MH_TYPE!$A$2:$A$100,MATCH('Access Point (Desc)'!$I26,[1]!MASTER_ROUTE_MH_TYPE_DESC[#Data],0),0))","v":""},{"$f":"IF('Access Point (Desc)'!J26=\"\",\"\",INDEX([1]MANHOLE_MTL!$A$2:$A$100,MATCH('Access Point (Desc)'!$J26,[1]!MASTER_MANHOLE_MTL_DESC[#Data],0),0))","v":""},{"$f":"IF('Access Point (Desc)'!K26=\"\",\"\",INDEX([1]MANHOLE_SIZE!$A$2:$A$120,MATCH('Access Point (Desc)'!$K26,[1]!MASTER_MANHOLE_SIZE_DESC[#Data],0),0))","v":""},{"$f":"IF('Access Point (Desc)'!L26=\"\",\"\",INDEX([1]ROUTE_MH_LID_TYPE!$A$2:$A$100,MATCH('Access Point (Desc)'!$L26,[1]!MASTER_ROUTE_MH_LID_TYPE_DESC[#Data],0),0))","v":""},{"$f":"IF('Access Point (Desc)'!M26=\"\",\"\",INDEX([1]MANHOLE_MTL!$A$2:$A$100,MATCH('Access Point (Desc)'!$M26,[1]!MASTER_MANHOLE_MTL_DESC[#Data],0),0))","v":""},{"$f":"IF('Access Point (Desc)'!N26=\"\",\"\",INDEX([1]LID_BOLT_TYPE!$A$2:$A$100,MATCH('Access Point (Desc)'!$N26,[1]!MASTER_LID_BOLT_TYPE_DESC[#Data],0),0))","v":""},{"$f":"IF('Access Point (Desc)'!O26=\"\",\"\",INDEX([1]YES_NO!$A$2:$A$100,MATCH('Access Point (Desc)'!$O26,[1]!MASTER_YES_NO_DESC[#Data],0),0))","v":""},{"$f":"IF('Access Point (Desc)'!P26=\"\",\"\",'Access Point (Desc)'!P26)","v":""},{"$f":"IF('Access Point (Desc)'!Q26=\"\",\"\",INDEX([1]YES_NO!$A$2:$A$100,MATCH('Access Point (Desc)'!$Q26,[1]!MASTER_YES_NO_DESC[#Data],0),0))","v":""}]
[{"$f":"IF('Access Point (Desc)'!A27=\"\",\"\",'Access Point (Desc)'!A27)","v":""},{"$f":"IF('Access Point (Desc)'!B27=\"\",\"\",'Access Point (Desc)'!B27)","v":""},{"$f":"IF('Access Point (Desc)'!C27=\"\",\"\",'Access Point (Desc)'!C27)","v":""},{"$f":"IF('Access Point (Desc)'!D27=\"\",\"\",'Access Point (Desc)'!D27)","v":""},{"$f":"IF('Access Point (Desc)'!E27=\"\",\"\",INDEX([1]OWNER!$A$2:$A$100,MATCH('Access Point (Desc)'!$E27,[1]!MASTER_OWNER_DESC[#Data],0),0))","v":""},{"$f":"IF('Access Point (Desc)'!F27=\"\",\"\",INDEX([1]COUNTY!$A$2:$A$100,MATCH('Access Point (Desc)'!F27,[1]!MASTER_COUNTY_NAME[#Data],0),0))","v":""},{"$f":"IF('Access Point (Desc)'!G27=\"\",\"\",'Access Point (Desc)'!G27)","v":""},{"$f":"IF('Access Point (Desc)'!H27=\"\",\"\",'Access Point (Desc)'!H27)","v":""},{"$f":"IF('Access Point (Desc)'!I27=\"\",\"\",INDEX([1]ROUTE_MH_TYPE!$A$2:$A$100,MATCH('Access Point (Desc)'!$I27,[1]!MASTER_ROUTE_MH_TYPE_DESC[#Data],0),0))","v":""},{"$f":"IF('Access Point (Desc)'!J27=\"\",\"\",INDEX([1]MANHOLE_MTL!$A$2:$A$100,MATCH('Access Point (Desc)'!$J27,[1]!MASTER_MANHOLE_MTL_DESC[#Data],0),0))","v":""},{"$f":"IF('Access Point (Desc)'!K27=\"\",\"\",INDEX([1]MANHOLE_SIZE!$A$2:$A$120,MATCH('Access Point (Desc)'!$K27,[1]!MASTER_MANHOLE_SIZE_DESC[#Data],0),0))","v":""},{"$f":"IF('Access Point (Desc)'!L27=\"\",\"\",INDEX([1]ROUTE_MH_LID_TYPE!$A$2:$A$100,MATCH('Access Point (Desc)'!$L27,[1]!MASTER_ROUTE_MH_LID_TYPE_DESC[#Data],0),0))","v":""},{"$f":"IF('Access Point (Desc)'!M27=\"\",\"\",INDEX([1]MANHOLE_MTL!$A$2:$A$100,MATCH('Access Point (Desc)'!$M27,[1]!MASTER_MANHOLE_MTL_DESC[#Data],0),0))","v":""},{"$f":"IF('Access Point (Desc)'!N27=\"\",\"\",INDEX([1]LID_BOLT_TYPE!$A$2:$A$100,MATCH('Access Point (Desc)'!$N27,[1]!MASTER_LID_BOLT_TYPE_DESC[#Data],0),0))","v":""},{"$f":"IF('Access Point (Desc)'!O27=\"\",\"\",INDEX([1]YES_NO!$A$2:$A$100,MATCH('Access Point (Desc)'!$O27,[1]!MASTER_YES_NO_DESC[#Data],0),0))","v":""},{"$f":"IF('Access Point (Desc)'!P27=\"\",\"\",'Access Point (Desc)'!P27)","v":""},{"$f":"IF('Access Point (Desc)'!Q27=\"\",\"\",INDEX([1]YES_NO!$A$2:$A$100,MATCH('Access Point (Desc)'!$Q27,[1]!MASTER_YES_NO_DESC[#Data],0),0))","v":""}]
[{"$f":"IF('Access Point (Desc)'!A28=\"\",\"\",'Access Point (Desc)'!A28)","v":""},{"$f":"IF('Access Point (Desc)'!B28=\"\",\"\",'Access Point (Desc)'!B28)","v":""},{"$f":"IF('Access Point (Desc)'!C28=\"\",\"\",'Access Point (Desc)'!C28)","v":""},{"$f":"IF('Access Point (Desc)'!D28=\"\",\"\",'Access Point (Desc)'!D28)","v":""},{"$f":"IF('Access Point (Desc)'!E28=\"\",\"\",INDEX([1]OWNER!$A$2:$A$100,MATCH('Access Point (Desc)'!$E28,[1]!MASTER_OWNER_DESC[#Data],0),0))","v":""},{"$f":"IF('Access Point (Desc)'!F28=\"\",\"\",INDEX([1]COUNTY!$A$2:$A$100,MATCH('Access Point (Desc)'!F28,[1]!MASTER_COUNTY_NAME[#Data],0),0))","v":""},{"$f":"IF('Access Point (Desc)'!G28=\"\",\"\",'Access Point (Desc)'!G28)","v":""},{"$f":"IF('Access Point (Desc)'!H28=\"\",\"\",'Access Point (Desc)'!H28)","v":""},{"$f":"IF('Access Point (Desc)'!I28=\"\",\"\",INDEX([1]ROUTE_MH_TYPE!$A$2:$A$100,MATCH('Access Point (Desc)'!$I28,[1]!MASTER_ROUTE_MH_TYPE_DESC[#Data],0),0))","v":""},{"$f":"IF('Access Point (Desc)'!J28=\"\",\"\",INDEX([1]MANHOLE_MTL!$A$2:$A$100,MATCH('Access Point (Desc)'!$J28,[1]!MASTER_MANHOLE_MTL_DESC[#Data],0),0))","v":""},{"$f":"IF('Access Point (Desc)'!K28=\"\",\"\",INDEX([1]MANHOLE_SIZE!$A$2:$A$120,MATCH('Access Point (Desc)'!$K28,[1]!MASTER_MANHOLE_SIZE_DESC[#Data],0),0))","v":""},{"$f":"IF('Access Point (Desc)'!L28=\"\",\"\",INDEX([1]ROUTE_MH_LID_TYPE!$A$2:$A$100,MATCH('Access Point (Desc)'!$L28,[1]!MASTER_ROUTE_MH_LID_TYPE_DESC[#Data],0),0))","v":""},{"$f":"IF('Access Point (Desc)'!M28=\"\",\"\",INDEX([1]MANHOLE_MTL!$A$2:$A$100,MATCH('Access Point (Desc)'!$M28,[1]!MASTER_MANHOLE_MTL_DESC[#Data],0),0))","v":""},{"$f":"IF('Access Point (Desc)'!N28=\"\",\"\",INDEX([1]LID_BOLT_TYPE!$A$2:$A$100,MATCH('Access Point (Desc)'!$N28,[1]!MASTER_LID_BOLT_TYPE_DESC[#Data],0),0))","v":""},{"$f":"IF('Access Point (Desc)'!O28=\"\",\"\",INDEX([1]YES_NO!$A$2:$A$100,MATCH('Access Point (Desc)'!$O28,[1]!MASTER_YES_NO_DESC[#Data],0),0))","v":""},{"$f":"IF('Access Point (Desc)'!P28=\"\",\"\",'Access Point (Desc)'!P28)","v":""},{"$f":"IF('Access Point (Desc)'!Q28=\"\",\"\",INDEX([1]YES_NO!$A$2:$A$100,MATCH('Access Point (Desc)'!$Q28,[1]!MASTER_YES_NO_DESC[#Data],0),0))","v":""}]
[{"$f":"IF('Access Point (Desc)'!A29=\"\",\"\",'Access Point (Desc)'!A29)","v":""},{"$f":"IF('Access Point (Desc)'!B29=\"\",\"\",'Access Point (Desc)'!B29)","v":""},{"$f":"IF('Access Point (Desc)'!C29=\"\",\"\",'Access Point (Desc)'!C29)","v":""},{"$f":"IF('Access Point (Desc)'!D29=\"\",\"\",'Access Point (Desc)'!D29)","v":""},{"$f":"IF('Access Point (Desc)'!E29=\"\",\"\",INDEX([1]OWNER!$A$2:$A$100,MATCH('Access Point (Desc)'!$E29,[1]!MASTER_OWNER_DESC[#Data],0),0))","v":""},{"$f":"IF('Access Point (Desc)'!F29=\"\",\"\",INDEX([1]COUNTY!$A$2:$A$100,MATCH('Access Point (Desc)'!F29,[1]!MASTER_COUNTY_NAME[#Data],0),0))","v":""},{"$f":"IF('Access Point (Desc)'!G29=\"\",\"\",'Access Point (Desc)'!G29)","v":""},{"$f":"IF('Access Point (Desc)'!H29=\"\",\"\",'Access Point (Desc)'!H29)","v":""},{"$f":"IF('Access Point (Desc)'!I29=\"\",\"\",INDEX([1]ROUTE_MH_TYPE!$A$2:$A$100,MATCH('Access Point (Desc)'!$I29,[1]!MASTER_ROUTE_MH_TYPE_DESC[#Data],0),0))","v":""},{"$f":"IF('Access Point (Desc)'!J29=\"\",\"\",INDEX([1]MANHOLE_MTL!$A$2:$A$100,MATCH('Access Point (Desc)'!$J29,[1]!MASTER_MANHOLE_MTL_DESC[#Data],0),0))","v":""},{"$f":"IF('Access Point (Desc)'!K29=\"\",\"\",INDEX([1]MANHOLE_SIZE!$A$2:$A$120,MATCH('Access Point (Desc)'!$K29,[1]!MASTER_MANHOLE_SIZE_DESC[#Data],0),0))","v":""},{"$f":"IF('Access Point (Desc)'!L29=\"\",\"\",INDEX([1]ROUTE_MH_LID_TYPE!$A$2:$A$100,MATCH('Access Point (Desc)'!$L29,[1]!MASTER_ROUTE_MH_LID_TYPE_DESC[#Data],0),0))","v":""},{"$f":"IF('Access Point (Desc)'!M29=\"\",\"\",INDEX([1]MANHOLE_MTL!$A$2:$A$100,MATCH('Access Point (Desc)'!$M29,[1]!MASTER_MANHOLE_MTL_DESC[#Data],0),0))","v":""},{"$f":"IF('Access Point (Desc)'!N29=\"\",\"\",INDEX([1]LID_BOLT_TYPE!$A$2:$A$100,MATCH('Access Point (Desc)'!$N29,[1]!MASTER_LID_BOLT_TYPE_DESC[#Data],0),0))","v":""},{"$f":"IF('Access Point (Desc)'!O29=\"\",\"\",INDEX([1]YES_NO!$A$2:$A$100,MATCH('Access Point (Desc)'!$O29,[1]!MASTER_YES_NO_DESC[#Data],0),0))","v":""},{"$f":"IF('Access Point (Desc)'!P29=\"\",\"\",'Access Point (Desc)'!P29)","v":""},{"$f":"IF('Access Point (Desc)'!Q29=\"\",\"\",INDEX([1]YES_NO!$A$2:$A$100,MATCH('Access Point (Desc)'!$Q29,[1]!MASTER_YES_NO_DESC[#Data],0),0))","v":""}]
[{"$f":"IF('Access Point (Desc)'!A30=\"\",\"\",'Access Point (Desc)'!A30)","v":""},{"$f":"IF('Access Point (Desc)'!B30=\"\",\"\",'Access Point (Desc)'!B30)","v":""},{"$f":"IF('Access Point (Desc)'!C30=\"\",\"\",'Access Point (Desc)'!C30)","v":""},{"$f":"IF('Access Point (Desc)'!D30=\"\",\"\",'Access Point (Desc)'!D30)","v":""},{"$f":"IF('Access Point (Desc)'!E30=\"\",\"\",INDEX([1]OWNER!$A$2:$A$100,MATCH('Access Point (Desc)'!$E30,[1]!MASTER_OWNER_DESC[#Data],0),0))","v":""},{"$f":"IF('Access Point (Desc)'!F30=\"\",\"\",INDEX([1]COUNTY!$A$2:$A$100,MATCH('Access Point (Desc)'!F30,[1]!MASTER_COUNTY_NAME[#Data],0),0))","v":""},{"$f":"IF('Access Point (Desc)'!G30=\"\",\"\",'Access Point (Desc)'!G30)","v":""},{"$f":"IF('Access Point (Desc)'!H30=\"\",\"\",'Access Point (Desc)'!H30)","v":""},{"$f":"IF('Access Point (Desc)'!I30=\"\",\"\",INDEX([1]ROUTE_MH_TYPE!$A$2:$A$100,MATCH('Access Point (Desc)'!$I30,[1]!MASTER_ROUTE_MH_TYPE_DESC[#Data],0),0))","v":""},{"$f":"IF('Access Point (Desc)'!J30=\"\",\"\",INDEX([1]MANHOLE_MTL!$A$2:$A$100,MATCH('Access Point (Desc)'!$J30,[1]!MASTER_MANHOLE_MTL_DESC[#Data],0),0))","v":""},{"$f":"IF('Access Point (Desc)'!K30=\"\",\"\",INDEX([1]MANHOLE_SIZE!$A$2:$A$120,MATCH('Access Point (Desc)'!$K30,[1]!MASTER_MANHOLE_SIZE_DESC[#Data],0),0))","v":""},{"$f":"IF('Access Point (Desc)'!L30=\"\",\"\",INDEX([1]ROUTE_MH_LID_TYPE!$A$2:$A$100,MATCH('Access Point (Desc)'!$L30,[1]!MASTER_ROUTE_MH_LID_TYPE_DESC[#Data],0),0))","v":""},{"$f":"IF('Access Point (Desc)'!M30=\"\",\"\",INDEX([1]MANHOLE_MTL!$A$2:$A$100,MATCH('Access Point (Desc)'!$M30,[1]!MASTER_MANHOLE_MTL_DESC[#Data],0),0))","v":""},{"$f":"IF('Access Point (Desc)'!N30=\"\",\"\",INDEX([1]LID_BOLT_TYPE!$A$2:$A$100,MATCH('Access Point (Desc)'!$N30,[1]!MASTER_LID_BOLT_TYPE_DESC[#Data],0),0))","v":""},{"$f":"IF('Access Point (Desc)'!O30=\"\",\"\",INDEX([1]YES_NO!$A$2:$A$100,MATCH('Access Point (Desc)'!$O30,[1]!MASTER_YES_NO_DESC[#Data],0),0))","v":""},{"$f":"IF('Access Point (Desc)'!P30=\"\",\"\",'Access Point (Desc)'!P30)","v":""},{"$f":"IF('Access Point (Desc)'!Q30=\"\",\"\",INDEX([1]YES_NO!$A$2:$A$100,MATCH('Access Point (Desc)'!$Q30,[1]!MASTER_YES_NO_DESC[#Data],0),0))","v":""}]
[{"$f":"IF('Access Point (Desc)'!A31=\"\",\"\",'Access Point (Desc)'!A31)","v":""},{"$f":"IF('Access Point (Desc)'!B31=\"\",\"\",'Access Point (Desc)'!B31)","v":""},{"$f":"IF('Access Point (Desc)'!C31=\"\",\"\",'Access Point (Desc)'!C31)","v":""},{"$f":"IF('Access Point (Desc)'!D31=\"\",\"\",'Access Point (Desc)'!D31)","v":""},{"$f":"IF('Access Point (Desc)'!E31=\"\",\"\",INDEX([1]OWNER!$A$2:$A$100,MATCH('Access Point (Desc)'!$E31,[1]!MASTER_OWNER_DESC[#Data],0),0))","v":""},{"$f":"IF('Access Point (Desc)'!F31=\"\",\"\",INDEX([1]COUNTY!$A$2:$A$100,MATCH('Access Point (Desc)'!F31,[1]!MASTER_COUNTY_NAME[#Data],0),0))","v":""},{"$f":"IF('Access Point (Desc)'!G31=\"\",\"\",'Access Point (Desc)'!G31)","v":""},{"$f":"IF('Access Point (Desc)'!H31=\"\",\"\",'Access Point (Desc)'!H31)","v":""},{"$f":"IF('Access Point (Desc)'!I31=\"\",\"\",INDEX([1]ROUTE_MH_TYPE!$A$2:$A$100,MATCH('Access Point (Desc)'!$I31,[1]!MASTER_ROUTE_MH_TYPE_DESC[#Data],0),0))","v":""},{"$f":"IF('Access Point (Desc)'!J31=\"\",\"\",INDEX([1]MANHOLE_MTL!$A$2:$A$100,MATCH('Access Point (Desc)'!$J31,[1]!MASTER_MANHOLE_MTL_DESC[#Data],0),0))","v":""},{"$f":"IF('Access Point (Desc)'!K31=\"\",\"\",INDEX([1]MANHOLE_SIZE!$A$2:$A$120,MATCH('Access Point (Desc)'!$K31,[1]!MASTER_MANHOLE_SIZE_DESC[#Data],0),0))","v":""},{"$f":"IF('Access Point (Desc)'!L31=\"\",\"\",INDEX([1]ROUTE_MH_LID_TYPE!$A$2:$A$100,MATCH('Access Point (Desc)'!$L31,[1]!MASTER_ROUTE_MH_LID_TYPE_DESC[#Data],0),0))","v":""},{"$f":"IF('Access Point (Desc)'!M31=\"\",\"\",INDEX([1]MANHOLE_MTL!$A$2:$A$100,MATCH('Access Point (Desc)'!$M31,[1]!MASTER_MANHOLE_MTL_DESC[#Data],0),0))","v":""},{"$f":"IF('Access Point (Desc)'!N31=\"\",\"\",INDEX([1]LID_BOLT_TYPE!$A$2:$A$100,MATCH('Access Point (Desc)'!$N31,[1]!MASTER_LID_BOLT_TYPE_DESC[#Data],0),0))","v":""},{"$f":"IF('Access Point (Desc)'!O31=\"\",\"\",INDEX([1]YES_NO!$A$2:$A$100,MATCH('Access Point (Desc)'!$O31,[1]!MASTER_YES_NO_DESC[#Data],0),0))","v":""},{"$f":"IF('Access Point (Desc)'!P31=\"\",\"\",'Access Point (Desc)'!P31)","v":""},{"$f":"IF('Access Point (Desc)'!Q31=\"\",\"\",INDEX([1]YES_NO!$A$2:$A$100,MATCH('Access Point (Desc)'!$Q31,[1]!MASTER_YES_NO_DESC[#Data],0),0))","v":""}]
[{"$f":"IF('Access Point (Desc)'!A32=\"\",\"\",'Access Point (Desc)'!A32)","v":""},{"$f":"IF('Access Point (Desc)'!B32=\"\",\"\",'Access Point (Desc)'!B32)","v":""},{"$f":"IF('Access Point (Desc)'!C32=\"\",\"\",'Access Point (Desc)'!C32)","v":""},{"$f":"IF('Access Point (Desc)'!D32=\"\",\"\",'Access Point (Desc)'!D32)","v":""},{"$f":"IF('Access Point (Desc)'!E32=\"\",\"\",INDEX([1]OWNER!$A$2:$A$100,MATCH('Access Point (Desc)'!$E32,[1]!MASTER_OWNER_DESC[#Data],0),0))","v":""},{"$f":"IF('Access Point (Desc)'!F32=\"\",\"\",INDEX([1]COUNTY!$A$2:$A$100,MATCH('Access Point (Desc)'!F32,[1]!MASTER_COUNTY_NAME[#Data],0),0))","v":""},{"$f":"IF('Access Point (Desc)'!G32=\"\",\"\",'Access Point (Desc)'!G32)","v":""},{"$f":"IF('Access Point (Desc)'!H32=\"\",\"\",'Access Point (Desc)'!H32)","v":""},{"$f":"IF('Access Point (Desc)'!I32=\"\",\"\",INDEX([1]ROUTE_MH_TYPE!$A$2:$A$100,MATCH('Access Point (Desc)'!$I32,[1]!MASTER_ROUTE_MH_TYPE_DESC[#Data],0),0))","v":""},{"$f":"IF('Access Point (Desc)'!J32=\"\",\"\",INDEX([1]MANHOLE_MTL!$A$2:$A$100,MATCH('Access Point (Desc)'!$J32,[1]!MASTER_MANHOLE_MTL_DESC[#Data],0),0))","v":""},{"$f":"IF('Access Point (Desc)'!K32=\"\",\"\",INDEX([1]MANHOLE_SIZE!$A$2:$A$120,MATCH('Access Point (Desc)'!$K32,[1]!MASTER_MANHOLE_SIZE_DESC[#Data],0),0))","v":""},{"$f":"IF('Access Point (Desc)'!L32=\"\",\"\",INDEX([1]ROUTE_MH_LID_TYPE!$A$2:$A$100,MATCH('Access Point (Desc)'!$L32,[1]!MASTER_ROUTE_MH_LID_TYPE_DESC[#Data],0),0))","v":""},{"$f":"IF('Access Point (Desc)'!M32=\"\",\"\",INDEX([1]MANHOLE_MTL!$A$2:$A$100,MATCH('Access Point (Desc)'!$M32,[1]!MASTER_MANHOLE_MTL_DESC[#Data],0),0))","v":""},{"$f":"IF('Access Point (Desc)'!N32=\"\",\"\",INDEX([1]LID_BOLT_TYPE!$A$2:$A$100,MATCH('Access Point (Desc)'!$N32,[1]!MASTER_LID_BOLT_TYPE_DESC[#Data],0),0))","v":""},{"$f":"IF('Access Point (Desc)'!O32=\"\",\"\",INDEX([1]YES_NO!$A$2:$A$100,MATCH('Access Point (Desc)'!$O32,[1]!MASTER_YES_NO_DESC[#Data],0),0))","v":""},{"$f":"IF('Access Point (Desc)'!P32=\"\",\"\",'Access Point (Desc)'!P32)","v":""},{"$f":"IF('Access Point (Desc)'!Q32=\"\",\"\",INDEX([1]YES_NO!$A$2:$A$100,MATCH('Access Point (Desc)'!$Q32,[1]!MASTER_YES_NO_DESC[#Data],0),0))","v":""}]
[{"$f":"IF('Access Point (Desc)'!A33=\"\",\"\",'Access Point (Desc)'!A33)","v":""},{"$f":"IF('Access Point (Desc)'!B33=\"\",\"\",'Access Point (Desc)'!B33)","v":""},{"$f":"IF('Access Point (Desc)'!C33=\"\",\"\",'Access Point (Desc)'!C33)","v":""},{"$f":"IF('Access Point (Desc)'!D33=\"\",\"\",'Access Point (Desc)'!D33)","v":""},{"$f":"IF('Access Point (Desc)'!E33=\"\",\"\",INDEX([1]OWNER!$A$2:$A$100,MATCH('Access Point (Desc)'!$E33,[1]!MASTER_OWNER_DESC[#Data],0),0))","v":""},{"$f":"IF('Access Point (Desc)'!F33=\"\",\"\",INDEX([1]COUNTY!$A$2:$A$100,MATCH('Access Point (Desc)'!F33,[1]!MASTER_COUNTY_NAME[#Data],0),0))","v":""},{"$f":"IF('Access Point (Desc)'!G33=\"\",\"\",'Access Point (Desc)'!G33)","v":""},{"$f":"IF('Access Point (Desc)'!H33=\"\",\"\",'Access Point (Desc)'!H33)","v":""},{"$f":"IF('Access Point (Desc)'!I33=\"\",\"\",INDEX([1]ROUTE_MH_TYPE!$A$2:$A$100,MATCH('Access Point (Desc)'!$I33,[1]!MASTER_ROUTE_MH_TYPE_DESC[#Data],0),0))","v":""},{"$f":"IF('Access Point (Desc)'!J33=\"\",\"\",INDEX([1]MANHOLE_MTL!$A$2:$A$100,MATCH('Access Point (Desc)'!$J33,[1]!MASTER_MANHOLE_MTL_DESC[#Data],0),0))","v":""},{"$f":"IF('Access Point (Desc)'!K33=\"\",\"\",INDEX([1]MANHOLE_SIZE!$A$2:$A$120,MATCH('Access Point (Desc)'!$K33,[1]!MASTER_MANHOLE_SIZE_DESC[#Data],0),0))","v":""},{"$f":"IF('Access Point (Desc)'!L33=\"\",\"\",INDEX([1]ROUTE_MH_LID_TYPE!$A$2:$A$100,MATCH('Access Point (Desc)'!$L33,[1]!MASTER_ROUTE_MH_LID_TYPE_DESC[#Data],0),0))","v":""},{"$f":"IF('Access Point (Desc)'!M33=\"\",\"\",INDEX([1]MANHOLE_MTL!$A$2:$A$100,MATCH('Access Point (Desc)'!$M33,[1]!MASTER_MANHOLE_MTL_DESC[#Data],0),0))","v":""},{"$f":"IF('Access Point (Desc)'!N33=\"\",\"\",INDEX([1]LID_BOLT_TYPE!$A$2:$A$100,MATCH('Access Point (Desc)'!$N33,[1]!MASTER_LID_BOLT_TYPE_DESC[#Data],0),0))","v":""},{"$f":"IF('Access Point (Desc)'!O33=\"\",\"\",INDEX([1]YES_NO!$A$2:$A$100,MATCH('Access Point (Desc)'!$O33,[1]!MASTER_YES_NO_DESC[#Data],0),0))","v":""},{"$f":"IF('Access Point (Desc)'!P33=\"\",\"\",'Access Point (Desc)'!P33)","v":""},{"$f":"IF('Access Point (Desc)'!Q33=\"\",\"\",INDEX([1]YES_NO!$A$2:$A$100,MATCH('Access Point (Desc)'!$Q33,[1]!MASTER_YES_NO_DESC[#Data],0),0))","v":""}]
[{"$f":"IF('Access Point (Desc)'!A34=\"\",\"\",'Access Point (Desc)'!A34)","v":""},{"$f":"IF('Access Point (Desc)'!B34=\"\",\"\",'Access Point (Desc)'!B34)","v":""},{"$f":"IF('Access Point (Desc)'!C34=\"\",\"\",'Access Point (Desc)'!C34)","v":""},{"$f":"IF('Access Point (Desc)'!D34=\"\",\"\",'Access Point (Desc)'!D34)","v":""},{"$f":"IF('Access Point (Desc)'!E34=\"\",\"\",INDEX([1]OWNER!$A$2:$A$100,MATCH('Access Point (Desc)'!$E34,[1]!MASTER_OWNER_DESC[#Data],0),0))","v":""},{"$f":"IF('Access Point (Desc)'!F34=\"\",\"\",INDEX([1]COUNTY!$A$2:$A$100,MATCH('Access Point (Desc)'!F34,[1]!MASTER_COUNTY_NAME[#Data],0),0))","v":""},{"$f":"IF('Access Point (Desc)'!G34=\"\",\"\",'Access Point (Desc)'!G34)","v":""},{"$f":"IF('Access Point (Desc)'!H34=\"\",\"\",'Access Point (Desc)'!H34)","v":""},{"$f":"IF('Access Point (Desc)'!I34=\"\",\"\",INDEX([1]ROUTE_MH_TYPE!$A$2:$A$100,MATCH('Access Point (Desc)'!$I34,[1]!MASTER_ROUTE_MH_TYPE_DESC[#Data],0),0))","v":""},{"$f":"IF('Access Point (Desc)'!J34=\"\",\"\",INDEX([1]MANHOLE_MTL!$A$2:$A$100,MATCH('Access Point (Desc)'!$J34,[1]!MASTER_MANHOLE_MTL_DESC[#Data],0),0))","v":""},{"$f":"IF('Access Point (Desc)'!K34=\"\",\"\",INDEX([1]MANHOLE_SIZE!$A$2:$A$120,MATCH('Access Point (Desc)'!$K34,[1]!MASTER_MANHOLE_SIZE_DESC[#Data],0),0))","v":""},{"$f":"IF('Access Point (Desc)'!L34=\"\",\"\",INDEX([1]ROUTE_MH_LID_TYPE!$A$2:$A$100,MATCH('Access Point (Desc)'!$L34,[1]!MASTER_ROUTE_MH_LID_TYPE_DESC[#Data],0),0))","v":""},{"$f":"IF('Access Point (Desc)'!M34=\"\",\"\",INDEX([1]MANHOLE_MTL!$A$2:$A$100,MATCH('Access Point (Desc)'!$M34,[1]!MASTER_MANHOLE_MTL_DESC[#Data],0),0))","v":""},{"$f":"IF('Access Point (Desc)'!N34=\"\",\"\",INDEX([1]LID_BOLT_TYPE!$A$2:$A$100,MATCH('Access Point (Desc)'!$N34,[1]!MASTER_LID_BOLT_TYPE_DESC[#Data],0),0))","v":""},{"$f":"IF('Access Point (Desc)'!O34=\"\",\"\",INDEX([1]YES_NO!$A$2:$A$100,MATCH('Access Point (Desc)'!$O34,[1]!MASTER_YES_NO_DESC[#Data],0),0))","v":""},{"$f":"IF('Access Point (Desc)'!P34=\"\",\"\",'Access Point (Desc)'!P34)","v":""},{"$f":"IF('Access Point (Desc)'!Q34=\"\",\"\",INDEX([1]YES_NO!$A$2:$A$100,MATCH('Access Point (Desc)'!$Q34,[1]!MASTER_YES_NO_DESC[#Data],0),0))","v":""}]
[{"$f":"IF('Access Point (Desc)'!A35=\"\",\"\",'Access Point (Desc)'!A35)","v":""},{"$f":"IF('Access Point (Desc)'!B35=\"\",\"\",'Access Point (Desc)'!B35)","v":""},{"$f":"IF('Access Point (Desc)'!C35=\"\",\"\",'Access Point (Desc)'!C35)","v":""},{"$f":"IF('Access Point (Desc)'!D35=\"\",\"\",'Access Point (Desc)'!D35)","v":""},{"$f":"IF('Access Point (Desc)'!E35=\"\",\"\",INDEX([1]OWNER!$A$2:$A$100,MATCH('Access Point (Desc)'!$E35,[1]!MASTER_OWNER_DESC[#Data],0),0))","v":""},{"$f":"IF('Access Point (Desc)'!F35=\"\",\"\",INDEX([1]COUNTY!$A$2:$A$100,MATCH('Access Point (Desc)'!F35,[1]!MASTER_COUNTY_NAME[#Data],0),0))","v":""},{"$f":"IF('Access Point (Desc)'!G35=\"\",\"\",'Access Point (Desc)'!G35)","v":""},{"$f":"IF('Access Point (Desc)'!H35=\"\",\"\",'Access Point (Desc)'!H35)","v":""},{"$f":"IF('Access Point (Desc)'!I35=\"\",\"\",INDEX([1]ROUTE_MH_TYPE!$A$2:$A$100,MATCH('Access Point (Desc)'!$I35,[1]!MASTER_ROUTE_MH_TYPE_DESC[#Data],0),0))","v":""},{"$f":"IF('Access Point (Desc)'!J35=\"\",\"\",INDEX([1]MANHOLE_MTL!$A$2:$A$100,MATCH('Access Point (Desc)'!$J35,[1]!MASTER_MANHOLE_MTL_DESC[#Data],0),0))","v":""},{"$f":"IF('Access Point (Desc)'!K35=\"\",\"\",INDEX([1]MANHOLE_SIZE!$A$2:$A$120,MATCH('Access Point (Desc)'!$K35,[1]!MASTER_MANHOLE_SIZE_DESC[#Data],0),0))","v":""},{"$f":"IF('Access Point (Desc)'!L35=\"\",\"\",INDEX([1]ROUTE_MH_LID_TYPE!$A$2:$A$100,MATCH('Access Point (Desc)'!$L35,[1]!MASTER_ROUTE_MH_LID_TYPE_DESC[#Data],0),0))","v":""},{"$f":"IF('Access Point (Desc)'!M35=\"\",\"\",INDEX([1]MANHOLE_MTL!$A$2:$A$100,MATCH('Access Point (Desc)'!$M35,[1]!MASTER_MANHOLE_MTL_DESC[#Data],0),0))","v":""},{"$f":"IF('Access Point (Desc)'!N35=\"\",\"\",INDEX([1]LID_BOLT_TYPE!$A$2:$A$100,MATCH('Access Point (Desc)'!$N35,[1]!MASTER_LID_BOLT_TYPE_DESC[#Data],0),0))","v":""},{"$f":"IF('Access Point (Desc)'!O35=\"\",\"\",INDEX([1]YES_NO!$A$2:$A$100,MATCH('Access Point (Desc)'!$O35,[1]!MASTER_YES_NO_DESC[#Data],0),0))","v":""},{"$f":"IF('Access Point (Desc)'!P35=\"\",\"\",'Access Point (Desc)'!P35)","v":""},{"$f":"IF('Access Point (Desc)'!Q35=\"\",\"\",INDEX([1]YES_NO!$A$2:$A$100,MATCH('Access Point (Desc)'!$Q35,[1]!MASTER_YES_NO_DESC[#Data],0),0))","v":""}]
[{"$f":"IF('Access Point (Desc)'!A36=\"\",\"\",'Access Point (Desc)'!A36)","v":""},{"$f":"IF('Access Point (Desc)'!B36=\"\",\"\",'Access Point (Desc)'!B36)","v":""},{"$f":"IF('Access Point (Desc)'!C36=\"\",\"\",'Access Point (Desc)'!C36)","v":""},{"$f":"IF('Access Point (Desc)'!D36=\"\",\"\",'Access Point (Desc)'!D36)","v":""},{"$f":"IF('Access Point (Desc)'!E36=\"\",\"\",INDEX([1]OWNER!$A$2:$A$100,MATCH('Access Point (Desc)'!$E36,[1]!MASTER_OWNER_DESC[#Data],0),0))","v":""},{"$f":"IF('Access Point (Desc)'!F36=\"\",\"\",INDEX([1]COUNTY!$A$2:$A$100,MATCH('Access Point (Desc)'!F36,[1]!MASTER_COUNTY_NAME[#Data],0),0))","v":""},{"$f":"IF('Access Point (Desc)'!G36=\"\",\"\",'Access Point (Desc)'!G36)","v":""},{"$f":"IF('Access Point (Desc)'!H36=\"\",\"\",'Access Point (Desc)'!H36)","v":""},{"$f":"IF('Access Point (Desc)'!I36=\"\",\"\",INDEX([1]ROUTE_MH_TYPE!$A$2:$A$100,MATCH('Access Point (Desc)'!$I36,[1]!MASTER_ROUTE_MH_TYPE_DESC[#Data],0),0))","v":""},{"$f":"IF('Access Point (Desc)'!J36=\"\",\"\",INDEX([1]MANHOLE_MTL!$A$2:$A$100,MATCH('Access Point (Desc)'!$J36,[1]!MASTER_MANHOLE_MTL_DESC[#Data],0),0))","v":""},{"$f":"IF('Access Point (Desc)'!K36=\"\",\"\",INDEX([1]MANHOLE_SIZE!$A$2:$A$120,MATCH('Access Point (Desc)'!$K36,[1]!MASTER_MANHOLE_SIZE_DESC[#Data],0),0))","v":""},{"$f":"IF('Access Point (Desc)'!L36=\"\",\"\",INDEX([1]ROUTE_MH_LID_TYPE!$A$2:$A$100,MATCH('Access Point (Desc)'!$L36,[1]!MASTER_ROUTE_MH_LID_TYPE_DESC[#Data],0),0))","v":""},{"$f":"IF('Access Point (Desc)'!M36=\"\",\"\",INDEX([1]MANHOLE_MTL!$A$2:$A$100,MATCH('Access Point (Desc)'!$M36,[1]!MASTER_MANHOLE_MTL_DESC[#Data],0),0))","v":""},{"$f":"IF('Access Point (Desc)'!N36=\"\",\"\",INDEX([1]LID_BOLT_TYPE!$A$2:$A$100,MATCH('Access Point (Desc)'!$N36,[1]!MASTER_LID_BOLT_TYPE_DESC[#Data],0),0))","v":""},{"$f":"IF('Access Point (Desc)'!O36=\"\",\"\",INDEX([1]YES_NO!$A$2:$A$100,MATCH('Access Point (Desc)'!$O36,[1]!MASTER_YES_NO_DESC[#Data],0),0))","v":""},{"$f":"IF('Access Point (Desc)'!P36=\"\",\"\",'Access Point (Desc)'!P36)","v":""},{"$f":"IF('Access Point (Desc)'!Q36=\"\",\"\",INDEX([1]YES_NO!$A$2:$A$100,MATCH('Access Point (Desc)'!$Q36,[1]!MASTER_YES_NO_DESC[#Data],0),0))","v":""}]
[{"$f":"IF('Access Point (Desc)'!A37=\"\",\"\",'Access Point (Desc)'!A37)","v":""},{"$f":"IF('Access Point (Desc)'!B37=\"\",\"\",'Access Point (Desc)'!B37)","v":""},{"$f":"IF('Access Point (Desc)'!C37=\"\",\"\",'Access Point (Desc)'!C37)","v":""},{"$f":"IF('Access Point (Desc)'!D37=\"\",\"\",'Access Point (Desc)'!D37)","v":""},{"$f":"IF('Access Point (Desc)'!E37=\"\",\"\",INDEX([1]OWNER!$A$2:$A$100,MATCH('Access Point (Desc)'!$E37,[1]!MASTER_OWNER_DESC[#Data],0),0))","v":""},{"$f":"IF('Access Point (Desc)'!F37=\"\",\"\",INDEX([1]COUNTY!$A$2:$A$100,MATCH('Access Point (Desc)'!F37,[1]!MASTER_COUNTY_NAME[#Data],0),0))","v":""},{"$f":"IF('Access Point (Desc)'!G37=\"\",\"\",'Access Point (Desc)'!G37)","v":""},{"$f":"IF('Access Point (Desc)'!H37=\"\",\"\",'Access Point (Desc)'!H37)","v":""},{"$f":"IF('Access Point (Desc)'!I37=\"\",\"\",INDEX([1]ROUTE_MH_TYPE!$A$2:$A$100,MATCH('Access Point (Desc)'!$I37,[1]!MASTER_ROUTE_MH_TYPE_DESC[#Data],0),0))","v":""},{"$f":"IF('Access Point (Desc)'!J37=\"\",\"\",INDEX([1]MANHOLE_MTL!$A$2:$A$100,MATCH('Access Point (Desc)'!$J37,[1]!MASTER_MANHOLE_MTL_DESC[#Data],0),0))","v":""},{"$f":"IF('Access Point (Desc)'!K37=\"\",\"\",INDEX([1]MANHOLE_SIZE!$A$2:$A$120,MATCH('Access Point (Desc)'!$K37,[1]!MASTER_MANHOLE_SIZE_DESC[#Data],0),0))","v":""},{"$f":"IF('Access Point (Desc)'!L37=\"\",\"\",INDEX([1]ROUTE_MH_LID_TYPE!$A$2:$A$100,MATCH('Access Point (Desc)'!$L37,[1]!MASTER_ROUTE_MH_LID_TYPE_DESC[#Data],0),0))","v":""},{"$f":"IF('Access Point (Desc)'!M37=\"\",\"\",INDEX([1]MANHOLE_MTL!$A$2:$A$100,MATCH('Access Point (Desc)'!$M37,[1]!MASTER_MANHOLE_MTL_DESC[#Data],0),0))","v":""},{"$f":"IF('Access Point (Desc)'!N37=\"\",\"\",INDEX([1]LID_BOLT_TYPE!$A$2:$A$100,MATCH('Access Point (Desc)'!$N37,[1]!MASTER_LID_BOLT_TYPE_DESC[#Data],0),0))","v":""},{"$f":"IF('Access Point (Desc)'!O37=\"\",\"\",INDEX([1]YES_NO!$A$2:$A$100,MATCH('Access Point (Desc)'!$O37,[1]!MASTER_YES_NO_DESC[#Data],0),0))","v":""},{"$f":"IF('Access Point (Desc)'!P37=\"\",\"\",'Access Point (Desc)'!P37)","v":""},{"$f":"IF('Access Point (Desc)'!Q37=\"\",\"\",INDEX([1]YES_NO!$A$2:$A$100,MATCH('Access Point (Desc)'!$Q37,[1]!MASTER_YES_NO_DESC[#Data],0),0))","v":""}]
[{"$f":"IF('Access Point (Desc)'!A38=\"\",\"\",'Access Point (Desc)'!A38)","v":""},{"$f":"IF('Access Point (Desc)'!B38=\"\",\"\",'Access Point (Desc)'!B38)","v":""},{"$f":"IF('Access Point (Desc)'!C38=\"\",\"\",'Access Point (Desc)'!C38)","v":""},{"$f":"IF('Access Point (Desc)'!D38=\"\",\"\",'Access Point (Desc)'!D38)","v":""},{"$f":"IF('Access Point (Desc)'!E38=\"\",\"\",INDEX([1]OWNER!$A$2:$A$100,MATCH('Access Point (Desc)'!$E38,[1]!MASTER_OWNER_DESC[#Data],0),0))","v":""},{"$f":"IF('Access Point (Desc)'!F38=\"\",\"\",INDEX([1]COUNTY!$A$2:$A$100,MATCH('Access Point (Desc)'!F38,[1]!MASTER_COUNTY_NAME[#Data],0),0))","v":""},{"$f":"IF('Access Point (Desc)'!G38=\"\",\"\",'Access Point (Desc)'!G38)","v":""},{"$f":"IF('Access Point (Desc)'!H38=\"\",\"\",'Access Point (Desc)'!H38)","v":""},{"$f":"IF('Access Point (Desc)'!I38=\"\",\"\",INDEX([1]ROUTE_MH_TYPE!$A$2:$A$100,MATCH('Access Point (Desc)'!$I38,[1]!MASTER_ROUTE_MH_TYPE_DESC[#Data],0),0))","v":""},{"$f":"IF('Access Point (Desc)'!J38=\"\",\"\",INDEX([1]MANHOLE_MTL!$A$2:$A$100,MATCH('Access Point (Desc)'!$J38,[1]!MASTER_MANHOLE_MTL_DESC[#Data],0),0))","v":""},{"$f":"IF('Access Point (Desc)'!K38=\"\",\"\",INDEX([1]MANHOLE_SIZE!$A$2:$A$120,MATCH('Access Point (Desc)'!$K38,[1]!MASTER_MANHOLE_SIZE_DESC[#Data],0),0))","v":""},{"$f":"IF('Access Point (Desc)'!L38=\"\",\"\",INDEX([1]ROUTE_MH_LID_TYPE!$A$2:$A$100,MATCH('Access Point (Desc)'!$L38,[1]!MASTER_ROUTE_MH_LID_TYPE_DESC[#Data],0),0))","v":""},{"$f":"IF('Access Point (Desc)'!M38=\"\",\"\",INDEX([1]MANHOLE_MTL!$A$2:$A$100,MATCH('Access Point (Desc)'!$M38,[1]!MASTER_MANHOLE_MTL_DESC[#Data],0),0))","v":""},{"$f":"IF('Access Point (Desc)'!N38=\"\",\"\",INDEX([1]LID_BOLT_TYPE!$A$2:$A$100,MATCH('Access Point (Desc)'!$N38,[1]!MASTER_LID_BOLT_TYPE_DESC[#Data],0),0))","v":""},{"$f":"IF('Access Point (Desc)'!O38=\"\",\"\",INDEX([1]YES_NO!$A$2:$A$100,MATCH('Access Point (Desc)'!$O38,[1]!MASTER_YES_NO_DESC[#Data],0),0))","v":""},{"$f":"IF('Access Point (Desc)'!P38=\"\",\"\",'Access Point (Desc)'!P38)","v":""},{"$f":"IF('Access Point (Desc)'!Q38=\"\",\"\",INDEX([1]YES_NO!$A$2:$A$100,MATCH('Access Point (Desc)'!$Q38,[1]!MASTER_YES_NO_DESC[#Data],0),0))","v":""}]
[{"$f":"IF('Access Point (Desc)'!A39=\"\",\"\",'Access Point (Desc)'!A39)","v":""},{"$f":"IF('Access Point (Desc)'!B39=\"\",\"\",'Access Point (Desc)'!B39)","v":""},{"$f":"IF('Access Point (Desc)'!C39=\"\",\"\",'Access Point (Desc)'!C39)","v":""},{"$f":"IF('Access Point (Desc)'!D39=\"\",\"\",'Access Point (Desc)'!D39)","v":""},{"$f":"IF('Access Point (Desc)'!E39=\"\",\"\",INDEX([1]OWNER!$A$2:$A$100,MATCH('Access Point (Desc)'!$E39,[1]!MASTER_OWNER_DESC[#Data],0),0))","v":""},{"$f":"IF('Access Point (Desc)'!F39=\"\",\"\",INDEX([1]COUNTY!$A$2:$A$100,MATCH('Access Point (Desc)'!F39,[1]!MASTER_COUNTY_NAME[#Data],0),0))","v":""},{"$f":"IF('Access Point (Desc)'!G39=\"\",\"\",'Access Point (Desc)'!G39)","v":""},{"$f":"IF('Access Point (Desc)'!H39=\"\",\"\",'Access Point (Desc)'!H39)","v":""},{"$f":"IF('Access Point (Desc)'!I39=\"\",\"\",INDEX([1]ROUTE_MH_TYPE!$A$2:$A$100,MATCH('Access Point (Desc)'!$I39,[1]!MASTER_ROUTE_MH_TYPE_DESC[#Data],0),0))","v":""},{"$f":"IF('Access Point (Desc)'!J39=\"\",\"\",INDEX([1]MANHOLE_MTL!$A$2:$A$100,MATCH('Access Point (Desc)'!$J39,[1]!MASTER_MANHOLE_MTL_DESC[#Data],0),0))","v":""},{"$f":"IF('Access Point (Desc)'!K39=\"\",\"\",INDEX([1]MANHOLE_SIZE!$A$2:$A$120,MATCH('Access Point (Desc)'!$K39,[1]!MASTER_MANHOLE_SIZE_DESC[#Data],0),0))","v":""},{"$f":"IF('Access Point (Desc)'!L39=\"\",\"\",INDEX([1]ROUTE_MH_LID_TYPE!$A$2:$A$100,MATCH('Access Point (Desc)'!$L39,[1]!MASTER_ROUTE_MH_LID_TYPE_DESC[#Data],0),0))","v":""},{"$f":"IF('Access Point (Desc)'!M39=\"\",\"\",INDEX([1]MANHOLE_MTL!$A$2:$A$100,MATCH('Access Point (Desc)'!$M39,[1]!MASTER_MANHOLE_MTL_DESC[#Data],0),0))","v":""},{"$f":"IF('Access Point (Desc)'!N39=\"\",\"\",INDEX([1]LID_BOLT_TYPE!$A$2:$A$100,MATCH('Access Point (Desc)'!$N39,[1]!MASTER_LID_BOLT_TYPE_DESC[#Data],0),0))","v":""},{"$f":"IF('Access Point (Desc)'!O39=\"\",\"\",INDEX([1]YES_NO!$A$2:$A$100,MATCH('Access Point (Desc)'!$O39,[1]!MASTER_YES_NO_DESC[#Data],0),0))","v":""},{"$f":"IF('Access Point (Desc)'!P39=\"\",\"\",'Access Point (Desc)'!P39)","v":""},{"$f":"IF('Access Point (Desc)'!Q39=\"\",\"\",INDEX([1]YES_NO!$A$2:$A$100,MATCH('Access Point (Desc)'!$Q39,[1]!MASTER_YES_NO_DESC[#Data],0),0))","v":""}]
[{"$f":"IF('Access Point (Desc)'!A40=\"\",\"\",'Access Point (Desc)'!A40)","v":""},{"$f":"IF('Access Point (Desc)'!B40=\"\",\"\",'Access Point (Desc)'!B40)","v":""},{"$f":"IF('Access Point (Desc)'!C40=\"\",\"\",'Access Point (Desc)'!C40)","v":""},{"$f":"IF('Access Point (Desc)'!D40=\"\",\"\",'Access Point (Desc)'!D40)","v":""},{"$f":"IF('Access Point (Desc)'!E40=\"\",\"\",INDEX([1]OWNER!$A$2:$A$100,MATCH('Access Point (Desc)'!$E40,[1]!MASTER_OWNER_DESC[#Data],0),0))","v":""},{"$f":"IF('Access Point (Desc)'!F40=\"\",\"\",INDEX([1]COUNTY!$A$2:$A$100,MATCH('Access Point (Desc)'!F40,[1]!MASTER_COUNTY_NAME[#Data],0),0))","v":""},{"$f":"IF('Access Point (Desc)'!G40=\"\",\"\",'Access Point (Desc)'!G40)","v":""},{"$f":"IF('Access Point (Desc)'!H40=\"\",\"\",'Access Point (Desc)'!H40)","v":""},{"$f":"IF('Access Point (Desc)'!I40=\"\",\"\",INDEX([1]ROUTE_MH_TYPE!$A$2:$A$100,MATCH('Access Point (Desc)'!$I40,[1]!MASTER_ROUTE_MH_TYPE_DESC[#Data],0),0))","v":""},{"$f":"IF('Access Point (Desc)'!J40=\"\",\"\",INDEX([1]MANHOLE_MTL!$A$2:$A$100,MATCH('Access Point (Desc)'!$J40,[1]!MASTER_MANHOLE_MTL_DESC[#Data],0),0))","v":""},{"$f":"IF('Access Point (Desc)'!K40=\"\",\"\",INDEX([1]MANHOLE_SIZE!$A$2:$A$120,MATCH('Access Point (Desc)'!$K40,[1]!MASTER_MANHOLE_SIZE_DESC[#Data],0),0))","v":""},{"$f":"IF('Access Point (Desc)'!L40=\"\",\"\",INDEX([1]ROUTE_MH_LID_TYPE!$A$2:$A$100,MATCH('Access Point (Desc)'!$L40,[1]!MASTER_ROUTE_MH_LID_TYPE_DESC[#Data],0),0))","v":""},{"$f":"IF('Access Point (Desc)'!M40=\"\",\"\",INDEX([1]MANHOLE_MTL!$A$2:$A$100,MATCH('Access Point (Desc)'!$M40,[1]!MASTER_MANHOLE_MTL_DESC[#Data],0),0))","v":""},{"$f":"IF('Access Point (Desc)'!N40=\"\",\"\",INDEX([1]LID_BOLT_TYPE!$A$2:$A$100,MATCH('Access Point (Desc)'!$N40,[1]!MASTER_LID_BOLT_TYPE_DESC[#Data],0),0))","v":""},{"$f":"IF('Access Point (Desc)'!O40=\"\",\"\",INDEX([1]YES_NO!$A$2:$A$100,MATCH('Access Point (Desc)'!$O40,[1]!MASTER_YES_NO_DESC[#Data],0),0))","v":""},{"$f":"IF('Access Point (Desc)'!P40=\"\",\"\",'Access Point (Desc)'!P40)","v":""},{"$f":"IF('Access Point (Desc)'!Q40=\"\",\"\",INDEX([1]YES_NO!$A$2:$A$100,MATCH('Access Point (Desc)'!$Q40,[1]!MASTER_YES_NO_DESC[#Data],0),0))","v":""}]
[{"$f":"IF('Access Point (Desc)'!A41=\"\",\"\",'Access Point (Desc)'!A41)","v":""},{"$f":"IF('Access Point (Desc)'!B41=\"\",\"\",'Access Point (Desc)'!B41)","v":""},{"$f":"IF('Access Point (Desc)'!C41=\"\",\"\",'Access Point (Desc)'!C41)","v":""},{"$f":"IF('Access Point (Desc)'!D41=\"\",\"\",'Access Point (Desc)'!D41)","v":""},{"$f":"IF('Access Point (Desc)'!E41=\"\",\"\",INDEX([1]OWNER!$A$2:$A$100,MATCH('Access Point (Desc)'!$E41,[1]!MASTER_OWNER_DESC[#Data],0),0))","v":""},{"$f":"IF('Access Point (Desc)'!F41=\"\",\"\",INDEX([1]COUNTY!$A$2:$A$100,MATCH('Access Point (Desc)'!F41,[1]!MASTER_COUNTY_NAME[#Data],0),0))","v":""},{"$f":"IF('Access Point (Desc)'!G41=\"\",\"\",'Access Point (Desc)'!G41)","v":""},{"$f":"IF('Access Point (Desc)'!H41=\"\",\"\",'Access Point (Desc)'!H41)","v":""},{"$f":"IF('Access Point (Desc)'!I41=\"\",\"\",INDEX([1]ROUTE_MH_TYPE!$A$2:$A$100,MATCH('Access Point (Desc)'!$I41,[1]!MASTER_ROUTE_MH_TYPE_DESC[#Data],0),0))","v":""},{"$f":"IF('Access Point (Desc)'!J41=\"\",\"\",INDEX([1]MANHOLE_MTL!$A$2:$A$100,MATCH('Access Point (Desc)'!$J41,[1]!MASTER_MANHOLE_MTL_DESC[#Data],0),0))","v":""},{"$f":"IF('Access Point (Desc)'!K41=\"\",\"\",INDEX([1]MANHOLE_SIZE!$A$2:$A$120,MATCH('Access Point (Desc)'!$K41,[1]!MASTER_MANHOLE_SIZE_DESC[#Data],0),0))","v":""},{"$f":"IF('Access Point (Desc)'!L41=\"\",\"\",INDEX([1]ROUTE_MH_LID_TYPE!$A$2:$A$100,MATCH('Access Point (Desc)'!$L41,[1]!MASTER_ROUTE_MH_LID_TYPE_DESC[#Data],0),0))","v":""},{"$f":"IF('Access Point (Desc)'!M41=\"\",\"\",INDEX([1]MANHOLE_MTL!$A$2:$A$100,MATCH('Access Point (Desc)'!$M41,[1]!MASTER_MANHOLE_MTL_DESC[#Data],0),0))","v":""},{"$f":"IF('Access Point (Desc)'!N41=\"\",\"\",INDEX([1]LID_BOLT_TYPE!$A$2:$A$100,MATCH('Access Point (Desc)'!$N41,[1]!MASTER_LID_BOLT_TYPE_DESC[#Data],0),0))","v":""},{"$f":"IF('Access Point (Desc)'!O41=\"\",\"\",INDEX([1]YES_NO!$A$2:$A$100,MATCH('Access Point (Desc)'!$O41,[1]!MASTER_YES_NO_DESC[#Data],0),0))","v":""},{"$f":"IF('Access Point (Desc)'!P41=\"\",\"\",'Access Point (Desc)'!P41)","v":""},{"$f":"IF('Access Point (Desc)'!Q41=\"\",\"\",INDEX([1]YES_NO!$A$2:$A$100,MATCH('Access Point (Desc)'!$Q41,[1]!MASTER_YES_NO_DESC[#Data],0),0))","v":""}]
[{"$f":"IF('Access Point (Desc)'!A42=\"\",\"\",'Access Point (Desc)'!A42)","v":""},{"$f":"IF('Access Point (Desc)'!B42=\"\",\"\",'Access Point (Desc)'!B42)","v":""},{"$f":"IF('Access Point (Desc)'!C42=\"\",\"\",'Access Point (Desc)'!C42)","v":""},{"$f":"IF('Access Point (Desc)'!D42=\"\",\"\",'Access Point (Desc)'!D42)","v":""},{"$f":"IF('Access Point (Desc)'!E42=\"\",\"\",INDEX([1]OWNER!$A$2:$A$100,MATCH('Access Point (Desc)'!$E42,[1]!MASTER_OWNER_DESC[#Data],0),0))","v":""},{"$f":"IF('Access Point (Desc)'!F42=\"\",\"\",INDEX([1]COUNTY!$A$2:$A$100,MATCH('Access Point (Desc)'!F42,[1]!MASTER_COUNTY_NAME[#Data],0),0))","v":""},{"$f":"IF('Access Point (Desc)'!G42=\"\",\"\",'Access Point (Desc)'!G42)","v":""},{"$f":"IF('Access Point (Desc)'!H42=\"\",\"\",'Access Point (Desc)'!H42)","v":""},{"$f":"IF('Access Point (Desc)'!I42=\"\",\"\",INDEX([1]ROUTE_MH_TYPE!$A$2:$A$100,MATCH('Access Point (Desc)'!$I42,[1]!MASTER_ROUTE_MH_TYPE_DESC[#Data],0),0))","v":""},{"$f":"IF('Access Point (Desc)'!J42=\"\",\"\",INDEX([1]MANHOLE_MTL!$A$2:$A$100,MATCH('Access Point (Desc)'!$J42,[1]!MASTER_MANHOLE_MTL_DESC[#Data],0),0))","v":""},{"$f":"IF('Access Point (Desc)'!K42=\"\",\"\",INDEX([1]MANHOLE_SIZE!$A$2:$A$120,MATCH('Access Point (Desc)'!$K42,[1]!MASTER_MANHOLE_SIZE_DESC[#Data],0),0))","v":""},{"$f":"IF('Access Point (Desc)'!L42=\"\",\"\",INDEX([1]ROUTE_MH_LID_TYPE!$A$2:$A$100,MATCH('Access Point (Desc)'!$L42,[1]!MASTER_ROUTE_MH_LID_TYPE_DESC[#Data],0),0))","v":""},{"$f":"IF('Access Point (Desc)'!M42=\"\",\"\",INDEX([1]MANHOLE_MTL!$A$2:$A$100,MATCH('Access Point (Desc)'!$M42,[1]!MASTER_MANHOLE_MTL_DESC[#Data],0),0))","v":""},{"$f":"IF('Access Point (Desc)'!N42=\"\",\"\",INDEX([1]LID_BOLT_TYPE!$A$2:$A$100,MATCH('Access Point (Desc)'!$N42,[1]!MASTER_LID_BOLT_TYPE_DESC[#Data],0),0))","v":""},{"$f":"IF('Access Point (Desc)'!O42=\"\",\"\",INDEX([1]YES_NO!$A$2:$A$100,MATCH('Access Point (Desc)'!$O42,[1]!MASTER_YES_NO_DESC[#Data],0),0))","v":""},{"$f":"IF('Access Point (Desc)'!P42=\"\",\"\",'Access Point (Desc)'!P42)","v":""},{"$f":"IF('Access Point (Desc)'!Q42=\"\",\"\",INDEX([1]YES_NO!$A$2:$A$100,MATCH('Access Point (Desc)'!$Q42,[1]!MASTER_YES_NO_DESC[#Data],0),0))","v":""}]
[{"$f":"IF('Access Point (Desc)'!A43=\"\",\"\",'Access Point (Desc)'!A43)","v":""},{"$f":"IF('Access Point (Desc)'!B43=\"\",\"\",'Access Point (Desc)'!B43)","v":""},{"$f":"IF('Access Point (Desc)'!C43=\"\",\"\",'Access Point (Desc)'!C43)","v":""},{"$f":"IF('Access Point (Desc)'!D43=\"\",\"\",'Access Point (Desc)'!D43)","v":""},{"$f":"IF('Access Point (Desc)'!E43=\"\",\"\",INDEX([1]OWNER!$A$2:$A$100,MATCH('Access Point (Desc)'!$E43,[1]!MASTER_OWNER_DESC[#Data],0),0))","v":""},{"$f":"IF('Access Point (Desc)'!F43=\"\",\"\",INDEX([1]COUNTY!$A$2:$A$100,MATCH('Access Point (Desc)'!F43,[1]!MASTER_COUNTY_NAME[#Data],0),0))","v":""},{"$f":"IF('Access Point (Desc)'!G43=\"\",\"\",'Access Point (Desc)'!G43)","v":""},{"$f":"IF('Access Point (Desc)'!H43=\"\",\"\",'Access Point (Desc)'!H43)","v":""},{"$f":"IF('Access Point (Desc)'!I43=\"\",\"\",INDEX([1]ROUTE_MH_TYPE!$A$2:$A$100,MATCH('Access Point (Desc)'!$I43,[1]!MASTER_ROUTE_MH_TYPE_DESC[#Data],0),0))","v":""},{"$f":"IF('Access Point (Desc)'!J43=\"\",\"\",INDEX([1]MANHOLE_MTL!$A$2:$A$100,MATCH('Access Point (Desc)'!$J43,[1]!MASTER_MANHOLE_MTL_DESC[#Data],0),0))","v":""},{"$f":"IF('Access Point (Desc)'!K43=\"\",\"\",INDEX([1]MANHOLE_SIZE!$A$2:$A$120,MATCH('Access Point (Desc)'!$K43,[1]!MASTER_MANHOLE_SIZE_DESC[#Data],0),0))","v":""},{"$f":"IF('Access Point (Desc)'!L43=\"\",\"\",INDEX([1]ROUTE_MH_LID_TYPE!$A$2:$A$100,MATCH('Access Point (Desc)'!$L43,[1]!MASTER_ROUTE_MH_LID_TYPE_DESC[#Data],0),0))","v":""},{"$f":"IF('Access Point (Desc)'!M43=\"\",\"\",INDEX([1]MANHOLE_MTL!$A$2:$A$100,MATCH('Access Point (Desc)'!$M43,[1]!MASTER_MANHOLE_MTL_DESC[#Data],0),0))","v":""},{"$f":"IF('Access Point (Desc)'!N43=\"\",\"\",INDEX([1]LID_BOLT_TYPE!$A$2:$A$100,MATCH('Access Point (Desc)'!$N43,[1]!MASTER_LID_BOLT_TYPE_DESC[#Data],0),0))","v":""},{"$f":"IF('Access Point (Desc)'!O43=\"\",\"\",INDEX([1]YES_NO!$A$2:$A$100,MATCH('Access Point (Desc)'!$O43,[1]!MASTER_YES_NO_DESC[#Data],0),0))","v":""},{"$f":"IF('Access Point (Desc)'!P43=\"\",\"\",'Access Point (Desc)'!P43)","v":""},{"$f":"IF('Access Point (Desc)'!Q43=\"\",\"\",INDEX([1]YES_NO!$A$2:$A$100,MATCH('Access Point (Desc)'!$Q43,[1]!MASTER_YES_NO_DESC[#Data],0),0))","v":""}]
[{"$f":"IF('Access Point (Desc)'!A44=\"\",\"\",'Access Point (Desc)'!A44)","v":""},{"$f":"IF('Access Point (Desc)'!B44=\"\",\"\",'Access Point (Desc)'!B44)","v":""},{"$f":"IF('Access Point (Desc)'!C44=\"\",\"\",'Access Point (Desc)'!C44)","v":""},{"$f":"IF('Access Point (Desc)'!D44=\"\",\"\",'Access Point (Desc)'!D44)","v":""},{"$f":"IF('Access Point (Desc)'!E44=\"\",\"\",INDEX([1]OWNER!$A$2:$A$100,MATCH('Access Point (Desc)'!$E44,[1]!MASTER_OWNER_DESC[#Data],0),0))","v":""},{"$f":"IF('Access Point (Desc)'!F44=\"\",\"\",INDEX([1]COUNTY!$A$2:$A$100,MATCH('Access Point (Desc)'!F44,[1]!MASTER_COUNTY_NAME[#Data],0),0))","v":""},{"$f":"IF('Access Point (Desc)'!G44=\"\",\"\",'Access Point (Desc)'!G44)","v":""},{"$f":"IF('Access Point (Desc)'!H44=\"\",\"\",'Access Point (Desc)'!H44)","v":""},{"$f":"IF('Access Point (Desc)'!I44=\"\",\"\",INDEX([1]ROUTE_MH_TYPE!$A$2:$A$100,MATCH('Access Point (Desc)'!$I44,[1]!MASTER_ROUTE_MH_TYPE_DESC[#Data],0),0))","v":""},{"$f":"IF('Access Point (Desc)'!J44=\"\",\"\",INDEX([1]MANHOLE_MTL!$A$2:$A$100,MATCH('Access Point (Desc)'!$J44,[1]!MASTER_MANHOLE_MTL_DESC[#Data],0),0))","v":""},{"$f":"IF('Access Point (Desc)'!K44=\"\",\"\",INDEX([1]MANHOLE_SIZE!$A$2:$A$120,MATCH('Access Point (Desc)'!$K44,[1]!MASTER_MANHOLE_SIZE_DESC[#Data],0),0))","v":""},{"$f":"IF('Access Point (Desc)'!L44=\"\",\"\",INDEX([1]ROUTE_MH_LID_TYPE!$A$2:$A$100,MATCH('Access Point (Desc)'!$L44,[1]!MASTER_ROUTE_MH_LID_TYPE_DESC[#Data],0),0))","v":""},{"$f":"IF('Access Point (Desc)'!M44=\"\",\"\",INDEX([1]MANHOLE_MTL!$A$2:$A$100,MATCH('Access Point (Desc)'!$M44,[1]!MASTER_MANHOLE_MTL_DESC[#Data],0),0))","v":""},{"$f":"IF('Access Point (Desc)'!N44=\"\",\"\",INDEX([1]LID_BOLT_TYPE!$A$2:$A$100,MATCH('Access Point (Desc)'!$N44,[1]!MASTER_LID_BOLT_TYPE_DESC[#Data],0),0))","v":""},{"$f":"IF('Access Point (Desc)'!O44=\"\",\"\",INDEX([1]YES_NO!$A$2:$A$100,MATCH('Access Point (Desc)'!$O44,[1]!MASTER_YES_NO_DESC[#Data],0),0))","v":""},{"$f":"IF('Access Point (Desc)'!P44=\"\",\"\",'Access Point (Desc)'!P44)","v":""},{"$f":"IF('Access Point (Desc)'!Q44=\"\",\"\",INDEX([1]YES_NO!$A$2:$A$100,MATCH('Access Point (Desc)'!$Q44,[1]!MASTER_YES_NO_DESC[#Data],0),0))","v":""}]
[{"$f":"IF('Access Point (Desc)'!A45=\"\",\"\",'Access Point (Desc)'!A45)","v":""},{"$f":"IF('Access Point (Desc)'!B45=\"\",\"\",'Access Point (Desc)'!B45)","v":""},{"$f":"IF('Access Point (Desc)'!C45=\"\",\"\",'Access Point (Desc)'!C45)","v":""},{"$f":"IF('Access Point (Desc)'!D45=\"\",\"\",'Access Point (Desc)'!D45)","v":""},{"$f":"IF('Access Point (Desc)'!E45=\"\",\"\",INDEX([1]OWNER!$A$2:$A$100,MATCH('Access Point (Desc)'!$E45,[1]!MASTER_OWNER_DESC[#Data],0),0))","v":""},{"$f":"IF('Access Point (Desc)'!F45=\"\",\"\",INDEX([1]COUNTY!$A$2:$A$100,MATCH('Access Point (Desc)'!F45,[1]!MASTER_COUNTY_NAME[#Data],0),0))","v":""},{"$f":"IF('Access Point (Desc)'!G45=\"\",\"\",'Access Point (Desc)'!G45)","v":""},{"$f":"IF('Access Point (Desc)'!H45=\"\",\"\",'Access Point (Desc)'!H45)","v":""},{"$f":"IF('Access Point (Desc)'!I45=\"\",\"\",INDEX([1]ROUTE_MH_TYPE!$A$2:$A$100,MATCH('Access Point (Desc)'!$I45,[1]!MASTER_ROUTE_MH_TYPE_DESC[#Data],0),0))","v":""},{"$f":"IF('Access Point (Desc)'!J45=\"\",\"\",INDEX([1]MANHOLE_MTL!$A$2:$A$100,MATCH('Access Point (Desc)'!$J45,[1]!MASTER_MANHOLE_MTL_DESC[#Data],0),0))","v":""},{"$f":"IF('Access Point (Desc)'!K45=\"\",\"\",INDEX([1]MANHOLE_SIZE!$A$2:$A$120,MATCH('Access Point (Desc)'!$K45,[1]!MASTER_MANHOLE_SIZE_DESC[#Data],0),0))","v":""},{"$f":"IF('Access Point (Desc)'!L45=\"\",\"\",INDEX([1]ROUTE_MH_LID_TYPE!$A$2:$A$100,MATCH('Access Point (Desc)'!$L45,[1]!MASTER_ROUTE_MH_LID_TYPE_DESC[#Data],0),0))","v":""},{"$f":"IF('Access Point (Desc)'!M45=\"\",\"\",INDEX([1]MANHOLE_MTL!$A$2:$A$100,MATCH('Access Point (Desc)'!$M45,[1]!MASTER_MANHOLE_MTL_DESC[#Data],0),0))","v":""},{"$f":"IF('Access Point (Desc)'!N45=\"\",\"\",INDEX([1]LID_BOLT_TYPE!$A$2:$A$100,MATCH('Access Point (Desc)'!$N45,[1]!MASTER_LID_BOLT_TYPE_DESC[#Data],0),0))","v":""},{"$f":"IF('Access Point (Desc)'!O45=\"\",\"\",INDEX([1]YES_NO!$A$2:$A$100,MATCH('Access Point (Desc)'!$O45,[1]!MASTER_YES_NO_DESC[#Data],0),0))","v":""},{"$f":"IF('Access Point (Desc)'!P45=\"\",\"\",'Access Point (Desc)'!P45)","v":""},{"$f":"IF('Access Point (Desc)'!Q45=\"\",\"\",INDEX([1]YES_NO!$A$2:$A$100,MATCH('Access Point (Desc)'!$Q45,[1]!MASTER_YES_NO_DESC[#Data],0),0))","v":""}]
[{"$f":"IF('Access Point (Desc)'!A46=\"\",\"\",'Access Point (Desc)'!A46)","v":""},{"$f":"IF('Access Point (Desc)'!B46=\"\",\"\",'Access Point (Desc)'!B46)","v":""},{"$f":"IF('Access Point (Desc)'!C46=\"\",\"\",'Access Point (Desc)'!C46)","v":""},{"$f":"IF('Access Point (Desc)'!D46=\"\",\"\",'Access Point (Desc)'!D46)","v":""},{"$f":"IF('Access Point (Desc)'!E46=\"\",\"\",INDEX([1]OWNER!$A$2:$A$100,MATCH('Access Point (Desc)'!$E46,[1]!MASTER_OWNER_DESC[#Data],0),0))","v":""},{"$f":"IF('Access Point (Desc)'!F46=\"\",\"\",INDEX([1]COUNTY!$A$2:$A$100,MATCH('Access Point (Desc)'!F46,[1]!MASTER_COUNTY_NAME[#Data],0),0))","v":""},{"$f":"IF('Access Point (Desc)'!G46=\"\",\"\",'Access Point (Desc)'!G46)","v":""},{"$f":"IF('Access Point (Desc)'!H46=\"\",\"\",'Access Point (Desc)'!H46)","v":""},{"$f":"IF('Access Point (Desc)'!I46=\"\",\"\",INDEX([1]ROUTE_MH_TYPE!$A$2:$A$100,MATCH('Access Point (Desc)'!$I46,[1]!MASTER_ROUTE_MH_TYPE_DESC[#Data],0),0))","v":""},{"$f":"IF('Access Point (Desc)'!J46=\"\",\"\",INDEX([1]MANHOLE_MTL!$A$2:$A$100,MATCH('Access Point (Desc)'!$J46,[1]!MASTER_MANHOLE_MTL_DESC[#Data],0),0))","v":""},{"$f":"IF('Access Point (Desc)'!K46=\"\",\"\",INDEX([1]MANHOLE_SIZE!$A$2:$A$120,MATCH('Access Point (Desc)'!$K46,[1]!MASTER_MANHOLE_SIZE_DESC[#Data],0),0))","v":""},{"$f":"IF('Access Point (Desc)'!L46=\"\",\"\",INDEX([1]ROUTE_MH_LID_TYPE!$A$2:$A$100,MATCH('Access Point (Desc)'!$L46,[1]!MASTER_ROUTE_MH_LID_TYPE_DESC[#Data],0),0))","v":""},{"$f":"IF('Access Point (Desc)'!M46=\"\",\"\",INDEX([1]MANHOLE_MTL!$A$2:$A$100,MATCH('Access Point (Desc)'!$M46,[1]!MASTER_MANHOLE_MTL_DESC[#Data],0),0))","v":""},{"$f":"IF('Access Point (Desc)'!N46=\"\",\"\",INDEX([1]LID_BOLT_TYPE!$A$2:$A$100,MATCH('Access Point (Desc)'!$N46,[1]!MASTER_LID_BOLT_TYPE_DESC[#Data],0),0))","v":""},{"$f":"IF('Access Point (Desc)'!O46=\"\",\"\",INDEX([1]YES_NO!$A$2:$A$100,MATCH('Access Point (Desc)'!$O46,[1]!MASTER_YES_NO_DESC[#Data],0),0))","v":""},{"$f":"IF('Access Point (Desc)'!P46=\"\",\"\",'Access Point (Desc)'!P46)","v":""},{"$f":"IF('Access Point (Desc)'!Q46=\"\",\"\",INDEX([1]YES_NO!$A$2:$A$100,MATCH('Access Point (Desc)'!$Q46,[1]!MASTER_YES_NO_DESC[#Data],0),0))","v":""}]
[{"$f":"IF('Access Point (Desc)'!A47=\"\",\"\",'Access Point (Desc)'!A47)","v":""},{"$f":"IF('Access Point (Desc)'!B47=\"\",\"\",'Access Point (Desc)'!B47)","v":""},{"$f":"IF('Access Point (Desc)'!C47=\"\",\"\",'Access Point (Desc)'!C47)","v":""},{"$f":"IF('Access Point (Desc)'!D47=\"\",\"\",'Access Point (Desc)'!D47)","v":""},{"$f":"IF('Access Point (Desc)'!E47=\"\",\"\",INDEX([1]OWNER!$A$2:$A$100,MATCH('Access Point (Desc)'!$E47,[1]!MASTER_OWNER_DESC[#Data],0),0))","v":""},{"$f":"IF('Access Point (Desc)'!F47=\"\",\"\",INDEX([1]COUNTY!$A$2:$A$100,MATCH('Access Point (Desc)'!F47,[1]!MASTER_COUNTY_NAME[#Data],0),0))","v":""},{"$f":"IF('Access Point (Desc)'!G47=\"\",\"\",'Access Point (Desc)'!G47)","v":""},{"$f":"IF('Access Point (Desc)'!H47=\"\",\"\",'Access Point (Desc)'!H47)","v":""},{"$f":"IF('Access Point (Desc)'!I47=\"\",\"\",INDEX([1]ROUTE_MH_TYPE!$A$2:$A$100,MATCH('Access Point (Desc)'!$I47,[1]!MASTER_ROUTE_MH_TYPE_DESC[#Data],0),0))","v":""},{"$f":"IF('Access Point (Desc)'!J47=\"\",\"\",INDEX([1]MANHOLE_MTL!$A$2:$A$100,MATCH('Access Point (Desc)'!$J47,[1]!MASTER_MANHOLE_MTL_DESC[#Data],0),0))","v":""},{"$f":"IF('Access Point (Desc)'!K47=\"\",\"\",INDEX([1]MANHOLE_SIZE!$A$2:$A$120,MATCH('Access Point (Desc)'!$K47,[1]!MASTER_MANHOLE_SIZE_DESC[#Data],0),0))","v":""},{"$f":"IF('Access Point (Desc)'!L47=\"\",\"\",INDEX([1]ROUTE_MH_LID_TYPE!$A$2:$A$100,MATCH('Access Point (Desc)'!$L47,[1]!MASTER_ROUTE_MH_LID_TYPE_DESC[#Data],0),0))","v":""},{"$f":"IF('Access Point (Desc)'!M47=\"\",\"\",INDEX([1]MANHOLE_MTL!$A$2:$A$100,MATCH('Access Point (Desc)'!$M47,[1]!MASTER_MANHOLE_MTL_DESC[#Data],0),0))","v":""},{"$f":"IF('Access Point (Desc)'!N47=\"\",\"\",INDEX([1]LID_BOLT_TYPE!$A$2:$A$100,MATCH('Access Point (Desc)'!$N47,[1]!MASTER_LID_BOLT_TYPE_DESC[#Data],0),0))","v":""},{"$f":"IF('Access Point (Desc)'!O47=\"\",\"\",INDEX([1]YES_NO!$A$2:$A$100,MATCH('Access Point (Desc)'!$O47,[1]!MASTER_YES_NO_DESC[#Data],0),0))","v":""},{"$f":"IF('Access Point (Desc)'!P47=\"\",\"\",'Access Point (Desc)'!P47)","v":""},{"$f":"IF('Access Point (Desc)'!Q47=\"\",\"\",INDEX([1]YES_NO!$A$2:$A$100,MATCH('Access Point (Desc)'!$Q47,[1]!MASTER_YES_NO_DESC[#Data],0),0))","v":""}]
[{"$f":"IF('Access Point (Desc)'!A48=\"\",\"\",'Access Point (Desc)'!A48)","v":""},{"$f":"IF('Access Point (Desc)'!B48=\"\",\"\",'Access Point (Desc)'!B48)","v":""},{"$f":"IF('Access Point (Desc)'!C48=\"\",\"\",'Access Point (Desc)'!C48)","v":""},{"$f":"IF('Access Point (Desc)'!D48=\"\",\"\",'Access Point (Desc)'!D48)","v":""},{"$f":"IF('Access Point (Desc)'!E48=\"\",\"\",INDEX([1]OWNER!$A$2:$A$100,MATCH('Access Point (Desc)'!$E48,[1]!MASTER_OWNER_DESC[#Data],0),0))","v":""},{"$f":"IF('Access Point (Desc)'!F48=\"\",\"\",INDEX([1]COUNTY!$A$2:$A$100,MATCH('Access Point (Desc)'!F48,[1]!MASTER_COUNTY_NAME[#Data],0),0))","v":""},{"$f":"IF('Access Point (Desc)'!G48=\"\",\"\",'Access Point (Desc)'!G48)","v":""},{"$f":"IF('Access Point (Desc)'!H48=\"\",\"\",'Access Point (Desc)'!H48)","v":""},{"$f":"IF('Access Point (Desc)'!I48=\"\",\"\",INDEX([1]ROUTE_MH_TYPE!$A$2:$A$100,MATCH('Access Point (Desc)'!$I48,[1]!MASTER_ROUTE_MH_TYPE_DESC[#Data],0),0))","v":""},{"$f":"IF('Access Point (Desc)'!J48=\"\",\"\",INDEX([1]MANHOLE_MTL!$A$2:$A$100,MATCH('Access Point (Desc)'!$J48,[1]!MASTER_MANHOLE_MTL_DESC[#Data],0),0))","v":""},{"$f":"IF('Access Point (Desc)'!K48=\"\",\"\",INDEX([1]MANHOLE_SIZE!$A$2:$A$120,MATCH('Access Point (Desc)'!$K48,[1]!MASTER_MANHOLE_SIZE_DESC[#Data],0),0))","v":""},{"$f":"IF('Access Point (Desc)'!L48=\"\",\"\",INDEX([1]ROUTE_MH_LID_TYPE!$A$2:$A$100,MATCH('Access Point (Desc)'!$L48,[1]!MASTER_ROUTE_MH_LID_TYPE_DESC[#Data],0),0))","v":""},{"$f":"IF('Access Point (Desc)'!M48=\"\",\"\",INDEX([1]MANHOLE_MTL!$A$2:$A$100,MATCH('Access Point (Desc)'!$M48,[1]!MASTER_MANHOLE_MTL_DESC[#Data],0),0))","v":""},{"$f":"IF('Access Point (Desc)'!N48=\"\",\"\",INDEX([1]LID_BOLT_TYPE!$A$2:$A$100,MATCH('Access Point (Desc)'!$N48,[1]!MASTER_LID_BOLT_TYPE_DESC[#Data],0),0))","v":""},{"$f":"IF('Access Point (Desc)'!O48=\"\",\"\",INDEX([1]YES_NO!$A$2:$A$100,MATCH('Access Point (Desc)'!$O48,[1]!MASTER_YES_NO_DESC[#Data],0),0))","v":""},{"$f":"IF('Access Point (Desc)'!P48=\"\",\"\",'Access Point (Desc)'!P48)","v":""},{"$f":"IF('Access Point (Desc)'!Q48=\"\",\"\",INDEX([1]YES_NO!$A$2:$A$100,MATCH('Access Point (Desc)'!$Q48,[1]!MASTER_YES_NO_DESC[#Data],0),0))","v":""}]
[{"$f":"IF('Access Point (Desc)'!A49=\"\",\"\",'Access Point (Desc)'!A49)","v":""},{"$f":"IF('Access Point (Desc)'!B49=\"\",\"\",'Access Point (Desc)'!B49)","v":""},{"$f":"IF('Access Point (Desc)'!C49=\"\",\"\",'Access Point (Desc)'!C49)","v":""},{"$f":"IF('Access Point (Desc)'!D49=\"\",\"\",'Access Point (Desc)'!D49)","v":""},{"$f":"IF('Access Point (Desc)'!E49=\"\",\"\",INDEX([1]OWNER!$A$2:$A$100,MATCH('Access Point (Desc)'!$E49,[1]!MASTER_OWNER_DESC[#Data],0),0))","v":""},{"$f":"IF('Access Point (Desc)'!F49=\"\",\"\",INDEX([1]COUNTY!$A$2:$A$100,MATCH('Access Point (Desc)'!F49,[1]!MASTER_COUNTY_NAME[#Data],0),0))","v":""},{"$f":"IF('Access Point (Desc)'!G49=\"\",\"\",'Access Point (Desc)'!G49)","v":""},{"$f":"IF('Access Point (Desc)'!H49=\"\",\"\",'Access Point (Desc)'!H49)","v":""},{"$f":"IF('Access Point (Desc)'!I49=\"\",\"\",INDEX([1]ROUTE_MH_TYPE!$A$2:$A$100,MATCH('Access Point (Desc)'!$I49,[1]!MASTER_ROUTE_MH_TYPE_DESC[#Data],0),0))","v":""},{"$f":"IF('Access Point (Desc)'!J49=\"\",\"\",INDEX([1]MANHOLE_MTL!$A$2:$A$100,MATCH('Access Point (Desc)'!$J49,[1]!MASTER_MANHOLE_MTL_DESC[#Data],0),0))","v":""},{"$f":"IF('Access Point (Desc)'!K49=\"\",\"\",INDEX([1]MANHOLE_SIZE!$A$2:$A$120,MATCH('Access Point (Desc)'!$K49,[1]!MASTER_MANHOLE_SIZE_DESC[#Data],0),0))","v":""},{"$f":"IF('Access Point (Desc)'!L49=\"\",\"\",INDEX([1]ROUTE_MH_LID_TYPE!$A$2:$A$100,MATCH('Access Point (Desc)'!$L49,[1]!MASTER_ROUTE_MH_LID_TYPE_DESC[#Data],0),0))","v":""},{"$f":"IF('Access Point (Desc)'!M49=\"\",\"\",INDEX([1]MANHOLE_MTL!$A$2:$A$100,MATCH('Access Point (Desc)'!$M49,[1]!MASTER_MANHOLE_MTL_DESC[#Data],0),0))","v":""},{"$f":"IF('Access Point (Desc)'!N49=\"\",\"\",INDEX([1]LID_BOLT_TYPE!$A$2:$A$100,MATCH('Access Point (Desc)'!$N49,[1]!MASTER_LID_BOLT_TYPE_DESC[#Data],0),0))","v":""},{"$f":"IF('Access Point (Desc)'!O49=\"\",\"\",INDEX([1]YES_NO!$A$2:$A$100,MATCH('Access Point (Desc)'!$O49,[1]!MASTER_YES_NO_DESC[#Data],0),0))","v":""},{"$f":"IF('Access Point (Desc)'!P49=\"\",\"\",'Access Point (Desc)'!P49)","v":""},{"$f":"IF('Access Point (Desc)'!Q49=\"\",\"\",INDEX([1]YES_NO!$A$2:$A$100,MATCH('Access Point (Desc)'!$Q49,[1]!MASTER_YES_NO_DESC[#Data],0),0))","v":""}]
[{"$f":"IF('Access Point (Desc)'!A50=\"\",\"\",'Access Point (Desc)'!A50)","v":""},{"$f":"IF('Access Point (Desc)'!B50=\"\",\"\",'Access Point (Desc)'!B50)","v":""},{"$f":"IF('Access Point (Desc)'!C50=\"\",\"\",'Access Point (Desc)'!C50)","v":""},{"$f":"IF('Access Point (Desc)'!D50=\"\",\"\",'Access Point (Desc)'!D50)","v":""},{"$f":"IF('Access Point (Desc)'!E50=\"\",\"\",INDEX([1]OWNER!$A$2:$A$100,MATCH('Access Point (Desc)'!$E50,[1]!MASTER_OWNER_DESC[#Data],0),0))","v":""},{"$f":"IF('Access Point (Desc)'!F50=\"\",\"\",INDEX([1]COUNTY!$A$2:$A$100,MATCH('Access Point (Desc)'!F50,[1]!MASTER_COUNTY_NAME[#Data],0),0))","v":""},{"$f":"IF('Access Point (Desc)'!G50=\"\",\"\",'Access Point (Desc)'!G50)","v":""},{"$f":"IF('Access Point (Desc)'!H50=\"\",\"\",'Access Point (Desc)'!H50)","v":""},{"$f":"IF('Access Point (Desc)'!I50=\"\",\"\",INDEX([1]ROUTE_MH_TYPE!$A$2:$A$100,MATCH('Access Point (Desc)'!$I50,[1]!MASTER_ROUTE_MH_TYPE_DESC[#Data],0),0))","v":""},{"$f":"IF('Access Point (Desc)'!J50=\"\",\"\",INDEX([1]MANHOLE_MTL!$A$2:$A$100,MATCH('Access Point (Desc)'!$J50,[1]!MASTER_MANHOLE_MTL_DESC[#Data],0),0))","v":""},{"$f":"IF('Access Point (Desc)'!K50=\"\",\"\",INDEX([1]MANHOLE_SIZE!$A$2:$A$120,MATCH('Access Point (Desc)'!$K50,[1]!MASTER_MANHOLE_SIZE_DESC[#Data],0),0))","v":""},{"$f":"IF('Access Point (Desc)'!L50=\"\",\"\",INDEX([1]ROUTE_MH_LID_TYPE!$A$2:$A$100,MATCH('Access Point (Desc)'!$L50,[1]!MASTER_ROUTE_MH_LID_TYPE_DESC[#Data],0),0))","v":""},{"$f":"IF('Access Point (Desc)'!M50=\"\",\"\",INDEX([1]MANHOLE_MTL!$A$2:$A$100,MATCH('Access Point (Desc)'!$M50,[1]!MASTER_MANHOLE_MTL_DESC[#Data],0),0))","v":""},{"$f":"IF('Access Point (Desc)'!N50=\"\",\"\",INDEX([1]LID_BOLT_TYPE!$A$2:$A$100,MATCH('Access Point (Desc)'!$N50,[1]!MASTER_LID_BOLT_TYPE_DESC[#Data],0),0))","v":""},{"$f":"IF('Access Point (Desc)'!O50=\"\",\"\",INDEX([1]YES_NO!$A$2:$A$100,MATCH('Access Point (Desc)'!$O50,[1]!MASTER_YES_NO_DESC[#Data],0),0))","v":""},{"$f":"IF('Access Point (Desc)'!P50=\"\",\"\",'Access Point (Desc)'!P50)","v":""},{"$f":"IF('Access Point (Desc)'!Q50=\"\",\"\",INDEX([1]YES_NO!$A$2:$A$100,MATCH('Access Point (Desc)'!$Q50,[1]!MASTER_YES_NO_DESC[#Data],0),0))","v":""}]
[{"$f":"IF('Access Point (Desc)'!A51=\"\",\"\",'Access Point (Desc)'!A51)","v":""},{"$f":"IF('Access Point (Desc)'!B51=\"\",\"\",'Access Point (Desc)'!B51)","v":""},{"$f":"IF('Access Point (Desc)'!C51=\"\",\"\",'Access Point (Desc)'!C51)","v":""},{"$f":"IF('Access Point (Desc)'!D51=\"\",\"\",'Access Point (Desc)'!D51)","v":""},{"$f":"IF('Access Point (Desc)'!E51=\"\",\"\",INDEX([1]OWNER!$A$2:$A$100,MATCH('Access Point (Desc)'!$E51,[1]!MASTER_OWNER_DESC[#Data],0),0))","v":""},{"$f":"IF('Access Point (Desc)'!F51=\"\",\"\",INDEX([1]COUNTY!$A$2:$A$100,MATCH('Access Point (Desc)'!F51,[1]!MASTER_COUNTY_NAME[#Data],0),0))","v":""},{"$f":"IF('Access Point (Desc)'!G51=\"\",\"\",'Access Point (Desc)'!G51)","v":""},{"$f":"IF('Access Point (Desc)'!H51=\"\",\"\",'Access Point (Desc)'!H51)","v":""},{"$f":"IF('Access Point (Desc)'!I51=\"\",\"\",INDEX([1]ROUTE_MH_TYPE!$A$2:$A$100,MATCH('Access Point (Desc)'!$I51,[1]!MASTER_ROUTE_MH_TYPE_DESC[#Data],0),0))","v":""},{"$f":"IF('Access Point (Desc)'!J51=\"\",\"\",INDEX([1]MANHOLE_MTL!$A$2:$A$100,MATCH('Access Point (Desc)'!$J51,[1]!MASTER_MANHOLE_MTL_DESC[#Data],0),0))","v":""},{"$f":"IF('Access Point (Desc)'!K51=\"\",\"\",INDEX([1]MANHOLE_SIZE!$A$2:$A$120,MATCH('Access Point (Desc)'!$K51,[1]!MASTER_MANHOLE_SIZE_DESC[#Data],0),0))","v":""},{"$f":"IF('Access Point (Desc)'!L51=\"\",\"\",INDEX([1]ROUTE_MH_LID_TYPE!$A$2:$A$100,MATCH('Access Point (Desc)'!$L51,[1]!MASTER_ROUTE_MH_LID_TYPE_DESC[#Data],0),0))","v":""},{"$f":"IF('Access Point (Desc)'!M51=\"\",\"\",INDEX([1]MANHOLE_MTL!$A$2:$A$100,MATCH('Access Point (Desc)'!$M51,[1]!MASTER_MANHOLE_MTL_DESC[#Data],0),0))","v":""},{"$f":"IF('Access Point (Desc)'!N51=\"\",\"\",INDEX([1]LID_BOLT_TYPE!$A$2:$A$100,MATCH('Access Point (Desc)'!$N51,[1]!MASTER_LID_BOLT_TYPE_DESC[#Data],0),0))","v":""},{"$f":"IF('Access Point (Desc)'!O51=\"\",\"\",INDEX([1]YES_NO!$A$2:$A$100,MATCH('Access Point (Desc)'!$O51,[1]!MASTER_YES_NO_DESC[#Data],0),0))","v":""},{"$f":"IF('Access Point (Desc)'!P51=\"\",\"\",'Access Point (Desc)'!P51)","v":""},{"$f":"IF('Access Point (Desc)'!Q51=\"\",\"\",INDEX([1]YES_NO!$A$2:$A$100,MATCH('Access Point (Desc)'!$Q51,[1]!MASTER_YES_NO_DESC[#Data],0),0))","v":""}]
[{"$f":"IF('Access Point (Desc)'!A52=\"\",\"\",'Access Point (Desc)'!A52)","v":""},{"$f":"IF('Access Point (Desc)'!B52=\"\",\"\",'Access Point (Desc)'!B52)","v":""},{"$f":"IF('Access Point (Desc)'!C52=\"\",\"\",'Access Point (Desc)'!C52)","v":""},{"$f":"IF('Access Point (Desc)'!D52=\"\",\"\",'Access Point (Desc)'!D52)","v":""},{"$f":"IF('Access Point (Desc)'!E52=\"\",\"\",INDEX([1]OWNER!$A$2:$A$100,MATCH('Access Point (Desc)'!$E52,[1]!MASTER_OWNER_DESC[#Data],0),0))","v":""},{"$f":"IF('Access Point (Desc)'!F52=\"\",\"\",INDEX([1]COUNTY!$A$2:$A$100,MATCH('Access Point (Desc)'!F52,[1]!MASTER_COUNTY_NAME[#Data],0),0))","v":""},{"$f":"IF('Access Point (Desc)'!G52=\"\",\"\",'Access Point (Desc)'!G52)","v":""},{"$f":"IF('Access Point (Desc)'!H52=\"\",\"\",'Access Point (Desc)'!H52)","v":""},{"$f":"IF('Access Point (Desc)'!I52=\"\",\"\",INDEX([1]ROUTE_MH_TYPE!$A$2:$A$100,MATCH('Access Point (Desc)'!$I52,[1]!MASTER_ROUTE_MH_TYPE_DESC[#Data],0),0))","v":""},{"$f":"IF('Access Point (Desc)'!J52=\"\",\"\",INDEX([1]MANHOLE_MTL!$A$2:$A$100,MATCH('Access Point (Desc)'!$J52,[1]!MASTER_MANHOLE_MTL_DESC[#Data],0),0))","v":""},{"$f":"IF('Access Point (Desc)'!K52=\"\",\"\",INDEX([1]MANHOLE_SIZE!$A$2:$A$120,MATCH('Access Point (Desc)'!$K52,[1]!MASTER_MANHOLE_SIZE_DESC[#Data],0),0))","v":""},{"$f":"IF('Access Point (Desc)'!L52=\"\",\"\",INDEX([1]ROUTE_MH_LID_TYPE!$A$2:$A$100,MATCH('Access Point (Desc)'!$L52,[1]!MASTER_ROUTE_MH_LID_TYPE_DESC[#Data],0),0))","v":""},{"$f":"IF('Access Point (Desc)'!M52=\"\",\"\",INDEX([1]MANHOLE_MTL!$A$2:$A$100,MATCH('Access Point (Desc)'!$M52,[1]!MASTER_MANHOLE_MTL_DESC[#Data],0),0))","v":""},{"$f":"IF('Access Point (Desc)'!N52=\"\",\"\",INDEX([1]LID_BOLT_TYPE!$A$2:$A$100,MATCH('Access Point (Desc)'!$N52,[1]!MASTER_LID_BOLT_TYPE_DESC[#Data],0),0))","v":""},{"$f":"IF('Access Point (Desc)'!O52=\"\",\"\",INDEX([1]YES_NO!$A$2:$A$100,MATCH('Access Point (Desc)'!$O52,[1]!MASTER_YES_NO_DESC[#Data],0),0))","v":""},{"$f":"IF('Access Point (Desc)'!P52=\"\",\"\",'Access Point (Desc)'!P52)","v":""},{"$f":"IF('Access Point (Desc)'!Q52=\"\",\"\",INDEX([1]YES_NO!$A$2:$A$100,MATCH('Access Point (Desc)'!$Q52,[1]!MASTER_YES_NO_DESC[#Data],0),0))","v":""}]
[{"$f":"IF('Access Point (Desc)'!A53=\"\",\"\",'Access Point (Desc)'!A53)","v":""},{"$f":"IF('Access Point (Desc)'!B53=\"\",\"\",'Access Point (Desc)'!B53)","v":""},{"$f":"IF('Access Point (Desc)'!C53=\"\",\"\",'Access Point (Desc)'!C53)","v":""},{"$f":"IF('Access Point (Desc)'!D53=\"\",\"\",'Access Point (Desc)'!D53)","v":""},{"$f":"IF('Access Point (Desc)'!E53=\"\",\"\",INDEX([1]OWNER!$A$2:$A$100,MATCH('Access Point (Desc)'!$E53,[1]!MASTER_OWNER_DESC[#Data],0),0))","v":""},{"$f":"IF('Access Point (Desc)'!F53=\"\",\"\",INDEX([1]COUNTY!$A$2:$A$100,MATCH('Access Point (Desc)'!F53,[1]!MASTER_COUNTY_NAME[#Data],0),0))","v":""},{"$f":"IF('Access Point (Desc)'!G53=\"\",\"\",'Access Point (Desc)'!G53)","v":""},{"$f":"IF('Access Point (Desc)'!H53=\"\",\"\",'Access Point (Desc)'!H53)","v":""},{"$f":"IF('Access Point (Desc)'!I53=\"\",\"\",INDEX([1]ROUTE_MH_TYPE!$A$2:$A$100,MATCH('Access Point (Desc)'!$I53,[1]!MASTER_ROUTE_MH_TYPE_DESC[#Data],0),0))","v":""},{"$f":"IF('Access Point (Desc)'!J53=\"\",\"\",INDEX([1]MANHOLE_MTL!$A$2:$A$100,MATCH('Access Point (Desc)'!$J53,[1]!MASTER_MANHOLE_MTL_DESC[#Data],0),0))","v":""},{"$f":"IF('Access Point (Desc)'!K53=\"\",\"\",INDEX([1]MANHOLE_SIZE!$A$2:$A$120,MATCH('Access Point (Desc)'!$K53,[1]!MASTER_MANHOLE_SIZE_DESC[#Data],0),0))","v":""},{"$f":"IF('Access Point (Desc)'!L53=\"\",\"\",INDEX([1]ROUTE_MH_LID_TYPE!$A$2:$A$100,MATCH('Access Point (Desc)'!$L53,[1]!MASTER_ROUTE_MH_LID_TYPE_DESC[#Data],0),0))","v":""},{"$f":"IF('Access Point (Desc)'!M53=\"\",\"\",INDEX([1]MANHOLE_MTL!$A$2:$A$100,MATCH('Access Point (Desc)'!$M53,[1]!MASTER_MANHOLE_MTL_DESC[#Data],0),0))","v":""},{"$f":"IF('Access Point (Desc)'!N53=\"\",\"\",INDEX([1]LID_BOLT_TYPE!$A$2:$A$100,MATCH('Access Point (Desc)'!$N53,[1]!MASTER_LID_BOLT_TYPE_DESC[#Data],0),0))","v":""},{"$f":"IF('Access Point (Desc)'!O53=\"\",\"\",INDEX([1]YES_NO!$A$2:$A$100,MATCH('Access Point (Desc)'!$O53,[1]!MASTER_YES_NO_DESC[#Data],0),0))","v":""},{"$f":"IF('Access Point (Desc)'!P53=\"\",\"\",'Access Point (Desc)'!P53)","v":""},{"$f":"IF('Access Point (Desc)'!Q53=\"\",\"\",INDEX([1]YES_NO!$A$2:$A$100,MATCH('Access Point (Desc)'!$Q53,[1]!MASTER_YES_NO_DESC[#Data],0),0))","v":""}]
[{"$f":"IF('Access Point (Desc)'!A54=\"\",\"\",'Access Point (Desc)'!A54)","v":""},{"$f":"IF('Access Point (Desc)'!B54=\"\",\"\",'Access Point (Desc)'!B54)","v":""},{"$f":"IF('Access Point (Desc)'!C54=\"\",\"\",'Access Point (Desc)'!C54)","v":""},{"$f":"IF('Access Point (Desc)'!D54=\"\",\"\",'Access Point (Desc)'!D54)","v":""},{"$f":"IF('Access Point (Desc)'!E54=\"\",\"\",INDEX([1]OWNER!$A$2:$A$100,MATCH('Access Point (Desc)'!$E54,[1]!MASTER_OWNER_DESC[#Data],0),0))","v":""},{"$f":"IF('Access Point (Desc)'!F54=\"\",\"\",INDEX([1]COUNTY!$A$2:$A$100,MATCH('Access Point (Desc)'!F54,[1]!MASTER_COUNTY_NAME[#Data],0),0))","v":""},{"$f":"IF('Access Point (Desc)'!G54=\"\",\"\",'Access Point (Desc)'!G54)","v":""},{"$f":"IF('Access Point (Desc)'!H54=\"\",\"\",'Access Point (Desc)'!H54)","v":""},{"$f":"IF('Access Point (Desc)'!I54=\"\",\"\",INDEX([1]ROUTE_MH_TYPE!$A$2:$A$100,MATCH('Access Point (Desc)'!$I54,[1]!MASTER_ROUTE_MH_TYPE_DESC[#Data],0),0))","v":""},{"$f":"IF('Access Point (Desc)'!J54=\"\",\"\",INDEX([1]MANHOLE_MTL!$A$2:$A$100,MATCH('Access Point (Desc)'!$J54,[1]!MASTER_MANHOLE_MTL_DESC[#Data],0),0))","v":""},{"$f":"IF('Access Point (Desc)'!K54=\"\",\"\",INDEX([1]MANHOLE_SIZE!$A$2:$A$120,MATCH('Access Point (Desc)'!$K54,[1]!MASTER_MANHOLE_SIZE_DESC[#Data],0),0))","v":""},{"$f":"IF('Access Point (Desc)'!L54=\"\",\"\",INDEX([1]ROUTE_MH_LID_TYPE!$A$2:$A$100,MATCH('Access Point (Desc)'!$L54,[1]!MASTER_ROUTE_MH_LID_TYPE_DESC[#Data],0),0))","v":""},{"$f":"IF('Access Point (Desc)'!M54=\"\",\"\",INDEX([1]MANHOLE_MTL!$A$2:$A$100,MATCH('Access Point (Desc)'!$M54,[1]!MASTER_MANHOLE_MTL_DESC[#Data],0),0))","v":""},{"$f":"IF('Access Point (Desc)'!N54=\"\",\"\",INDEX([1]LID_BOLT_TYPE!$A$2:$A$100,MATCH('Access Point (Desc)'!$N54,[1]!MASTER_LID_BOLT_TYPE_DESC[#Data],0),0))","v":""},{"$f":"IF('Access Point (Desc)'!O54=\"\",\"\",INDEX([1]YES_NO!$A$2:$A$100,MATCH('Access Point (Desc)'!$O54,[1]!MASTER_YES_NO_DESC[#Data],0),0))","v":""},{"$f":"IF('Access Point (Desc)'!P54=\"\",\"\",'Access Point (Desc)'!P54)","v":""},{"$f":"IF('Access Point (Desc)'!Q54=\"\",\"\",INDEX([1]YES_NO!$A$2:$A$100,MATCH('Access Point (Desc)'!$Q54,[1]!MASTER_YES_NO_DESC[#Data],0),0))","v":""}]
[{"$f":"IF('Access Point (Desc)'!A55=\"\",\"\",'Access Point (Desc)'!A55)","v":""},{"$f":"IF('Access Point (Desc)'!B55=\"\",\"\",'Access Point (Desc)'!B55)","v":""},{"$f":"IF('Access Point (Desc)'!C55=\"\",\"\",'Access Point (Desc)'!C55)","v":""},{"$f":"IF('Access Point (Desc)'!D55=\"\",\"\",'Access Point (Desc)'!D55)","v":""},{"$f":"IF('Access Point (Desc)'!E55=\"\",\"\",INDEX([1]OWNER!$A$2:$A$100,MATCH('Access Point (Desc)'!$E55,[1]!MASTER_OWNER_DESC[#Data],0),0))","v":""},{"$f":"IF('Access Point (Desc)'!F55=\"\",\"\",INDEX([1]COUNTY!$A$2:$A$100,MATCH('Access Point (Desc)'!F55,[1]!MASTER_COUNTY_NAME[#Data],0),0))","v":""},{"$f":"IF('Access Point (Desc)'!G55=\"\",\"\",'Access Point (Desc)'!G55)","v":""},{"$f":"IF('Access Point (Desc)'!H55=\"\",\"\",'Access Point (Desc)'!H55)","v":""},{"$f":"IF('Access Point (Desc)'!I55=\"\",\"\",INDEX([1]ROUTE_MH_TYPE!$A$2:$A$100,MATCH('Access Point (Desc)'!$I55,[1]!MASTER_ROUTE_MH_TYPE_DESC[#Data],0),0))","v":""},{"$f":"IF('Access Point (Desc)'!J55=\"\",\"\",INDEX([1]MANHOLE_MTL!$A$2:$A$100,MATCH('Access Point (Desc)'!$J55,[1]!MASTER_MANHOLE_MTL_DESC[#Data],0),0))","v":""},{"$f":"IF('Access Point (Desc)'!K55=\"\",\"\",INDEX([1]MANHOLE_SIZE!$A$2:$A$120,MATCH('Access Point (Desc)'!$K55,[1]!MASTER_MANHOLE_SIZE_DESC[#Data],0),0))","v":""},{"$f":"IF('Access Point (Desc)'!L55=\"\",\"\",INDEX([1]ROUTE_MH_LID_TYPE!$A$2:$A$100,MATCH('Access Point (Desc)'!$L55,[1]!MASTER_ROUTE_MH_LID_TYPE_DESC[#Data],0),0))","v":""},{"$f":"IF('Access Point (Desc)'!M55=\"\",\"\",INDEX([1]MANHOLE_MTL!$A$2:$A$100,MATCH('Access Point (Desc)'!$M55,[1]!MASTER_MANHOLE_MTL_DESC[#Data],0),0))","v":""},{"$f":"IF('Access Point (Desc)'!N55=\"\",\"\",INDEX([1]LID_BOLT_TYPE!$A$2:$A$100,MATCH('Access Point (Desc)'!$N55,[1]!MASTER_LID_BOLT_TYPE_DESC[#Data],0),0))","v":""},{"$f":"IF('Access Point (Desc)'!O55=\"\",\"\",INDEX([1]YES_NO!$A$2:$A$100,MATCH('Access Point (Desc)'!$O55,[1]!MASTER_YES_NO_DESC[#Data],0),0))","v":""},{"$f":"IF('Access Point (Desc)'!P55=\"\",\"\",'Access Point (Desc)'!P55)","v":""},{"$f":"IF('Access Point (Desc)'!Q55=\"\",\"\",INDEX([1]YES_NO!$A$2:$A$100,MATCH('Access Point (Desc)'!$Q55,[1]!MASTER_YES_NO_DESC[#Data],0),0))","v":""}]
[{"$f":"IF('Access Point (Desc)'!A56=\"\",\"\",'Access Point (Desc)'!A56)","v":""},{"$f":"IF('Access Point (Desc)'!B56=\"\",\"\",'Access Point (Desc)'!B56)","v":""},{"$f":"IF('Access Point (Desc)'!C56=\"\",\"\",'Access Point (Desc)'!C56)","v":""},{"$f":"IF('Access Point (Desc)'!D56=\"\",\"\",'Access Point (Desc)'!D56)","v":""},{"$f":"IF('Access Point (Desc)'!E56=\"\",\"\",INDEX([1]OWNER!$A$2:$A$100,MATCH('Access Point (Desc)'!$E56,[1]!MASTER_OWNER_DESC[#Data],0),0))","v":""},{"$f":"IF('Access Point (Desc)'!F56=\"\",\"\",INDEX([1]COUNTY!$A$2:$A$100,MATCH('Access Point (Desc)'!F56,[1]!MASTER_COUNTY_NAME[#Data],0),0))","v":""},{"$f":"IF('Access Point (Desc)'!G56=\"\",\"\",'Access Point (Desc)'!G56)","v":""},{"$f":"IF('Access Point (Desc)'!H56=\"\",\"\",'Access Point (Desc)'!H56)","v":""},{"$f":"IF('Access Point (Desc)'!I56=\"\",\"\",INDEX([1]ROUTE_MH_TYPE!$A$2:$A$100,MATCH('Access Point (Desc)'!$I56,[1]!MASTER_ROUTE_MH_TYPE_DESC[#Data],0),0))","v":""},{"$f":"IF('Access Point (Desc)'!J56=\"\",\"\",INDEX([1]MANHOLE_MTL!$A$2:$A$100,MATCH('Access Point (Desc)'!$J56,[1]!MASTER_MANHOLE_MTL_DESC[#Data],0),0))","v":""},{"$f":"IF('Access Point (Desc)'!K56=\"\",\"\",INDEX([1]MANHOLE_SIZE!$A$2:$A$120,MATCH('Access Point (Desc)'!$K56,[1]!MASTER_MANHOLE_SIZE_DESC[#Data],0),0))","v":""},{"$f":"IF('Access Point (Desc)'!L56=\"\",\"\",INDEX([1]ROUTE_MH_LID_TYPE!$A$2:$A$100,MATCH('Access Point (Desc)'!$L56,[1]!MASTER_ROUTE_MH_LID_TYPE_DESC[#Data],0),0))","v":""},{"$f":"IF('Access Point (Desc)'!M56=\"\",\"\",INDEX([1]MANHOLE_MTL!$A$2:$A$100,MATCH('Access Point (Desc)'!$M56,[1]!MASTER_MANHOLE_MTL_DESC[#Data],0),0))","v":""},{"$f":"IF('Access Point (Desc)'!N56=\"\",\"\",INDEX([1]LID_BOLT_TYPE!$A$2:$A$100,MATCH('Access Point (Desc)'!$N56,[1]!MASTER_LID_BOLT_TYPE_DESC[#Data],0),0))","v":""},{"$f":"IF('Access Point (Desc)'!O56=\"\",\"\",INDEX([1]YES_NO!$A$2:$A$100,MATCH('Access Point (Desc)'!$O56,[1]!MASTER_YES_NO_DESC[#Data],0),0))","v":""},{"$f":"IF('Access Point (Desc)'!P56=\"\",\"\",'Access Point (Desc)'!P56)","v":""},{"$f":"IF('Access Point (Desc)'!Q56=\"\",\"\",INDEX([1]YES_NO!$A$2:$A$100,MATCH('Access Point (Desc)'!$Q56,[1]!MASTER_YES_NO_DESC[#Data],0),0))","v":""}]
[{"$f":"IF('Access Point (Desc)'!A57=\"\",\"\",'Access Point (Desc)'!A57)","v":""},{"$f":"IF('Access Point (Desc)'!B57=\"\",\"\",'Access Point (Desc)'!B57)","v":""},{"$f":"IF('Access Point (Desc)'!C57=\"\",\"\",'Access Point (Desc)'!C57)","v":""},{"$f":"IF('Access Point (Desc)'!D57=\"\",\"\",'Access Point (Desc)'!D57)","v":""},{"$f":"IF('Access Point (Desc)'!E57=\"\",\"\",INDEX([1]OWNER!$A$2:$A$100,MATCH('Access Point (Desc)'!$E57,[1]!MASTER_OWNER_DESC[#Data],0),0))","v":""},{"$f":"IF('Access Point (Desc)'!F57=\"\",\"\",INDEX([1]COUNTY!$A$2:$A$100,MATCH('Access Point (Desc)'!F57,[1]!MASTER_COUNTY_NAME[#Data],0),0))","v":""},{"$f":"IF('Access Point (Desc)'!G57=\"\",\"\",'Access Point (Desc)'!G57)","v":""},{"$f":"IF('Access Point (Desc)'!H57=\"\",\"\",'Access Point (Desc)'!H57)","v":""},{"$f":"IF('Access Point (Desc)'!I57=\"\",\"\",INDEX([1]ROUTE_MH_TYPE!$A$2:$A$100,MATCH('Access Point (Desc)'!$I57,[1]!MASTER_ROUTE_MH_TYPE_DESC[#Data],0),0))","v":""},{"$f":"IF('Access Point (Desc)'!J57=\"\",\"\",INDEX([1]MANHOLE_MTL!$A$2:$A$100,MATCH('Access Point (Desc)'!$J57,[1]!MASTER_MANHOLE_MTL_DESC[#Data],0),0))","v":""},{"$f":"IF('Access Point (Desc)'!K57=\"\",\"\",INDEX([1]MANHOLE_SIZE!$A$2:$A$120,MATCH('Access Point (Desc)'!$K57,[1]!MASTER_MANHOLE_SIZE_DESC[#Data],0),0))","v":""},{"$f":"IF('Access Point (Desc)'!L57=\"\",\"\",INDEX([1]ROUTE_MH_LID_TYPE!$A$2:$A$100,MATCH('Access Point (Desc)'!$L57,[1]!MASTER_ROUTE_MH_LID_TYPE_DESC[#Data],0),0))","v":""},{"$f":"IF('Access Point (Desc)'!M57=\"\",\"\",INDEX([1]MANHOLE_MTL!$A$2:$A$100,MATCH('Access Point (Desc)'!$M57,[1]!MASTER_MANHOLE_MTL_DESC[#Data],0),0))","v":""},{"$f":"IF('Access Point (Desc)'!N57=\"\",\"\",INDEX([1]LID_BOLT_TYPE!$A$2:$A$100,MATCH('Access Point (Desc)'!$N57,[1]!MASTER_LID_BOLT_TYPE_DESC[#Data],0),0))","v":""},{"$f":"IF('Access Point (Desc)'!O57=\"\",\"\",INDEX([1]YES_NO!$A$2:$A$100,MATCH('Access Point (Desc)'!$O57,[1]!MASTER_YES_NO_DESC[#Data],0),0))","v":""},{"$f":"IF('Access Point (Desc)'!P57=\"\",\"\",'Access Point (Desc)'!P57)","v":""},{"$f":"IF('Access Point (Desc)'!Q57=\"\",\"\",INDEX([1]YES_NO!$A$2:$A$100,MATCH('Access Point (Desc)'!$Q57,[1]!MASTER_YES_NO_DESC[#Data],0),0))","v":""}]
[{"$f":"IF('Access Point (Desc)'!A58=\"\",\"\",'Access Point (Desc)'!A58)","v":""},{"$f":"IF('Access Point (Desc)'!B58=\"\",\"\",'Access Point (Desc)'!B58)","v":""},{"$f":"IF('Access Point (Desc)'!C58=\"\",\"\",'Access Point (Desc)'!C58)","v":""},{"$f":"IF('Access Point (Desc)'!D58=\"\",\"\",'Access Point (Desc)'!D58)","v":""},{"$f":"IF('Access Point (Desc)'!E58=\"\",\"\",INDEX([1]OWNER!$A$2:$A$100,MATCH('Access Point (Desc)'!$E58,[1]!MASTER_OWNER_DESC[#Data],0),0))","v":""},{"$f":"IF('Access Point (Desc)'!F58=\"\",\"\",INDEX([1]COUNTY!$A$2:$A$100,MATCH('Access Point (Desc)'!F58,[1]!MASTER_COUNTY_NAME[#Data],0),0))","v":""},{"$f":"IF('Access Point (Desc)'!G58=\"\",\"\",'Access Point (Desc)'!G58)","v":""},{"$f":"IF('Access Point (Desc)'!H58=\"\",\"\",'Access Point (Desc)'!H58)","v":""},{"$f":"IF('Access Point (Desc)'!I58=\"\",\"\",INDEX([1]ROUTE_MH_TYPE!$A$2:$A$100,MATCH('Access Point (Desc)'!$I58,[1]!MASTER_ROUTE_MH_TYPE_DESC[#Data],0),0))","v":""},{"$f":"IF('Access Point (Desc)'!J58=\"\",\"\",INDEX([1]MANHOLE_MTL!$A$2:$A$100,MATCH('Access Point (Desc)'!$J58,[1]!MASTER_MANHOLE_MTL_DESC[#Data],0),0))","v":""},{"$f":"IF('Access Point (Desc)'!K58=\"\",\"\",INDEX([1]MANHOLE_SIZE!$A$2:$A$120,MATCH('Access Point (Desc)'!$K58,[1]!MASTER_MANHOLE_SIZE_DESC[#Data],0),0))","v":""},{"$f":"IF('Access Point (Desc)'!L58=\"\",\"\",INDEX([1]ROUTE_MH_LID_TYPE!$A$2:$A$100,MATCH('Access Point (Desc)'!$L58,[1]!MASTER_ROUTE_MH_LID_TYPE_DESC[#Data],0),0))","v":""},{"$f":"IF('Access Point (Desc)'!M58=\"\",\"\",INDEX([1]MANHOLE_MTL!$A$2:$A$100,MATCH('Access Point (Desc)'!$M58,[1]!MASTER_MANHOLE_MTL_DESC[#Data],0),0))","v":""},{"$f":"IF('Access Point (Desc)'!N58=\"\",\"\",INDEX([1]LID_BOLT_TYPE!$A$2:$A$100,MATCH('Access Point (Desc)'!$N58,[1]!MASTER_LID_BOLT_TYPE_DESC[#Data],0),0))","v":""},{"$f":"IF('Access Point (Desc)'!O58=\"\",\"\",INDEX([1]YES_NO!$A$2:$A$100,MATCH('Access Point (Desc)'!$O58,[1]!MASTER_YES_NO_DESC[#Data],0),0))","v":""},{"$f":"IF('Access Point (Desc)'!P58=\"\",\"\",'Access Point (Desc)'!P58)","v":""},{"$f":"IF('Access Point (Desc)'!Q58=\"\",\"\",INDEX([1]YES_NO!$A$2:$A$100,MATCH('Access Point (Desc)'!$Q58,[1]!MASTER_YES_NO_DESC[#Data],0),0))","v":""}]
[{"$f":"IF('Access Point (Desc)'!A59=\"\",\"\",'Access Point (Desc)'!A59)","v":""},{"$f":"IF('Access Point (Desc)'!B59=\"\",\"\",'Access Point (Desc)'!B59)","v":""},{"$f":"IF('Access Point (Desc)'!C59=\"\",\"\",'Access Point (Desc)'!C59)","v":""},{"$f":"IF('Access Point (Desc)'!D59=\"\",\"\",'Access Point (Desc)'!D59)","v":""},{"$f":"IF('Access Point (Desc)'!E59=\"\",\"\",INDEX([1]OWNER!$A$2:$A$100,MATCH('Access Point (Desc)'!$E59,[1]!MASTER_OWNER_DESC[#Data],0),0))","v":""},{"$f":"IF('Access Point (Desc)'!F59=\"\",\"\",INDEX([1]COUNTY!$A$2:$A$100,MATCH('Access Point (Desc)'!F59,[1]!MASTER_COUNTY_NAME[#Data],0),0))","v":""},{"$f":"IF('Access Point (Desc)'!G59=\"\",\"\",'Access Point (Desc)'!G59)","v":""},{"$f":"IF('Access Point (Desc)'!H59=\"\",\"\",'Access Point (Desc)'!H59)","v":""},{"$f":"IF('Access Point (Desc)'!I59=\"\",\"\",INDEX([1]ROUTE_MH_TYPE!$A$2:$A$100,MATCH('Access Point (Desc)'!$I59,[1]!MASTER_ROUTE_MH_TYPE_DESC[#Data],0),0))","v":""},{"$f":"IF('Access Point (Desc)'!J59=\"\",\"\",INDEX([1]MANHOLE_MTL!$A$2:$A$100,MATCH('Access Point (Desc)'!$J59,[1]!MASTER_MANHOLE_MTL_DESC[#Data],0),0))","v":""},{"$f":"IF('Access Point (Desc)'!K59=\"\",\"\",INDEX([1]MANHOLE_SIZE!$A$2:$A$120,MATCH('Access Point (Desc)'!$K59,[1]!MASTER_MANHOLE_SIZE_DESC[#Data],0),0))","v":""},{"$f":"IF('Access Point (Desc)'!L59=\"\",\"\",INDEX([1]ROUTE_MH_LID_TYPE!$A$2:$A$100,MATCH('Access Point (Desc)'!$L59,[1]!MASTER_ROUTE_MH_LID_TYPE_DESC[#Data],0),0))","v":""},{"$f":"IF('Access Point (Desc)'!M59=\"\",\"\",INDEX([1]MANHOLE_MTL!$A$2:$A$100,MATCH('Access Point (Desc)'!$M59,[1]!MASTER_MANHOLE_MTL_DESC[#Data],0),0))","v":""},{"$f":"IF('Access Point (Desc)'!N59=\"\",\"\",INDEX([1]LID_BOLT_TYPE!$A$2:$A$100,MATCH('Access Point (Desc)'!$N59,[1]!MASTER_LID_BOLT_TYPE_DESC[#Data],0),0))","v":""},{"$f":"IF('Access Point (Desc)'!O59=\"\",\"\",INDEX([1]YES_NO!$A$2:$A$100,MATCH('Access Point (Desc)'!$O59,[1]!MASTER_YES_NO_DESC[#Data],0),0))","v":""},{"$f":"IF('Access Point (Desc)'!P59=\"\",\"\",'Access Point (Desc)'!P59)","v":""},{"$f":"IF('Access Point (Desc)'!Q59=\"\",\"\",INDEX([1]YES_NO!$A$2:$A$100,MATCH('Access Point (Desc)'!$Q59,[1]!MASTER_YES_NO_DESC[#Data],0),0))","v":""}]
[{"$f":"IF('Access Point (Desc)'!A60=\"\",\"\",'Access Point (Desc)'!A60)","v":""},{"$f":"IF('Access Point (Desc)'!B60=\"\",\"\",'Access Point (Desc)'!B60)","v":""},{"$f":"IF('Access Point (Desc)'!C60=\"\",\"\",'Access Point (Desc)'!C60)","v":""},{"$f":"IF('Access Point (Desc)'!D60=\"\",\"\",'Access Point (Desc)'!D60)","v":""},{"$f":"IF('Access Point (Desc)'!E60=\"\",\"\",INDEX([1]OWNER!$A$2:$A$100,MATCH('Access Point (Desc)'!$E60,[1]!MASTER_OWNER_DESC[#Data],0),0))","v":""},{"$f":"IF('Access Point (Desc)'!F60=\"\",\"\",INDEX([1]COUNTY!$A$2:$A$100,MATCH('Access Point (Desc)'!F60,[1]!MASTER_COUNTY_NAME[#Data],0),0))","v":""},{"$f":"IF('Access Point (Desc)'!G60=\"\",\"\",'Access Point (Desc)'!G60)","v":""},{"$f":"IF('Access Point (Desc)'!H60=\"\",\"\",'Access Point (Desc)'!H60)","v":""},{"$f":"IF('Access Point (Desc)'!I60=\"\",\"\",INDEX([1]ROUTE_MH_TYPE!$A$2:$A$100,MATCH('Access Point (Desc)'!$I60,[1]!MASTER_ROUTE_MH_TYPE_DESC[#Data],0),0))","v":""},{"$f":"IF('Access Point (Desc)'!J60=\"\",\"\",INDEX([1]MANHOLE_MTL!$A$2:$A$100,MATCH('Access Point (Desc)'!$J60,[1]!MASTER_MANHOLE_MTL_DESC[#Data],0),0))","v":""},{"$f":"IF('Access Point (Desc)'!K60=\"\",\"\",INDEX([1]MANHOLE_SIZE!$A$2:$A$120,MATCH('Access Point (Desc)'!$K60,[1]!MASTER_MANHOLE_SIZE_DESC[#Data],0),0))","v":""},{"$f":"IF('Access Point (Desc)'!L60=\"\",\"\",INDEX([1]ROUTE_MH_LID_TYPE!$A$2:$A$100,MATCH('Access Point (Desc)'!$L60,[1]!MASTER_ROUTE_MH_LID_TYPE_DESC[#Data],0),0))","v":""},{"$f":"IF('Access Point (Desc)'!M60=\"\",\"\",INDEX([1]MANHOLE_MTL!$A$2:$A$100,MATCH('Access Point (Desc)'!$M60,[1]!MASTER_MANHOLE_MTL_DESC[#Data],0),0))","v":""},{"$f":"IF('Access Point (Desc)'!N60=\"\",\"\",INDEX([1]LID_BOLT_TYPE!$A$2:$A$100,MATCH('Access Point (Desc)'!$N60,[1]!MASTER_LID_BOLT_TYPE_DESC[#Data],0),0))","v":""},{"$f":"IF('Access Point (Desc)'!O60=\"\",\"\",INDEX([1]YES_NO!$A$2:$A$100,MATCH('Access Point (Desc)'!$O60,[1]!MASTER_YES_NO_DESC[#Data],0),0))","v":""},{"$f":"IF('Access Point (Desc)'!P60=\"\",\"\",'Access Point (Desc)'!P60)","v":""},{"$f":"IF('Access Point (Desc)'!Q60=\"\",\"\",INDEX([1]YES_NO!$A$2:$A$100,MATCH('Access Point (Desc)'!$Q60,[1]!MASTER_YES_NO_DESC[#Data],0),0))","v":""}]
[{"$f":"IF('Access Point (Desc)'!A61=\"\",\"\",'Access Point (Desc)'!A61)","v":""},{"$f":"IF('Access Point (Desc)'!B61=\"\",\"\",'Access Point (Desc)'!B61)","v":""},{"$f":"IF('Access Point (Desc)'!C61=\"\",\"\",'Access Point (Desc)'!C61)","v":""},{"$f":"IF('Access Point (Desc)'!D61=\"\",\"\",'Access Point (Desc)'!D61)","v":""},{"$f":"IF('Access Point (Desc)'!E61=\"\",\"\",INDEX([1]OWNER!$A$2:$A$100,MATCH('Access Point (Desc)'!$E61,[1]!MASTER_OWNER_DESC[#Data],0),0))","v":""},{"$f":"IF('Access Point (Desc)'!F61=\"\",\"\",INDEX([1]COUNTY!$A$2:$A$100,MATCH('Access Point (Desc)'!F61,[1]!MASTER_COUNTY_NAME[#Data],0),0))","v":""},{"$f":"IF('Access Point (Desc)'!G61=\"\",\"\",'Access Point (Desc)'!G61)","v":""},{"$f":"IF('Access Point (Desc)'!H61=\"\",\"\",'Access Point (Desc)'!H61)","v":""},{"$f":"IF('Access Point (Desc)'!I61=\"\",\"\",INDEX([1]ROUTE_MH_TYPE!$A$2:$A$100,MATCH('Access Point (Desc)'!$I61,[1]!MASTER_ROUTE_MH_TYPE_DESC[#Data],0),0))","v":""},{"$f":"IF('Access Point (Desc)'!J61=\"\",\"\",INDEX([1]MANHOLE_MTL!$A$2:$A$100,MATCH('Access Point (Desc)'!$J61,[1]!MASTER_MANHOLE_MTL_DESC[#Data],0),0))","v":""},{"$f":"IF('Access Point (Desc)'!K61=\"\",\"\",INDEX([1]MANHOLE_SIZE!$A$2:$A$120,MATCH('Access Point (Desc)'!$K61,[1]!MASTER_MANHOLE_SIZE_DESC[#Data],0),0))","v":""},{"$f":"IF('Access Point (Desc)'!L61=\"\",\"\",INDEX([1]ROUTE_MH_LID_TYPE!$A$2:$A$100,MATCH('Access Point (Desc)'!$L61,[1]!MASTER_ROUTE_MH_LID_TYPE_DESC[#Data],0),0))","v":""},{"$f":"IF('Access Point (Desc)'!M61=\"\",\"\",INDEX([1]MANHOLE_MTL!$A$2:$A$100,MATCH('Access Point (Desc)'!$M61,[1]!MASTER_MANHOLE_MTL_DESC[#Data],0),0))","v":""},{"$f":"IF('Access Point (Desc)'!N61=\"\",\"\",INDEX([1]LID_BOLT_TYPE!$A$2:$A$100,MATCH('Access Point (Desc)'!$N61,[1]!MASTER_LID_BOLT_TYPE_DESC[#Data],0),0))","v":""},{"$f":"IF('Access Point (Desc)'!O61=\"\",\"\",INDEX([1]YES_NO!$A$2:$A$100,MATCH('Access Point (Desc)'!$O61,[1]!MASTER_YES_NO_DESC[#Data],0),0))","v":""},{"$f":"IF('Access Point (Desc)'!P61=\"\",\"\",'Access Point (Desc)'!P61)","v":""},{"$f":"IF('Access Point (Desc)'!Q61=\"\",\"\",INDEX([1]YES_NO!$A$2:$A$100,MATCH('Access Point (Desc)'!$Q61,[1]!MASTER_YES_NO_DESC[#Data],0),0))","v":""}]
[{"$f":"IF('Access Point (Desc)'!A62=\"\",\"\",'Access Point (Desc)'!A62)","v":""},{"$f":"IF('Access Point (Desc)'!B62=\"\",\"\",'Access Point (Desc)'!B62)","v":""},{"$f":"IF('Access Point (Desc)'!C62=\"\",\"\",'Access Point (Desc)'!C62)","v":""},{"$f":"IF('Access Point (Desc)'!D62=\"\",\"\",'Access Point (Desc)'!D62)","v":""},{"$f":"IF('Access Point (Desc)'!E62=\"\",\"\",INDEX([1]OWNER!$A$2:$A$100,MATCH('Access Point (Desc)'!$E62,[1]!MASTER_OWNER_DESC[#Data],0),0))","v":""},{"$f":"IF('Access Point (Desc)'!F62=\"\",\"\",INDEX([1]COUNTY!$A$2:$A$100,MATCH('Access Point (Desc)'!F62,[1]!MASTER_COUNTY_NAME[#Data],0),0))","v":""},{"$f":"IF('Access Point (Desc)'!G62=\"\",\"\",'Access Point (Desc)'!G62)","v":""},{"$f":"IF('Access Point (Desc)'!H62=\"\",\"\",'Access Point (Desc)'!H62)","v":""},{"$f":"IF('Access Point (Desc)'!I62=\"\",\"\",INDEX([1]ROUTE_MH_TYPE!$A$2:$A$100,MATCH('Access Point (Desc)'!$I62,[1]!MASTER_ROUTE_MH_TYPE_DESC[#Data],0),0))","v":""},{"$f":"IF('Access Point (Desc)'!J62=\"\",\"\",INDEX([1]MANHOLE_MTL!$A$2:$A$100,MATCH('Access Point (Desc)'!$J62,[1]!MASTER_MANHOLE_MTL_DESC[#Data],0),0))","v":""},{"$f":"IF('Access Point (Desc)'!K62=\"\",\"\",INDEX([1]MANHOLE_SIZE!$A$2:$A$120,MATCH('Access Point (Desc)'!$K62,[1]!MASTER_MANHOLE_SIZE_DESC[#Data],0),0))","v":""},{"$f":"IF('Access Point (Desc)'!L62=\"\",\"\",INDEX([1]ROUTE_MH_LID_TYPE!$A$2:$A$100,MATCH('Access Point (Desc)'!$L62,[1]!MASTER_ROUTE_MH_LID_TYPE_DESC[#Data],0),0))","v":""},{"$f":"IF('Access Point (Desc)'!M62=\"\",\"\",INDEX([1]MANHOLE_MTL!$A$2:$A$100,MATCH('Access Point (Desc)'!$M62,[1]!MASTER_MANHOLE_MTL_DESC[#Data],0),0))","v":""},{"$f":"IF('Access Point (Desc)'!N62=\"\",\"\",INDEX([1]LID_BOLT_TYPE!$A$2:$A$100,MATCH('Access Point (Desc)'!$N62,[1]!MASTER_LID_BOLT_TYPE_DESC[#Data],0),0))","v":""},{"$f":"IF('Access Point (Desc)'!O62=\"\",\"\",INDEX([1]YES_NO!$A$2:$A$100,MATCH('Access Point (Desc)'!$O62,[1]!MASTER_YES_NO_DESC[#Data],0),0))","v":""},{"$f":"IF('Access Point (Desc)'!P62=\"\",\"\",'Access Point (Desc)'!P62)","v":""},{"$f":"IF('Access Point (Desc)'!Q62=\"\",\"\",INDEX([1]YES_NO!$A$2:$A$100,MATCH('Access Point (Desc)'!$Q62,[1]!MASTER_YES_NO_DESC[#Data],0),0))","v":""}]
[{"$f":"IF('Access Point (Desc)'!A63=\"\",\"\",'Access Point (Desc)'!A63)","v":""},{"$f":"IF('Access Point (Desc)'!B63=\"\",\"\",'Access Point (Desc)'!B63)","v":""},{"$f":"IF('Access Point (Desc)'!C63=\"\",\"\",'Access Point (Desc)'!C63)","v":""},{"$f":"IF('Access Point (Desc)'!D63=\"\",\"\",'Access Point (Desc)'!D63)","v":""},{"$f":"IF('Access Point (Desc)'!E63=\"\",\"\",INDEX([1]OWNER!$A$2:$A$100,MATCH('Access Point (Desc)'!$E63,[1]!MASTER_OWNER_DESC[#Data],0),0))","v":""},{"$f":"IF('Access Point (Desc)'!F63=\"\",\"\",INDEX([1]COUNTY!$A$2:$A$100,MATCH('Access Point (Desc)'!F63,[1]!MASTER_COUNTY_NAME[#Data],0),0))","v":""},{"$f":"IF('Access Point (Desc)'!G63=\"\",\"\",'Access Point (Desc)'!G63)","v":""},{"$f":"IF('Access Point (Desc)'!H63=\"\",\"\",'Access Point (Desc)'!H63)","v":""},{"$f":"IF('Access Point (Desc)'!I63=\"\",\"\",INDEX([1]ROUTE_MH_TYPE!$A$2:$A$100,MATCH('Access Point (Desc)'!$I63,[1]!MASTER_ROUTE_MH_TYPE_DESC[#Data],0),0))","v":""},{"$f":"IF('Access Point (Desc)'!J63=\"\",\"\",INDEX([1]MANHOLE_MTL!$A$2:$A$100,MATCH('Access Point (Desc)'!$J63,[1]!MASTER_MANHOLE_MTL_DESC[#Data],0),0))","v":""},{"$f":"IF('Access Point (Desc)'!K63=\"\",\"\",INDEX([1]MANHOLE_SIZE!$A$2:$A$120,MATCH('Access Point (Desc)'!$K63,[1]!MASTER_MANHOLE_SIZE_DESC[#Data],0),0))","v":""},{"$f":"IF('Access Point (Desc)'!L63=\"\",\"\",INDEX([1]ROUTE_MH_LID_TYPE!$A$2:$A$100,MATCH('Access Point (Desc)'!$L63,[1]!MASTER_ROUTE_MH_LID_TYPE_DESC[#Data],0),0))","v":""},{"$f":"IF('Access Point (Desc)'!M63=\"\",\"\",INDEX([1]MANHOLE_MTL!$A$2:$A$100,MATCH('Access Point (Desc)'!$M63,[1]!MASTER_MANHOLE_MTL_DESC[#Data],0),0))","v":""},{"$f":"IF('Access Point (Desc)'!N63=\"\",\"\",INDEX([1]LID_BOLT_TYPE!$A$2:$A$100,MATCH('Access Point (Desc)'!$N63,[1]!MASTER_LID_BOLT_TYPE_DESC[#Data],0),0))","v":""},{"$f":"IF('Access Point (Desc)'!O63=\"\",\"\",INDEX([1]YES_NO!$A$2:$A$100,MATCH('Access Point (Desc)'!$O63,[1]!MASTER_YES_NO_DESC[#Data],0),0))","v":""},{"$f":"IF('Access Point (Desc)'!P63=\"\",\"\",'Access Point (Desc)'!P63)","v":""},{"$f":"IF('Access Point (Desc)'!Q63=\"\",\"\",INDEX([1]YES_NO!$A$2:$A$100,MATCH('Access Point (Desc)'!$Q63,[1]!MASTER_YES_NO_DESC[#Data],0),0))","v":""}]
[{"$f":"IF('Access Point (Desc)'!A64=\"\",\"\",'Access Point (Desc)'!A64)","v":""},{"$f":"IF('Access Point (Desc)'!B64=\"\",\"\",'Access Point (Desc)'!B64)","v":""},{"$f":"IF('Access Point (Desc)'!C64=\"\",\"\",'Access Point (Desc)'!C64)","v":""},{"$f":"IF('Access Point (Desc)'!D64=\"\",\"\",'Access Point (Desc)'!D64)","v":""},{"$f":"IF('Access Point (Desc)'!E64=\"\",\"\",INDEX([1]OWNER!$A$2:$A$100,MATCH('Access Point (Desc)'!$E64,[1]!MASTER_OWNER_DESC[#Data],0),0))","v":""},{"$f":"IF('Access Point (Desc)'!F64=\"\",\"\",INDEX([1]COUNTY!$A$2:$A$100,MATCH('Access Point (Desc)'!F64,[1]!MASTER_COUNTY_NAME[#Data],0),0))","v":""},{"$f":"IF('Access Point (Desc)'!G64=\"\",\"\",'Access Point (Desc)'!G64)","v":""},{"$f":"IF('Access Point (Desc)'!H64=\"\",\"\",'Access Point (Desc)'!H64)","v":""},{"$f":"IF('Access Point (Desc)'!I64=\"\",\"\",INDEX([1]ROUTE_MH_TYPE!$A$2:$A$100,MATCH('Access Point (Desc)'!$I64,[1]!MASTER_ROUTE_MH_TYPE_DESC[#Data],0),0))","v":""},{"$f":"IF('Access Point (Desc)'!J64=\"\",\"\",INDEX([1]MANHOLE_MTL!$A$2:$A$100,MATCH('Access Point (Desc)'!$J64,[1]!MASTER_MANHOLE_MTL_DESC[#Data],0),0))","v":""},{"$f":"IF('Access Point (Desc)'!K64=\"\",\"\",INDEX([1]MANHOLE_SIZE!$A$2:$A$120,MATCH('Access Point (Desc)'!$K64,[1]!MASTER_MANHOLE_SIZE_DESC[#Data],0),0))","v":""},{"$f":"IF('Access Point (Desc)'!L64=\"\",\"\",INDEX([1]ROUTE_MH_LID_TYPE!$A$2:$A$100,MATCH('Access Point (Desc)'!$L64,[1]!MASTER_ROUTE_MH_LID_TYPE_DESC[#Data],0),0))","v":""},{"$f":"IF('Access Point (Desc)'!M64=\"\",\"\",INDEX([1]MANHOLE_MTL!$A$2:$A$100,MATCH('Access Point (Desc)'!$M64,[1]!MASTER_MANHOLE_MTL_DESC[#Data],0),0))","v":""},{"$f":"IF('Access Point (Desc)'!N64=\"\",\"\",INDEX([1]LID_BOLT_TYPE!$A$2:$A$100,MATCH('Access Point (Desc)'!$N64,[1]!MASTER_LID_BOLT_TYPE_DESC[#Data],0),0))","v":""},{"$f":"IF('Access Point (Desc)'!O64=\"\",\"\",INDEX([1]YES_NO!$A$2:$A$100,MATCH('Access Point (Desc)'!$O64,[1]!MASTER_YES_NO_DESC[#Data],0),0))","v":""},{"$f":"IF('Access Point (Desc)'!P64=\"\",\"\",'Access Point (Desc)'!P64)","v":""},{"$f":"IF('Access Point (Desc)'!Q64=\"\",\"\",INDEX([1]YES_NO!$A$2:$A$100,MATCH('Access Point (Desc)'!$Q64,[1]!MASTER_YES_NO_DESC[#Data],0),0))","v":""}]
[{"$f":"IF('Access Point (Desc)'!A65=\"\",\"\",'Access Point (Desc)'!A65)","v":""},{"$f":"IF('Access Point (Desc)'!B65=\"\",\"\",'Access Point (Desc)'!B65)","v":""},{"$f":"IF('Access Point (Desc)'!C65=\"\",\"\",'Access Point (Desc)'!C65)","v":""},{"$f":"IF('Access Point (Desc)'!D65=\"\",\"\",'Access Point (Desc)'!D65)","v":""},{"$f":"IF('Access Point (Desc)'!E65=\"\",\"\",INDEX([1]OWNER!$A$2:$A$100,MATCH('Access Point (Desc)'!$E65,[1]!MASTER_OWNER_DESC[#Data],0),0))","v":""},{"$f":"IF('Access Point (Desc)'!F65=\"\",\"\",INDEX([1]COUNTY!$A$2:$A$100,MATCH('Access Point (Desc)'!F65,[1]!MASTER_COUNTY_NAME[#Data],0),0))","v":""},{"$f":"IF('Access Point (Desc)'!G65=\"\",\"\",'Access Point (Desc)'!G65)","v":""},{"$f":"IF('Access Point (Desc)'!H65=\"\",\"\",'Access Point (Desc)'!H65)","v":""},{"$f":"IF('Access Point (Desc)'!I65=\"\",\"\",INDEX([1]ROUTE_MH_TYPE!$A$2:$A$100,MATCH('Access Point (Desc)'!$I65,[1]!MASTER_ROUTE_MH_TYPE_DESC[#Data],0),0))","v":""},{"$f":"IF('Access Point (Desc)'!J65=\"\",\"\",INDEX([1]MANHOLE_MTL!$A$2:$A$100,MATCH('Access Point (Desc)'!$J65,[1]!MASTER_MANHOLE_MTL_DESC[#Data],0),0))","v":""},{"$f":"IF('Access Point (Desc)'!K65=\"\",\"\",INDEX([1]MANHOLE_SIZE!$A$2:$A$120,MATCH('Access Point (Desc)'!$K65,[1]!MASTER_MANHOLE_SIZE_DESC[#Data],0),0))","v":""},{"$f":"IF('Access Point (Desc)'!L65=\"\",\"\",INDEX([1]ROUTE_MH_LID_TYPE!$A$2:$A$100,MATCH('Access Point (Desc)'!$L65,[1]!MASTER_ROUTE_MH_LID_TYPE_DESC[#Data],0),0))","v":""},{"$f":"IF('Access Point (Desc)'!M65=\"\",\"\",INDEX([1]MANHOLE_MTL!$A$2:$A$100,MATCH('Access Point (Desc)'!$M65,[1]!MASTER_MANHOLE_MTL_DESC[#Data],0),0))","v":""},{"$f":"IF('Access Point (Desc)'!N65=\"\",\"\",INDEX([1]LID_BOLT_TYPE!$A$2:$A$100,MATCH('Access Point (Desc)'!$N65,[1]!MASTER_LID_BOLT_TYPE_DESC[#Data],0),0))","v":""},{"$f":"IF('Access Point (Desc)'!O65=\"\",\"\",INDEX([1]YES_NO!$A$2:$A$100,MATCH('Access Point (Desc)'!$O65,[1]!MASTER_YES_NO_DESC[#Data],0),0))","v":""},{"$f":"IF('Access Point (Desc)'!P65=\"\",\"\",'Access Point (Desc)'!P65)","v":""},{"$f":"IF('Access Point (Desc)'!Q65=\"\",\"\",INDEX([1]YES_NO!$A$2:$A$100,MATCH('Access Point (Desc)'!$Q65,[1]!MASTER_YES_NO_DESC[#Data],0),0))","v":""}]
[{"$f":"IF('Access Point (Desc)'!A66=\"\",\"\",'Access Point (Desc)'!A66)","v":""},{"$f":"IF('Access Point (Desc)'!B66=\"\",\"\",'Access Point (Desc)'!B66)","v":""},{"$f":"IF('Access Point (Desc)'!C66=\"\",\"\",'Access Point (Desc)'!C66)","v":""},{"$f":"IF('Access Point (Desc)'!D66=\"\",\"\",'Access Point (Desc)'!D66)","v":""},{"$f":"IF('Access Point (Desc)'!E66=\"\",\"\",INDEX([1]OWNER!$A$2:$A$100,MATCH('Access Point (Desc)'!$E66,[1]!MASTER_OWNER_DESC[#Data],0),0))","v":""},{"$f":"IF('Access Point (Desc)'!F66=\"\",\"\",INDEX([1]COUNTY!$A$2:$A$100,MATCH('Access Point (Desc)'!F66,[1]!MASTER_COUNTY_NAME[#Data],0),0))","v":""},{"$f":"IF('Access Point (Desc)'!G66=\"\",\"\",'Access Point (Desc)'!G66)","v":""},{"$f":"IF('Access Point (Desc)'!H66=\"\",\"\",'Access Point (Desc)'!H66)","v":""},{"$f":"IF('Access Point (Desc)'!I66=\"\",\"\",INDEX([1]ROUTE_MH_TYPE!$A$2:$A$100,MATCH('Access Point (Desc)'!$I66,[1]!MASTER_ROUTE_MH_TYPE_DESC[#Data],0),0))","v":""},{"$f":"IF('Access Point (Desc)'!J66=\"\",\"\",INDEX([1]MANHOLE_MTL!$A$2:$A$100,MATCH('Access Point (Desc)'!$J66,[1]!MASTER_MANHOLE_MTL_DESC[#Data],0),0))","v":""},{"$f":"IF('Access Point (Desc)'!K66=\"\",\"\",INDEX([1]MANHOLE_SIZE!$A$2:$A$120,MATCH('Access Point (Desc)'!$K66,[1]!MASTER_MANHOLE_SIZE_DESC[#Data],0),0))","v":""},{"$f":"IF('Access Point (Desc)'!L66=\"\",\"\",INDEX([1]ROUTE_MH_LID_TYPE!$A$2:$A$100,MATCH('Access Point (Desc)'!$L66,[1]!MASTER_ROUTE_MH_LID_TYPE_DESC[#Data],0),0))","v":""},{"$f":"IF('Access Point (Desc)'!M66=\"\",\"\",INDEX([1]MANHOLE_MTL!$A$2:$A$100,MATCH('Access Point (Desc)'!$M66,[1]!MASTER_MANHOLE_MTL_DESC[#Data],0),0))","v":""},{"$f":"IF('Access Point (Desc)'!N66=\"\",\"\",INDEX([1]LID_BOLT_TYPE!$A$2:$A$100,MATCH('Access Point (Desc)'!$N66,[1]!MASTER_LID_BOLT_TYPE_DESC[#Data],0),0))","v":""},{"$f":"IF('Access Point (Desc)'!O66=\"\",\"\",INDEX([1]YES_NO!$A$2:$A$100,MATCH('Access Point (Desc)'!$O66,[1]!MASTER_YES_NO_DESC[#Data],0),0))","v":""},{"$f":"IF('Access Point (Desc)'!P66=\"\",\"\",'Access Point (Desc)'!P66)","v":""},{"$f":"IF('Access Point (Desc)'!Q66=\"\",\"\",INDEX([1]YES_NO!$A$2:$A$100,MATCH('Access Point (Desc)'!$Q66,[1]!MASTER_YES_NO_DESC[#Data],0),0))","v":""}]
[{"$f":"IF('Access Point (Desc)'!A67=\"\",\"\",'Access Point (Desc)'!A67)","v":""},{"$f":"IF('Access Point (Desc)'!B67=\"\",\"\",'Access Point (Desc)'!B67)","v":""},{"$f":"IF('Access Point (Desc)'!C67=\"\",\"\",'Access Point (Desc)'!C67)","v":""},{"$f":"IF('Access Point (Desc)'!D67=\"\",\"\",'Access Point (Desc)'!D67)","v":""},{"$f":"IF('Access Point (Desc)'!E67=\"\",\"\",INDEX([1]OWNER!$A$2:$A$100,MATCH('Access Point (Desc)'!$E67,[1]!MASTER_OWNER_DESC[#Data],0),0))","v":""},{"$f":"IF('Access Point (Desc)'!F67=\"\",\"\",INDEX([1]COUNTY!$A$2:$A$100,MATCH('Access Point (Desc)'!F67,[1]!MASTER_COUNTY_NAME[#Data],0),0))","v":""},{"$f":"IF('Access Point (Desc)'!G67=\"\",\"\",'Access Point (Desc)'!G67)","v":""},{"$f":"IF('Access Point (Desc)'!H67=\"\",\"\",'Access Point (Desc)'!H67)","v":""},{"$f":"IF('Access Point (Desc)'!I67=\"\",\"\",INDEX([1]ROUTE_MH_TYPE!$A$2:$A$100,MATCH('Access Point (Desc)'!$I67,[1]!MASTER_ROUTE_MH_TYPE_DESC[#Data],0),0))","v":""},{"$f":"IF('Access Point (Desc)'!J67=\"\",\"\",INDEX([1]MANHOLE_MTL!$A$2:$A$100,MATCH('Access Point (Desc)'!$J67,[1]!MASTER_MANHOLE_MTL_DESC[#Data],0),0))","v":""},{"$f":"IF('Access Point (Desc)'!K67=\"\",\"\",INDEX([1]MANHOLE_SIZE!$A$2:$A$120,MATCH('Access Point (Desc)'!$K67,[1]!MASTER_MANHOLE_SIZE_DESC[#Data],0),0))","v":""},{"$f":"IF('Access Point (Desc)'!L67=\"\",\"\",INDEX([1]ROUTE_MH_LID_TYPE!$A$2:$A$100,MATCH('Access Point (Desc)'!$L67,[1]!MASTER_ROUTE_MH_LID_TYPE_DESC[#Data],0),0))","v":""},{"$f":"IF('Access Point (Desc)'!M67=\"\",\"\",INDEX([1]MANHOLE_MTL!$A$2:$A$100,MATCH('Access Point (Desc)'!$M67,[1]!MASTER_MANHOLE_MTL_DESC[#Data],0),0))","v":""},{"$f":"IF('Access Point (Desc)'!N67=\"\",\"\",INDEX([1]LID_BOLT_TYPE!$A$2:$A$100,MATCH('Access Point (Desc)'!$N67,[1]!MASTER_LID_BOLT_TYPE_DESC[#Data],0),0))","v":""},{"$f":"IF('Access Point (Desc)'!O67=\"\",\"\",INDEX([1]YES_NO!$A$2:$A$100,MATCH('Access Point (Desc)'!$O67,[1]!MASTER_YES_NO_DESC[#Data],0),0))","v":""},{"$f":"IF('Access Point (Desc)'!P67=\"\",\"\",'Access Point (Desc)'!P67)","v":""},{"$f":"IF('Access Point (Desc)'!Q67=\"\",\"\",INDEX([1]YES_NO!$A$2:$A$100,MATCH('Access Point (Desc)'!$Q67,[1]!MASTER_YES_NO_DESC[#Data],0),0))","v":""}]
[{"$f":"IF('Access Point (Desc)'!A68=\"\",\"\",'Access Point (Desc)'!A68)","v":""},{"$f":"IF('Access Point (Desc)'!B68=\"\",\"\",'Access Point (Desc)'!B68)","v":""},{"$f":"IF('Access Point (Desc)'!C68=\"\",\"\",'Access Point (Desc)'!C68)","v":""},{"$f":"IF('Access Point (Desc)'!D68=\"\",\"\",'Access Point (Desc)'!D68)","v":""},{"$f":"IF('Access Point (Desc)'!E68=\"\",\"\",INDEX([1]OWNER!$A$2:$A$100,MATCH('Access Point (Desc)'!$E68,[1]!MASTER_OWNER_DESC[#Data],0),0))","v":""},{"$f":"IF('Access Point (Desc)'!F68=\"\",\"\",INDEX([1]COUNTY!$A$2:$A$100,MATCH('Access Point (Desc)'!F68,[1]!MASTER_COUNTY_NAME[#Data],0),0))","v":""},{"$f":"IF('Access Point (Desc)'!G68=\"\",\"\",'Access Point (Desc)'!G68)","v":""},{"$f":"IF('Access Point (Desc)'!H68=\"\",\"\",'Access Point (Desc)'!H68)","v":""},{"$f":"IF('Access Point (Desc)'!I68=\"\",\"\",INDEX([1]ROUTE_MH_TYPE!$A$2:$A$100,MATCH('Access Point (Desc)'!$I68,[1]!MASTER_ROUTE_MH_TYPE_DESC[#Data],0),0))","v":""},{"$f":"IF('Access Point (Desc)'!J68=\"\",\"\",INDEX([1]MANHOLE_MTL!$A$2:$A$100,MATCH('Access Point (Desc)'!$J68,[1]!MASTER_MANHOLE_MTL_DESC[#Data],0),0))","v":""},{"$f":"IF('Access Point (Desc)'!K68=\"\",\"\",INDEX([1]MANHOLE_SIZE!$A$2:$A$120,MATCH('Access Point (Desc)'!$K68,[1]!MASTER_MANHOLE_SIZE_DESC[#Data],0),0))","v":""},{"$f":"IF('Access Point (Desc)'!L68=\"\",\"\",INDEX([1]ROUTE_MH_LID_TYPE!$A$2:$A$100,MATCH('Access Point (Desc)'!$L68,[1]!MASTER_ROUTE_MH_LID_TYPE_DESC[#Data],0),0))","v":""},{"$f":"IF('Access Point (Desc)'!M68=\"\",\"\",INDEX([1]MANHOLE_MTL!$A$2:$A$100,MATCH('Access Point (Desc)'!$M68,[1]!MASTER_MANHOLE_MTL_DESC[#Data],0),0))","v":""},{"$f":"IF('Access Point (Desc)'!N68=\"\",\"\",INDEX([1]LID_BOLT_TYPE!$A$2:$A$100,MATCH('Access Point (Desc)'!$N68,[1]!MASTER_LID_BOLT_TYPE_DESC[#Data],0),0))","v":""},{"$f":"IF('Access Point (Desc)'!O68=\"\",\"\",INDEX([1]YES_NO!$A$2:$A$100,MATCH('Access Point (Desc)'!$O68,[1]!MASTER_YES_NO_DESC[#Data],0),0))","v":""},{"$f":"IF('Access Point (Desc)'!P68=\"\",\"\",'Access Point (Desc)'!P68)","v":""},{"$f":"IF('Access Point (Desc)'!Q68=\"\",\"\",INDEX([1]YES_NO!$A$2:$A$100,MATCH('Access Point (Desc)'!$Q68,[1]!MASTER_YES_NO_DESC[#Data],0),0))","v":""}]
[{"$f":"IF('Access Point (Desc)'!A69=\"\",\"\",'Access Point (Desc)'!A69)","v":""},{"$f":"IF('Access Point (Desc)'!B69=\"\",\"\",'Access Point (Desc)'!B69)","v":""},{"$f":"IF('Access Point (Desc)'!C69=\"\",\"\",'Access Point (Desc)'!C69)","v":""},{"$f":"IF('Access Point (Desc)'!D69=\"\",\"\",'Access Point (Desc)'!D69)","v":""},{"$f":"IF('Access Point (Desc)'!E69=\"\",\"\",INDEX([1]OWNER!$A$2:$A$100,MATCH('Access Point (Desc)'!$E69,[1]!MASTER_OWNER_DESC[#Data],0),0))","v":""},{"$f":"IF('Access Point (Desc)'!F69=\"\",\"\",INDEX([1]COUNTY!$A$2:$A$100,MATCH('Access Point (Desc)'!F69,[1]!MASTER_COUNTY_NAME[#Data],0),0))","v":""},{"$f":"IF('Access Point (Desc)'!G69=\"\",\"\",'Access Point (Desc)'!G69)","v":""},{"$f":"IF('Access Point (Desc)'!H69=\"\",\"\",'Access Point (Desc)'!H69)","v":""},{"$f":"IF('Access Point (Desc)'!I69=\"\",\"\",INDEX([1]ROUTE_MH_TYPE!$A$2:$A$100,MATCH('Access Point (Desc)'!$I69,[1]!MASTER_ROUTE_MH_TYPE_DESC[#Data],0),0))","v":""},{"$f":"IF('Access Point (Desc)'!J69=\"\",\"\",INDEX([1]MANHOLE_MTL!$A$2:$A$100,MATCH('Access Point (Desc)'!$J69,[1]!MASTER_MANHOLE_MTL_DESC[#Data],0),0))","v":""},{"$f":"IF('Access Point (Desc)'!K69=\"\",\"\",INDEX([1]MANHOLE_SIZE!$A$2:$A$120,MATCH('Access Point (Desc)'!$K69,[1]!MASTER_MANHOLE_SIZE_DESC[#Data],0),0))","v":""},{"$f":"IF('Access Point (Desc)'!L69=\"\",\"\",INDEX([1]ROUTE_MH_LID_TYPE!$A$2:$A$100,MATCH('Access Point (Desc)'!$L69,[1]!MASTER_ROUTE_MH_LID_TYPE_DESC[#Data],0),0))","v":""},{"$f":"IF('Access Point (Desc)'!M69=\"\",\"\",INDEX([1]MANHOLE_MTL!$A$2:$A$100,MATCH('Access Point (Desc)'!$M69,[1]!MASTER_MANHOLE_MTL_DESC[#Data],0),0))","v":""},{"$f":"IF('Access Point (Desc)'!N69=\"\",\"\",INDEX([1]LID_BOLT_TYPE!$A$2:$A$100,MATCH('Access Point (Desc)'!$N69,[1]!MASTER_LID_BOLT_TYPE_DESC[#Data],0),0))","v":""},{"$f":"IF('Access Point (Desc)'!O69=\"\",\"\",INDEX([1]YES_NO!$A$2:$A$100,MATCH('Access Point (Desc)'!$O69,[1]!MASTER_YES_NO_DESC[#Data],0),0))","v":""},{"$f":"IF('Access Point (Desc)'!P69=\"\",\"\",'Access Point (Desc)'!P69)","v":""},{"$f":"IF('Access Point (Desc)'!Q69=\"\",\"\",INDEX([1]YES_NO!$A$2:$A$100,MATCH('Access Point (Desc)'!$Q69,[1]!MASTER_YES_NO_DESC[#Data],0),0))","v":""}]
[{"$f":"IF('Access Point (Desc)'!A70=\"\",\"\",'Access Point (Desc)'!A70)","v":""},{"$f":"IF('Access Point (Desc)'!B70=\"\",\"\",'Access Point (Desc)'!B70)","v":""},{"$f":"IF('Access Point (Desc)'!C70=\"\",\"\",'Access Point (Desc)'!C70)","v":""},{"$f":"IF('Access Point (Desc)'!D70=\"\",\"\",'Access Point (Desc)'!D70)","v":""},{"$f":"IF('Access Point (Desc)'!E70=\"\",\"\",INDEX([1]OWNER!$A$2:$A$100,MATCH('Access Point (Desc)'!$E70,[1]!MASTER_OWNER_DESC[#Data],0),0))","v":""},{"$f":"IF('Access Point (Desc)'!F70=\"\",\"\",INDEX([1]COUNTY!$A$2:$A$100,MATCH('Access Point (Desc)'!F70,[1]!MASTER_COUNTY_NAME[#Data],0),0))","v":""},{"$f":"IF('Access Point (Desc)'!G70=\"\",\"\",'Access Point (Desc)'!G70)","v":""},{"$f":"IF('Access Point (Desc)'!H70=\"\",\"\",'Access Point (Desc)'!H70)","v":""},{"$f":"IF('Access Point (Desc)'!I70=\"\",\"\",INDEX([1]ROUTE_MH_TYPE!$A$2:$A$100,MATCH('Access Point (Desc)'!$I70,[1]!MASTER_ROUTE_MH_TYPE_DESC[#Data],0),0))","v":""},{"$f":"IF('Access Point (Desc)'!J70=\"\",\"\",INDEX([1]MANHOLE_MTL!$A$2:$A$100,MATCH('Access Point (Desc)'!$J70,[1]!MASTER_MANHOLE_MTL_DESC[#Data],0),0))","v":""},{"$f":"IF('Access Point (Desc)'!K70=\"\",\"\",INDEX([1]MANHOLE_SIZE!$A$2:$A$120,MATCH('Access Point (Desc)'!$K70,[1]!MASTER_MANHOLE_SIZE_DESC[#Data],0),0))","v":""},{"$f":"IF('Access Point (Desc)'!L70=\"\",\"\",INDEX([1]ROUTE_MH_LID_TYPE!$A$2:$A$100,MATCH('Access Point (Desc)'!$L70,[1]!MASTER_ROUTE_MH_LID_TYPE_DESC[#Data],0),0))","v":""},{"$f":"IF('Access Point (Desc)'!M70=\"\",\"\",INDEX([1]MANHOLE_MTL!$A$2:$A$100,MATCH('Access Point (Desc)'!$M70,[1]!MASTER_MANHOLE_MTL_DESC[#Data],0),0))","v":""},{"$f":"IF('Access Point (Desc)'!N70=\"\",\"\",INDEX([1]LID_BOLT_TYPE!$A$2:$A$100,MATCH('Access Point (Desc)'!$N70,[1]!MASTER_LID_BOLT_TYPE_DESC[#Data],0),0))","v":""},{"$f":"IF('Access Point (Desc)'!O70=\"\",\"\",INDEX([1]YES_NO!$A$2:$A$100,MATCH('Access Point (Desc)'!$O70,[1]!MASTER_YES_NO_DESC[#Data],0),0))","v":""},{"$f":"IF('Access Point (Desc)'!P70=\"\",\"\",'Access Point (Desc)'!P70)","v":""},{"$f":"IF('Access Point (Desc)'!Q70=\"\",\"\",INDEX([1]YES_NO!$A$2:$A$100,MATCH('Access Point (Desc)'!$Q70,[1]!MASTER_YES_NO_DESC[#Data],0),0))","v":""}]
[{"$f":"IF('Access Point (Desc)'!A71=\"\",\"\",'Access Point (Desc)'!A71)","v":""},{"$f":"IF('Access Point (Desc)'!B71=\"\",\"\",'Access Point (Desc)'!B71)","v":""},{"$f":"IF('Access Point (Desc)'!C71=\"\",\"\",'Access Point (Desc)'!C71)","v":""},{"$f":"IF('Access Point (Desc)'!D71=\"\",\"\",'Access Point (Desc)'!D71)","v":""},{"$f":"IF('Access Point (Desc)'!E71=\"\",\"\",INDEX([1]OWNER!$A$2:$A$100,MATCH('Access Point (Desc)'!$E71,[1]!MASTER_OWNER_DESC[#Data],0),0))","v":""},{"$f":"IF('Access Point (Desc)'!F71=\"\",\"\",INDEX([1]COUNTY!$A$2:$A$100,MATCH('Access Point (Desc)'!F71,[1]!MASTER_COUNTY_NAME[#Data],0),0))","v":""},{"$f":"IF('Access Point (Desc)'!G71=\"\",\"\",'Access Point (Desc)'!G71)","v":""},{"$f":"IF('Access Point (Desc)'!H71=\"\",\"\",'Access Point (Desc)'!H71)","v":""},{"$f":"IF('Access Point (Desc)'!I71=\"\",\"\",INDEX([1]ROUTE_MH_TYPE!$A$2:$A$100,MATCH('Access Point (Desc)'!$I71,[1]!MASTER_ROUTE_MH_TYPE_DESC[#Data],0),0))","v":""},{"$f":"IF('Access Point (Desc)'!J71=\"\",\"\",INDEX([1]MANHOLE_MTL!$A$2:$A$100,MATCH('Access Point (Desc)'!$J71,[1]!MASTER_MANHOLE_MTL_DESC[#Data],0),0))","v":""},{"$f":"IF('Access Point (Desc)'!K71=\"\",\"\",INDEX([1]MANHOLE_SIZE!$A$2:$A$120,MATCH('Access Point (Desc)'!$K71,[1]!MASTER_MANHOLE_SIZE_DESC[#Data],0),0))","v":""},{"$f":"IF('Access Point (Desc)'!L71=\"\",\"\",INDEX([1]ROUTE_MH_LID_TYPE!$A$2:$A$100,MATCH('Access Point (Desc)'!$L71,[1]!MASTER_ROUTE_MH_LID_TYPE_DESC[#Data],0),0))","v":""},{"$f":"IF('Access Point (Desc)'!M71=\"\",\"\",INDEX([1]MANHOLE_MTL!$A$2:$A$100,MATCH('Access Point (Desc)'!$M71,[1]!MASTER_MANHOLE_MTL_DESC[#Data],0),0))","v":""},{"$f":"IF('Access Point (Desc)'!N71=\"\",\"\",INDEX([1]LID_BOLT_TYPE!$A$2:$A$100,MATCH('Access Point (Desc)'!$N71,[1]!MASTER_LID_BOLT_TYPE_DESC[#Data],0),0))","v":""},{"$f":"IF('Access Point (Desc)'!O71=\"\",\"\",INDEX([1]YES_NO!$A$2:$A$100,MATCH('Access Point (Desc)'!$O71,[1]!MASTER_YES_NO_DESC[#Data],0),0))","v":""},{"$f":"IF('Access Point (Desc)'!P71=\"\",\"\",'Access Point (Desc)'!P71)","v":""},{"$f":"IF('Access Point (Desc)'!Q71=\"\",\"\",INDEX([1]YES_NO!$A$2:$A$100,MATCH('Access Point (Desc)'!$Q71,[1]!MASTER_YES_NO_DESC[#Data],0),0))","v":""}]
[{"$f":"IF('Access Point (Desc)'!A72=\"\",\"\",'Access Point (Desc)'!A72)","v":""},{"$f":"IF('Access Point (Desc)'!B72=\"\",\"\",'Access Point (Desc)'!B72)","v":""},{"$f":"IF('Access Point (Desc)'!C72=\"\",\"\",'Access Point (Desc)'!C72)","v":""},{"$f":"IF('Access Point (Desc)'!D72=\"\",\"\",'Access Point (Desc)'!D72)","v":""},{"$f":"IF('Access Point (Desc)'!E72=\"\",\"\",INDEX([1]OWNER!$A$2:$A$100,MATCH('Access Point (Desc)'!$E72,[1]!MASTER_OWNER_DESC[#Data],0),0))","v":""},{"$f":"IF('Access Point (Desc)'!F72=\"\",\"\",INDEX([1]COUNTY!$A$2:$A$100,MATCH('Access Point (Desc)'!F72,[1]!MASTER_COUNTY_NAME[#Data],0),0))","v":""},{"$f":"IF('Access Point (Desc)'!G72=\"\",\"\",'Access Point (Desc)'!G72)","v":""},{"$f":"IF('Access Point (Desc)'!H72=\"\",\"\",'Access Point (Desc)'!H72)","v":""},{"$f":"IF('Access Point (Desc)'!I72=\"\",\"\",INDEX([1]ROUTE_MH_TYPE!$A$2:$A$100,MATCH('Access Point (Desc)'!$I72,[1]!MASTER_ROUTE_MH_TYPE_DESC[#Data],0),0))","v":""},{"$f":"IF('Access Point (Desc)'!J72=\"\",\"\",INDEX([1]MANHOLE_MTL!$A$2:$A$100,MATCH('Access Point (Desc)'!$J72,[1]!MASTER_MANHOLE_MTL_DESC[#Data],0),0))","v":""},{"$f":"IF('Access Point (Desc)'!K72=\"\",\"\",INDEX([1]MANHOLE_SIZE!$A$2:$A$120,MATCH('Access Point (Desc)'!$K72,[1]!MASTER_MANHOLE_SIZE_DESC[#Data],0),0))","v":""},{"$f":"IF('Access Point (Desc)'!L72=\"\",\"\",INDEX([1]ROUTE_MH_LID_TYPE!$A$2:$A$100,MATCH('Access Point (Desc)'!$L72,[1]!MASTER_ROUTE_MH_LID_TYPE_DESC[#Data],0),0))","v":""},{"$f":"IF('Access Point (Desc)'!M72=\"\",\"\",INDEX([1]MANHOLE_MTL!$A$2:$A$100,MATCH('Access Point (Desc)'!$M72,[1]!MASTER_MANHOLE_MTL_DESC[#Data],0),0))","v":""},{"$f":"IF('Access Point (Desc)'!N72=\"\",\"\",INDEX([1]LID_BOLT_TYPE!$A$2:$A$100,MATCH('Access Point (Desc)'!$N72,[1]!MASTER_LID_BOLT_TYPE_DESC[#Data],0),0))","v":""},{"$f":"IF('Access Point (Desc)'!O72=\"\",\"\",INDEX([1]YES_NO!$A$2:$A$100,MATCH('Access Point (Desc)'!$O72,[1]!MASTER_YES_NO_DESC[#Data],0),0))","v":""},{"$f":"IF('Access Point (Desc)'!P72=\"\",\"\",'Access Point (Desc)'!P72)","v":""},{"$f":"IF('Access Point (Desc)'!Q72=\"\",\"\",INDEX([1]YES_NO!$A$2:$A$100,MATCH('Access Point (Desc)'!$Q72,[1]!MASTER_YES_NO_DESC[#Data],0),0))","v":""}]
[{"$f":"IF('Access Point (Desc)'!A73=\"\",\"\",'Access Point (Desc)'!A73)","v":""},{"$f":"IF('Access Point (Desc)'!B73=\"\",\"\",'Access Point (Desc)'!B73)","v":""},{"$f":"IF('Access Point (Desc)'!C73=\"\",\"\",'Access Point (Desc)'!C73)","v":""},{"$f":"IF('Access Point (Desc)'!D73=\"\",\"\",'Access Point (Desc)'!D73)","v":""},{"$f":"IF('Access Point (Desc)'!E73=\"\",\"\",INDEX([1]OWNER!$A$2:$A$100,MATCH('Access Point (Desc)'!$E73,[1]!MASTER_OWNER_DESC[#Data],0),0))","v":""},{"$f":"IF('Access Point (Desc)'!F73=\"\",\"\",INDEX([1]COUNTY!$A$2:$A$100,MATCH('Access Point (Desc)'!F73,[1]!MASTER_COUNTY_NAME[#Data],0),0))","v":""},{"$f":"IF('Access Point (Desc)'!G73=\"\",\"\",'Access Point (Desc)'!G73)","v":""},{"$f":"IF('Access Point (Desc)'!H73=\"\",\"\",'Access Point (Desc)'!H73)","v":""},{"$f":"IF('Access Point (Desc)'!I73=\"\",\"\",INDEX([1]ROUTE_MH_TYPE!$A$2:$A$100,MATCH('Access Point (Desc)'!$I73,[1]!MASTER_ROUTE_MH_TYPE_DESC[#Data],0),0))","v":""},{"$f":"IF('Access Point (Desc)'!J73=\"\",\"\",INDEX([1]MANHOLE_MTL!$A$2:$A$100,MATCH('Access Point (Desc)'!$J73,[1]!MASTER_MANHOLE_MTL_DESC[#Data],0),0))","v":""},{"$f":"IF('Access Point (Desc)'!K73=\"\",\"\",INDEX([1]MANHOLE_SIZE!$A$2:$A$120,MATCH('Access Point (Desc)'!$K73,[1]!MASTER_MANHOLE_SIZE_DESC[#Data],0),0))","v":""},{"$f":"IF('Access Point (Desc)'!L73=\"\",\"\",INDEX([1]ROUTE_MH_LID_TYPE!$A$2:$A$100,MATCH('Access Point (Desc)'!$L73,[1]!MASTER_ROUTE_MH_LID_TYPE_DESC[#Data],0),0))","v":""},{"$f":"IF('Access Point (Desc)'!M73=\"\",\"\",INDEX([1]MANHOLE_MTL!$A$2:$A$100,MATCH('Access Point (Desc)'!$M73,[1]!MASTER_MANHOLE_MTL_DESC[#Data],0),0))","v":""},{"$f":"IF('Access Point (Desc)'!N73=\"\",\"\",INDEX([1]LID_BOLT_TYPE!$A$2:$A$100,MATCH('Access Point (Desc)'!$N73,[1]!MASTER_LID_BOLT_TYPE_DESC[#Data],0),0))","v":""},{"$f":"IF('Access Point (Desc)'!O73=\"\",\"\",INDEX([1]YES_NO!$A$2:$A$100,MATCH('Access Point (Desc)'!$O73,[1]!MASTER_YES_NO_DESC[#Data],0),0))","v":""},{"$f":"IF('Access Point (Desc)'!P73=\"\",\"\",'Access Point (Desc)'!P73)","v":""},{"$f":"IF('Access Point (Desc)'!Q73=\"\",\"\",INDEX([1]YES_NO!$A$2:$A$100,MATCH('Access Point (Desc)'!$Q73,[1]!MASTER_YES_NO_DESC[#Data],0),0))","v":""}]
[{"$f":"IF('Access Point (Desc)'!A74=\"\",\"\",'Access Point (Desc)'!A74)","v":""},{"$f":"IF('Access Point (Desc)'!B74=\"\",\"\",'Access Point (Desc)'!B74)","v":""},{"$f":"IF('Access Point (Desc)'!C74=\"\",\"\",'Access Point (Desc)'!C74)","v":""},{"$f":"IF('Access Point (Desc)'!D74=\"\",\"\",'Access Point (Desc)'!D74)","v":""},{"$f":"IF('Access Point (Desc)'!E74=\"\",\"\",INDEX([1]OWNER!$A$2:$A$100,MATCH('Access Point (Desc)'!$E74,[1]!MASTER_OWNER_DESC[#Data],0),0))","v":""},{"$f":"IF('Access Point (Desc)'!F74=\"\",\"\",INDEX([1]COUNTY!$A$2:$A$100,MATCH('Access Point (Desc)'!F74,[1]!MASTER_COUNTY_NAME[#Data],0),0))","v":""},{"$f":"IF('Access Point (Desc)'!G74=\"\",\"\",'Access Point (Desc)'!G74)","v":""},{"$f":"IF('Access Point (Desc)'!H74=\"\",\"\",'Access Point (Desc)'!H74)","v":""},{"$f":"IF('Access Point (Desc)'!I74=\"\",\"\",INDEX([1]ROUTE_MH_TYPE!$A$2:$A$100,MATCH('Access Point (Desc)'!$I74,[1]!MASTER_ROUTE_MH_TYPE_DESC[#Data],0),0))","v":""},{"$f":"IF('Access Point (Desc)'!J74=\"\",\"\",INDEX([1]MANHOLE_MTL!$A$2:$A$100,MATCH('Access Point (Desc)'!$J74,[1]!MASTER_MANHOLE_MTL_DESC[#Data],0),0))","v":""},{"$f":"IF('Access Point (Desc)'!K74=\"\",\"\",INDEX([1]MANHOLE_SIZE!$A$2:$A$120,MATCH('Access Point (Desc)'!$K74,[1]!MASTER_MANHOLE_SIZE_DESC[#Data],0),0))","v":""},{"$f":"IF('Access Point (Desc)'!L74=\"\",\"\",INDEX([1]ROUTE_MH_LID_TYPE!$A$2:$A$100,MATCH('Access Point (Desc)'!$L74,[1]!MASTER_ROUTE_MH_LID_TYPE_DESC[#Data],0),0))","v":""},{"$f":"IF('Access Point (Desc)'!M74=\"\",\"\",INDEX([1]MANHOLE_MTL!$A$2:$A$100,MATCH('Access Point (Desc)'!$M74,[1]!MASTER_MANHOLE_MTL_DESC[#Data],0),0))","v":""},{"$f":"IF('Access Point (Desc)'!N74=\"\",\"\",INDEX([1]LID_BOLT_TYPE!$A$2:$A$100,MATCH('Access Point (Desc)'!$N74,[1]!MASTER_LID_BOLT_TYPE_DESC[#Data],0),0))","v":""},{"$f":"IF('Access Point (Desc)'!O74=\"\",\"\",INDEX([1]YES_NO!$A$2:$A$100,MATCH('Access Point (Desc)'!$O74,[1]!MASTER_YES_NO_DESC[#Data],0),0))","v":""},{"$f":"IF('Access Point (Desc)'!P74=\"\",\"\",'Access Point (Desc)'!P74)","v":""},{"$f":"IF('Access Point (Desc)'!Q74=\"\",\"\",INDEX([1]YES_NO!$A$2:$A$100,MATCH('Access Point (Desc)'!$Q74,[1]!MASTER_YES_NO_DESC[#Data],0),0))","v":""}]
[{"$f":"IF('Access Point (Desc)'!A75=\"\",\"\",'Access Point (Desc)'!A75)","v":""},{"$f":"IF('Access Point (Desc)'!B75=\"\",\"\",'Access Point (Desc)'!B75)","v":""},{"$f":"IF('Access Point (Desc)'!C75=\"\",\"\",'Access Point (Desc)'!C75)","v":""},{"$f":"IF('Access Point (Desc)'!D75=\"\",\"\",'Access Point (Desc)'!D75)","v":""},{"$f":"IF('Access Point (Desc)'!E75=\"\",\"\",INDEX([1]OWNER!$A$2:$A$100,MATCH('Access Point (Desc)'!$E75,[1]!MASTER_OWNER_DESC[#Data],0),0))","v":""},{"$f":"IF('Access Point (Desc)'!F75=\"\",\"\",INDEX([1]COUNTY!$A$2:$A$100,MATCH('Access Point (Desc)'!F75,[1]!MASTER_COUNTY_NAME[#Data],0),0))","v":""},{"$f":"IF('Access Point (Desc)'!G75=\"\",\"\",'Access Point (Desc)'!G75)","v":""},{"$f":"IF('Access Point (Desc)'!H75=\"\",\"\",'Access Point (Desc)'!H75)","v":""},{"$f":"IF('Access Point (Desc)'!I75=\"\",\"\",INDEX([1]ROUTE_MH_TYPE!$A$2:$A$100,MATCH('Access Point (Desc)'!$I75,[1]!MASTER_ROUTE_MH_TYPE_DESC[#Data],0),0))","v":""},{"$f":"IF('Access Point (Desc)'!J75=\"\",\"\",INDEX([1]MANHOLE_MTL!$A$2:$A$100,MATCH('Access Point (Desc)'!$J75,[1]!MASTER_MANHOLE_MTL_DESC[#Data],0),0))","v":""},{"$f":"IF('Access Point (Desc)'!K75=\"\",\"\",INDEX([1]MANHOLE_SIZE!$A$2:$A$120,MATCH('Access Point (Desc)'!$K75,[1]!MASTER_MANHOLE_SIZE_DESC[#Data],0),0))","v":""},{"$f":"IF('Access Point (Desc)'!L75=\"\",\"\",INDEX([1]ROUTE_MH_LID_TYPE!$A$2:$A$100,MATCH('Access Point (Desc)'!$L75,[1]!MASTER_ROUTE_MH_LID_TYPE_DESC[#Data],0),0))","v":""},{"$f":"IF('Access Point (Desc)'!M75=\"\",\"\",INDEX([1]MANHOLE_MTL!$A$2:$A$100,MATCH('Access Point (Desc)'!$M75,[1]!MASTER_MANHOLE_MTL_DESC[#Data],0),0))","v":""},{"$f":"IF('Access Point (Desc)'!N75=\"\",\"\",INDEX([1]LID_BOLT_TYPE!$A$2:$A$100,MATCH('Access Point (Desc)'!$N75,[1]!MASTER_LID_BOLT_TYPE_DESC[#Data],0),0))","v":""},{"$f":"IF('Access Point (Desc)'!O75=\"\",\"\",INDEX([1]YES_NO!$A$2:$A$100,MATCH('Access Point (Desc)'!$O75,[1]!MASTER_YES_NO_DESC[#Data],0),0))","v":""},{"$f":"IF('Access Point (Desc)'!P75=\"\",\"\",'Access Point (Desc)'!P75)","v":""},{"$f":"IF('Access Point (Desc)'!Q75=\"\",\"\",INDEX([1]YES_NO!$A$2:$A$100,MATCH('Access Point (Desc)'!$Q75,[1]!MASTER_YES_NO_DESC[#Data],0),0))","v":""}]
[{"$f":"IF('Access Point (Desc)'!A76=\"\",\"\",'Access Point (Desc)'!A76)","v":""},{"$f":"IF('Access Point (Desc)'!B76=\"\",\"\",'Access Point (Desc)'!B76)","v":""},{"$f":"IF('Access Point (Desc)'!C76=\"\",\"\",'Access Point (Desc)'!C76)","v":""},{"$f":"IF('Access Point (Desc)'!D76=\"\",\"\",'Access Point (Desc)'!D76)","v":""},{"$f":"IF('Access Point (Desc)'!E76=\"\",\"\",INDEX([1]OWNER!$A$2:$A$100,MATCH('Access Point (Desc)'!$E76,[1]!MASTER_OWNER_DESC[#Data],0),0))","v":""},{"$f":"IF('Access Point (Desc)'!F76=\"\",\"\",INDEX([1]COUNTY!$A$2:$A$100,MATCH('Access Point (Desc)'!F76,[1]!MASTER_COUNTY_NAME[#Data],0),0))","v":""},{"$f":"IF('Access Point (Desc)'!G76=\"\",\"\",'Access Point (Desc)'!G76)","v":""},{"$f":"IF('Access Point (Desc)'!H76=\"\",\"\",'Access Point (Desc)'!H76)","v":""},{"$f":"IF('Access Point (Desc)'!I76=\"\",\"\",INDEX([1]ROUTE_MH_TYPE!$A$2:$A$100,MATCH('Access Point (Desc)'!$I76,[1]!MASTER_ROUTE_MH_TYPE_DESC[#Data],0),0))","v":""},{"$f":"IF('Access Point (Desc)'!J76=\"\",\"\",INDEX([1]MANHOLE_MTL!$A$2:$A$100,MATCH('Access Point (Desc)'!$J76,[1]!MASTER_MANHOLE_MTL_DESC[#Data],0),0))","v":""},{"$f":"IF('Access Point (Desc)'!K76=\"\",\"\",INDEX([1]MANHOLE_SIZE!$A$2:$A$120,MATCH('Access Point (Desc)'!$K76,[1]!MASTER_MANHOLE_SIZE_DESC[#Data],0),0))","v":""},{"$f":"IF('Access Point (Desc)'!L76=\"\",\"\",INDEX([1]ROUTE_MH_LID_TYPE!$A$2:$A$100,MATCH('Access Point (Desc)'!$L76,[1]!MASTER_ROUTE_MH_LID_TYPE_DESC[#Data],0),0))","v":""},{"$f":"IF('Access Point (Desc)'!M76=\"\",\"\",INDEX([1]MANHOLE_MTL!$A$2:$A$100,MATCH('Access Point (Desc)'!$M76,[1]!MASTER_MANHOLE_MTL_DESC[#Data],0),0))","v":""},{"$f":"IF('Access Point (Desc)'!N76=\"\",\"\",INDEX([1]LID_BOLT_TYPE!$A$2:$A$100,MATCH('Access Point (Desc)'!$N76,[1]!MASTER_LID_BOLT_TYPE_DESC[#Data],0),0))","v":""},{"$f":"IF('Access Point (Desc)'!O76=\"\",\"\",INDEX([1]YES_NO!$A$2:$A$100,MATCH('Access Point (Desc)'!$O76,[1]!MASTER_YES_NO_DESC[#Data],0),0))","v":""},{"$f":"IF('Access Point (Desc)'!P76=\"\",\"\",'Access Point (Desc)'!P76)","v":""},{"$f":"IF('Access Point (Desc)'!Q76=\"\",\"\",INDEX([1]YES_NO!$A$2:$A$100,MATCH('Access Point (Desc)'!$Q76,[1]!MASTER_YES_NO_DESC[#Data],0),0))","v":""}]
[{"$f":"IF('Access Point (Desc)'!A77=\"\",\"\",'Access Point (Desc)'!A77)","v":""},{"$f":"IF('Access Point (Desc)'!B77=\"\",\"\",'Access Point (Desc)'!B77)","v":""},{"$f":"IF('Access Point (Desc)'!C77=\"\",\"\",'Access Point (Desc)'!C77)","v":""},{"$f":"IF('Access Point (Desc)'!D77=\"\",\"\",'Access Point (Desc)'!D77)","v":""},{"$f":"IF('Access Point (Desc)'!E77=\"\",\"\",INDEX([1]OWNER!$A$2:$A$100,MATCH('Access Point (Desc)'!$E77,[1]!MASTER_OWNER_DESC[#Data],0),0))","v":""},{"$f":"IF('Access Point (Desc)'!F77=\"\",\"\",INDEX([1]COUNTY!$A$2:$A$100,MATCH('Access Point (Desc)'!F77,[1]!MASTER_COUNTY_NAME[#Data],0),0))","v":""},{"$f":"IF('Access Point (Desc)'!G77=\"\",\"\",'Access Point (Desc)'!G77)","v":""},{"$f":"IF('Access Point (Desc)'!H77=\"\",\"\",'Access Point (Desc)'!H77)","v":""},{"$f":"IF('Access Point (Desc)'!I77=\"\",\"\",INDEX([1]ROUTE_MH_TYPE!$A$2:$A$100,MATCH('Access Point (Desc)'!$I77,[1]!MASTER_ROUTE_MH_TYPE_DESC[#Data],0),0))","v":""},{"$f":"IF('Access Point (Desc)'!J77=\"\",\"\",INDEX([1]MANHOLE_MTL!$A$2:$A$100,MATCH('Access Point (Desc)'!$J77,[1]!MASTER_MANHOLE_MTL_DESC[#Data],0),0))","v":""},{"$f":"IF('Access Point (Desc)'!K77=\"\",\"\",INDEX([1]MANHOLE_SIZE!$A$2:$A$120,MATCH('Access Point (Desc)'!$K77,[1]!MASTER_MANHOLE_SIZE_DESC[#Data],0),0))","v":""},{"$f":"IF('Access Point (Desc)'!L77=\"\",\"\",INDEX([1]ROUTE_MH_LID_TYPE!$A$2:$A$100,MATCH('Access Point (Desc)'!$L77,[1]!MASTER_ROUTE_MH_LID_TYPE_DESC[#Data],0),0))","v":""},{"$f":"IF('Access Point (Desc)'!M77=\"\",\"\",INDEX([1]MANHOLE_MTL!$A$2:$A$100,MATCH('Access Point (Desc)'!$M77,[1]!MASTER_MANHOLE_MTL_DESC[#Data],0),0))","v":""},{"$f":"IF('Access Point (Desc)'!N77=\"\",\"\",INDEX([1]LID_BOLT_TYPE!$A$2:$A$100,MATCH('Access Point (Desc)'!$N77,[1]!MASTER_LID_BOLT_TYPE_DESC[#Data],0),0))","v":""},{"$f":"IF('Access Point (Desc)'!O77=\"\",\"\",INDEX([1]YES_NO!$A$2:$A$100,MATCH('Access Point (Desc)'!$O77,[1]!MASTER_YES_NO_DESC[#Data],0),0))","v":""},{"$f":"IF('Access Point (Desc)'!P77=\"\",\"\",'Access Point (Desc)'!P77)","v":""},{"$f":"IF('Access Point (Desc)'!Q77=\"\",\"\",INDEX([1]YES_NO!$A$2:$A$100,MATCH('Access Point (Desc)'!$Q77,[1]!MASTER_YES_NO_DESC[#Data],0),0))","v":""}]
[{"$f":"IF('Access Point (Desc)'!A78=\"\",\"\",'Access Point (Desc)'!A78)","v":""},{"$f":"IF('Access Point (Desc)'!B78=\"\",\"\",'Access Point (Desc)'!B78)","v":""},{"$f":"IF('Access Point (Desc)'!C78=\"\",\"\",'Access Point (Desc)'!C78)","v":""},{"$f":"IF('Access Point (Desc)'!D78=\"\",\"\",'Access Point (Desc)'!D78)","v":""},{"$f":"IF('Access Point (Desc)'!E78=\"\",\"\",INDEX([1]OWNER!$A$2:$A$100,MATCH('Access Point (Desc)'!$E78,[1]!MASTER_OWNER_DESC[#Data],0),0))","v":""},{"$f":"IF('Access Point (Desc)'!F78=\"\",\"\",INDEX([1]COUNTY!$A$2:$A$100,MATCH('Access Point (Desc)'!F78,[1]!MASTER_COUNTY_NAME[#Data],0),0))","v":""},{"$f":"IF('Access Point (Desc)'!G78=\"\",\"\",'Access Point (Desc)'!G78)","v":""},{"$f":"IF('Access Point (Desc)'!H78=\"\",\"\",'Access Point (Desc)'!H78)","v":""},{"$f":"IF('Access Point (Desc)'!I78=\"\",\"\",INDEX([1]ROUTE_MH_TYPE!$A$2:$A$100,MATCH('Access Point (Desc)'!$I78,[1]!MASTER_ROUTE_MH_TYPE_DESC[#Data],0),0))","v":""},{"$f":"IF('Access Point (Desc)'!J78=\"\",\"\",INDEX([1]MANHOLE_MTL!$A$2:$A$100,MATCH('Access Point (Desc)'!$J78,[1]!MASTER_MANHOLE_MTL_DESC[#Data],0),0))","v":""},{"$f":"IF('Access Point (Desc)'!K78=\"\",\"\",INDEX([1]MANHOLE_SIZE!$A$2:$A$120,MATCH('Access Point (Desc)'!$K78,[1]!MASTER_MANHOLE_SIZE_DESC[#Data],0),0))","v":""},{"$f":"IF('Access Point (Desc)'!L78=\"\",\"\",INDEX([1]ROUTE_MH_LID_TYPE!$A$2:$A$100,MATCH('Access Point (Desc)'!$L78,[1]!MASTER_ROUTE_MH_LID_TYPE_DESC[#Data],0),0))","v":""},{"$f":"IF('Access Point (Desc)'!M78=\"\",\"\",INDEX([1]MANHOLE_MTL!$A$2:$A$100,MATCH('Access Point (Desc)'!$M78,[1]!MASTER_MANHOLE_MTL_DESC[#Data],0),0))","v":""},{"$f":"IF('Access Point (Desc)'!N78=\"\",\"\",INDEX([1]LID_BOLT_TYPE!$A$2:$A$100,MATCH('Access Point (Desc)'!$N78,[1]!MASTER_LID_BOLT_TYPE_DESC[#Data],0),0))","v":""},{"$f":"IF('Access Point (Desc)'!O78=\"\",\"\",INDEX([1]YES_NO!$A$2:$A$100,MATCH('Access Point (Desc)'!$O78,[1]!MASTER_YES_NO_DESC[#Data],0),0))","v":""},{"$f":"IF('Access Point (Desc)'!P78=\"\",\"\",'Access Point (Desc)'!P78)","v":""},{"$f":"IF('Access Point (Desc)'!Q78=\"\",\"\",INDEX([1]YES_NO!$A$2:$A$100,MATCH('Access Point (Desc)'!$Q78,[1]!MASTER_YES_NO_DESC[#Data],0),0))","v":""}]
[{"$f":"IF('Access Point (Desc)'!A79=\"\",\"\",'Access Point (Desc)'!A79)","v":""},{"$f":"IF('Access Point (Desc)'!B79=\"\",\"\",'Access Point (Desc)'!B79)","v":""},{"$f":"IF('Access Point (Desc)'!C79=\"\",\"\",'Access Point (Desc)'!C79)","v":""},{"$f":"IF('Access Point (Desc)'!D79=\"\",\"\",'Access Point (Desc)'!D79)","v":""},{"$f":"IF('Access Point (Desc)'!E79=\"\",\"\",INDEX([1]OWNER!$A$2:$A$100,MATCH('Access Point (Desc)'!$E79,[1]!MASTER_OWNER_DESC[#Data],0),0))","v":""},{"$f":"IF('Access Point (Desc)'!F79=\"\",\"\",INDEX([1]COUNTY!$A$2:$A$100,MATCH('Access Point (Desc)'!F79,[1]!MASTER_COUNTY_NAME[#Data],0),0))","v":""},{"$f":"IF('Access Point (Desc)'!G79=\"\",\"\",'Access Point (Desc)'!G79)","v":""},{"$f":"IF('Access Point (Desc)'!H79=\"\",\"\",'Access Point (Desc)'!H79)","v":""},{"$f":"IF('Access Point (Desc)'!I79=\"\",\"\",INDEX([1]ROUTE_MH_TYPE!$A$2:$A$100,MATCH('Access Point (Desc)'!$I79,[1]!MASTER_ROUTE_MH_TYPE_DESC[#Data],0),0))","v":""},{"$f":"IF('Access Point (Desc)'!J79=\"\",\"\",INDEX([1]MANHOLE_MTL!$A$2:$A$100,MATCH('Access Point (Desc)'!$J79,[1]!MASTER_MANHOLE_MTL_DESC[#Data],0),0))","v":""},{"$f":"IF('Access Point (Desc)'!K79=\"\",\"\",INDEX([1]MANHOLE_SIZE!$A$2:$A$120,MATCH('Access Point (Desc)'!$K79,[1]!MASTER_MANHOLE_SIZE_DESC[#Data],0),0))","v":""},{"$f":"IF('Access Point (Desc)'!L79=\"\",\"\",INDEX([1]ROUTE_MH_LID_TYPE!$A$2:$A$100,MATCH('Access Point (Desc)'!$L79,[1]!MASTER_ROUTE_MH_LID_TYPE_DESC[#Data],0),0))","v":""},{"$f":"IF('Access Point (Desc)'!M79=\"\",\"\",INDEX([1]MANHOLE_MTL!$A$2:$A$100,MATCH('Access Point (Desc)'!$M79,[1]!MASTER_MANHOLE_MTL_DESC[#Data],0),0))","v":""},{"$f":"IF('Access Point (Desc)'!N79=\"\",\"\",INDEX([1]LID_BOLT_TYPE!$A$2:$A$100,MATCH('Access Point (Desc)'!$N79,[1]!MASTER_LID_BOLT_TYPE_DESC[#Data],0),0))","v":""},{"$f":"IF('Access Point (Desc)'!O79=\"\",\"\",INDEX([1]YES_NO!$A$2:$A$100,MATCH('Access Point (Desc)'!$O79,[1]!MASTER_YES_NO_DESC[#Data],0),0))","v":""},{"$f":"IF('Access Point (Desc)'!P79=\"\",\"\",'Access Point (Desc)'!P79)","v":""},{"$f":"IF('Access Point (Desc)'!Q79=\"\",\"\",INDEX([1]YES_NO!$A$2:$A$100,MATCH('Access Point (Desc)'!$Q79,[1]!MASTER_YES_NO_DESC[#Data],0),0))","v":""}]
[{"$f":"IF('Access Point (Desc)'!A80=\"\",\"\",'Access Point (Desc)'!A80)","v":""},{"$f":"IF('Access Point (Desc)'!B80=\"\",\"\",'Access Point (Desc)'!B80)","v":""},{"$f":"IF('Access Point (Desc)'!C80=\"\",\"\",'Access Point (Desc)'!C80)","v":""},{"$f":"IF('Access Point (Desc)'!D80=\"\",\"\",'Access Point (Desc)'!D80)","v":""},{"$f":"IF('Access Point (Desc)'!E80=\"\",\"\",INDEX([1]OWNER!$A$2:$A$100,MATCH('Access Point (Desc)'!$E80,[1]!MASTER_OWNER_DESC[#Data],0),0))","v":""},{"$f":"IF('Access Point (Desc)'!F80=\"\",\"\",INDEX([1]COUNTY!$A$2:$A$100,MATCH('Access Point (Desc)'!F80,[1]!MASTER_COUNTY_NAME[#Data],0),0))","v":""},{"$f":"IF('Access Point (Desc)'!G80=\"\",\"\",'Access Point (Desc)'!G80)","v":""},{"$f":"IF('Access Point (Desc)'!H80=\"\",\"\",'Access Point (Desc)'!H80)","v":""},{"$f":"IF('Access Point (Desc)'!I80=\"\",\"\",INDEX([1]ROUTE_MH_TYPE!$A$2:$A$100,MATCH('Access Point (Desc)'!$I80,[1]!MASTER_ROUTE_MH_TYPE_DESC[#Data],0),0))","v":""},{"$f":"IF('Access Point (Desc)'!J80=\"\",\"\",INDEX([1]MANHOLE_MTL!$A$2:$A$100,MATCH('Access Point (Desc)'!$J80,[1]!MASTER_MANHOLE_MTL_DESC[#Data],0),0))","v":""},{"$f":"IF('Access Point (Desc)'!K80=\"\",\"\",INDEX([1]MANHOLE_SIZE!$A$2:$A$120,MATCH('Access Point (Desc)'!$K80,[1]!MASTER_MANHOLE_SIZE_DESC[#Data],0),0))","v":""},{"$f":"IF('Access Point (Desc)'!L80=\"\",\"\",INDEX([1]ROUTE_MH_LID_TYPE!$A$2:$A$100,MATCH('Access Point (Desc)'!$L80,[1]!MASTER_ROUTE_MH_LID_TYPE_DESC[#Data],0),0))","v":""},{"$f":"IF('Access Point (Desc)'!M80=\"\",\"\",INDEX([1]MANHOLE_MTL!$A$2:$A$100,MATCH('Access Point (Desc)'!$M80,[1]!MASTER_MANHOLE_MTL_DESC[#Data],0),0))","v":""},{"$f":"IF('Access Point (Desc)'!N80=\"\",\"\",INDEX([1]LID_BOLT_TYPE!$A$2:$A$100,MATCH('Access Point (Desc)'!$N80,[1]!MASTER_LID_BOLT_TYPE_DESC[#Data],0),0))","v":""},{"$f":"IF('Access Point (Desc)'!O80=\"\",\"\",INDEX([1]YES_NO!$A$2:$A$100,MATCH('Access Point (Desc)'!$O80,[1]!MASTER_YES_NO_DESC[#Data],0),0))","v":""},{"$f":"IF('Access Point (Desc)'!P80=\"\",\"\",'Access Point (Desc)'!P80)","v":""},{"$f":"IF('Access Point (Desc)'!Q80=\"\",\"\",INDEX([1]YES_NO!$A$2:$A$100,MATCH('Access Point (Desc)'!$Q80,[1]!MASTER_YES_NO_DESC[#Data],0),0))","v":""}]
[{"$f":"IF('Access Point (Desc)'!A81=\"\",\"\",'Access Point (Desc)'!A81)","v":""},{"$f":"IF('Access Point (Desc)'!B81=\"\",\"\",'Access Point (Desc)'!B81)","v":""},{"$f":"IF('Access Point (Desc)'!C81=\"\",\"\",'Access Point (Desc)'!C81)","v":""},{"$f":"IF('Access Point (Desc)'!D81=\"\",\"\",'Access Point (Desc)'!D81)","v":""},{"$f":"IF('Access Point (Desc)'!E81=\"\",\"\",INDEX([1]OWNER!$A$2:$A$100,MATCH('Access Point (Desc)'!$E81,[1]!MASTER_OWNER_DESC[#Data],0),0))","v":""},{"$f":"IF('Access Point (Desc)'!F81=\"\",\"\",INDEX([1]COUNTY!$A$2:$A$100,MATCH('Access Point (Desc)'!F81,[1]!MASTER_COUNTY_NAME[#Data],0),0))","v":""},{"$f":"IF('Access Point (Desc)'!G81=\"\",\"\",'Access Point (Desc)'!G81)","v":""},{"$f":"IF('Access Point (Desc)'!H81=\"\",\"\",'Access Point (Desc)'!H81)","v":""},{"$f":"IF('Access Point (Desc)'!I81=\"\",\"\",INDEX([1]ROUTE_MH_TYPE!$A$2:$A$100,MATCH('Access Point (Desc)'!$I81,[1]!MASTER_ROUTE_MH_TYPE_DESC[#Data],0),0))","v":""},{"$f":"IF('Access Point (Desc)'!J81=\"\",\"\",INDEX([1]MANHOLE_MTL!$A$2:$A$100,MATCH('Access Point (Desc)'!$J81,[1]!MASTER_MANHOLE_MTL_DESC[#Data],0),0))","v":""},{"$f":"IF('Access Point (Desc)'!K81=\"\",\"\",INDEX([1]MANHOLE_SIZE!$A$2:$A$120,MATCH('Access Point (Desc)'!$K81,[1]!MASTER_MANHOLE_SIZE_DESC[#Data],0),0))","v":""},{"$f":"IF('Access Point (Desc)'!L81=\"\",\"\",INDEX([1]ROUTE_MH_LID_TYPE!$A$2:$A$100,MATCH('Access Point (Desc)'!$L81,[1]!MASTER_ROUTE_MH_LID_TYPE_DESC[#Data],0),0))","v":""},{"$f":"IF('Access Point (Desc)'!M81=\"\",\"\",INDEX([1]MANHOLE_MTL!$A$2:$A$100,MATCH('Access Point (Desc)'!$M81,[1]!MASTER_MANHOLE_MTL_DESC[#Data],0),0))","v":""},{"$f":"IF('Access Point (Desc)'!N81=\"\",\"\",INDEX([1]LID_BOLT_TYPE!$A$2:$A$100,MATCH('Access Point (Desc)'!$N81,[1]!MASTER_LID_BOLT_TYPE_DESC[#Data],0),0))","v":""},{"$f":"IF('Access Point (Desc)'!O81=\"\",\"\",INDEX([1]YES_NO!$A$2:$A$100,MATCH('Access Point (Desc)'!$O81,[1]!MASTER_YES_NO_DESC[#Data],0),0))","v":""},{"$f":"IF('Access Point (Desc)'!P81=\"\",\"\",'Access Point (Desc)'!P81)","v":""},{"$f":"IF('Access Point (Desc)'!Q81=\"\",\"\",INDEX([1]YES_NO!$A$2:$A$100,MATCH('Access Point (Desc)'!$Q81,[1]!MASTER_YES_NO_DESC[#Data],0),0))","v":""}]
[{"$f":"IF('Access Point (Desc)'!A82=\"\",\"\",'Access Point (Desc)'!A82)","v":""},{"$f":"IF('Access Point (Desc)'!B82=\"\",\"\",'Access Point (Desc)'!B82)","v":""},{"$f":"IF('Access Point (Desc)'!C82=\"\",\"\",'Access Point (Desc)'!C82)","v":""},{"$f":"IF('Access Point (Desc)'!D82=\"\",\"\",'Access Point (Desc)'!D82)","v":""},{"$f":"IF('Access Point (Desc)'!E82=\"\",\"\",INDEX([1]OWNER!$A$2:$A$100,MATCH('Access Point (Desc)'!$E82,[1]!MASTER_OWNER_DESC[#Data],0),0))","v":""},{"$f":"IF('Access Point (Desc)'!F82=\"\",\"\",INDEX([1]COUNTY!$A$2:$A$100,MATCH('Access Point (Desc)'!F82,[1]!MASTER_COUNTY_NAME[#Data],0),0))","v":""},{"$f":"IF('Access Point (Desc)'!G82=\"\",\"\",'Access Point (Desc)'!G82)","v":""},{"$f":"IF('Access Point (Desc)'!H82=\"\",\"\",'Access Point (Desc)'!H82)","v":""},{"$f":"IF('Access Point (Desc)'!I82=\"\",\"\",INDEX([1]ROUTE_MH_TYPE!$A$2:$A$100,MATCH('Access Point (Desc)'!$I82,[1]!MASTER_ROUTE_MH_TYPE_DESC[#Data],0),0))","v":""},{"$f":"IF('Access Point (Desc)'!J82=\"\",\"\",INDEX([1]MANHOLE_MTL!$A$2:$A$100,MATCH('Access Point (Desc)'!$J82,[1]!MASTER_MANHOLE_MTL_DESC[#Data],0),0))","v":""},{"$f":"IF('Access Point (Desc)'!K82=\"\",\"\",INDEX([1]MANHOLE_SIZE!$A$2:$A$120,MATCH('Access Point (Desc)'!$K82,[1]!MASTER_MANHOLE_SIZE_DESC[#Data],0),0))","v":""},{"$f":"IF('Access Point (Desc)'!L82=\"\",\"\",INDEX([1]ROUTE_MH_LID_TYPE!$A$2:$A$100,MATCH('Access Point (Desc)'!$L82,[1]!MASTER_ROUTE_MH_LID_TYPE_DESC[#Data],0),0))","v":""},{"$f":"IF('Access Point (Desc)'!M82=\"\",\"\",INDEX([1]MANHOLE_MTL!$A$2:$A$100,MATCH('Access Point (Desc)'!$M82,[1]!MASTER_MANHOLE_MTL_DESC[#Data],0),0))","v":""},{"$f":"IF('Access Point (Desc)'!N82=\"\",\"\",INDEX([1]LID_BOLT_TYPE!$A$2:$A$100,MATCH('Access Point (Desc)'!$N82,[1]!MASTER_LID_BOLT_TYPE_DESC[#Data],0),0))","v":""},{"$f":"IF('Access Point (Desc)'!O82=\"\",\"\",INDEX([1]YES_NO!$A$2:$A$100,MATCH('Access Point (Desc)'!$O82,[1]!MASTER_YES_NO_DESC[#Data],0),0))","v":""},{"$f":"IF('Access Point (Desc)'!P82=\"\",\"\",'Access Point (Desc)'!P82)","v":""},{"$f":"IF('Access Point (Desc)'!Q82=\"\",\"\",INDEX([1]YES_NO!$A$2:$A$100,MATCH('Access Point (Desc)'!$Q82,[1]!MASTER_YES_NO_DESC[#Data],0),0))","v":""}]
[{"$f":"IF('Access Point (Desc)'!A83=\"\",\"\",'Access Point (Desc)'!A83)","v":""},{"$f":"IF('Access Point (Desc)'!B83=\"\",\"\",'Access Point (Desc)'!B83)","v":""},{"$f":"IF('Access Point (Desc)'!C83=\"\",\"\",'Access Point (Desc)'!C83)","v":""},{"$f":"IF('Access Point (Desc)'!D83=\"\",\"\",'Access Point (Desc)'!D83)","v":""},{"$f":"IF('Access Point (Desc)'!E83=\"\",\"\",INDEX([1]OWNER!$A$2:$A$100,MATCH('Access Point (Desc)'!$E83,[1]!MASTER_OWNER_DESC[#Data],0),0))","v":""},{"$f":"IF('Access Point (Desc)'!F83=\"\",\"\",INDEX([1]COUNTY!$A$2:$A$100,MATCH('Access Point (Desc)'!F83,[1]!MASTER_COUNTY_NAME[#Data],0),0))","v":""},{"$f":"IF('Access Point (Desc)'!G83=\"\",\"\",'Access Point (Desc)'!G83)","v":""},{"$f":"IF('Access Point (Desc)'!H83=\"\",\"\",'Access Point (Desc)'!H83)","v":""},{"$f":"IF('Access Point (Desc)'!I83=\"\",\"\",INDEX([1]ROUTE_MH_TYPE!$A$2:$A$100,MATCH('Access Point (Desc)'!$I83,[1]!MASTER_ROUTE_MH_TYPE_DESC[#Data],0),0))","v":""},{"$f":"IF('Access Point (Desc)'!J83=\"\",\"\",INDEX([1]MANHOLE_MTL!$A$2:$A$100,MATCH('Access Point (Desc)'!$J83,[1]!MASTER_MANHOLE_MTL_DESC[#Data],0),0))","v":""},{"$f":"IF('Access Point (Desc)'!K83=\"\",\"\",INDEX([1]MANHOLE_SIZE!$A$2:$A$120,MATCH('Access Point (Desc)'!$K83,[1]!MASTER_MANHOLE_SIZE_DESC[#Data],0),0))","v":""},{"$f":"IF('Access Point (Desc)'!L83=\"\",\"\",INDEX([1]ROUTE_MH_LID_TYPE!$A$2:$A$100,MATCH('Access Point (Desc)'!$L83,[1]!MASTER_ROUTE_MH_LID_TYPE_DESC[#Data],0),0))","v":""},{"$f":"IF('Access Point (Desc)'!M83=\"\",\"\",INDEX([1]MANHOLE_MTL!$A$2:$A$100,MATCH('Access Point (Desc)'!$M83,[1]!MASTER_MANHOLE_MTL_DESC[#Data],0),0))","v":""},{"$f":"IF('Access Point (Desc)'!N83=\"\",\"\",INDEX([1]LID_BOLT_TYPE!$A$2:$A$100,MATCH('Access Point (Desc)'!$N83,[1]!MASTER_LID_BOLT_TYPE_DESC[#Data],0),0))","v":""},{"$f":"IF('Access Point (Desc)'!O83=\"\",\"\",INDEX([1]YES_NO!$A$2:$A$100,MATCH('Access Point (Desc)'!$O83,[1]!MASTER_YES_NO_DESC[#Data],0),0))","v":""},{"$f":"IF('Access Point (Desc)'!P83=\"\",\"\",'Access Point (Desc)'!P83)","v":""},{"$f":"IF('Access Point (Desc)'!Q83=\"\",\"\",INDEX([1]YES_NO!$A$2:$A$100,MATCH('Access Point (Desc)'!$Q83,[1]!MASTER_YES_NO_DESC[#Data],0),0))","v":""}]
[{"$f":"IF('Access Point (Desc)'!A84=\"\",\"\",'Access Point (Desc)'!A84)","v":""},{"$f":"IF('Access Point (Desc)'!B84=\"\",\"\",'Access Point (Desc)'!B84)","v":""},{"$f":"IF('Access Point (Desc)'!C84=\"\",\"\",'Access Point (Desc)'!C84)","v":""},{"$f":"IF('Access Point (Desc)'!D84=\"\",\"\",'Access Point (Desc)'!D84)","v":""},{"$f":"IF('Access Point (Desc)'!E84=\"\",\"\",INDEX([1]OWNER!$A$2:$A$100,MATCH('Access Point (Desc)'!$E84,[1]!MASTER_OWNER_DESC[#Data],0),0))","v":""},{"$f":"IF('Access Point (Desc)'!F84=\"\",\"\",INDEX([1]COUNTY!$A$2:$A$100,MATCH('Access Point (Desc)'!F84,[1]!MASTER_COUNTY_NAME[#Data],0),0))","v":""},{"$f":"IF('Access Point (Desc)'!G84=\"\",\"\",'Access Point (Desc)'!G84)","v":""},{"$f":"IF('Access Point (Desc)'!H84=\"\",\"\",'Access Point (Desc)'!H84)","v":""},{"$f":"IF('Access Point (Desc)'!I84=\"\",\"\",INDEX([1]ROUTE_MH_TYPE!$A$2:$A$100,MATCH('Access Point (Desc)'!$I84,[1]!MASTER_ROUTE_MH_TYPE_DESC[#Data],0),0))","v":""},{"$f":"IF('Access Point (Desc)'!J84=\"\",\"\",INDEX([1]MANHOLE_MTL!$A$2:$A$100,MATCH('Access Point (Desc)'!$J84,[1]!MASTER_MANHOLE_MTL_DESC[#Data],0),0))","v":""},{"$f":"IF('Access Point (Desc)'!K84=\"\",\"\",INDEX([1]MANHOLE_SIZE!$A$2:$A$120,MATCH('Access Point (Desc)'!$K84,[1]!MASTER_MANHOLE_SIZE_DESC[#Data],0),0))","v":""},{"$f":"IF('Access Point (Desc)'!L84=\"\",\"\",INDEX([1]ROUTE_MH_LID_TYPE!$A$2:$A$100,MATCH('Access Point (Desc)'!$L84,[1]!MASTER_ROUTE_MH_LID_TYPE_DESC[#Data],0),0))","v":""},{"$f":"IF('Access Point (Desc)'!M84=\"\",\"\",INDEX([1]MANHOLE_MTL!$A$2:$A$100,MATCH('Access Point (Desc)'!$M84,[1]!MASTER_MANHOLE_MTL_DESC[#Data],0),0))","v":""},{"$f":"IF('Access Point (Desc)'!N84=\"\",\"\",INDEX([1]LID_BOLT_TYPE!$A$2:$A$100,MATCH('Access Point (Desc)'!$N84,[1]!MASTER_LID_BOLT_TYPE_DESC[#Data],0),0))","v":""},{"$f":"IF('Access Point (Desc)'!O84=\"\",\"\",INDEX([1]YES_NO!$A$2:$A$100,MATCH('Access Point (Desc)'!$O84,[1]!MASTER_YES_NO_DESC[#Data],0),0))","v":""},{"$f":"IF('Access Point (Desc)'!P84=\"\",\"\",'Access Point (Desc)'!P84)","v":""},{"$f":"IF('Access Point (Desc)'!Q84=\"\",\"\",INDEX([1]YES_NO!$A$2:$A$100,MATCH('Access Point (Desc)'!$Q84,[1]!MASTER_YES_NO_DESC[#Data],0),0))","v":""}]
[{"$f":"IF('Access Point (Desc)'!A85=\"\",\"\",'Access Point (Desc)'!A85)","v":""},{"$f":"IF('Access Point (Desc)'!B85=\"\",\"\",'Access Point (Desc)'!B85)","v":""},{"$f":"IF('Access Point (Desc)'!C85=\"\",\"\",'Access Point (Desc)'!C85)","v":""},{"$f":"IF('Access Point (Desc)'!D85=\"\",\"\",'Access Point (Desc)'!D85)","v":""},{"$f":"IF('Access Point (Desc)'!E85=\"\",\"\",INDEX([1]OWNER!$A$2:$A$100,MATCH('Access Point (Desc)'!$E85,[1]!MASTER_OWNER_DESC[#Data],0),0))","v":""},{"$f":"IF('Access Point (Desc)'!F85=\"\",\"\",INDEX([1]COUNTY!$A$2:$A$100,MATCH('Access Point (Desc)'!F85,[1]!MASTER_COUNTY_NAME[#Data],0),0))","v":""},{"$f":"IF('Access Point (Desc)'!G85=\"\",\"\",'Access Point (Desc)'!G85)","v":""},{"$f":"IF('Access Point (Desc)'!H85=\"\",\"\",'Access Point (Desc)'!H85)","v":""},{"$f":"IF('Access Point (Desc)'!I85=\"\",\"\",INDEX([1]ROUTE_MH_TYPE!$A$2:$A$100,MATCH('Access Point (Desc)'!$I85,[1]!MASTER_ROUTE_MH_TYPE_DESC[#Data],0),0))","v":""},{"$f":"IF('Access Point (Desc)'!J85=\"\",\"\",INDEX([1]MANHOLE_MTL!$A$2:$A$100,MATCH('Access Point (Desc)'!$J85,[1]!MASTER_MANHOLE_MTL_DESC[#Data],0),0))","v":""},{"$f":"IF('Access Point (Desc)'!K85=\"\",\"\",INDEX([1]MANHOLE_SIZE!$A$2:$A$120,MATCH('Access Point (Desc)'!$K85,[1]!MASTER_MANHOLE_SIZE_DESC[#Data],0),0))","v":""},{"$f":"IF('Access Point (Desc)'!L85=\"\",\"\",INDEX([1]ROUTE_MH_LID_TYPE!$A$2:$A$100,MATCH('Access Point (Desc)'!$L85,[1]!MASTER_ROUTE_MH_LID_TYPE_DESC[#Data],0),0))","v":""},{"$f":"IF('Access Point (Desc)'!M85=\"\",\"\",INDEX([1]MANHOLE_MTL!$A$2:$A$100,MATCH('Access Point (Desc)'!$M85,[1]!MASTER_MANHOLE_MTL_DESC[#Data],0),0))","v":""},{"$f":"IF('Access Point (Desc)'!N85=\"\",\"\",INDEX([1]LID_BOLT_TYPE!$A$2:$A$100,MATCH('Access Point (Desc)'!$N85,[1]!MASTER_LID_BOLT_TYPE_DESC[#Data],0),0))","v":""},{"$f":"IF('Access Point (Desc)'!O85=\"\",\"\",INDEX([1]YES_NO!$A$2:$A$100,MATCH('Access Point (Desc)'!$O85,[1]!MASTER_YES_NO_DESC[#Data],0),0))","v":""},{"$f":"IF('Access Point (Desc)'!P85=\"\",\"\",'Access Point (Desc)'!P85)","v":""},{"$f":"IF('Access Point (Desc)'!Q85=\"\",\"\",INDEX([1]YES_NO!$A$2:$A$100,MATCH('Access Point (Desc)'!$Q85,[1]!MASTER_YES_NO_DESC[#Data],0),0))","v":""}]
[{"$f":"IF('Access Point (Desc)'!A86=\"\",\"\",'Access Point (Desc)'!A86)","v":""},{"$f":"IF('Access Point (Desc)'!B86=\"\",\"\",'Access Point (Desc)'!B86)","v":""},{"$f":"IF('Access Point (Desc)'!C86=\"\",\"\",'Access Point (Desc)'!C86)","v":""},{"$f":"IF('Access Point (Desc)'!D86=\"\",\"\",'Access Point (Desc)'!D86)","v":""},{"$f":"IF('Access Point (Desc)'!E86=\"\",\"\",INDEX([1]OWNER!$A$2:$A$100,MATCH('Access Point (Desc)'!$E86,[1]!MASTER_OWNER_DESC[#Data],0),0))","v":""},{"$f":"IF('Access Point (Desc)'!F86=\"\",\"\",INDEX([1]COUNTY!$A$2:$A$100,MATCH('Access Point (Desc)'!F86,[1]!MASTER_COUNTY_NAME[#Data],0),0))","v":""},{"$f":"IF('Access Point (Desc)'!G86=\"\",\"\",'Access Point (Desc)'!G86)","v":""},{"$f":"IF('Access Point (Desc)'!H86=\"\",\"\",'Access Point (Desc)'!H86)","v":""},{"$f":"IF('Access Point (Desc)'!I86=\"\",\"\",INDEX([1]ROUTE_MH_TYPE!$A$2:$A$100,MATCH('Access Point (Desc)'!$I86,[1]!MASTER_ROUTE_MH_TYPE_DESC[#Data],0),0))","v":""},{"$f":"IF('Access Point (Desc)'!J86=\"\",\"\",INDEX([1]MANHOLE_MTL!$A$2:$A$100,MATCH('Access Point (Desc)'!$J86,[1]!MASTER_MANHOLE_MTL_DESC[#Data],0),0))","v":""},{"$f":"IF('Access Point (Desc)'!K86=\"\",\"\",INDEX([1]MANHOLE_SIZE!$A$2:$A$120,MATCH('Access Point (Desc)'!$K86,[1]!MASTER_MANHOLE_SIZE_DESC[#Data],0),0))","v":""},{"$f":"IF('Access Point (Desc)'!L86=\"\",\"\",INDEX([1]ROUTE_MH_LID_TYPE!$A$2:$A$100,MATCH('Access Point (Desc)'!$L86,[1]!MASTER_ROUTE_MH_LID_TYPE_DESC[#Data],0),0))","v":""},{"$f":"IF('Access Point (Desc)'!M86=\"\",\"\",INDEX([1]MANHOLE_MTL!$A$2:$A$100,MATCH('Access Point (Desc)'!$M86,[1]!MASTER_MANHOLE_MTL_DESC[#Data],0),0))","v":""},{"$f":"IF('Access Point (Desc)'!N86=\"\",\"\",INDEX([1]LID_BOLT_TYPE!$A$2:$A$100,MATCH('Access Point (Desc)'!$N86,[1]!MASTER_LID_BOLT_TYPE_DESC[#Data],0),0))","v":""},{"$f":"IF('Access Point (Desc)'!O86=\"\",\"\",INDEX([1]YES_NO!$A$2:$A$100,MATCH('Access Point (Desc)'!$O86,[1]!MASTER_YES_NO_DESC[#Data],0),0))","v":""},{"$f":"IF('Access Point (Desc)'!P86=\"\",\"\",'Access Point (Desc)'!P86)","v":""},{"$f":"IF('Access Point (Desc)'!Q86=\"\",\"\",INDEX([1]YES_NO!$A$2:$A$100,MATCH('Access Point (Desc)'!$Q86,[1]!MASTER_YES_NO_DESC[#Data],0),0))","v":""}]
[{"$f":"IF('Access Point (Desc)'!A87=\"\",\"\",'Access Point (Desc)'!A87)","v":""},{"$f":"IF('Access Point (Desc)'!B87=\"\",\"\",'Access Point (Desc)'!B87)","v":""},{"$f":"IF('Access Point (Desc)'!C87=\"\",\"\",'Access Point (Desc)'!C87)","v":""},{"$f":"IF('Access Point (Desc)'!D87=\"\",\"\",'Access Point (Desc)'!D87)","v":""},{"$f":"IF('Access Point (Desc)'!E87=\"\",\"\",INDEX([1]OWNER!$A$2:$A$100,MATCH('Access Point (Desc)'!$E87,[1]!MASTER_OWNER_DESC[#Data],0),0))","v":""},{"$f":"IF('Access Point (Desc)'!F87=\"\",\"\",INDEX([1]COUNTY!$A$2:$A$100,MATCH('Access Point (Desc)'!F87,[1]!MASTER_COUNTY_NAME[#Data],0),0))","v":""},{"$f":"IF('Access Point (Desc)'!G87=\"\",\"\",'Access Point (Desc)'!G87)","v":""},{"$f":"IF('Access Point (Desc)'!H87=\"\",\"\",'Access Point (Desc)'!H87)","v":""},{"$f":"IF('Access Point (Desc)'!I87=\"\",\"\",INDEX([1]ROUTE_MH_TYPE!$A$2:$A$100,MATCH('Access Point (Desc)'!$I87,[1]!MASTER_ROUTE_MH_TYPE_DESC[#Data],0),0))","v":""},{"$f":"IF('Access Point (Desc)'!J87=\"\",\"\",INDEX([1]MANHOLE_MTL!$A$2:$A$100,MATCH('Access Point (Desc)'!$J87,[1]!MASTER_MANHOLE_MTL_DESC[#Data],0),0))","v":""},{"$f":"IF('Access Point (Desc)'!K87=\"\",\"\",INDEX([1]MANHOLE_SIZE!$A$2:$A$120,MATCH('Access Point (Desc)'!$K87,[1]!MASTER_MANHOLE_SIZE_DESC[#Data],0),0))","v":""},{"$f":"IF('Access Point (Desc)'!L87=\"\",\"\",INDEX([1]ROUTE_MH_LID_TYPE!$A$2:$A$100,MATCH('Access Point (Desc)'!$L87,[1]!MASTER_ROUTE_MH_LID_TYPE_DESC[#Data],0),0))","v":""},{"$f":"IF('Access Point (Desc)'!M87=\"\",\"\",INDEX([1]MANHOLE_MTL!$A$2:$A$100,MATCH('Access Point (Desc)'!$M87,[1]!MASTER_MANHOLE_MTL_DESC[#Data],0),0))","v":""},{"$f":"IF('Access Point (Desc)'!N87=\"\",\"\",INDEX([1]LID_BOLT_TYPE!$A$2:$A$100,MATCH('Access Point (Desc)'!$N87,[1]!MASTER_LID_BOLT_TYPE_DESC[#Data],0),0))","v":""},{"$f":"IF('Access Point (Desc)'!O87=\"\",\"\",INDEX([1]YES_NO!$A$2:$A$100,MATCH('Access Point (Desc)'!$O87,[1]!MASTER_YES_NO_DESC[#Data],0),0))","v":""},{"$f":"IF('Access Point (Desc)'!P87=\"\",\"\",'Access Point (Desc)'!P87)","v":""},{"$f":"IF('Access Point (Desc)'!Q87=\"\",\"\",INDEX([1]YES_NO!$A$2:$A$100,MATCH('Access Point (Desc)'!$Q87,[1]!MASTER_YES_NO_DESC[#Data],0),0))","v":""}]
[{"$f":"IF('Access Point (Desc)'!A88=\"\",\"\",'Access Point (Desc)'!A88)","v":""},{"$f":"IF('Access Point (Desc)'!B88=\"\",\"\",'Access Point (Desc)'!B88)","v":""},{"$f":"IF('Access Point (Desc)'!C88=\"\",\"\",'Access Point (Desc)'!C88)","v":""},{"$f":"IF('Access Point (Desc)'!D88=\"\",\"\",'Access Point (Desc)'!D88)","v":""},{"$f":"IF('Access Point (Desc)'!E88=\"\",\"\",INDEX([1]OWNER!$A$2:$A$100,MATCH('Access Point (Desc)'!$E88,[1]!MASTER_OWNER_DESC[#Data],0),0))","v":""},{"$f":"IF('Access Point (Desc)'!F88=\"\",\"\",INDEX([1]COUNTY!$A$2:$A$100,MATCH('Access Point (Desc)'!F88,[1]!MASTER_COUNTY_NAME[#Data],0),0))","v":""},{"$f":"IF('Access Point (Desc)'!G88=\"\",\"\",'Access Point (Desc)'!G88)","v":""},{"$f":"IF('Access Point (Desc)'!H88=\"\",\"\",'Access Point (Desc)'!H88)","v":""},{"$f":"IF('Access Point (Desc)'!I88=\"\",\"\",INDEX([1]ROUTE_MH_TYPE!$A$2:$A$100,MATCH('Access Point (Desc)'!$I88,[1]!MASTER_ROUTE_MH_TYPE_DESC[#Data],0),0))","v":""},{"$f":"IF('Access Point (Desc)'!J88=\"\",\"\",INDEX([1]MANHOLE_MTL!$A$2:$A$100,MATCH('Access Point (Desc)'!$J88,[1]!MASTER_MANHOLE_MTL_DESC[#Data],0),0))","v":""},{"$f":"IF('Access Point (Desc)'!K88=\"\",\"\",INDEX([1]MANHOLE_SIZE!$A$2:$A$120,MATCH('Access Point (Desc)'!$K88,[1]!MASTER_MANHOLE_SIZE_DESC[#Data],0),0))","v":""},{"$f":"IF('Access Point (Desc)'!L88=\"\",\"\",INDEX([1]ROUTE_MH_LID_TYPE!$A$2:$A$100,MATCH('Access Point (Desc)'!$L88,[1]!MASTER_ROUTE_MH_LID_TYPE_DESC[#Data],0),0))","v":""},{"$f":"IF('Access Point (Desc)'!M88=\"\",\"\",INDEX([1]MANHOLE_MTL!$A$2:$A$100,MATCH('Access Point (Desc)'!$M88,[1]!MASTER_MANHOLE_MTL_DESC[#Data],0),0))","v":""},{"$f":"IF('Access Point (Desc)'!N88=\"\",\"\",INDEX([1]LID_BOLT_TYPE!$A$2:$A$100,MATCH('Access Point (Desc)'!$N88,[1]!MASTER_LID_BOLT_TYPE_DESC[#Data],0),0))","v":""},{"$f":"IF('Access Point (Desc)'!O88=\"\",\"\",INDEX([1]YES_NO!$A$2:$A$100,MATCH('Access Point (Desc)'!$O88,[1]!MASTER_YES_NO_DESC[#Data],0),0))","v":""},{"$f":"IF('Access Point (Desc)'!P88=\"\",\"\",'Access Point (Desc)'!P88)","v":""},{"$f":"IF('Access Point (Desc)'!Q88=\"\",\"\",INDEX([1]YES_NO!$A$2:$A$100,MATCH('Access Point (Desc)'!$Q88,[1]!MASTER_YES_NO_DESC[#Data],0),0))","v":""}]
[{"$f":"IF('Access Point (Desc)'!A89=\"\",\"\",'Access Point (Desc)'!A89)","v":""},{"$f":"IF('Access Point (Desc)'!B89=\"\",\"\",'Access Point (Desc)'!B89)","v":""},{"$f":"IF('Access Point (Desc)'!C89=\"\",\"\",'Access Point (Desc)'!C89)","v":""},{"$f":"IF('Access Point (Desc)'!D89=\"\",\"\",'Access Point (Desc)'!D89)","v":""},{"$f":"IF('Access Point (Desc)'!E89=\"\",\"\",INDEX([1]OWNER!$A$2:$A$100,MATCH('Access Point (Desc)'!$E89,[1]!MASTER_OWNER_DESC[#Data],0),0))","v":""},{"$f":"IF('Access Point (Desc)'!F89=\"\",\"\",INDEX([1]COUNTY!$A$2:$A$100,MATCH('Access Point (Desc)'!F89,[1]!MASTER_COUNTY_NAME[#Data],0),0))","v":""},{"$f":"IF('Access Point (Desc)'!G89=\"\",\"\",'Access Point (Desc)'!G89)","v":""},{"$f":"IF('Access Point (Desc)'!H89=\"\",\"\",'Access Point (Desc)'!H89)","v":""},{"$f":"IF('Access Point (Desc)'!I89=\"\",\"\",INDEX([1]ROUTE_MH_TYPE!$A$2:$A$100,MATCH('Access Point (Desc)'!$I89,[1]!MASTER_ROUTE_MH_TYPE_DESC[#Data],0),0))","v":""},{"$f":"IF('Access Point (Desc)'!J89=\"\",\"\",INDEX([1]MANHOLE_MTL!$A$2:$A$100,MATCH('Access Point (Desc)'!$J89,[1]!MASTER_MANHOLE_MTL_DESC[#Data],0),0))","v":""},{"$f":"IF('Access Point (Desc)'!K89=\"\",\"\",INDEX([1]MANHOLE_SIZE!$A$2:$A$120,MATCH('Access Point (Desc)'!$K89,[1]!MASTER_MANHOLE_SIZE_DESC[#Data],0),0))","v":""},{"$f":"IF('Access Point (Desc)'!L89=\"\",\"\",INDEX([1]ROUTE_MH_LID_TYPE!$A$2:$A$100,MATCH('Access Point (Desc)'!$L89,[1]!MASTER_ROUTE_MH_LID_TYPE_DESC[#Data],0),0))","v":""},{"$f":"IF('Access Point (Desc)'!M89=\"\",\"\",INDEX([1]MANHOLE_MTL!$A$2:$A$100,MATCH('Access Point (Desc)'!$M89,[1]!MASTER_MANHOLE_MTL_DESC[#Data],0),0))","v":""},{"$f":"IF('Access Point (Desc)'!N89=\"\",\"\",INDEX([1]LID_BOLT_TYPE!$A$2:$A$100,MATCH('Access Point (Desc)'!$N89,[1]!MASTER_LID_BOLT_TYPE_DESC[#Data],0),0))","v":""},{"$f":"IF('Access Point (Desc)'!O89=\"\",\"\",INDEX([1]YES_NO!$A$2:$A$100,MATCH('Access Point (Desc)'!$O89,[1]!MASTER_YES_NO_DESC[#Data],0),0))","v":""},{"$f":"IF('Access Point (Desc)'!P89=\"\",\"\",'Access Point (Desc)'!P89)","v":""},{"$f":"IF('Access Point (Desc)'!Q89=\"\",\"\",INDEX([1]YES_NO!$A$2:$A$100,MATCH('Access Point (Desc)'!$Q89,[1]!MASTER_YES_NO_DESC[#Data],0),0))","v":""}]
[{"$f":"IF('Access Point (Desc)'!A90=\"\",\"\",'Access Point (Desc)'!A90)","v":""},{"$f":"IF('Access Point (Desc)'!B90=\"\",\"\",'Access Point (Desc)'!B90)","v":""},{"$f":"IF('Access Point (Desc)'!C90=\"\",\"\",'Access Point (Desc)'!C90)","v":""},{"$f":"IF('Access Point (Desc)'!D90=\"\",\"\",'Access Point (Desc)'!D90)","v":""},{"$f":"IF('Access Point (Desc)'!E90=\"\",\"\",INDEX([1]OWNER!$A$2:$A$100,MATCH('Access Point (Desc)'!$E90,[1]!MASTER_OWNER_DESC[#Data],0),0))","v":""},{"$f":"IF('Access Point (Desc)'!F90=\"\",\"\",INDEX([1]COUNTY!$A$2:$A$100,MATCH('Access Point (Desc)'!F90,[1]!MASTER_COUNTY_NAME[#Data],0),0))","v":""},{"$f":"IF('Access Point (Desc)'!G90=\"\",\"\",'Access Point (Desc)'!G90)","v":""},{"$f":"IF('Access Point (Desc)'!H90=\"\",\"\",'Access Point (Desc)'!H90)","v":""},{"$f":"IF('Access Point (Desc)'!I90=\"\",\"\",INDEX([1]ROUTE_MH_TYPE!$A$2:$A$100,MATCH('Access Point (Desc)'!$I90,[1]!MASTER_ROUTE_MH_TYPE_DESC[#Data],0),0))","v":""},{"$f":"IF('Access Point (Desc)'!J90=\"\",\"\",INDEX([1]MANHOLE_MTL!$A$2:$A$100,MATCH('Access Point (Desc)'!$J90,[1]!MASTER_MANHOLE_MTL_DESC[#Data],0),0))","v":""},{"$f":"IF('Access Point (Desc)'!K90=\"\",\"\",INDEX([1]MANHOLE_SIZE!$A$2:$A$120,MATCH('Access Point (Desc)'!$K90,[1]!MASTER_MANHOLE_SIZE_DESC[#Data],0),0))","v":""},{"$f":"IF('Access Point (Desc)'!L90=\"\",\"\",INDEX([1]ROUTE_MH_LID_TYPE!$A$2:$A$100,MATCH('Access Point (Desc)'!$L90,[1]!MASTER_ROUTE_MH_LID_TYPE_DESC[#Data],0),0))","v":""},{"$f":"IF('Access Point (Desc)'!M90=\"\",\"\",INDEX([1]MANHOLE_MTL!$A$2:$A$100,MATCH('Access Point (Desc)'!$M90,[1]!MASTER_MANHOLE_MTL_DESC[#Data],0),0))","v":""},{"$f":"IF('Access Point (Desc)'!N90=\"\",\"\",INDEX([1]LID_BOLT_TYPE!$A$2:$A$100,MATCH('Access Point (Desc)'!$N90,[1]!MASTER_LID_BOLT_TYPE_DESC[#Data],0),0))","v":""},{"$f":"IF('Access Point (Desc)'!O90=\"\",\"\",INDEX([1]YES_NO!$A$2:$A$100,MATCH('Access Point (Desc)'!$O90,[1]!MASTER_YES_NO_DESC[#Data],0),0))","v":""},{"$f":"IF('Access Point (Desc)'!P90=\"\",\"\",'Access Point (Desc)'!P90)","v":""},{"$f":"IF('Access Point (Desc)'!Q90=\"\",\"\",INDEX([1]YES_NO!$A$2:$A$100,MATCH('Access Point (Desc)'!$Q90,[1]!MASTER_YES_NO_DESC[#Data],0),0))","v":""}]
[{"$f":"IF('Access Point (Desc)'!A91=\"\",\"\",'Access Point (Desc)'!A91)","v":""},{"$f":"IF('Access Point (Desc)'!B91=\"\",\"\",'Access Point (Desc)'!B91)","v":""},{"$f":"IF('Access Point (Desc)'!C91=\"\",\"\",'Access Point (Desc)'!C91)","v":""},{"$f":"IF('Access Point (Desc)'!D91=\"\",\"\",'Access Point (Desc)'!D91)","v":""},{"$f":"IF('Access Point (Desc)'!E91=\"\",\"\",INDEX([1]OWNER!$A$2:$A$100,MATCH('Access Point (Desc)'!$E91,[1]!MASTER_OWNER_DESC[#Data],0),0))","v":""},{"$f":"IF('Access Point (Desc)'!F91=\"\",\"\",INDEX([1]COUNTY!$A$2:$A$100,MATCH('Access Point (Desc)'!F91,[1]!MASTER_COUNTY_NAME[#Data],0),0))","v":""},{"$f":"IF('Access Point (Desc)'!G91=\"\",\"\",'Access Point (Desc)'!G91)","v":""},{"$f":"IF('Access Point (Desc)'!H91=\"\",\"\",'Access Point (Desc)'!H91)","v":""},{"$f":"IF('Access Point (Desc)'!I91=\"\",\"\",INDEX([1]ROUTE_MH_TYPE!$A$2:$A$100,MATCH('Access Point (Desc)'!$I91,[1]!MASTER_ROUTE_MH_TYPE_DESC[#Data],0),0))","v":""},{"$f":"IF('Access Point (Desc)'!J91=\"\",\"\",INDEX([1]MANHOLE_MTL!$A$2:$A$100,MATCH('Access Point (Desc)'!$J91,[1]!MASTER_MANHOLE_MTL_DESC[#Data],0),0))","v":""},{"$f":"IF('Access Point (Desc)'!K91=\"\",\"\",INDEX([1]MANHOLE_SIZE!$A$2:$A$120,MATCH('Access Point (Desc)'!$K91,[1]!MASTER_MANHOLE_SIZE_DESC[#Data],0),0))","v":""},{"$f":"IF('Access Point (Desc)'!L91=\"\",\"\",INDEX([1]ROUTE_MH_LID_TYPE!$A$2:$A$100,MATCH('Access Point (Desc)'!$L91,[1]!MASTER_ROUTE_MH_LID_TYPE_DESC[#Data],0),0))","v":""},{"$f":"IF('Access Point (Desc)'!M91=\"\",\"\",INDEX([1]MANHOLE_MTL!$A$2:$A$100,MATCH('Access Point (Desc)'!$M91,[1]!MASTER_MANHOLE_MTL_DESC[#Data],0),0))","v":""},{"$f":"IF('Access Point (Desc)'!N91=\"\",\"\",INDEX([1]LID_BOLT_TYPE!$A$2:$A$100,MATCH('Access Point (Desc)'!$N91,[1]!MASTER_LID_BOLT_TYPE_DESC[#Data],0),0))","v":""},{"$f":"IF('Access Point (Desc)'!O91=\"\",\"\",INDEX([1]YES_NO!$A$2:$A$100,MATCH('Access Point (Desc)'!$O91,[1]!MASTER_YES_NO_DESC[#Data],0),0))","v":""},{"$f":"IF('Access Point (Desc)'!P91=\"\",\"\",'Access Point (Desc)'!P91)","v":""},{"$f":"IF('Access Point (Desc)'!Q91=\"\",\"\",INDEX([1]YES_NO!$A$2:$A$100,MATCH('Access Point (Desc)'!$Q91,[1]!MASTER_YES_NO_DESC[#Data],0),0))","v":""}]
[{"$f":"IF('Access Point (Desc)'!A92=\"\",\"\",'Access Point (Desc)'!A92)","v":""},{"$f":"IF('Access Point (Desc)'!B92=\"\",\"\",'Access Point (Desc)'!B92)","v":""},{"$f":"IF('Access Point (Desc)'!C92=\"\",\"\",'Access Point (Desc)'!C92)","v":""},{"$f":"IF('Access Point (Desc)'!D92=\"\",\"\",'Access Point (Desc)'!D92)","v":""},{"$f":"IF('Access Point (Desc)'!E92=\"\",\"\",INDEX([1]OWNER!$A$2:$A$100,MATCH('Access Point (Desc)'!$E92,[1]!MASTER_OWNER_DESC[#Data],0),0))","v":""},{"$f":"IF('Access Point (Desc)'!F92=\"\",\"\",INDEX([1]COUNTY!$A$2:$A$100,MATCH('Access Point (Desc)'!F92,[1]!MASTER_COUNTY_NAME[#Data],0),0))","v":""},{"$f":"IF('Access Point (Desc)'!G92=\"\",\"\",'Access Point (Desc)'!G92)","v":""},{"$f":"IF('Access Point (Desc)'!H92=\"\",\"\",'Access Point (Desc)'!H92)","v":""},{"$f":"IF('Access Point (Desc)'!I92=\"\",\"\",INDEX([1]ROUTE_MH_TYPE!$A$2:$A$100,MATCH('Access Point (Desc)'!$I92,[1]!MASTER_ROUTE_MH_TYPE_DESC[#Data],0),0))","v":""},{"$f":"IF('Access Point (Desc)'!J92=\"\",\"\",INDEX([1]MANHOLE_MTL!$A$2:$A$100,MATCH('Access Point (Desc)'!$J92,[1]!MASTER_MANHOLE_MTL_DESC[#Data],0),0))","v":""},{"$f":"IF('Access Point (Desc)'!K92=\"\",\"\",INDEX([1]MANHOLE_SIZE!$A$2:$A$120,MATCH('Access Point (Desc)'!$K92,[1]!MASTER_MANHOLE_SIZE_DESC[#Data],0),0))","v":""},{"$f":"IF('Access Point (Desc)'!L92=\"\",\"\",INDEX([1]ROUTE_MH_LID_TYPE!$A$2:$A$100,MATCH('Access Point (Desc)'!$L92,[1]!MASTER_ROUTE_MH_LID_TYPE_DESC[#Data],0),0))","v":""},{"$f":"IF('Access Point (Desc)'!M92=\"\",\"\",INDEX([1]MANHOLE_MTL!$A$2:$A$100,MATCH('Access Point (Desc)'!$M92,[1]!MASTER_MANHOLE_MTL_DESC[#Data],0),0))","v":""},{"$f":"IF('Access Point (Desc)'!N92=\"\",\"\",INDEX([1]LID_BOLT_TYPE!$A$2:$A$100,MATCH('Access Point (Desc)'!$N92,[1]!MASTER_LID_BOLT_TYPE_DESC[#Data],0),0))","v":""},{"$f":"IF('Access Point (Desc)'!O92=\"\",\"\",INDEX([1]YES_NO!$A$2:$A$100,MATCH('Access Point (Desc)'!$O92,[1]!MASTER_YES_NO_DESC[#Data],0),0))","v":""},{"$f":"IF('Access Point (Desc)'!P92=\"\",\"\",'Access Point (Desc)'!P92)","v":""},{"$f":"IF('Access Point (Desc)'!Q92=\"\",\"\",INDEX([1]YES_NO!$A$2:$A$100,MATCH('Access Point (Desc)'!$Q92,[1]!MASTER_YES_NO_DESC[#Data],0),0))","v":""}]
[{"$f":"IF('Access Point (Desc)'!A93=\"\",\"\",'Access Point (Desc)'!A93)","v":""},{"$f":"IF('Access Point (Desc)'!B93=\"\",\"\",'Access Point (Desc)'!B93)","v":""},{"$f":"IF('Access Point (Desc)'!C93=\"\",\"\",'Access Point (Desc)'!C93)","v":""},{"$f":"IF('Access Point (Desc)'!D93=\"\",\"\",'Access Point (Desc)'!D93)","v":""},{"$f":"IF('Access Point (Desc)'!E93=\"\",\"\",INDEX([1]OWNER!$A$2:$A$100,MATCH('Access Point (Desc)'!$E93,[1]!MASTER_OWNER_DESC[#Data],0),0))","v":""},{"$f":"IF('Access Point (Desc)'!F93=\"\",\"\",INDEX([1]COUNTY!$A$2:$A$100,MATCH('Access Point (Desc)'!F93,[1]!MASTER_COUNTY_NAME[#Data],0),0))","v":""},{"$f":"IF('Access Point (Desc)'!G93=\"\",\"\",'Access Point (Desc)'!G93)","v":""},{"$f":"IF('Access Point (Desc)'!H93=\"\",\"\",'Access Point (Desc)'!H93)","v":""},{"$f":"IF('Access Point (Desc)'!I93=\"\",\"\",INDEX([1]ROUTE_MH_TYPE!$A$2:$A$100,MATCH('Access Point (Desc)'!$I93,[1]!MASTER_ROUTE_MH_TYPE_DESC[#Data],0),0))","v":""},{"$f":"IF('Access Point (Desc)'!J93=\"\",\"\",INDEX([1]MANHOLE_MTL!$A$2:$A$100,MATCH('Access Point (Desc)'!$J93,[1]!MASTER_MANHOLE_MTL_DESC[#Data],0),0))","v":""},{"$f":"IF('Access Point (Desc)'!K93=\"\",\"\",INDEX([1]MANHOLE_SIZE!$A$2:$A$120,MATCH('Access Point (Desc)'!$K93,[1]!MASTER_MANHOLE_SIZE_DESC[#Data],0),0))","v":""},{"$f":"IF('Access Point (Desc)'!L93=\"\",\"\",INDEX([1]ROUTE_MH_LID_TYPE!$A$2:$A$100,MATCH('Access Point (Desc)'!$L93,[1]!MASTER_ROUTE_MH_LID_TYPE_DESC[#Data],0),0))","v":""},{"$f":"IF('Access Point (Desc)'!M93=\"\",\"\",INDEX([1]MANHOLE_MTL!$A$2:$A$100,MATCH('Access Point (Desc)'!$M93,[1]!MASTER_MANHOLE_MTL_DESC[#Data],0),0))","v":""},{"$f":"IF('Access Point (Desc)'!N93=\"\",\"\",INDEX([1]LID_BOLT_TYPE!$A$2:$A$100,MATCH('Access Point (Desc)'!$N93,[1]!MASTER_LID_BOLT_TYPE_DESC[#Data],0),0))","v":""},{"$f":"IF('Access Point (Desc)'!O93=\"\",\"\",INDEX([1]YES_NO!$A$2:$A$100,MATCH('Access Point (Desc)'!$O93,[1]!MASTER_YES_NO_DESC[#Data],0),0))","v":""},{"$f":"IF('Access Point (Desc)'!P93=\"\",\"\",'Access Point (Desc)'!P93)","v":""},{"$f":"IF('Access Point (Desc)'!Q93=\"\",\"\",INDEX([1]YES_NO!$A$2:$A$100,MATCH('Access Point (Desc)'!$Q93,[1]!MASTER_YES_NO_DESC[#Data],0),0))","v":""}]
[{"$f":"IF('Access Point (Desc)'!A94=\"\",\"\",'Access Point (Desc)'!A94)","v":""},{"$f":"IF('Access Point (Desc)'!B94=\"\",\"\",'Access Point (Desc)'!B94)","v":""},{"$f":"IF('Access Point (Desc)'!C94=\"\",\"\",'Access Point (Desc)'!C94)","v":""},{"$f":"IF('Access Point (Desc)'!D94=\"\",\"\",'Access Point (Desc)'!D94)","v":""},{"$f":"IF('Access Point (Desc)'!E94=\"\",\"\",INDEX([1]OWNER!$A$2:$A$100,MATCH('Access Point (Desc)'!$E94,[1]!MASTER_OWNER_DESC[#Data],0),0))","v":""},{"$f":"IF('Access Point (Desc)'!F94=\"\",\"\",INDEX([1]COUNTY!$A$2:$A$100,MATCH('Access Point (Desc)'!F94,[1]!MASTER_COUNTY_NAME[#Data],0),0))","v":""},{"$f":"IF('Access Point (Desc)'!G94=\"\",\"\",'Access Point (Desc)'!G94)","v":""},{"$f":"IF('Access Point (Desc)'!H94=\"\",\"\",'Access Point (Desc)'!H94)","v":""},{"$f":"IF('Access Point (Desc)'!I94=\"\",\"\",INDEX([1]ROUTE_MH_TYPE!$A$2:$A$100,MATCH('Access Point (Desc)'!$I94,[1]!MASTER_ROUTE_MH_TYPE_DESC[#Data],0),0))","v":""},{"$f":"IF('Access Point (Desc)'!J94=\"\",\"\",INDEX([1]MANHOLE_MTL!$A$2:$A$100,MATCH('Access Point (Desc)'!$J94,[1]!MASTER_MANHOLE_MTL_DESC[#Data],0),0))","v":""},{"$f":"IF('Access Point (Desc)'!K94=\"\",\"\",INDEX([1]MANHOLE_SIZE!$A$2:$A$120,MATCH('Access Point (Desc)'!$K94,[1]!MASTER_MANHOLE_SIZE_DESC[#Data],0),0))","v":""},{"$f":"IF('Access Point (Desc)'!L94=\"\",\"\",INDEX([1]ROUTE_MH_LID_TYPE!$A$2:$A$100,MATCH('Access Point (Desc)'!$L94,[1]!MASTER_ROUTE_MH_LID_TYPE_DESC[#Data],0),0))","v":""},{"$f":"IF('Access Point (Desc)'!M94=\"\",\"\",INDEX([1]MANHOLE_MTL!$A$2:$A$100,MATCH('Access Point (Desc)'!$M94,[1]!MASTER_MANHOLE_MTL_DESC[#Data],0),0))","v":""},{"$f":"IF('Access Point (Desc)'!N94=\"\",\"\",INDEX([1]LID_BOLT_TYPE!$A$2:$A$100,MATCH('Access Point (Desc)'!$N94,[1]!MASTER_LID_BOLT_TYPE_DESC[#Data],0),0))","v":""},{"$f":"IF('Access Point (Desc)'!O94=\"\",\"\",INDEX([1]YES_NO!$A$2:$A$100,MATCH('Access Point (Desc)'!$O94,[1]!MASTER_YES_NO_DESC[#Data],0),0))","v":""},{"$f":"IF('Access Point (Desc)'!P94=\"\",\"\",'Access Point (Desc)'!P94)","v":""},{"$f":"IF('Access Point (Desc)'!Q94=\"\",\"\",INDEX([1]YES_NO!$A$2:$A$100,MATCH('Access Point (Desc)'!$Q94,[1]!MASTER_YES_NO_DESC[#Data],0),0))","v":""}]
[{"$f":"IF('Access Point (Desc)'!A95=\"\",\"\",'Access Point (Desc)'!A95)","v":""},{"$f":"IF('Access Point (Desc)'!B95=\"\",\"\",'Access Point (Desc)'!B95)","v":""},{"$f":"IF('Access Point (Desc)'!C95=\"\",\"\",'Access Point (Desc)'!C95)","v":""},{"$f":"IF('Access Point (Desc)'!D95=\"\",\"\",'Access Point (Desc)'!D95)","v":""},{"$f":"IF('Access Point (Desc)'!E95=\"\",\"\",INDEX([1]OWNER!$A$2:$A$100,MATCH('Access Point (Desc)'!$E95,[1]!MASTER_OWNER_DESC[#Data],0),0))","v":""},{"$f":"IF('Access Point (Desc)'!F95=\"\",\"\",INDEX([1]COUNTY!$A$2:$A$100,MATCH('Access Point (Desc)'!F95,[1]!MASTER_COUNTY_NAME[#Data],0),0))","v":""},{"$f":"IF('Access Point (Desc)'!G95=\"\",\"\",'Access Point (Desc)'!G95)","v":""},{"$f":"IF('Access Point (Desc)'!H95=\"\",\"\",'Access Point (Desc)'!H95)","v":""},{"$f":"IF('Access Point (Desc)'!I95=\"\",\"\",INDEX([1]ROUTE_MH_TYPE!$A$2:$A$100,MATCH('Access Point (Desc)'!$I95,[1]!MASTER_ROUTE_MH_TYPE_DESC[#Data],0),0))","v":""},{"$f":"IF('Access Point (Desc)'!J95=\"\",\"\",INDEX([1]MANHOLE_MTL!$A$2:$A$100,MATCH('Access Point (Desc)'!$J95,[1]!MASTER_MANHOLE_MTL_DESC[#Data],0),0))","v":""},{"$f":"IF('Access Point (Desc)'!K95=\"\",\"\",INDEX([1]MANHOLE_SIZE!$A$2:$A$120,MATCH('Access Point (Desc)'!$K95,[1]!MASTER_MANHOLE_SIZE_DESC[#Data],0),0))","v":""},{"$f":"IF('Access Point (Desc)'!L95=\"\",\"\",INDEX([1]ROUTE_MH_LID_TYPE!$A$2:$A$100,MATCH('Access Point (Desc)'!$L95,[1]!MASTER_ROUTE_MH_LID_TYPE_DESC[#Data],0),0))","v":""},{"$f":"IF('Access Point (Desc)'!M95=\"\",\"\",INDEX([1]MANHOLE_MTL!$A$2:$A$100,MATCH('Access Point (Desc)'!$M95,[1]!MASTER_MANHOLE_MTL_DESC[#Data],0),0))","v":""},{"$f":"IF('Access Point (Desc)'!N95=\"\",\"\",INDEX([1]LID_BOLT_TYPE!$A$2:$A$100,MATCH('Access Point (Desc)'!$N95,[1]!MASTER_LID_BOLT_TYPE_DESC[#Data],0),0))","v":""},{"$f":"IF('Access Point (Desc)'!O95=\"\",\"\",INDEX([1]YES_NO!$A$2:$A$100,MATCH('Access Point (Desc)'!$O95,[1]!MASTER_YES_NO_DESC[#Data],0),0))","v":""},{"$f":"IF('Access Point (Desc)'!P95=\"\",\"\",'Access Point (Desc)'!P95)","v":""},{"$f":"IF('Access Point (Desc)'!Q95=\"\",\"\",INDEX([1]YES_NO!$A$2:$A$100,MATCH('Access Point (Desc)'!$Q95,[1]!MASTER_YES_NO_DESC[#Data],0),0))","v":""}]
[{"$f":"IF('Access Point (Desc)'!A96=\"\",\"\",'Access Point (Desc)'!A96)","v":""},{"$f":"IF('Access Point (Desc)'!B96=\"\",\"\",'Access Point (Desc)'!B96)","v":""},{"$f":"IF('Access Point (Desc)'!C96=\"\",\"\",'Access Point (Desc)'!C96)","v":""},{"$f":"IF('Access Point (Desc)'!D96=\"\",\"\",'Access Point (Desc)'!D96)","v":""},{"$f":"IF('Access Point (Desc)'!E96=\"\",\"\",INDEX([1]OWNER!$A$2:$A$100,MATCH('Access Point (Desc)'!$E96,[1]!MASTER_OWNER_DESC[#Data],0),0))","v":""},{"$f":"IF('Access Point (Desc)'!F96=\"\",\"\",INDEX([1]COUNTY!$A$2:$A$100,MATCH('Access Point (Desc)'!F96,[1]!MASTER_COUNTY_NAME[#Data],0),0))","v":""},{"$f":"IF('Access Point (Desc)'!G96=\"\",\"\",'Access Point (Desc)'!G96)","v":""},{"$f":"IF('Access Point (Desc)'!H96=\"\",\"\",'Access Point (Desc)'!H96)","v":""},{"$f":"IF('Access Point (Desc)'!I96=\"\",\"\",INDEX([1]ROUTE_MH_TYPE!$A$2:$A$100,MATCH('Access Point (Desc)'!$I96,[1]!MASTER_ROUTE_MH_TYPE_DESC[#Data],0),0))","v":""},{"$f":"IF('Access Point (Desc)'!J96=\"\",\"\",INDEX([1]MANHOLE_MTL!$A$2:$A$100,MATCH('Access Point (Desc)'!$J96,[1]!MASTER_MANHOLE_MTL_DESC[#Data],0),0))","v":""},{"$f":"IF('Access Point (Desc)'!K96=\"\",\"\",INDEX([1]MANHOLE_SIZE!$A$2:$A$120,MATCH('Access Point (Desc)'!$K96,[1]!MASTER_MANHOLE_SIZE_DESC[#Data],0),0))","v":""},{"$f":"IF('Access Point (Desc)'!L96=\"\",\"\",INDEX([1]ROUTE_MH_LID_TYPE!$A$2:$A$100,MATCH('Access Point (Desc)'!$L96,[1]!MASTER_ROUTE_MH_LID_TYPE_DESC[#Data],0),0))","v":""},{"$f":"IF('Access Point (Desc)'!M96=\"\",\"\",INDEX([1]MANHOLE_MTL!$A$2:$A$100,MATCH('Access Point (Desc)'!$M96,[1]!MASTER_MANHOLE_MTL_DESC[#Data],0),0))","v":""},{"$f":"IF('Access Point (Desc)'!N96=\"\",\"\",INDEX([1]LID_BOLT_TYPE!$A$2:$A$100,MATCH('Access Point (Desc)'!$N96,[1]!MASTER_LID_BOLT_TYPE_DESC[#Data],0),0))","v":""},{"$f":"IF('Access Point (Desc)'!O96=\"\",\"\",INDEX([1]YES_NO!$A$2:$A$100,MATCH('Access Point (Desc)'!$O96,[1]!MASTER_YES_NO_DESC[#Data],0),0))","v":""},{"$f":"IF('Access Point (Desc)'!P96=\"\",\"\",'Access Point (Desc)'!P96)","v":""},{"$f":"IF('Access Point (Desc)'!Q96=\"\",\"\",INDEX([1]YES_NO!$A$2:$A$100,MATCH('Access Point (Desc)'!$Q96,[1]!MASTER_YES_NO_DESC[#Data],0),0))","v":""}]
[{"$f":"IF('Access Point (Desc)'!A97=\"\",\"\",'Access Point (Desc)'!A97)","v":""},{"$f":"IF('Access Point (Desc)'!B97=\"\",\"\",'Access Point (Desc)'!B97)","v":""},{"$f":"IF('Access Point (Desc)'!C97=\"\",\"\",'Access Point (Desc)'!C97)","v":""},{"$f":"IF('Access Point (Desc)'!D97=\"\",\"\",'Access Point (Desc)'!D97)","v":""},{"$f":"IF('Access Point (Desc)'!E97=\"\",\"\",INDEX([1]OWNER!$A$2:$A$100,MATCH('Access Point (Desc)'!$E97,[1]!MASTER_OWNER_DESC[#Data],0),0))","v":""},{"$f":"IF('Access Point (Desc)'!F97=\"\",\"\",INDEX([1]COUNTY!$A$2:$A$100,MATCH('Access Point (Desc)'!F97,[1]!MASTER_COUNTY_NAME[#Data],0),0))","v":""},{"$f":"IF('Access Point (Desc)'!G97=\"\",\"\",'Access Point (Desc)'!G97)","v":""},{"$f":"IF('Access Point (Desc)'!H97=\"\",\"\",'Access Point (Desc)'!H97)","v":""},{"$f":"IF('Access Point (Desc)'!I97=\"\",\"\",INDEX([1]ROUTE_MH_TYPE!$A$2:$A$100,MATCH('Access Point (Desc)'!$I97,[1]!MASTER_ROUTE_MH_TYPE_DESC[#Data],0),0))","v":""},{"$f":"IF('Access Point (Desc)'!J97=\"\",\"\",INDEX([1]MANHOLE_MTL!$A$2:$A$100,MATCH('Access Point (Desc)'!$J97,[1]!MASTER_MANHOLE_MTL_DESC[#Data],0),0))","v":""},{"$f":"IF('Access Point (Desc)'!K97=\"\",\"\",INDEX([1]MANHOLE_SIZE!$A$2:$A$120,MATCH('Access Point (Desc)'!$K97,[1]!MASTER_MANHOLE_SIZE_DESC[#Data],0),0))","v":""},{"$f":"IF('Access Point (Desc)'!L97=\"\",\"\",INDEX([1]ROUTE_MH_LID_TYPE!$A$2:$A$100,MATCH('Access Point (Desc)'!$L97,[1]!MASTER_ROUTE_MH_LID_TYPE_DESC[#Data],0),0))","v":""},{"$f":"IF('Access Point (Desc)'!M97=\"\",\"\",INDEX([1]MANHOLE_MTL!$A$2:$A$100,MATCH('Access Point (Desc)'!$M97,[1]!MASTER_MANHOLE_MTL_DESC[#Data],0),0))","v":""},{"$f":"IF('Access Point (Desc)'!N97=\"\",\"\",INDEX([1]LID_BOLT_TYPE!$A$2:$A$100,MATCH('Access Point (Desc)'!$N97,[1]!MASTER_LID_BOLT_TYPE_DESC[#Data],0),0))","v":""},{"$f":"IF('Access Point (Desc)'!O97=\"\",\"\",INDEX([1]YES_NO!$A$2:$A$100,MATCH('Access Point (Desc)'!$O97,[1]!MASTER_YES_NO_DESC[#Data],0),0))","v":""},{"$f":"IF('Access Point (Desc)'!P97=\"\",\"\",'Access Point (Desc)'!P97)","v":""},{"$f":"IF('Access Point (Desc)'!Q97=\"\",\"\",INDEX([1]YES_NO!$A$2:$A$100,MATCH('Access Point (Desc)'!$Q97,[1]!MASTER_YES_NO_DESC[#Data],0),0))","v":""}]
[{"$f":"IF('Access Point (Desc)'!A98=\"\",\"\",'Access Point (Desc)'!A98)","v":""},{"$f":"IF('Access Point (Desc)'!B98=\"\",\"\",'Access Point (Desc)'!B98)","v":""},{"$f":"IF('Access Point (Desc)'!C98=\"\",\"\",'Access Point (Desc)'!C98)","v":""},{"$f":"IF('Access Point (Desc)'!D98=\"\",\"\",'Access Point (Desc)'!D98)","v":""},{"$f":"IF('Access Point (Desc)'!E98=\"\",\"\",INDEX([1]OWNER!$A$2:$A$100,MATCH('Access Point (Desc)'!$E98,[1]!MASTER_OWNER_DESC[#Data],0),0))","v":""},{"$f":"IF('Access Point (Desc)'!F98=\"\",\"\",INDEX([1]COUNTY!$A$2:$A$100,MATCH('Access Point (Desc)'!F98,[1]!MASTER_COUNTY_NAME[#Data],0),0))","v":""},{"$f":"IF('Access Point (Desc)'!G98=\"\",\"\",'Access Point (Desc)'!G98)","v":""},{"$f":"IF('Access Point (Desc)'!H98=\"\",\"\",'Access Point (Desc)'!H98)","v":""},{"$f":"IF('Access Point (Desc)'!I98=\"\",\"\",INDEX([1]ROUTE_MH_TYPE!$A$2:$A$100,MATCH('Access Point (Desc)'!$I98,[1]!MASTER_ROUTE_MH_TYPE_DESC[#Data],0),0))","v":""},{"$f":"IF('Access Point (Desc)'!J98=\"\",\"\",INDEX([1]MANHOLE_MTL!$A$2:$A$100,MATCH('Access Point (Desc)'!$J98,[1]!MASTER_MANHOLE_MTL_DESC[#Data],0),0))","v":""},{"$f":"IF('Access Point (Desc)'!K98=\"\",\"\",INDEX([1]MANHOLE_SIZE!$A$2:$A$120,MATCH('Access Point (Desc)'!$K98,[1]!MASTER_MANHOLE_SIZE_DESC[#Data],0),0))","v":""},{"$f":"IF('Access Point (Desc)'!L98=\"\",\"\",INDEX([1]ROUTE_MH_LID_TYPE!$A$2:$A$100,MATCH('Access Point (Desc)'!$L98,[1]!MASTER_ROUTE_MH_LID_TYPE_DESC[#Data],0),0))","v":""},{"$f":"IF('Access Point (Desc)'!M98=\"\",\"\",INDEX([1]MANHOLE_MTL!$A$2:$A$100,MATCH('Access Point (Desc)'!$M98,[1]!MASTER_MANHOLE_MTL_DESC[#Data],0),0))","v":""},{"$f":"IF('Access Point (Desc)'!N98=\"\",\"\",INDEX([1]LID_BOLT_TYPE!$A$2:$A$100,MATCH('Access Point (Desc)'!$N98,[1]!MASTER_LID_BOLT_TYPE_DESC[#Data],0),0))","v":""},{"$f":"IF('Access Point (Desc)'!O98=\"\",\"\",INDEX([1]YES_NO!$A$2:$A$100,MATCH('Access Point (Desc)'!$O98,[1]!MASTER_YES_NO_DESC[#Data],0),0))","v":""},{"$f":"IF('Access Point (Desc)'!P98=\"\",\"\",'Access Point (Desc)'!P98)","v":""},{"$f":"IF('Access Point (Desc)'!Q98=\"\",\"\",INDEX([1]YES_NO!$A$2:$A$100,MATCH('Access Point (Desc)'!$Q98,[1]!MASTER_YES_NO_DESC[#Data],0),0))","v":""}]
[{"$f":"IF('Access Point (Desc)'!A99=\"\",\"\",'Access Point (Desc)'!A99)","v":""},{"$f":"IF('Access Point (Desc)'!B99=\"\",\"\",'Access Point (Desc)'!B99)","v":""},{"$f":"IF('Access Point (Desc)'!C99=\"\",\"\",'Access Point (Desc)'!C99)","v":""},{"$f":"IF('Access Point (Desc)'!D99=\"\",\"\",'Access Point (Desc)'!D99)","v":""},{"$f":"IF('Access Point (Desc)'!E99=\"\",\"\",INDEX([1]OWNER!$A$2:$A$100,MATCH('Access Point (Desc)'!$E99,[1]!MASTER_OWNER_DESC[#Data],0),0))","v":""},{"$f":"IF('Access Point (Desc)'!F99=\"\",\"\",INDEX([1]COUNTY!$A$2:$A$100,MATCH('Access Point (Desc)'!F99,[1]!MASTER_COUNTY_NAME[#Data],0),0))","v":""},{"$f":"IF('Access Point (Desc)'!G99=\"\",\"\",'Access Point (Desc)'!G99)","v":""},{"$f":"IF('Access Point (Desc)'!H99=\"\",\"\",'Access Point (Desc)'!H99)","v":""},{"$f":"IF('Access Point (Desc)'!I99=\"\",\"\",INDEX([1]ROUTE_MH_TYPE!$A$2:$A$100,MATCH('Access Point (Desc)'!$I99,[1]!MASTER_ROUTE_MH_TYPE_DESC[#Data],0),0))","v":""},{"$f":"IF('Access Point (Desc)'!J99=\"\",\"\",INDEX([1]MANHOLE_MTL!$A$2:$A$100,MATCH('Access Point (Desc)'!$J99,[1]!MASTER_MANHOLE_MTL_DESC[#Data],0),0))","v":""},{"$f":"IF('Access Point (Desc)'!K99=\"\",\"\",INDEX([1]MANHOLE_SIZE!$A$2:$A$120,MATCH('Access Point (Desc)'!$K99,[1]!MASTER_MANHOLE_SIZE_DESC[#Data],0),0))","v":""},{"$f":"IF('Access Point (Desc)'!L99=\"\",\"\",INDEX([1]ROUTE_MH_LID_TYPE!$A$2:$A$100,MATCH('Access Point (Desc)'!$L99,[1]!MASTER_ROUTE_MH_LID_TYPE_DESC[#Data],0),0))","v":""},{"$f":"IF('Access Point (Desc)'!M99=\"\",\"\",INDEX([1]MANHOLE_MTL!$A$2:$A$100,MATCH('Access Point (Desc)'!$M99,[1]!MASTER_MANHOLE_MTL_DESC[#Data],0),0))","v":""},{"$f":"IF('Access Point (Desc)'!N99=\"\",\"\",INDEX([1]LID_BOLT_TYPE!$A$2:$A$100,MATCH('Access Point (Desc)'!$N99,[1]!MASTER_LID_BOLT_TYPE_DESC[#Data],0),0))","v":""},{"$f":"IF('Access Point (Desc)'!O99=\"\",\"\",INDEX([1]YES_NO!$A$2:$A$100,MATCH('Access Point (Desc)'!$O99,[1]!MASTER_YES_NO_DESC[#Data],0),0))","v":""},{"$f":"IF('Access Point (Desc)'!P99=\"\",\"\",'Access Point (Desc)'!P99)","v":""},{"$f":"IF('Access Point (Desc)'!Q99=\"\",\"\",INDEX([1]YES_NO!$A$2:$A$100,MATCH('Access Point (Desc)'!$Q99,[1]!MASTER_YES_NO_DESC[#Data],0),0))","v":""}]
[{"$f":"IF('Access Point (Desc)'!A100=\"\",\"\",'Access Point (Desc)'!A100)","v":""},{"$f":"IF('Access Point (Desc)'!B100=\"\",\"\",'Access Point (Desc)'!B100)","v":""},{"$f":"IF('Access Point (Desc)'!C100=\"\",\"\",'Access Point (Desc)'!C100)","v":""},{"$f":"IF('Access Point (Desc)'!D100=\"\",\"\",'Access Point (Desc)'!D100)","v":""},{"$f":"IF('Access Point (Desc)'!E100=\"\",\"\",INDEX([1]OWNER!$A$2:$A$100,MATCH('Access Point (Desc)'!$E100,[1]!MASTER_OWNER_DESC[#Data],0),0))","v":""},{"$f":"IF('Access Point (Desc)'!F100=\"\",\"\",INDEX([1]COUNTY!$A$2:$A$100,MATCH('Access Point (Desc)'!F100,[1]!MASTER_COUNTY_NAME[#Data],0),0))","v":""},{"$f":"IF('Access Point (Desc)'!G100=\"\",\"\",'Access Point (Desc)'!G100)","v":""},{"$f":"IF('Access Point (Desc)'!H100=\"\",\"\",'Access Point (Desc)'!H100)","v":""},{"$f":"IF('Access Point (Desc)'!I100=\"\",\"\",INDEX([1]ROUTE_MH_TYPE!$A$2:$A$100,MATCH('Access Point (Desc)'!$I100,[1]!MASTER_ROUTE_MH_TYPE_DESC[#Data],0),0))","v":""},{"$f":"IF('Access Point (Desc)'!J100=\"\",\"\",INDEX([1]MANHOLE_MTL!$A$2:$A$100,MATCH('Access Point (Desc)'!$J100,[1]!MASTER_MANHOLE_MTL_DESC[#Data],0),0))","v":""},{"$f":"IF('Access Point (Desc)'!K100=\"\",\"\",INDEX([1]MANHOLE_SIZE!$A$2:$A$120,MATCH('Access Point (Desc)'!$K100,[1]!MASTER_MANHOLE_SIZE_DESC[#Data],0),0))","v":""},{"$f":"IF('Access Point (Desc)'!L100=\"\",\"\",INDEX([1]ROUTE_MH_LID_TYPE!$A$2:$A$100,MATCH('Access Point (Desc)'!$L100,[1]!MASTER_ROUTE_MH_LID_TYPE_DESC[#Data],0),0))","v":""},{"$f":"IF('Access Point (Desc)'!M100=\"\",\"\",INDEX([1]MANHOLE_MTL!$A$2:$A$100,MATCH('Access Point (Desc)'!$M100,[1]!MASTER_MANHOLE_MTL_DESC[#Data],0),0))","v":""},{"$f":"IF('Access Point (Desc)'!N100=\"\",\"\",INDEX([1]LID_BOLT_TYPE!$A$2:$A$100,MATCH('Access Point (Desc)'!$N100,[1]!MASTER_LID_BOLT_TYPE_DESC[#Data],0),0))","v":""},{"$f":"IF('Access Point (Desc)'!O100=\"\",\"\",INDEX([1]YES_NO!$A$2:$A$100,MATCH('Access Point (Desc)'!$O100,[1]!MASTER_YES_NO_DESC[#Data],0),0))","v":""},{"$f":"IF('Access Point (Desc)'!P100=\"\",\"\",'Access Point (Desc)'!P100)","v":""},{"$f":"IF('Access Point (Desc)'!Q100=\"\",\"\",INDEX([1]YES_NO!$A$2:$A$100,MATCH('Access Point (Desc)'!$Q100,[1]!MASTER_YES_NO_DESC[#Data],0),0))","v":""}]
[{"$f":"IF('Access Point (Desc)'!A101=\"\",\"\",'Access Point (Desc)'!A101)","v":""},{"$f":"IF('Access Point (Desc)'!B101=\"\",\"\",'Access Point (Desc)'!B101)","v":""},{"$f":"IF('Access Point (Desc)'!C101=\"\",\"\",'Access Point (Desc)'!C101)","v":""},{"$f":"IF('Access Point (Desc)'!D101=\"\",\"\",'Access Point (Desc)'!D101)","v":""},{"$f":"IF('Access Point (Desc)'!E101=\"\",\"\",INDEX([1]OWNER!$A$2:$A$100,MATCH('Access Point (Desc)'!$E101,[1]!MASTER_OWNER_DESC[#Data],0),0))","v":""},{"$f":"IF('Access Point (Desc)'!F101=\"\",\"\",INDEX([1]COUNTY!$A$2:$A$100,MATCH('Access Point (Desc)'!F101,[1]!MASTER_COUNTY_NAME[#Data],0),0))","v":""},{"$f":"IF('Access Point (Desc)'!G101=\"\",\"\",'Access Point (Desc)'!G101)","v":""},{"$f":"IF('Access Point (Desc)'!H101=\"\",\"\",'Access Point (Desc)'!H101)","v":""},{"$f":"IF('Access Point (Desc)'!I101=\"\",\"\",INDEX([1]ROUTE_MH_TYPE!$A$2:$A$100,MATCH('Access Point (Desc)'!$I101,[1]!MASTER_ROUTE_MH_TYPE_DESC[#Data],0),0))","v":""},{"$f":"IF('Access Point (Desc)'!J101=\"\",\"\",INDEX([1]MANHOLE_MTL!$A$2:$A$100,MATCH('Access Point (Desc)'!$J101,[1]!MASTER_MANHOLE_MTL_DESC[#Data],0),0))","v":""},{"$f":"IF('Access Point (Desc)'!K101=\"\",\"\",INDEX([1]MANHOLE_SIZE!$A$2:$A$120,MATCH('Access Point (Desc)'!$K101,[1]!MASTER_MANHOLE_SIZE_DESC[#Data],0),0))","v":""},{"$f":"IF('Access Point (Desc)'!L101=\"\",\"\",INDEX([1]ROUTE_MH_LID_TYPE!$A$2:$A$100,MATCH('Access Point (Desc)'!$L101,[1]!MASTER_ROUTE_MH_LID_TYPE_DESC[#Data],0),0))","v":""},{"$f":"IF('Access Point (Desc)'!M101=\"\",\"\",INDEX([1]MANHOLE_MTL!$A$2:$A$100,MATCH('Access Point (Desc)'!$M101,[1]!MASTER_MANHOLE_MTL_DESC[#Data],0),0))","v":""},{"$f":"IF('Access Point (Desc)'!N101=\"\",\"\",INDEX([1]LID_BOLT_TYPE!$A$2:$A$100,MATCH('Access Point (Desc)'!$N101,[1]!MASTER_LID_BOLT_TYPE_DESC[#Data],0),0))","v":""},{"$f":"IF('Access Point (Desc)'!O101=\"\",\"\",INDEX([1]YES_NO!$A$2:$A$100,MATCH('Access Point (Desc)'!$O101,[1]!MASTER_YES_NO_DESC[#Data],0),0))","v":""},{"$f":"IF('Access Point (Desc)'!P101=\"\",\"\",'Access Point (Desc)'!P101)","v":""},{"$f":"IF('Access Point (Desc)'!Q101=\"\",\"\",INDEX([1]YES_NO!$A$2:$A$100,MATCH('Access Point (Desc)'!$Q101,[1]!MASTER_YES_NO_DESC[#Data],0),0))","v":""}]
[{"$f":"IF('Access Point (Desc)'!A102=\"\",\"\",'Access Point (Desc)'!A102)","v":""},{"$f":"IF('Access Point (Desc)'!B102=\"\",\"\",'Access Point (Desc)'!B102)","v":""},{"$f":"IF('Access Point (Desc)'!C102=\"\",\"\",'Access Point (Desc)'!C102)","v":""},{"$f":"IF('Access Point (Desc)'!D102=\"\",\"\",'Access Point (Desc)'!D102)","v":""},{"$f":"IF('Access Point (Desc)'!E102=\"\",\"\",INDEX([1]OWNER!$A$2:$A$100,MATCH('Access Point (Desc)'!$E102,[1]!MASTER_OWNER_DESC[#Data],0),0))","v":""},{"$f":"IF('Access Point (Desc)'!F102=\"\",\"\",INDEX([1]COUNTY!$A$2:$A$100,MATCH('Access Point (Desc)'!F102,[1]!MASTER_COUNTY_NAME[#Data],0),0))","v":""},{"$f":"IF('Access Point (Desc)'!G102=\"\",\"\",'Access Point (Desc)'!G102)","v":""},{"$f":"IF('Access Point (Desc)'!H102=\"\",\"\",'Access Point (Desc)'!H102)","v":""},{"$f":"IF('Access Point (Desc)'!I102=\"\",\"\",INDEX([1]ROUTE_MH_TYPE!$A$2:$A$100,MATCH('Access Point (Desc)'!$I102,[1]!MASTER_ROUTE_MH_TYPE_DESC[#Data],0),0))","v":""},{"$f":"IF('Access Point (Desc)'!J102=\"\",\"\",INDEX([1]MANHOLE_MTL!$A$2:$A$100,MATCH('Access Point (Desc)'!$J102,[1]!MASTER_MANHOLE_MTL_DESC[#Data],0),0))","v":""},{"$f":"IF('Access Point (Desc)'!K102=\"\",\"\",INDEX([1]MANHOLE_SIZE!$A$2:$A$120,MATCH('Access Point (Desc)'!$K102,[1]!MASTER_MANHOLE_SIZE_DESC[#Data],0),0))","v":""},{"$f":"IF('Access Point (Desc)'!L102=\"\",\"\",INDEX([1]ROUTE_MH_LID_TYPE!$A$2:$A$100,MATCH('Access Point (Desc)'!$L102,[1]!MASTER_ROUTE_MH_LID_TYPE_DESC[#Data],0),0))","v":""},{"$f":"IF('Access Point (Desc)'!M102=\"\",\"\",INDEX([1]MANHOLE_MTL!$A$2:$A$100,MATCH('Access Point (Desc)'!$M102,[1]!MASTER_MANHOLE_MTL_DESC[#Data],0),0))","v":""},{"$f":"IF('Access Point (Desc)'!N102=\"\",\"\",INDEX([1]LID_BOLT_TYPE!$A$2:$A$100,MATCH('Access Point (Desc)'!$N102,[1]!MASTER_LID_BOLT_TYPE_DESC[#Data],0),0))","v":""},{"$f":"IF('Access Point (Desc)'!O102=\"\",\"\",INDEX([1]YES_NO!$A$2:$A$100,MATCH('Access Point (Desc)'!$O102,[1]!MASTER_YES_NO_DESC[#Data],0),0))","v":""},{"$f":"IF('Access Point (Desc)'!P102=\"\",\"\",'Access Point (Desc)'!P102)","v":""},{"$f":"IF('Access Point (Desc)'!Q102=\"\",\"\",INDEX([1]YES_NO!$A$2:$A$100,MATCH('Access Point (Desc)'!$Q102,[1]!MASTER_YES_NO_DESC[#Data],0),0))","v":""}]
[{"$f":"IF('Access Point (Desc)'!A103=\"\",\"\",'Access Point (Desc)'!A103)","v":""},{"$f":"IF('Access Point (Desc)'!B103=\"\",\"\",'Access Point (Desc)'!B103)","v":""},{"$f":"IF('Access Point (Desc)'!C103=\"\",\"\",'Access Point (Desc)'!C103)","v":""},{"$f":"IF('Access Point (Desc)'!D103=\"\",\"\",'Access Point (Desc)'!D103)","v":""},{"$f":"IF('Access Point (Desc)'!E103=\"\",\"\",INDEX([1]OWNER!$A$2:$A$100,MATCH('Access Point (Desc)'!$E103,[1]!MASTER_OWNER_DESC[#Data],0),0))","v":""},{"$f":"IF('Access Point (Desc)'!F103=\"\",\"\",INDEX([1]COUNTY!$A$2:$A$100,MATCH('Access Point (Desc)'!F103,[1]!MASTER_COUNTY_NAME[#Data],0),0))","v":""},{"$f":"IF('Access Point (Desc)'!G103=\"\",\"\",'Access Point (Desc)'!G103)","v":""},{"$f":"IF('Access Point (Desc)'!H103=\"\",\"\",'Access Point (Desc)'!H103)","v":""},{"$f":"IF('Access Point (Desc)'!I103=\"\",\"\",INDEX([1]ROUTE_MH_TYPE!$A$2:$A$100,MATCH('Access Point (Desc)'!$I103,[1]!MASTER_ROUTE_MH_TYPE_DESC[#Data],0),0))","v":""},{"$f":"IF('Access Point (Desc)'!J103=\"\",\"\",INDEX([1]MANHOLE_MTL!$A$2:$A$100,MATCH('Access Point (Desc)'!$J103,[1]!MASTER_MANHOLE_MTL_DESC[#Data],0),0))","v":""},{"$f":"IF('Access Point (Desc)'!K103=\"\",\"\",INDEX([1]MANHOLE_SIZE!$A$2:$A$120,MATCH('Access Point (Desc)'!$K103,[1]!MASTER_MANHOLE_SIZE_DESC[#Data],0),0))","v":""},{"$f":"IF('Access Point (Desc)'!L103=\"\",\"\",INDEX([1]ROUTE_MH_LID_TYPE!$A$2:$A$100,MATCH('Access Point (Desc)'!$L103,[1]!MASTER_ROUTE_MH_LID_TYPE_DESC[#Data],0),0))","v":""},{"$f":"IF('Access Point (Desc)'!M103=\"\",\"\",INDEX([1]MANHOLE_MTL!$A$2:$A$100,MATCH('Access Point (Desc)'!$M103,[1]!MASTER_MANHOLE_MTL_DESC[#Data],0),0))","v":""},{"$f":"IF('Access Point (Desc)'!N103=\"\",\"\",INDEX([1]LID_BOLT_TYPE!$A$2:$A$100,MATCH('Access Point (Desc)'!$N103,[1]!MASTER_LID_BOLT_TYPE_DESC[#Data],0),0))","v":""},{"$f":"IF('Access Point (Desc)'!O103=\"\",\"\",INDEX([1]YES_NO!$A$2:$A$100,MATCH('Access Point (Desc)'!$O103,[1]!MASTER_YES_NO_DESC[#Data],0),0))","v":""},{"$f":"IF('Access Point (Desc)'!P103=\"\",\"\",'Access Point (Desc)'!P103)","v":""},{"$f":"IF('Access Point (Desc)'!Q103=\"\",\"\",INDEX([1]YES_NO!$A$2:$A$100,MATCH('Access Point (Desc)'!$Q103,[1]!MASTER_YES_NO_DESC[#Data],0),0))","v":""}]
[{"$f":"IF('Access Point (Desc)'!A104=\"\",\"\",'Access Point (Desc)'!A104)","v":""},{"$f":"IF('Access Point (Desc)'!B104=\"\",\"\",'Access Point (Desc)'!B104)","v":""},{"$f":"IF('Access Point (Desc)'!C104=\"\",\"\",'Access Point (Desc)'!C104)","v":""},{"$f":"IF('Access Point (Desc)'!D104=\"\",\"\",'Access Point (Desc)'!D104)","v":""},{"$f":"IF('Access Point (Desc)'!E104=\"\",\"\",INDEX([1]OWNER!$A$2:$A$100,MATCH('Access Point (Desc)'!$E104,[1]!MASTER_OWNER_DESC[#Data],0),0))","v":""},{"$f":"IF('Access Point (Desc)'!F104=\"\",\"\",INDEX([1]COUNTY!$A$2:$A$100,MATCH('Access Point (Desc)'!F104,[1]!MASTER_COUNTY_NAME[#Data],0),0))","v":""},{"$f":"IF('Access Point (Desc)'!G104=\"\",\"\",'Access Point (Desc)'!G104)","v":""},{"$f":"IF('Access Point (Desc)'!H104=\"\",\"\",'Access Point (Desc)'!H104)","v":""},{"$f":"IF('Access Point (Desc)'!I104=\"\",\"\",INDEX([1]ROUTE_MH_TYPE!$A$2:$A$100,MATCH('Access Point (Desc)'!$I104,[1]!MASTER_ROUTE_MH_TYPE_DESC[#Data],0),0))","v":""},{"$f":"IF('Access Point (Desc)'!J104=\"\",\"\",INDEX([1]MANHOLE_MTL!$A$2:$A$100,MATCH('Access Point (Desc)'!$J104,[1]!MASTER_MANHOLE_MTL_DESC[#Data],0),0))","v":""},{"$f":"IF('Access Point (Desc)'!K104=\"\",\"\",INDEX([1]MANHOLE_SIZE!$A$2:$A$120,MATCH('Access Point (Desc)'!$K104,[1]!MASTER_MANHOLE_SIZE_DESC[#Data],0),0))","v":""},{"$f":"IF('Access Point (Desc)'!L104=\"\",\"\",INDEX([1]ROUTE_MH_LID_TYPE!$A$2:$A$100,MATCH('Access Point (Desc)'!$L104,[1]!MASTER_ROUTE_MH_LID_TYPE_DESC[#Data],0),0))","v":""},{"$f":"IF('Access Point (Desc)'!M104=\"\",\"\",INDEX([1]MANHOLE_MTL!$A$2:$A$100,MATCH('Access Point (Desc)'!$M104,[1]!MASTER_MANHOLE_MTL_DESC[#Data],0),0))","v":""},{"$f":"IF('Access Point (Desc)'!N104=\"\",\"\",INDEX([1]LID_BOLT_TYPE!$A$2:$A$100,MATCH('Access Point (Desc)'!$N104,[1]!MASTER_LID_BOLT_TYPE_DESC[#Data],0),0))","v":""},{"$f":"IF('Access Point (Desc)'!O104=\"\",\"\",INDEX([1]YES_NO!$A$2:$A$100,MATCH('Access Point (Desc)'!$O104,[1]!MASTER_YES_NO_DESC[#Data],0),0))","v":""},{"$f":"IF('Access Point (Desc)'!P104=\"\",\"\",'Access Point (Desc)'!P104)","v":""},{"$f":"IF('Access Point (Desc)'!Q104=\"\",\"\",INDEX([1]YES_NO!$A$2:$A$100,MATCH('Access Point (Desc)'!$Q104,[1]!MASTER_YES_NO_DESC[#Data],0),0))","v":""}]
[{"$f":"IF('Access Point (Desc)'!A105=\"\",\"\",'Access Point (Desc)'!A105)","v":""},{"$f":"IF('Access Point (Desc)'!B105=\"\",\"\",'Access Point (Desc)'!B105)","v":""},{"$f":"IF('Access Point (Desc)'!C105=\"\",\"\",'Access Point (Desc)'!C105)","v":""},{"$f":"IF('Access Point (Desc)'!D105=\"\",\"\",'Access Point (Desc)'!D105)","v":""},{"$f":"IF('Access Point (Desc)'!E105=\"\",\"\",INDEX([1]OWNER!$A$2:$A$100,MATCH('Access Point (Desc)'!$E105,[1]!MASTER_OWNER_DESC[#Data],0),0))","v":""},{"$f":"IF('Access Point (Desc)'!F105=\"\",\"\",INDEX([1]COUNTY!$A$2:$A$100,MATCH('Access Point (Desc)'!F105,[1]!MASTER_COUNTY_NAME[#Data],0),0))","v":""},{"$f":"IF('Access Point (Desc)'!G105=\"\",\"\",'Access Point (Desc)'!G105)","v":""},{"$f":"IF('Access Point (Desc)'!H105=\"\",\"\",'Access Point (Desc)'!H105)","v":""},{"$f":"IF('Access Point (Desc)'!I105=\"\",\"\",INDEX([1]ROUTE_MH_TYPE!$A$2:$A$100,MATCH('Access Point (Desc)'!$I105,[1]!MASTER_ROUTE_MH_TYPE_DESC[#Data],0),0))","v":""},{"$f":"IF('Access Point (Desc)'!J105=\"\",\"\",INDEX([1]MANHOLE_MTL!$A$2:$A$100,MATCH('Access Point (Desc)'!$J105,[1]!MASTER_MANHOLE_MTL_DESC[#Data],0),0))","v":""},{"$f":"IF('Access Point (Desc)'!K105=\"\",\"\",INDEX([1]MANHOLE_SIZE!$A$2:$A$120,MATCH('Access Point (Desc)'!$K105,[1]!MASTER_MANHOLE_SIZE_DESC[#Data],0),0))","v":""},{"$f":"IF('Access Point (Desc)'!L105=\"\",\"\",INDEX([1]ROUTE_MH_LID_TYPE!$A$2:$A$100,MATCH('Access Point (Desc)'!$L105,[1]!MASTER_ROUTE_MH_LID_TYPE_DESC[#Data],0),0))","v":""},{"$f":"IF('Access Point (Desc)'!M105=\"\",\"\",INDEX([1]MANHOLE_MTL!$A$2:$A$100,MATCH('Access Point (Desc)'!$M105,[1]!MASTER_MANHOLE_MTL_DESC[#Data],0),0))","v":""},{"$f":"IF('Access Point (Desc)'!N105=\"\",\"\",INDEX([1]LID_BOLT_TYPE!$A$2:$A$100,MATCH('Access Point (Desc)'!$N105,[1]!MASTER_LID_BOLT_TYPE_DESC[#Data],0),0))","v":""},{"$f":"IF('Access Point (Desc)'!O105=\"\",\"\",INDEX([1]YES_NO!$A$2:$A$100,MATCH('Access Point (Desc)'!$O105,[1]!MASTER_YES_NO_DESC[#Data],0),0))","v":""},{"$f":"IF('Access Point (Desc)'!P105=\"\",\"\",'Access Point (Desc)'!P105)","v":""},{"$f":"IF('Access Point (Desc)'!Q105=\"\",\"\",INDEX([1]YES_NO!$A$2:$A$100,MATCH('Access Point (Desc)'!$Q105,[1]!MASTER_YES_NO_DESC[#Data],0),0))","v":""}]
[{"$f":"IF('Access Point (Desc)'!A106=\"\",\"\",'Access Point (Desc)'!A106)","v":""},{"$f":"IF('Access Point (Desc)'!B106=\"\",\"\",'Access Point (Desc)'!B106)","v":""},{"$f":"IF('Access Point (Desc)'!C106=\"\",\"\",'Access Point (Desc)'!C106)","v":""},{"$f":"IF('Access Point (Desc)'!D106=\"\",\"\",'Access Point (Desc)'!D106)","v":""},{"$f":"IF('Access Point (Desc)'!E106=\"\",\"\",INDEX([1]OWNER!$A$2:$A$100,MATCH('Access Point (Desc)'!$E106,[1]!MASTER_OWNER_DESC[#Data],0),0))","v":""},{"$f":"IF('Access Point (Desc)'!F106=\"\",\"\",INDEX([1]COUNTY!$A$2:$A$100,MATCH('Access Point (Desc)'!F106,[1]!MASTER_COUNTY_NAME[#Data],0),0))","v":""},{"$f":"IF('Access Point (Desc)'!G106=\"\",\"\",'Access Point (Desc)'!G106)","v":""},{"$f":"IF('Access Point (Desc)'!H106=\"\",\"\",'Access Point (Desc)'!H106)","v":""},{"$f":"IF('Access Point (Desc)'!I106=\"\",\"\",INDEX([1]ROUTE_MH_TYPE!$A$2:$A$100,MATCH('Access Point (Desc)'!$I106,[1]!MASTER_ROUTE_MH_TYPE_DESC[#Data],0),0))","v":""},{"$f":"IF('Access Point (Desc)'!J106=\"\",\"\",INDEX([1]MANHOLE_MTL!$A$2:$A$100,MATCH('Access Point (Desc)'!$J106,[1]!MASTER_MANHOLE_MTL_DESC[#Data],0),0))","v":""},{"$f":"IF('Access Point (Desc)'!K106=\"\",\"\",INDEX([1]MANHOLE_SIZE!$A$2:$A$120,MATCH('Access Point (Desc)'!$K106,[1]!MASTER_MANHOLE_SIZE_DESC[#Data],0),0))","v":""},{"$f":"IF('Access Point (Desc)'!L106=\"\",\"\",INDEX([1]ROUTE_MH_LID_TYPE!$A$2:$A$100,MATCH('Access Point (Desc)'!$L106,[1]!MASTER_ROUTE_MH_LID_TYPE_DESC[#Data],0),0))","v":""},{"$f":"IF('Access Point (Desc)'!M106=\"\",\"\",INDEX([1]MANHOLE_MTL!$A$2:$A$100,MATCH('Access Point (Desc)'!$M106,[1]!MASTER_MANHOLE_MTL_DESC[#Data],0),0))","v":""},{"$f":"IF('Access Point (Desc)'!N106=\"\",\"\",INDEX([1]LID_BOLT_TYPE!$A$2:$A$100,MATCH('Access Point (Desc)'!$N106,[1]!MASTER_LID_BOLT_TYPE_DESC[#Data],0),0))","v":""},{"$f":"IF('Access Point (Desc)'!O106=\"\",\"\",INDEX([1]YES_NO!$A$2:$A$100,MATCH('Access Point (Desc)'!$O106,[1]!MASTER_YES_NO_DESC[#Data],0),0))","v":""},{"$f":"IF('Access Point (Desc)'!P106=\"\",\"\",'Access Point (Desc)'!P106)","v":""},{"$f":"IF('Access Point (Desc)'!Q106=\"\",\"\",INDEX([1]YES_NO!$A$2:$A$100,MATCH('Access Point (Desc)'!$Q106,[1]!MASTER_YES_NO_DESC[#Data],0),0))","v":""}]
[{"$f":"IF('Access Point (Desc)'!A107=\"\",\"\",'Access Point (Desc)'!A107)","v":""},{"$f":"IF('Access Point (Desc)'!B107=\"\",\"\",'Access Point (Desc)'!B107)","v":""},{"$f":"IF('Access Point (Desc)'!C107=\"\",\"\",'Access Point (Desc)'!C107)","v":""},{"$f":"IF('Access Point (Desc)'!D107=\"\",\"\",'Access Point (Desc)'!D107)","v":""},{"$f":"IF('Access Point (Desc)'!E107=\"\",\"\",INDEX([1]OWNER!$A$2:$A$100,MATCH('Access Point (Desc)'!$E107,[1]!MASTER_OWNER_DESC[#Data],0),0))","v":""},{"$f":"IF('Access Point (Desc)'!F107=\"\",\"\",INDEX([1]COUNTY!$A$2:$A$100,MATCH('Access Point (Desc)'!F107,[1]!MASTER_COUNTY_NAME[#Data],0),0))","v":""},{"$f":"IF('Access Point (Desc)'!G107=\"\",\"\",'Access Point (Desc)'!G107)","v":""},{"$f":"IF('Access Point (Desc)'!H107=\"\",\"\",'Access Point (Desc)'!H107)","v":""},{"$f":"IF('Access Point (Desc)'!I107=\"\",\"\",INDEX([1]ROUTE_MH_TYPE!$A$2:$A$100,MATCH('Access Point (Desc)'!$I107,[1]!MASTER_ROUTE_MH_TYPE_DESC[#Data],0),0))","v":""},{"$f":"IF('Access Point (Desc)'!J107=\"\",\"\",INDEX([1]MANHOLE_MTL!$A$2:$A$100,MATCH('Access Point (Desc)'!$J107,[1]!MASTER_MANHOLE_MTL_DESC[#Data],0),0))","v":""},{"$f":"IF('Access Point (Desc)'!K107=\"\",\"\",INDEX([1]MANHOLE_SIZE!$A$2:$A$120,MATCH('Access Point (Desc)'!$K107,[1]!MASTER_MANHOLE_SIZE_DESC[#Data],0),0))","v":""},{"$f":"IF('Access Point (Desc)'!L107=\"\",\"\",INDEX([1]ROUTE_MH_LID_TYPE!$A$2:$A$100,MATCH('Access Point (Desc)'!$L107,[1]!MASTER_ROUTE_MH_LID_TYPE_DESC[#Data],0),0))","v":""},{"$f":"IF('Access Point (Desc)'!M107=\"\",\"\",INDEX([1]MANHOLE_MTL!$A$2:$A$100,MATCH('Access Point (Desc)'!$M107,[1]!MASTER_MANHOLE_MTL_DESC[#Data],0),0))","v":""},{"$f":"IF('Access Point (Desc)'!N107=\"\",\"\",INDEX([1]LID_BOLT_TYPE!$A$2:$A$100,MATCH('Access Point (Desc)'!$N107,[1]!MASTER_LID_BOLT_TYPE_DESC[#Data],0),0))","v":""},{"$f":"IF('Access Point (Desc)'!O107=\"\",\"\",INDEX([1]YES_NO!$A$2:$A$100,MATCH('Access Point (Desc)'!$O107,[1]!MASTER_YES_NO_DESC[#Data],0),0))","v":""},{"$f":"IF('Access Point (Desc)'!P107=\"\",\"\",'Access Point (Desc)'!P107)","v":""},{"$f":"IF('Access Point (Desc)'!Q107=\"\",\"\",INDEX([1]YES_NO!$A$2:$A$100,MATCH('Access Point (Desc)'!$Q107,[1]!MASTER_YES_NO_DESC[#Data],0),0))","v":""}]
[{"$f":"IF('Access Point (Desc)'!A108=\"\",\"\",'Access Point (Desc)'!A108)","v":""},{"$f":"IF('Access Point (Desc)'!B108=\"\",\"\",'Access Point (Desc)'!B108)","v":""},{"$f":"IF('Access Point (Desc)'!C108=\"\",\"\",'Access Point (Desc)'!C108)","v":""},{"$f":"IF('Access Point (Desc)'!D108=\"\",\"\",'Access Point (Desc)'!D108)","v":""},{"$f":"IF('Access Point (Desc)'!E108=\"\",\"\",INDEX([1]OWNER!$A$2:$A$100,MATCH('Access Point (Desc)'!$E108,[1]!MASTER_OWNER_DESC[#Data],0),0))","v":""},{"$f":"IF('Access Point (Desc)'!F108=\"\",\"\",INDEX([1]COUNTY!$A$2:$A$100,MATCH('Access Point (Desc)'!F108,[1]!MASTER_COUNTY_NAME[#Data],0),0))","v":""},{"$f":"IF('Access Point (Desc)'!G108=\"\",\"\",'Access Point (Desc)'!G108)","v":""},{"$f":"IF('Access Point (Desc)'!H108=\"\",\"\",'Access Point (Desc)'!H108)","v":""},{"$f":"IF('Access Point (Desc)'!I108=\"\",\"\",INDEX([1]ROUTE_MH_TYPE!$A$2:$A$100,MATCH('Access Point (Desc)'!$I108,[1]!MASTER_ROUTE_MH_TYPE_DESC[#Data],0),0))","v":""},{"$f":"IF('Access Point (Desc)'!J108=\"\",\"\",INDEX([1]MANHOLE_MTL!$A$2:$A$100,MATCH('Access Point (Desc)'!$J108,[1]!MASTER_MANHOLE_MTL_DESC[#Data],0),0))","v":""},{"$f":"IF('Access Point (Desc)'!K108=\"\",\"\",INDEX([1]MANHOLE_SIZE!$A$2:$A$120,MATCH('Access Point (Desc)'!$K108,[1]!MASTER_MANHOLE_SIZE_DESC[#Data],0),0))","v":""},{"$f":"IF('Access Point (Desc)'!L108=\"\",\"\",INDEX([1]ROUTE_MH_LID_TYPE!$A$2:$A$100,MATCH('Access Point (Desc)'!$L108,[1]!MASTER_ROUTE_MH_LID_TYPE_DESC[#Data],0),0))","v":""},{"$f":"IF('Access Point (Desc)'!M108=\"\",\"\",INDEX([1]MANHOLE_MTL!$A$2:$A$100,MATCH('Access Point (Desc)'!$M108,[1]!MASTER_MANHOLE_MTL_DESC[#Data],0),0))","v":""},{"$f":"IF('Access Point (Desc)'!N108=\"\",\"\",INDEX([1]LID_BOLT_TYPE!$A$2:$A$100,MATCH('Access Point (Desc)'!$N108,[1]!MASTER_LID_BOLT_TYPE_DESC[#Data],0),0))","v":""},{"$f":"IF('Access Point (Desc)'!O108=\"\",\"\",INDEX([1]YES_NO!$A$2:$A$100,MATCH('Access Point (Desc)'!$O108,[1]!MASTER_YES_NO_DESC[#Data],0),0))","v":""},{"$f":"IF('Access Point (Desc)'!P108=\"\",\"\",'Access Point (Desc)'!P108)","v":""},{"$f":"IF('Access Point (Desc)'!Q108=\"\",\"\",INDEX([1]YES_NO!$A$2:$A$100,MATCH('Access Point (Desc)'!$Q108,[1]!MASTER_YES_NO_DESC[#Data],0),0))","v":""}]
[{"$f":"IF('Access Point (Desc)'!A109=\"\",\"\",'Access Point (Desc)'!A109)","v":""},{"$f":"IF('Access Point (Desc)'!B109=\"\",\"\",'Access Point (Desc)'!B109)","v":""},{"$f":"IF('Access Point (Desc)'!C109=\"\",\"\",'Access Point (Desc)'!C109)","v":""},{"$f":"IF('Access Point (Desc)'!D109=\"\",\"\",'Access Point (Desc)'!D109)","v":""},{"$f":"IF('Access Point (Desc)'!E109=\"\",\"\",INDEX([1]OWNER!$A$2:$A$100,MATCH('Access Point (Desc)'!$E109,[1]!MASTER_OWNER_DESC[#Data],0),0))","v":""},{"$f":"IF('Access Point (Desc)'!F109=\"\",\"\",INDEX([1]COUNTY!$A$2:$A$100,MATCH('Access Point (Desc)'!F109,[1]!MASTER_COUNTY_NAME[#Data],0),0))","v":""},{"$f":"IF('Access Point (Desc)'!G109=\"\",\"\",'Access Point (Desc)'!G109)","v":""},{"$f":"IF('Access Point (Desc)'!H109=\"\",\"\",'Access Point (Desc)'!H109)","v":""},{"$f":"IF('Access Point (Desc)'!I109=\"\",\"\",INDEX([1]ROUTE_MH_TYPE!$A$2:$A$100,MATCH('Access Point (Desc)'!$I109,[1]!MASTER_ROUTE_MH_TYPE_DESC[#Data],0),0))","v":""},{"$f":"IF('Access Point (Desc)'!J109=\"\",\"\",INDEX([1]MANHOLE_MTL!$A$2:$A$100,MATCH('Access Point (Desc)'!$J109,[1]!MASTER_MANHOLE_MTL_DESC[#Data],0),0))","v":""},{"$f":"IF('Access Point (Desc)'!K109=\"\",\"\",INDEX([1]MANHOLE_SIZE!$A$2:$A$120,MATCH('Access Point (Desc)'!$K109,[1]!MASTER_MANHOLE_SIZE_DESC[#Data],0),0))","v":""},{"$f":"IF('Access Point (Desc)'!L109=\"\",\"\",INDEX([1]ROUTE_MH_LID_TYPE!$A$2:$A$100,MATCH('Access Point (Desc)'!$L109,[1]!MASTER_ROUTE_MH_LID_TYPE_DESC[#Data],0),0))","v":""},{"$f":"IF('Access Point (Desc)'!M109=\"\",\"\",INDEX([1]MANHOLE_MTL!$A$2:$A$100,MATCH('Access Point (Desc)'!$M109,[1]!MASTER_MANHOLE_MTL_DESC[#Data],0),0))","v":""},{"$f":"IF('Access Point (Desc)'!N109=\"\",\"\",INDEX([1]LID_BOLT_TYPE!$A$2:$A$100,MATCH('Access Point (Desc)'!$N109,[1]!MASTER_LID_BOLT_TYPE_DESC[#Data],0),0))","v":""},{"$f":"IF('Access Point (Desc)'!O109=\"\",\"\",INDEX([1]YES_NO!$A$2:$A$100,MATCH('Access Point (Desc)'!$O109,[1]!MASTER_YES_NO_DESC[#Data],0),0))","v":""},{"$f":"IF('Access Point (Desc)'!P109=\"\",\"\",'Access Point (Desc)'!P109)","v":""},{"$f":"IF('Access Point (Desc)'!Q109=\"\",\"\",INDEX([1]YES_NO!$A$2:$A$100,MATCH('Access Point (Desc)'!$Q109,[1]!MASTER_YES_NO_DESC[#Data],0),0))","v":""}]
[{"$f":"IF('Access Point (Desc)'!A110=\"\",\"\",'Access Point (Desc)'!A110)","v":""},{"$f":"IF('Access Point (Desc)'!B110=\"\",\"\",'Access Point (Desc)'!B110)","v":""},{"$f":"IF('Access Point (Desc)'!C110=\"\",\"\",'Access Point (Desc)'!C110)","v":""},{"$f":"IF('Access Point (Desc)'!D110=\"\",\"\",'Access Point (Desc)'!D110)","v":""},{"$f":"IF('Access Point (Desc)'!E110=\"\",\"\",INDEX([1]OWNER!$A$2:$A$100,MATCH('Access Point (Desc)'!$E110,[1]!MASTER_OWNER_DESC[#Data],0),0))","v":""},{"$f":"IF('Access Point (Desc)'!F110=\"\",\"\",INDEX([1]COUNTY!$A$2:$A$100,MATCH('Access Point (Desc)'!F110,[1]!MASTER_COUNTY_NAME[#Data],0),0))","v":""},{"$f":"IF('Access Point (Desc)'!G110=\"\",\"\",'Access Point (Desc)'!G110)","v":""},{"$f":"IF('Access Point (Desc)'!H110=\"\",\"\",'Access Point (Desc)'!H110)","v":""},{"$f":"IF('Access Point (Desc)'!I110=\"\",\"\",INDEX([1]ROUTE_MH_TYPE!$A$2:$A$100,MATCH('Access Point (Desc)'!$I110,[1]!MASTER_ROUTE_MH_TYPE_DESC[#Data],0),0))","v":""},{"$f":"IF('Access Point (Desc)'!J110=\"\",\"\",INDEX([1]MANHOLE_MTL!$A$2:$A$100,MATCH('Access Point (Desc)'!$J110,[1]!MASTER_MANHOLE_MTL_DESC[#Data],0),0))","v":""},{"$f":"IF('Access Point (Desc)'!K110=\"\",\"\",INDEX([1]MANHOLE_SIZE!$A$2:$A$120,MATCH('Access Point (Desc)'!$K110,[1]!MASTER_MANHOLE_SIZE_DESC[#Data],0),0))","v":""},{"$f":"IF('Access Point (Desc)'!L110=\"\",\"\",INDEX([1]ROUTE_MH_LID_TYPE!$A$2:$A$100,MATCH('Access Point (Desc)'!$L110,[1]!MASTER_ROUTE_MH_LID_TYPE_DESC[#Data],0),0))","v":""},{"$f":"IF('Access Point (Desc)'!M110=\"\",\"\",INDEX([1]MANHOLE_MTL!$A$2:$A$100,MATCH('Access Point (Desc)'!$M110,[1]!MASTER_MANHOLE_MTL_DESC[#Data],0),0))","v":""},{"$f":"IF('Access Point (Desc)'!N110=\"\",\"\",INDEX([1]LID_BOLT_TYPE!$A$2:$A$100,MATCH('Access Point (Desc)'!$N110,[1]!MASTER_LID_BOLT_TYPE_DESC[#Data],0),0))","v":""},{"$f":"IF('Access Point (Desc)'!O110=\"\",\"\",INDEX([1]YES_NO!$A$2:$A$100,MATCH('Access Point (Desc)'!$O110,[1]!MASTER_YES_NO_DESC[#Data],0),0))","v":""},{"$f":"IF('Access Point (Desc)'!P110=\"\",\"\",'Access Point (Desc)'!P110)","v":""},{"$f":"IF('Access Point (Desc)'!Q110=\"\",\"\",INDEX([1]YES_NO!$A$2:$A$100,MATCH('Access Point (Desc)'!$Q110,[1]!MASTER_YES_NO_DESC[#Data],0),0))","v":""}]
[{"$f":"IF('Access Point (Desc)'!A111=\"\",\"\",'Access Point (Desc)'!A111)","v":""},{"$f":"IF('Access Point (Desc)'!B111=\"\",\"\",'Access Point (Desc)'!B111)","v":""},{"$f":"IF('Access Point (Desc)'!C111=\"\",\"\",'Access Point (Desc)'!C111)","v":""},{"$f":"IF('Access Point (Desc)'!D111=\"\",\"\",'Access Point (Desc)'!D111)","v":""},{"$f":"IF('Access Point (Desc)'!E111=\"\",\"\",INDEX([1]OWNER!$A$2:$A$100,MATCH('Access Point (Desc)'!$E111,[1]!MASTER_OWNER_DESC[#Data],0),0))","v":""},{"$f":"IF('Access Point (Desc)'!F111=\"\",\"\",INDEX([1]COUNTY!$A$2:$A$100,MATCH('Access Point (Desc)'!F111,[1]!MASTER_COUNTY_NAME[#Data],0),0))","v":""},{"$f":"IF('Access Point (Desc)'!G111=\"\",\"\",'Access Point (Desc)'!G111)","v":""},{"$f":"IF('Access Point (Desc)'!H111=\"\",\"\",'Access Point (Desc)'!H111)","v":""},{"$f":"IF('Access Point (Desc)'!I111=\"\",\"\",INDEX([1]ROUTE_MH_TYPE!$A$2:$A$100,MATCH('Access Point (Desc)'!$I111,[1]!MASTER_ROUTE_MH_TYPE_DESC[#Data],0),0))","v":""},{"$f":"IF('Access Point (Desc)'!J111=\"\",\"\",INDEX([1]MANHOLE_MTL!$A$2:$A$100,MATCH('Access Point (Desc)'!$J111,[1]!MASTER_MANHOLE_MTL_DESC[#Data],0),0))","v":""},{"$f":"IF('Access Point (Desc)'!K111=\"\",\"\",INDEX([1]MANHOLE_SIZE!$A$2:$A$120,MATCH('Access Point (Desc)'!$K111,[1]!MASTER_MANHOLE_SIZE_DESC[#Data],0),0))","v":""},{"$f":"IF('Access Point (Desc)'!L111=\"\",\"\",INDEX([1]ROUTE_MH_LID_TYPE!$A$2:$A$100,MATCH('Access Point (Desc)'!$L111,[1]!MASTER_ROUTE_MH_LID_TYPE_DESC[#Data],0),0))","v":""},{"$f":"IF('Access Point (Desc)'!M111=\"\",\"\",INDEX([1]MANHOLE_MTL!$A$2:$A$100,MATCH('Access Point (Desc)'!$M111,[1]!MASTER_MANHOLE_MTL_DESC[#Data],0),0))","v":""},{"$f":"IF('Access Point (Desc)'!N111=\"\",\"\",INDEX([1]LID_BOLT_TYPE!$A$2:$A$100,MATCH('Access Point (Desc)'!$N111,[1]!MASTER_LID_BOLT_TYPE_DESC[#Data],0),0))","v":""},{"$f":"IF('Access Point (Desc)'!O111=\"\",\"\",INDEX([1]YES_NO!$A$2:$A$100,MATCH('Access Point (Desc)'!$O111,[1]!MASTER_YES_NO_DESC[#Data],0),0))","v":""},{"$f":"IF('Access Point (Desc)'!P111=\"\",\"\",'Access Point (Desc)'!P111)","v":""},{"$f":"IF('Access Point (Desc)'!Q111=\"\",\"\",INDEX([1]YES_NO!$A$2:$A$100,MATCH('Access Point (Desc)'!$Q111,[1]!MASTER_YES_NO_DESC[#Data],0),0))","v":""}]
[{"$f":"IF('Access Point (Desc)'!A112=\"\",\"\",'Access Point (Desc)'!A112)","v":""},{"$f":"IF('Access Point (Desc)'!B112=\"\",\"\",'Access Point (Desc)'!B112)","v":""},{"$f":"IF('Access Point (Desc)'!C112=\"\",\"\",'Access Point (Desc)'!C112)","v":""},{"$f":"IF('Access Point (Desc)'!D112=\"\",\"\",'Access Point (Desc)'!D112)","v":""},{"$f":"IF('Access Point (Desc)'!E112=\"\",\"\",INDEX([1]OWNER!$A$2:$A$100,MATCH('Access Point (Desc)'!$E112,[1]!MASTER_OWNER_DESC[#Data],0),0))","v":""},{"$f":"IF('Access Point (Desc)'!F112=\"\",\"\",INDEX([1]COUNTY!$A$2:$A$100,MATCH('Access Point (Desc)'!F112,[1]!MASTER_COUNTY_NAME[#Data],0),0))","v":""},{"$f":"IF('Access Point (Desc)'!G112=\"\",\"\",'Access Point (Desc)'!G112)","v":""},{"$f":"IF('Access Point (Desc)'!H112=\"\",\"\",'Access Point (Desc)'!H112)","v":""},{"$f":"IF('Access Point (Desc)'!I112=\"\",\"\",INDEX([1]ROUTE_MH_TYPE!$A$2:$A$100,MATCH('Access Point (Desc)'!$I112,[1]!MASTER_ROUTE_MH_TYPE_DESC[#Data],0),0))","v":""},{"$f":"IF('Access Point (Desc)'!J112=\"\",\"\",INDEX([1]MANHOLE_MTL!$A$2:$A$100,MATCH('Access Point (Desc)'!$J112,[1]!MASTER_MANHOLE_MTL_DESC[#Data],0),0))","v":""},{"$f":"IF('Access Point (Desc)'!K112=\"\",\"\",INDEX([1]MANHOLE_SIZE!$A$2:$A$120,MATCH('Access Point (Desc)'!$K112,[1]!MASTER_MANHOLE_SIZE_DESC[#Data],0),0))","v":""},{"$f":"IF('Access Point (Desc)'!L112=\"\",\"\",INDEX([1]ROUTE_MH_LID_TYPE!$A$2:$A$100,MATCH('Access Point (Desc)'!$L112,[1]!MASTER_ROUTE_MH_LID_TYPE_DESC[#Data],0),0))","v":""},{"$f":"IF('Access Point (Desc)'!M112=\"\",\"\",INDEX([1]MANHOLE_MTL!$A$2:$A$100,MATCH('Access Point (Desc)'!$M112,[1]!MASTER_MANHOLE_MTL_DESC[#Data],0),0))","v":""},{"$f":"IF('Access Point (Desc)'!N112=\"\",\"\",INDEX([1]LID_BOLT_TYPE!$A$2:$A$100,MATCH('Access Point (Desc)'!$N112,[1]!MASTER_LID_BOLT_TYPE_DESC[#Data],0),0))","v":""},{"$f":"IF('Access Point (Desc)'!O112=\"\",\"\",INDEX([1]YES_NO!$A$2:$A$100,MATCH('Access Point (Desc)'!$O112,[1]!MASTER_YES_NO_DESC[#Data],0),0))","v":""},{"$f":"IF('Access Point (Desc)'!P112=\"\",\"\",'Access Point (Desc)'!P112)","v":""},{"$f":"IF('Access Point (Desc)'!Q112=\"\",\"\",INDEX([1]YES_NO!$A$2:$A$100,MATCH('Access Point (Desc)'!$Q112,[1]!MASTER_YES_NO_DESC[#Data],0),0))","v":""}]
[{"$f":"IF('Access Point (Desc)'!A113=\"\",\"\",'Access Point (Desc)'!A113)","v":""},{"$f":"IF('Access Point (Desc)'!B113=\"\",\"\",'Access Point (Desc)'!B113)","v":""},{"$f":"IF('Access Point (Desc)'!C113=\"\",\"\",'Access Point (Desc)'!C113)","v":""},{"$f":"IF('Access Point (Desc)'!D113=\"\",\"\",'Access Point (Desc)'!D113)","v":""},{"$f":"IF('Access Point (Desc)'!E113=\"\",\"\",INDEX([1]OWNER!$A$2:$A$100,MATCH('Access Point (Desc)'!$E113,[1]!MASTER_OWNER_DESC[#Data],0),0))","v":""},{"$f":"IF('Access Point (Desc)'!F113=\"\",\"\",INDEX([1]COUNTY!$A$2:$A$100,MATCH('Access Point (Desc)'!F113,[1]!MASTER_COUNTY_NAME[#Data],0),0))","v":""},{"$f":"IF('Access Point (Desc)'!G113=\"\",\"\",'Access Point (Desc)'!G113)","v":""},{"$f":"IF('Access Point (Desc)'!H113=\"\",\"\",'Access Point (Desc)'!H113)","v":""},{"$f":"IF('Access Point (Desc)'!I113=\"\",\"\",INDEX([1]ROUTE_MH_TYPE!$A$2:$A$100,MATCH('Access Point (Desc)'!$I113,[1]!MASTER_ROUTE_MH_TYPE_DESC[#Data],0),0))","v":""},{"$f":"IF('Access Point (Desc)'!J113=\"\",\"\",INDEX([1]MANHOLE_MTL!$A$2:$A$100,MATCH('Access Point (Desc)'!$J113,[1]!MASTER_MANHOLE_MTL_DESC[#Data],0),0))","v":""},{"$f":"IF('Access Point (Desc)'!K113=\"\",\"\",INDEX([1]MANHOLE_SIZE!$A$2:$A$120,MATCH('Access Point (Desc)'!$K113,[1]!MASTER_MANHOLE_SIZE_DESC[#Data],0),0))","v":""},{"$f":"IF('Access Point (Desc)'!L113=\"\",\"\",INDEX([1]ROUTE_MH_LID_TYPE!$A$2:$A$100,MATCH('Access Point (Desc)'!$L113,[1]!MASTER_ROUTE_MH_LID_TYPE_DESC[#Data],0),0))","v":""},{"$f":"IF('Access Point (Desc)'!M113=\"\",\"\",INDEX([1]MANHOLE_MTL!$A$2:$A$100,MATCH('Access Point (Desc)'!$M113,[1]!MASTER_MANHOLE_MTL_DESC[#Data],0),0))","v":""},{"$f":"IF('Access Point (Desc)'!N113=\"\",\"\",INDEX([1]LID_BOLT_TYPE!$A$2:$A$100,MATCH('Access Point (Desc)'!$N113,[1]!MASTER_LID_BOLT_TYPE_DESC[#Data],0),0))","v":""},{"$f":"IF('Access Point (Desc)'!O113=\"\",\"\",INDEX([1]YES_NO!$A$2:$A$100,MATCH('Access Point (Desc)'!$O113,[1]!MASTER_YES_NO_DESC[#Data],0),0))","v":""},{"$f":"IF('Access Point (Desc)'!P113=\"\",\"\",'Access Point (Desc)'!P113)","v":""},{"$f":"IF('Access Point (Desc)'!Q113=\"\",\"\",INDEX([1]YES_NO!$A$2:$A$100,MATCH('Access Point (Desc)'!$Q113,[1]!MASTER_YES_NO_DESC[#Data],0),0))","v":""}]
[{"$f":"IF('Access Point (Desc)'!A114=\"\",\"\",'Access Point (Desc)'!A114)","v":""},{"$f":"IF('Access Point (Desc)'!B114=\"\",\"\",'Access Point (Desc)'!B114)","v":""},{"$f":"IF('Access Point (Desc)'!C114=\"\",\"\",'Access Point (Desc)'!C114)","v":""},{"$f":"IF('Access Point (Desc)'!D114=\"\",\"\",'Access Point (Desc)'!D114)","v":""},{"$f":"IF('Access Point (Desc)'!E114=\"\",\"\",INDEX([1]OWNER!$A$2:$A$100,MATCH('Access Point (Desc)'!$E114,[1]!MASTER_OWNER_DESC[#Data],0),0))","v":""},{"$f":"IF('Access Point (Desc)'!F114=\"\",\"\",INDEX([1]COUNTY!$A$2:$A$100,MATCH('Access Point (Desc)'!F114,[1]!MASTER_COUNTY_NAME[#Data],0),0))","v":""},{"$f":"IF('Access Point (Desc)'!G114=\"\",\"\",'Access Point (Desc)'!G114)","v":""},{"$f":"IF('Access Point (Desc)'!H114=\"\",\"\",'Access Point (Desc)'!H114)","v":""},{"$f":"IF('Access Point (Desc)'!I114=\"\",\"\",INDEX([1]ROUTE_MH_TYPE!$A$2:$A$100,MATCH('Access Point (Desc)'!$I114,[1]!MASTER_ROUTE_MH_TYPE_DESC[#Data],0),0))","v":""},{"$f":"IF('Access Point (Desc)'!J114=\"\",\"\",INDEX([1]MANHOLE_MTL!$A$2:$A$100,MATCH('Access Point (Desc)'!$J114,[1]!MASTER_MANHOLE_MTL_DESC[#Data],0),0))","v":""},{"$f":"IF('Access Point (Desc)'!K114=\"\",\"\",INDEX([1]MANHOLE_SIZE!$A$2:$A$120,MATCH('Access Point (Desc)'!$K114,[1]!MASTER_MANHOLE_SIZE_DESC[#Data],0),0))","v":""},{"$f":"IF('Access Point (Desc)'!L114=\"\",\"\",INDEX([1]ROUTE_MH_LID_TYPE!$A$2:$A$100,MATCH('Access Point (Desc)'!$L114,[1]!MASTER_ROUTE_MH_LID_TYPE_DESC[#Data],0),0))","v":""},{"$f":"IF('Access Point (Desc)'!M114=\"\",\"\",INDEX([1]MANHOLE_MTL!$A$2:$A$100,MATCH('Access Point (Desc)'!$M114,[1]!MASTER_MANHOLE_MTL_DESC[#Data],0),0))","v":""},{"$f":"IF('Access Point (Desc)'!N114=\"\",\"\",INDEX([1]LID_BOLT_TYPE!$A$2:$A$100,MATCH('Access Point (Desc)'!$N114,[1]!MASTER_LID_BOLT_TYPE_DESC[#Data],0),0))","v":""},{"$f":"IF('Access Point (Desc)'!O114=\"\",\"\",INDEX([1]YES_NO!$A$2:$A$100,MATCH('Access Point (Desc)'!$O114,[1]!MASTER_YES_NO_DESC[#Data],0),0))","v":""},{"$f":"IF('Access Point (Desc)'!P114=\"\",\"\",'Access Point (Desc)'!P114)","v":""},{"$f":"IF('Access Point (Desc)'!Q114=\"\",\"\",INDEX([1]YES_NO!$A$2:$A$100,MATCH('Access Point (Desc)'!$Q114,[1]!MASTER_YES_NO_DESC[#Data],0),0))","v":""}]
[{"$f":"IF('Access Point (Desc)'!A115=\"\",\"\",'Access Point (Desc)'!A115)","v":""},{"$f":"IF('Access Point (Desc)'!B115=\"\",\"\",'Access Point (Desc)'!B115)","v":""},{"$f":"IF('Access Point (Desc)'!C115=\"\",\"\",'Access Point (Desc)'!C115)","v":""},{"$f":"IF('Access Point (Desc)'!D115=\"\",\"\",'Access Point (Desc)'!D115)","v":""},{"$f":"IF('Access Point (Desc)'!E115=\"\",\"\",INDEX([1]OWNER!$A$2:$A$100,MATCH('Access Point (Desc)'!$E115,[1]!MASTER_OWNER_DESC[#Data],0),0))","v":""},{"$f":"IF('Access Point (Desc)'!F115=\"\",\"\",INDEX([1]COUNTY!$A$2:$A$100,MATCH('Access Point (Desc)'!F115,[1]!MASTER_COUNTY_NAME[#Data],0),0))","v":""},{"$f":"IF('Access Point (Desc)'!G115=\"\",\"\",'Access Point (Desc)'!G115)","v":""},{"$f":"IF('Access Point (Desc)'!H115=\"\",\"\",'Access Point (Desc)'!H115)","v":""},{"$f":"IF('Access Point (Desc)'!I115=\"\",\"\",INDEX([1]ROUTE_MH_TYPE!$A$2:$A$100,MATCH('Access Point (Desc)'!$I115,[1]!MASTER_ROUTE_MH_TYPE_DESC[#Data],0),0))","v":""},{"$f":"IF('Access Point (Desc)'!J115=\"\",\"\",INDEX([1]MANHOLE_MTL!$A$2:$A$100,MATCH('Access Point (Desc)'!$J115,[1]!MASTER_MANHOLE_MTL_DESC[#Data],0),0))","v":""},{"$f":"IF('Access Point (Desc)'!K115=\"\",\"\",INDEX([1]MANHOLE_SIZE!$A$2:$A$120,MATCH('Access Point (Desc)'!$K115,[1]!MASTER_MANHOLE_SIZE_DESC[#Data],0),0))","v":""},{"$f":"IF('Access Point (Desc)'!L115=\"\",\"\",INDEX([1]ROUTE_MH_LID_TYPE!$A$2:$A$100,MATCH('Access Point (Desc)'!$L115,[1]!MASTER_ROUTE_MH_LID_TYPE_DESC[#Data],0),0))","v":""},{"$f":"IF('Access Point (Desc)'!M115=\"\",\"\",INDEX([1]MANHOLE_MTL!$A$2:$A$100,MATCH('Access Point (Desc)'!$M115,[1]!MASTER_MANHOLE_MTL_DESC[#Data],0),0))","v":""},{"$f":"IF('Access Point (Desc)'!N115=\"\",\"\",INDEX([1]LID_BOLT_TYPE!$A$2:$A$100,MATCH('Access Point (Desc)'!$N115,[1]!MASTER_LID_BOLT_TYPE_DESC[#Data],0),0))","v":""},{"$f":"IF('Access Point (Desc)'!O115=\"\",\"\",INDEX([1]YES_NO!$A$2:$A$100,MATCH('Access Point (Desc)'!$O115,[1]!MASTER_YES_NO_DESC[#Data],0),0))","v":""},{"$f":"IF('Access Point (Desc)'!P115=\"\",\"\",'Access Point (Desc)'!P115)","v":""},{"$f":"IF('Access Point (Desc)'!Q115=\"\",\"\",INDEX([1]YES_NO!$A$2:$A$100,MATCH('Access Point (Desc)'!$Q115,[1]!MASTER_YES_NO_DESC[#Data],0),0))","v":""}]
[{"$f":"IF('Access Point (Desc)'!A116=\"\",\"\",'Access Point (Desc)'!A116)","v":""},{"$f":"IF('Access Point (Desc)'!B116=\"\",\"\",'Access Point (Desc)'!B116)","v":""},{"$f":"IF('Access Point (Desc)'!C116=\"\",\"\",'Access Point (Desc)'!C116)","v":""},{"$f":"IF('Access Point (Desc)'!D116=\"\",\"\",'Access Point (Desc)'!D116)","v":""},{"$f":"IF('Access Point (Desc)'!E116=\"\",\"\",INDEX([1]OWNER!$A$2:$A$100,MATCH('Access Point (Desc)'!$E116,[1]!MASTER_OWNER_DESC[#Data],0),0))","v":""},{"$f":"IF('Access Point (Desc)'!F116=\"\",\"\",INDEX([1]COUNTY!$A$2:$A$100,MATCH('Access Point (Desc)'!F116,[1]!MASTER_COUNTY_NAME[#Data],0),0))","v":""},{"$f":"IF('Access Point (Desc)'!G116=\"\",\"\",'Access Point (Desc)'!G116)","v":""},{"$f":"IF('Access Point (Desc)'!H116=\"\",\"\",'Access Point (Desc)'!H116)","v":""},{"$f":"IF('Access Point (Desc)'!I116=\"\",\"\",INDEX([1]ROUTE_MH_TYPE!$A$2:$A$100,MATCH('Access Point (Desc)'!$I116,[1]!MASTER_ROUTE_MH_TYPE_DESC[#Data],0),0))","v":""},{"$f":"IF('Access Point (Desc)'!J116=\"\",\"\",INDEX([1]MANHOLE_MTL!$A$2:$A$100,MATCH('Access Point (Desc)'!$J116,[1]!MASTER_MANHOLE_MTL_DESC[#Data],0),0))","v":""},{"$f":"IF('Access Point (Desc)'!K116=\"\",\"\",INDEX([1]MANHOLE_SIZE!$A$2:$A$120,MATCH('Access Point (Desc)'!$K116,[1]!MASTER_MANHOLE_SIZE_DESC[#Data],0),0))","v":""},{"$f":"IF('Access Point (Desc)'!L116=\"\",\"\",INDEX([1]ROUTE_MH_LID_TYPE!$A$2:$A$100,MATCH('Access Point (Desc)'!$L116,[1]!MASTER_ROUTE_MH_LID_TYPE_DESC[#Data],0),0))","v":""},{"$f":"IF('Access Point (Desc)'!M116=\"\",\"\",INDEX([1]MANHOLE_MTL!$A$2:$A$100,MATCH('Access Point (Desc)'!$M116,[1]!MASTER_MANHOLE_MTL_DESC[#Data],0),0))","v":""},{"$f":"IF('Access Point (Desc)'!N116=\"\",\"\",INDEX([1]LID_BOLT_TYPE!$A$2:$A$100,MATCH('Access Point (Desc)'!$N116,[1]!MASTER_LID_BOLT_TYPE_DESC[#Data],0),0))","v":""},{"$f":"IF('Access Point (Desc)'!O116=\"\",\"\",INDEX([1]YES_NO!$A$2:$A$100,MATCH('Access Point (Desc)'!$O116,[1]!MASTER_YES_NO_DESC[#Data],0),0))","v":""},{"$f":"IF('Access Point (Desc)'!P116=\"\",\"\",'Access Point (Desc)'!P116)","v":""},{"$f":"IF('Access Point (Desc)'!Q116=\"\",\"\",INDEX([1]YES_NO!$A$2:$A$100,MATCH('Access Point (Desc)'!$Q116,[1]!MASTER_YES_NO_DESC[#Data],0),0))","v":""}]
[{"$f":"IF('Access Point (Desc)'!A117=\"\",\"\",'Access Point (Desc)'!A117)","v":""},{"$f":"IF('Access Point (Desc)'!B117=\"\",\"\",'Access Point (Desc)'!B117)","v":""},{"$f":"IF('Access Point (Desc)'!C117=\"\",\"\",'Access Point (Desc)'!C117)","v":""},{"$f":"IF('Access Point (Desc)'!D117=\"\",\"\",'Access Point (Desc)'!D117)","v":""},{"$f":"IF('Access Point (Desc)'!E117=\"\",\"\",INDEX([1]OWNER!$A$2:$A$100,MATCH('Access Point (Desc)'!$E117,[1]!MASTER_OWNER_DESC[#Data],0),0))","v":""},{"$f":"IF('Access Point (Desc)'!F117=\"\",\"\",INDEX([1]COUNTY!$A$2:$A$100,MATCH('Access Point (Desc)'!F117,[1]!MASTER_COUNTY_NAME[#Data],0),0))","v":""},{"$f":"IF('Access Point (Desc)'!G117=\"\",\"\",'Access Point (Desc)'!G117)","v":""},{"$f":"IF('Access Point (Desc)'!H117=\"\",\"\",'Access Point (Desc)'!H117)","v":""},{"$f":"IF('Access Point (Desc)'!I117=\"\",\"\",INDEX([1]ROUTE_MH_TYPE!$A$2:$A$100,MATCH('Access Point (Desc)'!$I117,[1]!MASTER_ROUTE_MH_TYPE_DESC[#Data],0),0))","v":""},{"$f":"IF('Access Point (Desc)'!J117=\"\",\"\",INDEX([1]MANHOLE_MTL!$A$2:$A$100,MATCH('Access Point (Desc)'!$J117,[1]!MASTER_MANHOLE_MTL_DESC[#Data],0),0))","v":""},{"$f":"IF('Access Point (Desc)'!K117=\"\",\"\",INDEX([1]MANHOLE_SIZE!$A$2:$A$120,MATCH('Access Point (Desc)'!$K117,[1]!MASTER_MANHOLE_SIZE_DESC[#Data],0),0))","v":""},{"$f":"IF('Access Point (Desc)'!L117=\"\",\"\",INDEX([1]ROUTE_MH_LID_TYPE!$A$2:$A$100,MATCH('Access Point (Desc)'!$L117,[1]!MASTER_ROUTE_MH_LID_TYPE_DESC[#Data],0),0))","v":""},{"$f":"IF('Access Point (Desc)'!M117=\"\",\"\",INDEX([1]MANHOLE_MTL!$A$2:$A$100,MATCH('Access Point (Desc)'!$M117,[1]!MASTER_MANHOLE_MTL_DESC[#Data],0),0))","v":""},{"$f":"IF('Access Point (Desc)'!N117=\"\",\"\",INDEX([1]LID_BOLT_TYPE!$A$2:$A$100,MATCH('Access Point (Desc)'!$N117,[1]!MASTER_LID_BOLT_TYPE_DESC[#Data],0),0))","v":""},{"$f":"IF('Access Point (Desc)'!O117=\"\",\"\",INDEX([1]YES_NO!$A$2:$A$100,MATCH('Access Point (Desc)'!$O117,[1]!MASTER_YES_NO_DESC[#Data],0),0))","v":""},{"$f":"IF('Access Point (Desc)'!P117=\"\",\"\",'Access Point (Desc)'!P117)","v":""},{"$f":"IF('Access Point (Desc)'!Q117=\"\",\"\",INDEX([1]YES_NO!$A$2:$A$100,MATCH('Access Point (Desc)'!$Q117,[1]!MASTER_YES_NO_DESC[#Data],0),0))","v":""}]
[{"$f":"IF('Access Point (Desc)'!A118=\"\",\"\",'Access Point (Desc)'!A118)","v":""},{"$f":"IF('Access Point (Desc)'!B118=\"\",\"\",'Access Point (Desc)'!B118)","v":""},{"$f":"IF('Access Point (Desc)'!C118=\"\",\"\",'Access Point (Desc)'!C118)","v":""},{"$f":"IF('Access Point (Desc)'!D118=\"\",\"\",'Access Point (Desc)'!D118)","v":""},{"$f":"IF('Access Point (Desc)'!E118=\"\",\"\",INDEX([1]OWNER!$A$2:$A$100,MATCH('Access Point (Desc)'!$E118,[1]!MASTER_OWNER_DESC[#Data],0),0))","v":""},{"$f":"IF('Access Point (Desc)'!F118=\"\",\"\",INDEX([1]COUNTY!$A$2:$A$100,MATCH('Access Point (Desc)'!F118,[1]!MASTER_COUNTY_NAME[#Data],0),0))","v":""},{"$f":"IF('Access Point (Desc)'!G118=\"\",\"\",'Access Point (Desc)'!G118)","v":""},{"$f":"IF('Access Point (Desc)'!H118=\"\",\"\",'Access Point (Desc)'!H118)","v":""},{"$f":"IF('Access Point (Desc)'!I118=\"\",\"\",INDEX([1]ROUTE_MH_TYPE!$A$2:$A$100,MATCH('Access Point (Desc)'!$I118,[1]!MASTER_ROUTE_MH_TYPE_DESC[#Data],0),0))","v":""},{"$f":"IF('Access Point (Desc)'!J118=\"\",\"\",INDEX([1]MANHOLE_MTL!$A$2:$A$100,MATCH('Access Point (Desc)'!$J118,[1]!MASTER_MANHOLE_MTL_DESC[#Data],0),0))","v":""},{"$f":"IF('Access Point (Desc)'!K118=\"\",\"\",INDEX([1]MANHOLE_SIZE!$A$2:$A$120,MATCH('Access Point (Desc)'!$K118,[1]!MASTER_MANHOLE_SIZE_DESC[#Data],0),0))","v":""},{"$f":"IF('Access Point (Desc)'!L118=\"\",\"\",INDEX([1]ROUTE_MH_LID_TYPE!$A$2:$A$100,MATCH('Access Point (Desc)'!$L118,[1]!MASTER_ROUTE_MH_LID_TYPE_DESC[#Data],0),0))","v":""},{"$f":"IF('Access Point (Desc)'!M118=\"\",\"\",INDEX([1]MANHOLE_MTL!$A$2:$A$100,MATCH('Access Point (Desc)'!$M118,[1]!MASTER_MANHOLE_MTL_DESC[#Data],0),0))","v":""},{"$f":"IF('Access Point (Desc)'!N118=\"\",\"\",INDEX([1]LID_BOLT_TYPE!$A$2:$A$100,MATCH('Access Point (Desc)'!$N118,[1]!MASTER_LID_BOLT_TYPE_DESC[#Data],0),0))","v":""},{"$f":"IF('Access Point (Desc)'!O118=\"\",\"\",INDEX([1]YES_NO!$A$2:$A$100,MATCH('Access Point (Desc)'!$O118,[1]!MASTER_YES_NO_DESC[#Data],0),0))","v":""},{"$f":"IF('Access Point (Desc)'!P118=\"\",\"\",'Access Point (Desc)'!P118)","v":""},{"$f":"IF('Access Point (Desc)'!Q118=\"\",\"\",INDEX([1]YES_NO!$A$2:$A$100,MATCH('Access Point (Desc)'!$Q118,[1]!MASTER_YES_NO_DESC[#Data],0),0))","v":""}]
[{"$f":"IF('Access Point (Desc)'!A119=\"\",\"\",'Access Point (Desc)'!A119)","v":""},{"$f":"IF('Access Point (Desc)'!B119=\"\",\"\",'Access Point (Desc)'!B119)","v":""},{"$f":"IF('Access Point (Desc)'!C119=\"\",\"\",'Access Point (Desc)'!C119)","v":""},{"$f":"IF('Access Point (Desc)'!D119=\"\",\"\",'Access Point (Desc)'!D119)","v":""},{"$f":"IF('Access Point (Desc)'!E119=\"\",\"\",INDEX([1]OWNER!$A$2:$A$100,MATCH('Access Point (Desc)'!$E119,[1]!MASTER_OWNER_DESC[#Data],0),0))","v":""},{"$f":"IF('Access Point (Desc)'!F119=\"\",\"\",INDEX([1]COUNTY!$A$2:$A$100,MATCH('Access Point (Desc)'!F119,[1]!MASTER_COUNTY_NAME[#Data],0),0))","v":""},{"$f":"IF('Access Point (Desc)'!G119=\"\",\"\",'Access Point (Desc)'!G119)","v":""},{"$f":"IF('Access Point (Desc)'!H119=\"\",\"\",'Access Point (Desc)'!H119)","v":""},{"$f":"IF('Access Point (Desc)'!I119=\"\",\"\",INDEX([1]ROUTE_MH_TYPE!$A$2:$A$100,MATCH('Access Point (Desc)'!$I119,[1]!MASTER_ROUTE_MH_TYPE_DESC[#Data],0),0))","v":""},{"$f":"IF('Access Point (Desc)'!J119=\"\",\"\",INDEX([1]MANHOLE_MTL!$A$2:$A$100,MATCH('Access Point (Desc)'!$J119,[1]!MASTER_MANHOLE_MTL_DESC[#Data],0),0))","v":""},{"$f":"IF('Access Point (Desc)'!K119=\"\",\"\",INDEX([1]MANHOLE_SIZE!$A$2:$A$120,MATCH('Access Point (Desc)'!$K119,[1]!MASTER_MANHOLE_SIZE_DESC[#Data],0),0))","v":""},{"$f":"IF('Access Point (Desc)'!L119=\"\",\"\",INDEX([1]ROUTE_MH_LID_TYPE!$A$2:$A$100,MATCH('Access Point (Desc)'!$L119,[1]!MASTER_ROUTE_MH_LID_TYPE_DESC[#Data],0),0))","v":""},{"$f":"IF('Access Point (Desc)'!M119=\"\",\"\",INDEX([1]MANHOLE_MTL!$A$2:$A$100,MATCH('Access Point (Desc)'!$M119,[1]!MASTER_MANHOLE_MTL_DESC[#Data],0),0))","v":""},{"$f":"IF('Access Point (Desc)'!N119=\"\",\"\",INDEX([1]LID_BOLT_TYPE!$A$2:$A$100,MATCH('Access Point (Desc)'!$N119,[1]!MASTER_LID_BOLT_TYPE_DESC[#Data],0),0))","v":""},{"$f":"IF('Access Point (Desc)'!O119=\"\",\"\",INDEX([1]YES_NO!$A$2:$A$100,MATCH('Access Point (Desc)'!$O119,[1]!MASTER_YES_NO_DESC[#Data],0),0))","v":""},{"$f":"IF('Access Point (Desc)'!P119=\"\",\"\",'Access Point (Desc)'!P119)","v":""},{"$f":"IF('Access Point (Desc)'!Q119=\"\",\"\",INDEX([1]YES_NO!$A$2:$A$100,MATCH('Access Point (Desc)'!$Q119,[1]!MASTER_YES_NO_DESC[#Data],0),0))","v":""}]
[{"$f":"IF('Access Point (Desc)'!A120=\"\",\"\",'Access Point (Desc)'!A120)","v":""},{"$f":"IF('Access Point (Desc)'!B120=\"\",\"\",'Access Point (Desc)'!B120)","v":""},{"$f":"IF('Access Point (Desc)'!C120=\"\",\"\",'Access Point (Desc)'!C120)","v":""},{"$f":"IF('Access Point (Desc)'!D120=\"\",\"\",'Access Point (Desc)'!D120)","v":""},{"$f":"IF('Access Point (Desc)'!E120=\"\",\"\",INDEX([1]OWNER!$A$2:$A$100,MATCH('Access Point (Desc)'!$E120,[1]!MASTER_OWNER_DESC[#Data],0),0))","v":""},{"$f":"IF('Access Point (Desc)'!F120=\"\",\"\",INDEX([1]COUNTY!$A$2:$A$100,MATCH('Access Point (Desc)'!F120,[1]!MASTER_COUNTY_NAME[#Data],0),0))","v":""},{"$f":"IF('Access Point (Desc)'!G120=\"\",\"\",'Access Point (Desc)'!G120)","v":""},{"$f":"IF('Access Point (Desc)'!H120=\"\",\"\",'Access Point (Desc)'!H120)","v":""},{"$f":"IF('Access Point (Desc)'!I120=\"\",\"\",INDEX([1]ROUTE_MH_TYPE!$A$2:$A$100,MATCH('Access Point (Desc)'!$I120,[1]!MASTER_ROUTE_MH_TYPE_DESC[#Data],0),0))","v":""},{"$f":"IF('Access Point (Desc)'!J120=\"\",\"\",INDEX([1]MANHOLE_MTL!$A$2:$A$100,MATCH('Access Point (Desc)'!$J120,[1]!MASTER_MANHOLE_MTL_DESC[#Data],0),0))","v":""},{"$f":"IF('Access Point (Desc)'!K120=\"\",\"\",INDEX([1]MANHOLE_SIZE!$A$2:$A$120,MATCH('Access Point (Desc)'!$K120,[1]!MASTER_MANHOLE_SIZE_DESC[#Data],0),0))","v":""},{"$f":"IF('Access Point (Desc)'!L120=\"\",\"\",INDEX([1]ROUTE_MH_LID_TYPE!$A$2:$A$100,MATCH('Access Point (Desc)'!$L120,[1]!MASTER_ROUTE_MH_LID_TYPE_DESC[#Data],0),0))","v":""},{"$f":"IF('Access Point (Desc)'!M120=\"\",\"\",INDEX([1]MANHOLE_MTL!$A$2:$A$100,MATCH('Access Point (Desc)'!$M120,[1]!MASTER_MANHOLE_MTL_DESC[#Data],0),0))","v":""},{"$f":"IF('Access Point (Desc)'!N120=\"\",\"\",INDEX([1]LID_BOLT_TYPE!$A$2:$A$100,MATCH('Access Point (Desc)'!$N120,[1]!MASTER_LID_BOLT_TYPE_DESC[#Data],0),0))","v":""},{"$f":"IF('Access Point (Desc)'!O120=\"\",\"\",INDEX([1]YES_NO!$A$2:$A$100,MATCH('Access Point (Desc)'!$O120,[1]!MASTER_YES_NO_DESC[#Data],0),0))","v":""},{"$f":"IF('Access Point (Desc)'!P120=\"\",\"\",'Access Point (Desc)'!P120)","v":""},{"$f":"IF('Access Point (Desc)'!Q120=\"\",\"\",INDEX([1]YES_NO!$A$2:$A$100,MATCH('Access Point (Desc)'!$Q120,[1]!MASTER_YES_NO_DESC[#Data],0),0))","v":""}]
[{"$f":"IF('Access Point (Desc)'!A121=\"\",\"\",'Access Point (Desc)'!A121)","v":""},{"$f":"IF('Access Point (Desc)'!B121=\"\",\"\",'Access Point (Desc)'!B121)","v":""},{"$f":"IF('Access Point (Desc)'!C121=\"\",\"\",'Access Point (Desc)'!C121)","v":""},{"$f":"IF('Access Point (Desc)'!D121=\"\",\"\",'Access Point (Desc)'!D121)","v":""},{"$f":"IF('Access Point (Desc)'!E121=\"\",\"\",INDEX([1]OWNER!$A$2:$A$100,MATCH('Access Point (Desc)'!$E121,[1]!MASTER_OWNER_DESC[#Data],0),0))","v":""},{"$f":"IF('Access Point (Desc)'!F121=\"\",\"\",INDEX([1]COUNTY!$A$2:$A$100,MATCH('Access Point (Desc)'!F121,[1]!MASTER_COUNTY_NAME[#Data],0),0))","v":""},{"$f":"IF('Access Point (Desc)'!G121=\"\",\"\",'Access Point (Desc)'!G121)","v":""},{"$f":"IF('Access Point (Desc)'!H121=\"\",\"\",'Access Point (Desc)'!H121)","v":""},{"$f":"IF('Access Point (Desc)'!I121=\"\",\"\",INDEX([1]ROUTE_MH_TYPE!$A$2:$A$100,MATCH('Access Point (Desc)'!$I121,[1]!MASTER_ROUTE_MH_TYPE_DESC[#Data],0),0))","v":""},{"$f":"IF('Access Point (Desc)'!J121=\"\",\"\",INDEX([1]MANHOLE_MTL!$A$2:$A$100,MATCH('Access Point (Desc)'!$J121,[1]!MASTER_MANHOLE_MTL_DESC[#Data],0),0))","v":""},{"$f":"IF('Access Point (Desc)'!K121=\"\",\"\",INDEX([1]MANHOLE_SIZE!$A$2:$A$120,MATCH('Access Point (Desc)'!$K121,[1]!MASTER_MANHOLE_SIZE_DESC[#Data],0),0))","v":""},{"$f":"IF('Access Point (Desc)'!L121=\"\",\"\",INDEX([1]ROUTE_MH_LID_TYPE!$A$2:$A$100,MATCH('Access Point (Desc)'!$L121,[1]!MASTER_ROUTE_MH_LID_TYPE_DESC[#Data],0),0))","v":""},{"$f":"IF('Access Point (Desc)'!M121=\"\",\"\",INDEX([1]MANHOLE_MTL!$A$2:$A$100,MATCH('Access Point (Desc)'!$M121,[1]!MASTER_MANHOLE_MTL_DESC[#Data],0),0))","v":""},{"$f":"IF('Access Point (Desc)'!N121=\"\",\"\",INDEX([1]LID_BOLT_TYPE!$A$2:$A$100,MATCH('Access Point (Desc)'!$N121,[1]!MASTER_LID_BOLT_TYPE_DESC[#Data],0),0))","v":""},{"$f":"IF('Access Point (Desc)'!O121=\"\",\"\",INDEX([1]YES_NO!$A$2:$A$100,MATCH('Access Point (Desc)'!$O121,[1]!MASTER_YES_NO_DESC[#Data],0),0))","v":""},{"$f":"IF('Access Point (Desc)'!P121=\"\",\"\",'Access Point (Desc)'!P121)","v":""},{"$f":"IF('Access Point (Desc)'!Q121=\"\",\"\",INDEX([1]YES_NO!$A$2:$A$100,MATCH('Access Point (Desc)'!$Q121,[1]!MASTER_YES_NO_DESC[#Data],0),0))","v":""}]
[{"$f":"IF('Access Point (Desc)'!A122=\"\",\"\",'Access Point (Desc)'!A122)","v":""},{"$f":"IF('Access Point (Desc)'!B122=\"\",\"\",'Access Point (Desc)'!B122)","v":""},{"$f":"IF('Access Point (Desc)'!C122=\"\",\"\",'Access Point (Desc)'!C122)","v":""},{"$f":"IF('Access Point (Desc)'!D122=\"\",\"\",'Access Point (Desc)'!D122)","v":""},{"$f":"IF('Access Point (Desc)'!E122=\"\",\"\",INDEX([1]OWNER!$A$2:$A$100,MATCH('Access Point (Desc)'!$E122,[1]!MASTER_OWNER_DESC[#Data],0),0))","v":""},{"$f":"IF('Access Point (Desc)'!F122=\"\",\"\",INDEX([1]COUNTY!$A$2:$A$100,MATCH('Access Point (Desc)'!F122,[1]!MASTER_COUNTY_NAME[#Data],0),0))","v":""},{"$f":"IF('Access Point (Desc)'!G122=\"\",\"\",'Access Point (Desc)'!G122)","v":""},{"$f":"IF('Access Point (Desc)'!H122=\"\",\"\",'Access Point (Desc)'!H122)","v":""},{"$f":"IF('Access Point (Desc)'!I122=\"\",\"\",INDEX([1]ROUTE_MH_TYPE!$A$2:$A$100,MATCH('Access Point (Desc)'!$I122,[1]!MASTER_ROUTE_MH_TYPE_DESC[#Data],0),0))","v":""},{"$f":"IF('Access Point (Desc)'!J122=\"\",\"\",INDEX([1]MANHOLE_MTL!$A$2:$A$100,MATCH('Access Point (Desc)'!$J122,[1]!MASTER_MANHOLE_MTL_DESC[#Data],0),0))","v":""},{"$f":"IF('Access Point (Desc)'!K122=\"\",\"\",INDEX([1]MANHOLE_SIZE!$A$2:$A$120,MATCH('Access Point (Desc)'!$K122,[1]!MASTER_MANHOLE_SIZE_DESC[#Data],0),0))","v":""},{"$f":"IF('Access Point (Desc)'!L122=\"\",\"\",INDEX([1]ROUTE_MH_LID_TYPE!$A$2:$A$100,MATCH('Access Point (Desc)'!$L122,[1]!MASTER_ROUTE_MH_LID_TYPE_DESC[#Data],0),0))","v":""},{"$f":"IF('Access Point (Desc)'!M122=\"\",\"\",INDEX([1]MANHOLE_MTL!$A$2:$A$100,MATCH('Access Point (Desc)'!$M122,[1]!MASTER_MANHOLE_MTL_DESC[#Data],0),0))","v":""},{"$f":"IF('Access Point (Desc)'!N122=\"\",\"\",INDEX([1]LID_BOLT_TYPE!$A$2:$A$100,MATCH('Access Point (Desc)'!$N122,[1]!MASTER_LID_BOLT_TYPE_DESC[#Data],0),0))","v":""},{"$f":"IF('Access Point (Desc)'!O122=\"\",\"\",INDEX([1]YES_NO!$A$2:$A$100,MATCH('Access Point (Desc)'!$O122,[1]!MASTER_YES_NO_DESC[#Data],0),0))","v":""},{"$f":"IF('Access Point (Desc)'!P122=\"\",\"\",'Access Point (Desc)'!P122)","v":""},{"$f":"IF('Access Point (Desc)'!Q122=\"\",\"\",INDEX([1]YES_NO!$A$2:$A$100,MATCH('Access Point (Desc)'!$Q122,[1]!MASTER_YES_NO_DESC[#Data],0),0))","v":""}]
[{"$f":"IF('Access Point (Desc)'!A123=\"\",\"\",'Access Point (Desc)'!A123)","v":""},{"$f":"IF('Access Point (Desc)'!B123=\"\",\"\",'Access Point (Desc)'!B123)","v":""},{"$f":"IF('Access Point (Desc)'!C123=\"\",\"\",'Access Point (Desc)'!C123)","v":""},{"$f":"IF('Access Point (Desc)'!D123=\"\",\"\",'Access Point (Desc)'!D123)","v":""},{"$f":"IF('Access Point (Desc)'!E123=\"\",\"\",INDEX([1]OWNER!$A$2:$A$100,MATCH('Access Point (Desc)'!$E123,[1]!MASTER_OWNER_DESC[#Data],0),0))","v":""},{"$f":"IF('Access Point (Desc)'!F123=\"\",\"\",INDEX([1]COUNTY!$A$2:$A$100,MATCH('Access Point (Desc)'!F123,[1]!MASTER_COUNTY_NAME[#Data],0),0))","v":""},{"$f":"IF('Access Point (Desc)'!G123=\"\",\"\",'Access Point (Desc)'!G123)","v":""},{"$f":"IF('Access Point (Desc)'!H123=\"\",\"\",'Access Point (Desc)'!H123)","v":""},{"$f":"IF('Access Point (Desc)'!I123=\"\",\"\",INDEX([1]ROUTE_MH_TYPE!$A$2:$A$100,MATCH('Access Point (Desc)'!$I123,[1]!MASTER_ROUTE_MH_TYPE_DESC[#Data],0),0))","v":""},{"$f":"IF('Access Point (Desc)'!J123=\"\",\"\",INDEX([1]MANHOLE_MTL!$A$2:$A$100,MATCH('Access Point (Desc)'!$J123,[1]!MASTER_MANHOLE_MTL_DESC[#Data],0),0))","v":""},{"$f":"IF('Access Point (Desc)'!K123=\"\",\"\",INDEX([1]MANHOLE_SIZE!$A$2:$A$120,MATCH('Access Point (Desc)'!$K123,[1]!MASTER_MANHOLE_SIZE_DESC[#Data],0),0))","v":""},{"$f":"IF('Access Point (Desc)'!L123=\"\",\"\",INDEX([1]ROUTE_MH_LID_TYPE!$A$2:$A$100,MATCH('Access Point (Desc)'!$L123,[1]!MASTER_ROUTE_MH_LID_TYPE_DESC[#Data],0),0))","v":""},{"$f":"IF('Access Point (Desc)'!M123=\"\",\"\",INDEX([1]MANHOLE_MTL!$A$2:$A$100,MATCH('Access Point (Desc)'!$M123,[1]!MASTER_MANHOLE_MTL_DESC[#Data],0),0))","v":""},{"$f":"IF('Access Point (Desc)'!N123=\"\",\"\",INDEX([1]LID_BOLT_TYPE!$A$2:$A$100,MATCH('Access Point (Desc)'!$N123,[1]!MASTER_LID_BOLT_TYPE_DESC[#Data],0),0))","v":""},{"$f":"IF('Access Point (Desc)'!O123=\"\",\"\",INDEX([1]YES_NO!$A$2:$A$100,MATCH('Access Point (Desc)'!$O123,[1]!MASTER_YES_NO_DESC[#Data],0),0))","v":""},{"$f":"IF('Access Point (Desc)'!P123=\"\",\"\",'Access Point (Desc)'!P123)","v":""},{"$f":"IF('Access Point (Desc)'!Q123=\"\",\"\",INDEX([1]YES_NO!$A$2:$A$100,MATCH('Access Point (Desc)'!$Q123,[1]!MASTER_YES_NO_DESC[#Data],0),0))","v":""}]
[{"$f":"IF('Access Point (Desc)'!A124=\"\",\"\",'Access Point (Desc)'!A124)","v":""},{"$f":"IF('Access Point (Desc)'!B124=\"\",\"\",'Access Point (Desc)'!B124)","v":""},{"$f":"IF('Access Point (Desc)'!C124=\"\",\"\",'Access Point (Desc)'!C124)","v":""},{"$f":"IF('Access Point (Desc)'!D124=\"\",\"\",'Access Point (Desc)'!D124)","v":""},{"$f":"IF('Access Point (Desc)'!E124=\"\",\"\",INDEX([1]OWNER!$A$2:$A$100,MATCH('Access Point (Desc)'!$E124,[1]!MASTER_OWNER_DESC[#Data],0),0))","v":""},{"$f":"IF('Access Point (Desc)'!F124=\"\",\"\",INDEX([1]COUNTY!$A$2:$A$100,MATCH('Access Point (Desc)'!F124,[1]!MASTER_COUNTY_NAME[#Data],0),0))","v":""},{"$f":"IF('Access Point (Desc)'!G124=\"\",\"\",'Access Point (Desc)'!G124)","v":""},{"$f":"IF('Access Point (Desc)'!H124=\"\",\"\",'Access Point (Desc)'!H124)","v":""},{"$f":"IF('Access Point (Desc)'!I124=\"\",\"\",INDEX([1]ROUTE_MH_TYPE!$A$2:$A$100,MATCH('Access Point (Desc)'!$I124,[1]!MASTER_ROUTE_MH_TYPE_DESC[#Data],0),0))","v":""},{"$f":"IF('Access Point (Desc)'!J124=\"\",\"\",INDEX([1]MANHOLE_MTL!$A$2:$A$100,MATCH('Access Point (Desc)'!$J124,[1]!MASTER_MANHOLE_MTL_DESC[#Data],0),0))","v":""},{"$f":"IF('Access Point (Desc)'!K124=\"\",\"\",INDEX([1]MANHOLE_SIZE!$A$2:$A$120,MATCH('Access Point (Desc)'!$K124,[1]!MASTER_MANHOLE_SIZE_DESC[#Data],0),0))","v":""},{"$f":"IF('Access Point (Desc)'!L124=\"\",\"\",INDEX([1]ROUTE_MH_LID_TYPE!$A$2:$A$100,MATCH('Access Point (Desc)'!$L124,[1]!MASTER_ROUTE_MH_LID_TYPE_DESC[#Data],0),0))","v":""},{"$f":"IF('Access Point (Desc)'!M124=\"\",\"\",INDEX([1]MANHOLE_MTL!$A$2:$A$100,MATCH('Access Point (Desc)'!$M124,[1]!MASTER_MANHOLE_MTL_DESC[#Data],0),0))","v":""},{"$f":"IF('Access Point (Desc)'!N124=\"\",\"\",INDEX([1]LID_BOLT_TYPE!$A$2:$A$100,MATCH('Access Point (Desc)'!$N124,[1]!MASTER_LID_BOLT_TYPE_DESC[#Data],0),0))","v":""},{"$f":"IF('Access Point (Desc)'!O124=\"\",\"\",INDEX([1]YES_NO!$A$2:$A$100,MATCH('Access Point (Desc)'!$O124,[1]!MASTER_YES_NO_DESC[#Data],0),0))","v":""},{"$f":"IF('Access Point (Desc)'!P124=\"\",\"\",'Access Point (Desc)'!P124)","v":""},{"$f":"IF('Access Point (Desc)'!Q124=\"\",\"\",INDEX([1]YES_NO!$A$2:$A$100,MATCH('Access Point (Desc)'!$Q124,[1]!MASTER_YES_NO_DESC[#Data],0),0))","v":""}]
[{"$f":"IF('Access Point (Desc)'!A125=\"\",\"\",'Access Point (Desc)'!A125)","v":""},{"$f":"IF('Access Point (Desc)'!B125=\"\",\"\",'Access Point (Desc)'!B125)","v":""},{"$f":"IF('Access Point (Desc)'!C125=\"\",\"\",'Access Point (Desc)'!C125)","v":""},{"$f":"IF('Access Point (Desc)'!D125=\"\",\"\",'Access Point (Desc)'!D125)","v":""},{"$f":"IF('Access Point (Desc)'!E125=\"\",\"\",INDEX([1]OWNER!$A$2:$A$100,MATCH('Access Point (Desc)'!$E125,[1]!MASTER_OWNER_DESC[#Data],0),0))","v":""},{"$f":"IF('Access Point (Desc)'!F125=\"\",\"\",INDEX([1]COUNTY!$A$2:$A$100,MATCH('Access Point (Desc)'!F125,[1]!MASTER_COUNTY_NAME[#Data],0),0))","v":""},{"$f":"IF('Access Point (Desc)'!G125=\"\",\"\",'Access Point (Desc)'!G125)","v":""},{"$f":"IF('Access Point (Desc)'!H125=\"\",\"\",'Access Point (Desc)'!H125)","v":""},{"$f":"IF('Access Point (Desc)'!I125=\"\",\"\",INDEX([1]ROUTE_MH_TYPE!$A$2:$A$100,MATCH('Access Point (Desc)'!$I125,[1]!MASTER_ROUTE_MH_TYPE_DESC[#Data],0),0))","v":""},{"$f":"IF('Access Point (Desc)'!J125=\"\",\"\",INDEX([1]MANHOLE_MTL!$A$2:$A$100,MATCH('Access Point (Desc)'!$J125,[1]!MASTER_MANHOLE_MTL_DESC[#Data],0),0))","v":""},{"$f":"IF('Access Point (Desc)'!K125=\"\",\"\",INDEX([1]MANHOLE_SIZE!$A$2:$A$120,MATCH('Access Point (Desc)'!$K125,[1]!MASTER_MANHOLE_SIZE_DESC[#Data],0),0))","v":""},{"$f":"IF('Access Point (Desc)'!L125=\"\",\"\",INDEX([1]ROUTE_MH_LID_TYPE!$A$2:$A$100,MATCH('Access Point (Desc)'!$L125,[1]!MASTER_ROUTE_MH_LID_TYPE_DESC[#Data],0),0))","v":""},{"$f":"IF('Access Point (Desc)'!M125=\"\",\"\",INDEX([1]MANHOLE_MTL!$A$2:$A$100,MATCH('Access Point (Desc)'!$M125,[1]!MASTER_MANHOLE_MTL_DESC[#Data],0),0))","v":""},{"$f":"IF('Access Point (Desc)'!N125=\"\",\"\",INDEX([1]LID_BOLT_TYPE!$A$2:$A$100,MATCH('Access Point (Desc)'!$N125,[1]!MASTER_LID_BOLT_TYPE_DESC[#Data],0),0))","v":""},{"$f":"IF('Access Point (Desc)'!O125=\"\",\"\",INDEX([1]YES_NO!$A$2:$A$100,MATCH('Access Point (Desc)'!$O125,[1]!MASTER_YES_NO_DESC[#Data],0),0))","v":""},{"$f":"IF('Access Point (Desc)'!P125=\"\",\"\",'Access Point (Desc)'!P125)","v":""},{"$f":"IF('Access Point (Desc)'!Q125=\"\",\"\",INDEX([1]YES_NO!$A$2:$A$100,MATCH('Access Point (Desc)'!$Q125,[1]!MASTER_YES_NO_DESC[#Data],0),0))","v":""}]
[{"$f":"IF('Access Point (Desc)'!A126=\"\",\"\",'Access Point (Desc)'!A126)","v":""},{"$f":"IF('Access Point (Desc)'!B126=\"\",\"\",'Access Point (Desc)'!B126)","v":""},{"$f":"IF('Access Point (Desc)'!C126=\"\",\"\",'Access Point (Desc)'!C126)","v":""},{"$f":"IF('Access Point (Desc)'!D126=\"\",\"\",'Access Point (Desc)'!D126)","v":""},{"$f":"IF('Access Point (Desc)'!E126=\"\",\"\",INDEX([1]OWNER!$A$2:$A$100,MATCH('Access Point (Desc)'!$E126,[1]!MASTER_OWNER_DESC[#Data],0),0))","v":""},{"$f":"IF('Access Point (Desc)'!F126=\"\",\"\",INDEX([1]COUNTY!$A$2:$A$100,MATCH('Access Point (Desc)'!F126,[1]!MASTER_COUNTY_NAME[#Data],0),0))","v":""},{"$f":"IF('Access Point (Desc)'!G126=\"\",\"\",'Access Point (Desc)'!G126)","v":""},{"$f":"IF('Access Point (Desc)'!H126=\"\",\"\",'Access Point (Desc)'!H126)","v":""},{"$f":"IF('Access Point (Desc)'!I126=\"\",\"\",INDEX([1]ROUTE_MH_TYPE!$A$2:$A$100,MATCH('Access Point (Desc)'!$I126,[1]!MASTER_ROUTE_MH_TYPE_DESC[#Data],0),0))","v":""},{"$f":"IF('Access Point (Desc)'!J126=\"\",\"\",INDEX([1]MANHOLE_MTL!$A$2:$A$100,MATCH('Access Point (Desc)'!$J126,[1]!MASTER_MANHOLE_MTL_DESC[#Data],0),0))","v":""},{"$f":"IF('Access Point (Desc)'!K126=\"\",\"\",INDEX([1]MANHOLE_SIZE!$A$2:$A$120,MATCH('Access Point (Desc)'!$K126,[1]!MASTER_MANHOLE_SIZE_DESC[#Data],0),0))","v":""},{"$f":"IF('Access Point (Desc)'!L126=\"\",\"\",INDEX([1]ROUTE_MH_LID_TYPE!$A$2:$A$100,MATCH('Access Point (Desc)'!$L126,[1]!MASTER_ROUTE_MH_LID_TYPE_DESC[#Data],0),0))","v":""},{"$f":"IF('Access Point (Desc)'!M126=\"\",\"\",INDEX([1]MANHOLE_MTL!$A$2:$A$100,MATCH('Access Point (Desc)'!$M126,[1]!MASTER_MANHOLE_MTL_DESC[#Data],0),0))","v":""},{"$f":"IF('Access Point (Desc)'!N126=\"\",\"\",INDEX([1]LID_BOLT_TYPE!$A$2:$A$100,MATCH('Access Point (Desc)'!$N126,[1]!MASTER_LID_BOLT_TYPE_DESC[#Data],0),0))","v":""},{"$f":"IF('Access Point (Desc)'!O126=\"\",\"\",INDEX([1]YES_NO!$A$2:$A$100,MATCH('Access Point (Desc)'!$O126,[1]!MASTER_YES_NO_DESC[#Data],0),0))","v":""},{"$f":"IF('Access Point (Desc)'!P126=\"\",\"\",'Access Point (Desc)'!P126)","v":""},{"$f":"IF('Access Point (Desc)'!Q126=\"\",\"\",INDEX([1]YES_NO!$A$2:$A$100,MATCH('Access Point (Desc)'!$Q126,[1]!MASTER_YES_NO_DESC[#Data],0),0))","v":""}]
[{"$f":"IF('Access Point (Desc)'!A127=\"\",\"\",'Access Point (Desc)'!A127)","v":""},{"$f":"IF('Access Point (Desc)'!B127=\"\",\"\",'Access Point (Desc)'!B127)","v":""},{"$f":"IF('Access Point (Desc)'!C127=\"\",\"\",'Access Point (Desc)'!C127)","v":""},{"$f":"IF('Access Point (Desc)'!D127=\"\",\"\",'Access Point (Desc)'!D127)","v":""},{"$f":"IF('Access Point (Desc)'!E127=\"\",\"\",INDEX([1]OWNER!$A$2:$A$100,MATCH('Access Point (Desc)'!$E127,[1]!MASTER_OWNER_DESC[#Data],0),0))","v":""},{"$f":"IF('Access Point (Desc)'!F127=\"\",\"\",INDEX([1]COUNTY!$A$2:$A$100,MATCH('Access Point (Desc)'!F127,[1]!MASTER_COUNTY_NAME[#Data],0),0))","v":""},{"$f":"IF('Access Point (Desc)'!G127=\"\",\"\",'Access Point (Desc)'!G127)","v":""},{"$f":"IF('Access Point (Desc)'!H127=\"\",\"\",'Access Point (Desc)'!H127)","v":""},{"$f":"IF('Access Point (Desc)'!I127=\"\",\"\",INDEX([1]ROUTE_MH_TYPE!$A$2:$A$100,MATCH('Access Point (Desc)'!$I127,[1]!MASTER_ROUTE_MH_TYPE_DESC[#Data],0),0))","v":""},{"$f":"IF('Access Point (Desc)'!J127=\"\",\"\",INDEX([1]MANHOLE_MTL!$A$2:$A$100,MATCH('Access Point (Desc)'!$J127,[1]!MASTER_MANHOLE_MTL_DESC[#Data],0),0))","v":""},{"$f":"IF('Access Point (Desc)'!K127=\"\",\"\",INDEX([1]MANHOLE_SIZE!$A$2:$A$120,MATCH('Access Point (Desc)'!$K127,[1]!MASTER_MANHOLE_SIZE_DESC[#Data],0),0))","v":""},{"$f":"IF('Access Point (Desc)'!L127=\"\",\"\",INDEX([1]ROUTE_MH_LID_TYPE!$A$2:$A$100,MATCH('Access Point (Desc)'!$L127,[1]!MASTER_ROUTE_MH_LID_TYPE_DESC[#Data],0),0))","v":""},{"$f":"IF('Access Point (Desc)'!M127=\"\",\"\",INDEX([1]MANHOLE_MTL!$A$2:$A$100,MATCH('Access Point (Desc)'!$M127,[1]!MASTER_MANHOLE_MTL_DESC[#Data],0),0))","v":""},{"$f":"IF('Access Point (Desc)'!N127=\"\",\"\",INDEX([1]LID_BOLT_TYPE!$A$2:$A$100,MATCH('Access Point (Desc)'!$N127,[1]!MASTER_LID_BOLT_TYPE_DESC[#Data],0),0))","v":""},{"$f":"IF('Access Point (Desc)'!O127=\"\",\"\",INDEX([1]YES_NO!$A$2:$A$100,MATCH('Access Point (Desc)'!$O127,[1]!MASTER_YES_NO_DESC[#Data],0),0))","v":""},{"$f":"IF('Access Point (Desc)'!P127=\"\",\"\",'Access Point (Desc)'!P127)","v":""},{"$f":"IF('Access Point (Desc)'!Q127=\"\",\"\",INDEX([1]YES_NO!$A$2:$A$100,MATCH('Access Point (Desc)'!$Q127,[1]!MASTER_YES_NO_DESC[#Data],0),0))","v":""}]
[{"$f":"IF('Access Point (Desc)'!A128=\"\",\"\",'Access Point (Desc)'!A128)","v":""},{"$f":"IF('Access Point (Desc)'!B128=\"\",\"\",'Access Point (Desc)'!B128)","v":""},{"$f":"IF('Access Point (Desc)'!C128=\"\",\"\",'Access Point (Desc)'!C128)","v":""},{"$f":"IF('Access Point (Desc)'!D128=\"\",\"\",'Access Point (Desc)'!D128)","v":""},{"$f":"IF('Access Point (Desc)'!E128=\"\",\"\",INDEX([1]OWNER!$A$2:$A$100,MATCH('Access Point (Desc)'!$E128,[1]!MASTER_OWNER_DESC[#Data],0),0))","v":""},{"$f":"IF('Access Point (Desc)'!F128=\"\",\"\",INDEX([1]COUNTY!$A$2:$A$100,MATCH('Access Point (Desc)'!F128,[1]!MASTER_COUNTY_NAME[#Data],0),0))","v":""},{"$f":"IF('Access Point (Desc)'!G128=\"\",\"\",'Access Point (Desc)'!G128)","v":""},{"$f":"IF('Access Point (Desc)'!H128=\"\",\"\",'Access Point (Desc)'!H128)","v":""},{"$f":"IF('Access Point (Desc)'!I128=\"\",\"\",INDEX([1]ROUTE_MH_TYPE!$A$2:$A$100,MATCH('Access Point (Desc)'!$I128,[1]!MASTER_ROUTE_MH_TYPE_DESC[#Data],0),0))","v":""},{"$f":"IF('Access Point (Desc)'!J128=\"\",\"\",INDEX([1]MANHOLE_MTL!$A$2:$A$100,MATCH('Access Point (Desc)'!$J128,[1]!MASTER_MANHOLE_MTL_DESC[#Data],0),0))","v":""},{"$f":"IF('Access Point (Desc)'!K128=\"\",\"\",INDEX([1]MANHOLE_SIZE!$A$2:$A$120,MATCH('Access Point (Desc)'!$K128,[1]!MASTER_MANHOLE_SIZE_DESC[#Data],0),0))","v":""},{"$f":"IF('Access Point (Desc)'!L128=\"\",\"\",INDEX([1]ROUTE_MH_LID_TYPE!$A$2:$A$100,MATCH('Access Point (Desc)'!$L128,[1]!MASTER_ROUTE_MH_LID_TYPE_DESC[#Data],0),0))","v":""},{"$f":"IF('Access Point (Desc)'!M128=\"\",\"\",INDEX([1]MANHOLE_MTL!$A$2:$A$100,MATCH('Access Point (Desc)'!$M128,[1]!MASTER_MANHOLE_MTL_DESC[#Data],0),0))","v":""},{"$f":"IF('Access Point (Desc)'!N128=\"\",\"\",INDEX([1]LID_BOLT_TYPE!$A$2:$A$100,MATCH('Access Point (Desc)'!$N128,[1]!MASTER_LID_BOLT_TYPE_DESC[#Data],0),0))","v":""},{"$f":"IF('Access Point (Desc)'!O128=\"\",\"\",INDEX([1]YES_NO!$A$2:$A$100,MATCH('Access Point (Desc)'!$O128,[1]!MASTER_YES_NO_DESC[#Data],0),0))","v":""},{"$f":"IF('Access Point (Desc)'!P128=\"\",\"\",'Access Point (Desc)'!P128)","v":""},{"$f":"IF('Access Point (Desc)'!Q128=\"\",\"\",INDEX([1]YES_NO!$A$2:$A$100,MATCH('Access Point (Desc)'!$Q128,[1]!MASTER_YES_NO_DESC[#Data],0),0))","v":""}]
[{"$f":"IF('Access Point (Desc)'!A129=\"\",\"\",'Access Point (Desc)'!A129)","v":""},{"$f":"IF('Access Point (Desc)'!B129=\"\",\"\",'Access Point (Desc)'!B129)","v":""},{"$f":"IF('Access Point (Desc)'!C129=\"\",\"\",'Access Point (Desc)'!C129)","v":""},{"$f":"IF('Access Point (Desc)'!D129=\"\",\"\",'Access Point (Desc)'!D129)","v":""},{"$f":"IF('Access Point (Desc)'!E129=\"\",\"\",INDEX([1]OWNER!$A$2:$A$100,MATCH('Access Point (Desc)'!$E129,[1]!MASTER_OWNER_DESC[#Data],0),0))","v":""},{"$f":"IF('Access Point (Desc)'!F129=\"\",\"\",INDEX([1]COUNTY!$A$2:$A$100,MATCH('Access Point (Desc)'!F129,[1]!MASTER_COUNTY_NAME[#Data],0),0))","v":""},{"$f":"IF('Access Point (Desc)'!G129=\"\",\"\",'Access Point (Desc)'!G129)","v":""},{"$f":"IF('Access Point (Desc)'!H129=\"\",\"\",'Access Point (Desc)'!H129)","v":""},{"$f":"IF('Access Point (Desc)'!I129=\"\",\"\",INDEX([1]ROUTE_MH_TYPE!$A$2:$A$100,MATCH('Access Point (Desc)'!$I129,[1]!MASTER_ROUTE_MH_TYPE_DESC[#Data],0),0))","v":""},{"$f":"IF('Access Point (Desc)'!J129=\"\",\"\",INDEX([1]MANHOLE_MTL!$A$2:$A$100,MATCH('Access Point (Desc)'!$J129,[1]!MASTER_MANHOLE_MTL_DESC[#Data],0),0))","v":""},{"$f":"IF('Access Point (Desc)'!K129=\"\",\"\",INDEX([1]MANHOLE_SIZE!$A$2:$A$120,MATCH('Access Point (Desc)'!$K129,[1]!MASTER_MANHOLE_SIZE_DESC[#Data],0),0))","v":""},{"$f":"IF('Access Point (Desc)'!L129=\"\",\"\",INDEX([1]ROUTE_MH_LID_TYPE!$A$2:$A$100,MATCH('Access Point (Desc)'!$L129,[1]!MASTER_ROUTE_MH_LID_TYPE_DESC[#Data],0),0))","v":""},{"$f":"IF('Access Point (Desc)'!M129=\"\",\"\",INDEX([1]MANHOLE_MTL!$A$2:$A$100,MATCH('Access Point (Desc)'!$M129,[1]!MASTER_MANHOLE_MTL_DESC[#Data],0),0))","v":""},{"$f":"IF('Access Point (Desc)'!N129=\"\",\"\",INDEX([1]LID_BOLT_TYPE!$A$2:$A$100,MATCH('Access Point (Desc)'!$N129,[1]!MASTER_LID_BOLT_TYPE_DESC[#Data],0),0))","v":""},{"$f":"IF('Access Point (Desc)'!O129=\"\",\"\",INDEX([1]YES_NO!$A$2:$A$100,MATCH('Access Point (Desc)'!$O129,[1]!MASTER_YES_NO_DESC[#Data],0),0))","v":""},{"$f":"IF('Access Point (Desc)'!P129=\"\",\"\",'Access Point (Desc)'!P129)","v":""},{"$f":"IF('Access Point (Desc)'!Q129=\"\",\"\",INDEX([1]YES_NO!$A$2:$A$100,MATCH('Access Point (Desc)'!$Q129,[1]!MASTER_YES_NO_DESC[#Data],0),0))","v":""}]
[{"$f":"IF('Access Point (Desc)'!A130=\"\",\"\",'Access Point (Desc)'!A130)","v":""},{"$f":"IF('Access Point (Desc)'!B130=\"\",\"\",'Access Point (Desc)'!B130)","v":""},{"$f":"IF('Access Point (Desc)'!C130=\"\",\"\",'Access Point (Desc)'!C130)","v":""},{"$f":"IF('Access Point (Desc)'!D130=\"\",\"\",'Access Point (Desc)'!D130)","v":""},{"$f":"IF('Access Point (Desc)'!E130=\"\",\"\",INDEX([1]OWNER!$A$2:$A$100,MATCH('Access Point (Desc)'!$E130,[1]!MASTER_OWNER_DESC[#Data],0),0))","v":""},{"$f":"IF('Access Point (Desc)'!F130=\"\",\"\",INDEX([1]COUNTY!$A$2:$A$100,MATCH('Access Point (Desc)'!F130,[1]!MASTER_COUNTY_NAME[#Data],0),0))","v":""},{"$f":"IF('Access Point (Desc)'!G130=\"\",\"\",'Access Point (Desc)'!G130)","v":""},{"$f":"IF('Access Point (Desc)'!H130=\"\",\"\",'Access Point (Desc)'!H130)","v":""},{"$f":"IF('Access Point (Desc)'!I130=\"\",\"\",INDEX([1]ROUTE_MH_TYPE!$A$2:$A$100,MATCH('Access Point (Desc)'!$I130,[1]!MASTER_ROUTE_MH_TYPE_DESC[#Data],0),0))","v":""},{"$f":"IF('Access Point (Desc)'!J130=\"\",\"\",INDEX([1]MANHOLE_MTL!$A$2:$A$100,MATCH('Access Point (Desc)'!$J130,[1]!MASTER_MANHOLE_MTL_DESC[#Data],0),0))","v":""},{"$f":"IF('Access Point (Desc)'!K130=\"\",\"\",INDEX([1]MANHOLE_SIZE!$A$2:$A$120,MATCH('Access Point (Desc)'!$K130,[1]!MASTER_MANHOLE_SIZE_DESC[#Data],0),0))","v":""},{"$f":"IF('Access Point (Desc)'!L130=\"\",\"\",INDEX([1]ROUTE_MH_LID_TYPE!$A$2:$A$100,MATCH('Access Point (Desc)'!$L130,[1]!MASTER_ROUTE_MH_LID_TYPE_DESC[#Data],0),0))","v":""},{"$f":"IF('Access Point (Desc)'!M130=\"\",\"\",INDEX([1]MANHOLE_MTL!$A$2:$A$100,MATCH('Access Point (Desc)'!$M130,[1]!MASTER_MANHOLE_MTL_DESC[#Data],0),0))","v":""},{"$f":"IF('Access Point (Desc)'!N130=\"\",\"\",INDEX([1]LID_BOLT_TYPE!$A$2:$A$100,MATCH('Access Point (Desc)'!$N130,[1]!MASTER_LID_BOLT_TYPE_DESC[#Data],0),0))","v":""},{"$f":"IF('Access Point (Desc)'!O130=\"\",\"\",INDEX([1]YES_NO!$A$2:$A$100,MATCH('Access Point (Desc)'!$O130,[1]!MASTER_YES_NO_DESC[#Data],0),0))","v":""},{"$f":"IF('Access Point (Desc)'!P130=\"\",\"\",'Access Point (Desc)'!P130)","v":""},{"$f":"IF('Access Point (Desc)'!Q130=\"\",\"\",INDEX([1]YES_NO!$A$2:$A$100,MATCH('Access Point (Desc)'!$Q130,[1]!MASTER_YES_NO_DESC[#Data],0),0))","v":""}]
[{"$f":"IF('Access Point (Desc)'!A131=\"\",\"\",'Access Point (Desc)'!A131)","v":""},{"$f":"IF('Access Point (Desc)'!B131=\"\",\"\",'Access Point (Desc)'!B131)","v":""},{"$f":"IF('Access Point (Desc)'!C131=\"\",\"\",'Access Point (Desc)'!C131)","v":""},{"$f":"IF('Access Point (Desc)'!D131=\"\",\"\",'Access Point (Desc)'!D131)","v":""},{"$f":"IF('Access Point (Desc)'!E131=\"\",\"\",INDEX([1]OWNER!$A$2:$A$100,MATCH('Access Point (Desc)'!$E131,[1]!MASTER_OWNER_DESC[#Data],0),0))","v":""},{"$f":"IF('Access Point (Desc)'!F131=\"\",\"\",INDEX([1]COUNTY!$A$2:$A$100,MATCH('Access Point (Desc)'!F131,[1]!MASTER_COUNTY_NAME[#Data],0),0))","v":""},{"$f":"IF('Access Point (Desc)'!G131=\"\",\"\",'Access Point (Desc)'!G131)","v":""},{"$f":"IF('Access Point (Desc)'!H131=\"\",\"\",'Access Point (Desc)'!H131)","v":""},{"$f":"IF('Access Point (Desc)'!I131=\"\",\"\",INDEX([1]ROUTE_MH_TYPE!$A$2:$A$100,MATCH('Access Point (Desc)'!$I131,[1]!MASTER_ROUTE_MH_TYPE_DESC[#Data],0),0))","v":""},{"$f":"IF('Access Point (Desc)'!J131=\"\",\"\",INDEX([1]MANHOLE_MTL!$A$2:$A$100,MATCH('Access Point (Desc)'!$J131,[1]!MASTER_MANHOLE_MTL_DESC[#Data],0),0))","v":""},{"$f":"IF('Access Point (Desc)'!K131=\"\",\"\",INDEX([1]MANHOLE_SIZE!$A$2:$A$120,MATCH('Access Point (Desc)'!$K131,[1]!MASTER_MANHOLE_SIZE_DESC[#Data],0),0))","v":""},{"$f":"IF('Access Point (Desc)'!L131=\"\",\"\",INDEX([1]ROUTE_MH_LID_TYPE!$A$2:$A$100,MATCH('Access Point (Desc)'!$L131,[1]!MASTER_ROUTE_MH_LID_TYPE_DESC[#Data],0),0))","v":""},{"$f":"IF('Access Point (Desc)'!M131=\"\",\"\",INDEX([1]MANHOLE_MTL!$A$2:$A$100,MATCH('Access Point (Desc)'!$M131,[1]!MASTER_MANHOLE_MTL_DESC[#Data],0),0))","v":""},{"$f":"IF('Access Point (Desc)'!N131=\"\",\"\",INDEX([1]LID_BOLT_TYPE!$A$2:$A$100,MATCH('Access Point (Desc)'!$N131,[1]!MASTER_LID_BOLT_TYPE_DESC[#Data],0),0))","v":""},{"$f":"IF('Access Point (Desc)'!O131=\"\",\"\",INDEX([1]YES_NO!$A$2:$A$100,MATCH('Access Point (Desc)'!$O131,[1]!MASTER_YES_NO_DESC[#Data],0),0))","v":""},{"$f":"IF('Access Point (Desc)'!P131=\"\",\"\",'Access Point (Desc)'!P131)","v":""},{"$f":"IF('Access Point (Desc)'!Q131=\"\",\"\",INDEX([1]YES_NO!$A$2:$A$100,MATCH('Access Point (Desc)'!$Q131,[1]!MASTER_YES_NO_DESC[#Data],0),0))","v":""}]
[{"$f":"IF('Access Point (Desc)'!A132=\"\",\"\",'Access Point (Desc)'!A132)","v":""},{"$f":"IF('Access Point (Desc)'!B132=\"\",\"\",'Access Point (Desc)'!B132)","v":""},{"$f":"IF('Access Point (Desc)'!C132=\"\",\"\",'Access Point (Desc)'!C132)","v":""},{"$f":"IF('Access Point (Desc)'!D132=\"\",\"\",'Access Point (Desc)'!D132)","v":""},{"$f":"IF('Access Point (Desc)'!E132=\"\",\"\",INDEX([1]OWNER!$A$2:$A$100,MATCH('Access Point (Desc)'!$E132,[1]!MASTER_OWNER_DESC[#Data],0),0))","v":""},{"$f":"IF('Access Point (Desc)'!F132=\"\",\"\",INDEX([1]COUNTY!$A$2:$A$100,MATCH('Access Point (Desc)'!F132,[1]!MASTER_COUNTY_NAME[#Data],0),0))","v":""},{"$f":"IF('Access Point (Desc)'!G132=\"\",\"\",'Access Point (Desc)'!G132)","v":""},{"$f":"IF('Access Point (Desc)'!H132=\"\",\"\",'Access Point (Desc)'!H132)","v":""},{"$f":"IF('Access Point (Desc)'!I132=\"\",\"\",INDEX([1]ROUTE_MH_TYPE!$A$2:$A$100,MATCH('Access Point (Desc)'!$I132,[1]!MASTER_ROUTE_MH_TYPE_DESC[#Data],0),0))","v":""},{"$f":"IF('Access Point (Desc)'!J132=\"\",\"\",INDEX([1]MANHOLE_MTL!$A$2:$A$100,MATCH('Access Point (Desc)'!$J132,[1]!MASTER_MANHOLE_MTL_DESC[#Data],0),0))","v":""},{"$f":"IF('Access Point (Desc)'!K132=\"\",\"\",INDEX([1]MANHOLE_SIZE!$A$2:$A$120,MATCH('Access Point (Desc)'!$K132,[1]!MASTER_MANHOLE_SIZE_DESC[#Data],0),0))","v":""},{"$f":"IF('Access Point (Desc)'!L132=\"\",\"\",INDEX([1]ROUTE_MH_LID_TYPE!$A$2:$A$100,MATCH('Access Point (Desc)'!$L132,[1]!MASTER_ROUTE_MH_LID_TYPE_DESC[#Data],0),0))","v":""},{"$f":"IF('Access Point (Desc)'!M132=\"\",\"\",INDEX([1]MANHOLE_MTL!$A$2:$A$100,MATCH('Access Point (Desc)'!$M132,[1]!MASTER_MANHOLE_MTL_DESC[#Data],0),0))","v":""},{"$f":"IF('Access Point (Desc)'!N132=\"\",\"\",INDEX([1]LID_BOLT_TYPE!$A$2:$A$100,MATCH('Access Point (Desc)'!$N132,[1]!MASTER_LID_BOLT_TYPE_DESC[#Data],0),0))","v":""},{"$f":"IF('Access Point (Desc)'!O132=\"\",\"\",INDEX([1]YES_NO!$A$2:$A$100,MATCH('Access Point (Desc)'!$O132,[1]!MASTER_YES_NO_DESC[#Data],0),0))","v":""},{"$f":"IF('Access Point (Desc)'!P132=\"\",\"\",'Access Point (Desc)'!P132)","v":""},{"$f":"IF('Access Point (Desc)'!Q132=\"\",\"\",INDEX([1]YES_NO!$A$2:$A$100,MATCH('Access Point (Desc)'!$Q132,[1]!MASTER_YES_NO_DESC[#Data],0),0))","v":""}]
[{"$f":"IF('Access Point (Desc)'!A133=\"\",\"\",'Access Point (Desc)'!A133)","v":""},{"$f":"IF('Access Point (Desc)'!B133=\"\",\"\",'Access Point (Desc)'!B133)","v":""},{"$f":"IF('Access Point (Desc)'!C133=\"\",\"\",'Access Point (Desc)'!C133)","v":""},{"$f":"IF('Access Point (Desc)'!D133=\"\",\"\",'Access Point (Desc)'!D133)","v":""},{"$f":"IF('Access Point (Desc)'!E133=\"\",\"\",INDEX([1]OWNER!$A$2:$A$100,MATCH('Access Point (Desc)'!$E133,[1]!MASTER_OWNER_DESC[#Data],0),0))","v":""},{"$f":"IF('Access Point (Desc)'!F133=\"\",\"\",INDEX([1]COUNTY!$A$2:$A$100,MATCH('Access Point (Desc)'!F133,[1]!MASTER_COUNTY_NAME[#Data],0),0))","v":""},{"$f":"IF('Access Point (Desc)'!G133=\"\",\"\",'Access Point (Desc)'!G133)","v":""},{"$f":"IF('Access Point (Desc)'!H133=\"\",\"\",'Access Point (Desc)'!H133)","v":""},{"$f":"IF('Access Point (Desc)'!I133=\"\",\"\",INDEX([1]ROUTE_MH_TYPE!$A$2:$A$100,MATCH('Access Point (Desc)'!$I133,[1]!MASTER_ROUTE_MH_TYPE_DESC[#Data],0),0))","v":""},{"$f":"IF('Access Point (Desc)'!J133=\"\",\"\",INDEX([1]MANHOLE_MTL!$A$2:$A$100,MATCH('Access Point (Desc)'!$J133,[1]!MASTER_MANHOLE_MTL_DESC[#Data],0),0))","v":""},{"$f":"IF('Access Point (Desc)'!K133=\"\",\"\",INDEX([1]MANHOLE_SIZE!$A$2:$A$120,MATCH('Access Point (Desc)'!$K133,[1]!MASTER_MANHOLE_SIZE_DESC[#Data],0),0))","v":""},{"$f":"IF('Access Point (Desc)'!L133=\"\",\"\",INDEX([1]ROUTE_MH_LID_TYPE!$A$2:$A$100,MATCH('Access Point (Desc)'!$L133,[1]!MASTER_ROUTE_MH_LID_TYPE_DESC[#Data],0),0))","v":""},{"$f":"IF('Access Point (Desc)'!M133=\"\",\"\",INDEX([1]MANHOLE_MTL!$A$2:$A$100,MATCH('Access Point (Desc)'!$M133,[1]!MASTER_MANHOLE_MTL_DESC[#Data],0),0))","v":""},{"$f":"IF('Access Point (Desc)'!N133=\"\",\"\",INDEX([1]LID_BOLT_TYPE!$A$2:$A$100,MATCH('Access Point (Desc)'!$N133,[1]!MASTER_LID_BOLT_TYPE_DESC[#Data],0),0))","v":""},{"$f":"IF('Access Point (Desc)'!O133=\"\",\"\",INDEX([1]YES_NO!$A$2:$A$100,MATCH('Access Point (Desc)'!$O133,[1]!MASTER_YES_NO_DESC[#Data],0),0))","v":""},{"$f":"IF('Access Point (Desc)'!P133=\"\",\"\",'Access Point (Desc)'!P133)","v":""},{"$f":"IF('Access Point (Desc)'!Q133=\"\",\"\",INDEX([1]YES_NO!$A$2:$A$100,MATCH('Access Point (Desc)'!$Q133,[1]!MASTER_YES_NO_DESC[#Data],0),0))","v":""}]
[{"$f":"IF('Access Point (Desc)'!A134=\"\",\"\",'Access Point (Desc)'!A134)","v":""},{"$f":"IF('Access Point (Desc)'!B134=\"\",\"\",'Access Point (Desc)'!B134)","v":""},{"$f":"IF('Access Point (Desc)'!C134=\"\",\"\",'Access Point (Desc)'!C134)","v":""},{"$f":"IF('Access Point (Desc)'!D134=\"\",\"\",'Access Point (Desc)'!D134)","v":""},{"$f":"IF('Access Point (Desc)'!E134=\"\",\"\",INDEX([1]OWNER!$A$2:$A$100,MATCH('Access Point (Desc)'!$E134,[1]!MASTER_OWNER_DESC[#Data],0),0))","v":""},{"$f":"IF('Access Point (Desc)'!F134=\"\",\"\",INDEX([1]COUNTY!$A$2:$A$100,MATCH('Access Point (Desc)'!F134,[1]!MASTER_COUNTY_NAME[#Data],0),0))","v":""},{"$f":"IF('Access Point (Desc)'!G134=\"\",\"\",'Access Point (Desc)'!G134)","v":""},{"$f":"IF('Access Point (Desc)'!H134=\"\",\"\",'Access Point (Desc)'!H134)","v":""},{"$f":"IF('Access Point (Desc)'!I134=\"\",\"\",INDEX([1]ROUTE_MH_TYPE!$A$2:$A$100,MATCH('Access Point (Desc)'!$I134,[1]!MASTER_ROUTE_MH_TYPE_DESC[#Data],0),0))","v":""},{"$f":"IF('Access Point (Desc)'!J134=\"\",\"\",INDEX([1]MANHOLE_MTL!$A$2:$A$100,MATCH('Access Point (Desc)'!$J134,[1]!MASTER_MANHOLE_MTL_DESC[#Data],0),0))","v":""},{"$f":"IF('Access Point (Desc)'!K134=\"\",\"\",INDEX([1]MANHOLE_SIZE!$A$2:$A$120,MATCH('Access Point (Desc)'!$K134,[1]!MASTER_MANHOLE_SIZE_DESC[#Data],0),0))","v":""},{"$f":"IF('Access Point (Desc)'!L134=\"\",\"\",INDEX([1]ROUTE_MH_LID_TYPE!$A$2:$A$100,MATCH('Access Point (Desc)'!$L134,[1]!MASTER_ROUTE_MH_LID_TYPE_DESC[#Data],0),0))","v":""},{"$f":"IF('Access Point (Desc)'!M134=\"\",\"\",INDEX([1]MANHOLE_MTL!$A$2:$A$100,MATCH('Access Point (Desc)'!$M134,[1]!MASTER_MANHOLE_MTL_DESC[#Data],0),0))","v":""},{"$f":"IF('Access Point (Desc)'!N134=\"\",\"\",INDEX([1]LID_BOLT_TYPE!$A$2:$A$100,MATCH('Access Point (Desc)'!$N134,[1]!MASTER_LID_BOLT_TYPE_DESC[#Data],0),0))","v":""},{"$f":"IF('Access Point (Desc)'!O134=\"\",\"\",INDEX([1]YES_NO!$A$2:$A$100,MATCH('Access Point (Desc)'!$O134,[1]!MASTER_YES_NO_DESC[#Data],0),0))","v":""},{"$f":"IF('Access Point (Desc)'!P134=\"\",\"\",'Access Point (Desc)'!P134)","v":""},{"$f":"IF('Access Point (Desc)'!Q134=\"\",\"\",INDEX([1]YES_NO!$A$2:$A$100,MATCH('Access Point (Desc)'!$Q134,[1]!MASTER_YES_NO_DESC[#Data],0),0))","v":""}]
[{"$f":"IF('Access Point (Desc)'!A135=\"\",\"\",'Access Point (Desc)'!A135)","v":""},{"$f":"IF('Access Point (Desc)'!B135=\"\",\"\",'Access Point (Desc)'!B135)","v":""},{"$f":"IF('Access Point (Desc)'!C135=\"\",\"\",'Access Point (Desc)'!C135)","v":""},{"$f":"IF('Access Point (Desc)'!D135=\"\",\"\",'Access Point (Desc)'!D135)","v":""},{"$f":"IF('Access Point (Desc)'!E135=\"\",\"\",INDEX([1]OWNER!$A$2:$A$100,MATCH('Access Point (Desc)'!$E135,[1]!MASTER_OWNER_DESC[#Data],0),0))","v":""},{"$f":"IF('Access Point (Desc)'!F135=\"\",\"\",INDEX([1]COUNTY!$A$2:$A$100,MATCH('Access Point (Desc)'!F135,[1]!MASTER_COUNTY_NAME[#Data],0),0))","v":""},{"$f":"IF('Access Point (Desc)'!G135=\"\",\"\",'Access Point (Desc)'!G135)","v":""},{"$f":"IF('Access Point (Desc)'!H135=\"\",\"\",'Access Point (Desc)'!H135)","v":""},{"$f":"IF('Access Point (Desc)'!I135=\"\",\"\",INDEX([1]ROUTE_MH_TYPE!$A$2:$A$100,MATCH('Access Point (Desc)'!$I135,[1]!MASTER_ROUTE_MH_TYPE_DESC[#Data],0),0))","v":""},{"$f":"IF('Access Point (Desc)'!J135=\"\",\"\",INDEX([1]MANHOLE_MTL!$A$2:$A$100,MATCH('Access Point (Desc)'!$J135,[1]!MASTER_MANHOLE_MTL_DESC[#Data],0),0))","v":""},{"$f":"IF('Access Point (Desc)'!K135=\"\",\"\",INDEX([1]MANHOLE_SIZE!$A$2:$A$120,MATCH('Access Point (Desc)'!$K135,[1]!MASTER_MANHOLE_SIZE_DESC[#Data],0),0))","v":""},{"$f":"IF('Access Point (Desc)'!L135=\"\",\"\",INDEX([1]ROUTE_MH_LID_TYPE!$A$2:$A$100,MATCH('Access Point (Desc)'!$L135,[1]!MASTER_ROUTE_MH_LID_TYPE_DESC[#Data],0),0))","v":""},{"$f":"IF('Access Point (Desc)'!M135=\"\",\"\",INDEX([1]MANHOLE_MTL!$A$2:$A$100,MATCH('Access Point (Desc)'!$M135,[1]!MASTER_MANHOLE_MTL_DESC[#Data],0),0))","v":""},{"$f":"IF('Access Point (Desc)'!N135=\"\",\"\",INDEX([1]LID_BOLT_TYPE!$A$2:$A$100,MATCH('Access Point (Desc)'!$N135,[1]!MASTER_LID_BOLT_TYPE_DESC[#Data],0),0))","v":""},{"$f":"IF('Access Point (Desc)'!O135=\"\",\"\",INDEX([1]YES_NO!$A$2:$A$100,MATCH('Access Point (Desc)'!$O135,[1]!MASTER_YES_NO_DESC[#Data],0),0))","v":""},{"$f":"IF('Access Point (Desc)'!P135=\"\",\"\",'Access Point (Desc)'!P135)","v":""},{"$f":"IF('Access Point (Desc)'!Q135=\"\",\"\",INDEX([1]YES_NO!$A$2:$A$100,MATCH('Access Point (Desc)'!$Q135,[1]!MASTER_YES_NO_DESC[#Data],0),0))","v":""}]
[{"$f":"IF('Access Point (Desc)'!A136=\"\",\"\",'Access Point (Desc)'!A136)","v":""},{"$f":"IF('Access Point (Desc)'!B136=\"\",\"\",'Access Point (Desc)'!B136)","v":""},{"$f":"IF('Access Point (Desc)'!C136=\"\",\"\",'Access Point (Desc)'!C136)","v":""},{"$f":"IF('Access Point (Desc)'!D136=\"\",\"\",'Access Point (Desc)'!D136)","v":""},{"$f":"IF('Access Point (Desc)'!E136=\"\",\"\",INDEX([1]OWNER!$A$2:$A$100,MATCH('Access Point (Desc)'!$E136,[1]!MASTER_OWNER_DESC[#Data],0),0))","v":""},{"$f":"IF('Access Point (Desc)'!F136=\"\",\"\",INDEX([1]COUNTY!$A$2:$A$100,MATCH('Access Point (Desc)'!F136,[1]!MASTER_COUNTY_NAME[#Data],0),0))","v":""},{"$f":"IF('Access Point (Desc)'!G136=\"\",\"\",'Access Point (Desc)'!G136)","v":""},{"$f":"IF('Access Point (Desc)'!H136=\"\",\"\",'Access Point (Desc)'!H136)","v":""},{"$f":"IF('Access Point (Desc)'!I136=\"\",\"\",INDEX([1]ROUTE_MH_TYPE!$A$2:$A$100,MATCH('Access Point (Desc)'!$I136,[1]!MASTER_ROUTE_MH_TYPE_DESC[#Data],0),0))","v":""},{"$f":"IF('Access Point (Desc)'!J136=\"\",\"\",INDEX([1]MANHOLE_MTL!$A$2:$A$100,MATCH('Access Point (Desc)'!$J136,[1]!MASTER_MANHOLE_MTL_DESC[#Data],0),0))","v":""},{"$f":"IF('Access Point (Desc)'!K136=\"\",\"\",INDEX([1]MANHOLE_SIZE!$A$2:$A$120,MATCH('Access Point (Desc)'!$K136,[1]!MASTER_MANHOLE_SIZE_DESC[#Data],0),0))","v":""},{"$f":"IF('Access Point (Desc)'!L136=\"\",\"\",INDEX([1]ROUTE_MH_LID_TYPE!$A$2:$A$100,MATCH('Access Point (Desc)'!$L136,[1]!MASTER_ROUTE_MH_LID_TYPE_DESC[#Data],0),0))","v":""},{"$f":"IF('Access Point (Desc)'!M136=\"\",\"\",INDEX([1]MANHOLE_MTL!$A$2:$A$100,MATCH('Access Point (Desc)'!$M136,[1]!MASTER_MANHOLE_MTL_DESC[#Data],0),0))","v":""},{"$f":"IF('Access Point (Desc)'!N136=\"\",\"\",INDEX([1]LID_BOLT_TYPE!$A$2:$A$100,MATCH('Access Point (Desc)'!$N136,[1]!MASTER_LID_BOLT_TYPE_DESC[#Data],0),0))","v":""},{"$f":"IF('Access Point (Desc)'!O136=\"\",\"\",INDEX([1]YES_NO!$A$2:$A$100,MATCH('Access Point (Desc)'!$O136,[1]!MASTER_YES_NO_DESC[#Data],0),0))","v":""},{"$f":"IF('Access Point (Desc)'!P136=\"\",\"\",'Access Point (Desc)'!P136)","v":""},{"$f":"IF('Access Point (Desc)'!Q136=\"\",\"\",INDEX([1]YES_NO!$A$2:$A$100,MATCH('Access Point (Desc)'!$Q136,[1]!MASTER_YES_NO_DESC[#Data],0),0))","v":""}]
[{"$f":"IF('Access Point (Desc)'!A137=\"\",\"\",'Access Point (Desc)'!A137)","v":""},{"$f":"IF('Access Point (Desc)'!B137=\"\",\"\",'Access Point (Desc)'!B137)","v":""},{"$f":"IF('Access Point (Desc)'!C137=\"\",\"\",'Access Point (Desc)'!C137)","v":""},{"$f":"IF('Access Point (Desc)'!D137=\"\",\"\",'Access Point (Desc)'!D137)","v":""},{"$f":"IF('Access Point (Desc)'!E137=\"\",\"\",INDEX([1]OWNER!$A$2:$A$100,MATCH('Access Point (Desc)'!$E137,[1]!MASTER_OWNER_DESC[#Data],0),0))","v":""},{"$f":"IF('Access Point (Desc)'!F137=\"\",\"\",INDEX([1]COUNTY!$A$2:$A$100,MATCH('Access Point (Desc)'!F137,[1]!MASTER_COUNTY_NAME[#Data],0),0))","v":""},{"$f":"IF('Access Point (Desc)'!G137=\"\",\"\",'Access Point (Desc)'!G137)","v":""},{"$f":"IF('Access Point (Desc)'!H137=\"\",\"\",'Access Point (Desc)'!H137)","v":""},{"$f":"IF('Access Point (Desc)'!I137=\"\",\"\",INDEX([1]ROUTE_MH_TYPE!$A$2:$A$100,MATCH('Access Point (Desc)'!$I137,[1]!MASTER_ROUTE_MH_TYPE_DESC[#Data],0),0))","v":""},{"$f":"IF('Access Point (Desc)'!J137=\"\",\"\",INDEX([1]MANHOLE_MTL!$A$2:$A$100,MATCH('Access Point (Desc)'!$J137,[1]!MASTER_MANHOLE_MTL_DESC[#Data],0),0))","v":""},{"$f":"IF('Access Point (Desc)'!K137=\"\",\"\",INDEX([1]MANHOLE_SIZE!$A$2:$A$120,MATCH('Access Point (Desc)'!$K137,[1]!MASTER_MANHOLE_SIZE_DESC[#Data],0),0))","v":""},{"$f":"IF('Access Point (Desc)'!L137=\"\",\"\",INDEX([1]ROUTE_MH_LID_TYPE!$A$2:$A$100,MATCH('Access Point (Desc)'!$L137,[1]!MASTER_ROUTE_MH_LID_TYPE_DESC[#Data],0),0))","v":""},{"$f":"IF('Access Point (Desc)'!M137=\"\",\"\",INDEX([1]MANHOLE_MTL!$A$2:$A$100,MATCH('Access Point (Desc)'!$M137,[1]!MASTER_MANHOLE_MTL_DESC[#Data],0),0))","v":""},{"$f":"IF('Access Point (Desc)'!N137=\"\",\"\",INDEX([1]LID_BOLT_TYPE!$A$2:$A$100,MATCH('Access Point (Desc)'!$N137,[1]!MASTER_LID_BOLT_TYPE_DESC[#Data],0),0))","v":""},{"$f":"IF('Access Point (Desc)'!O137=\"\",\"\",INDEX([1]YES_NO!$A$2:$A$100,MATCH('Access Point (Desc)'!$O137,[1]!MASTER_YES_NO_DESC[#Data],0),0))","v":""},{"$f":"IF('Access Point (Desc)'!P137=\"\",\"\",'Access Point (Desc)'!P137)","v":""},{"$f":"IF('Access Point (Desc)'!Q137=\"\",\"\",INDEX([1]YES_NO!$A$2:$A$100,MATCH('Access Point (Desc)'!$Q137,[1]!MASTER_YES_NO_DESC[#Data],0),0))","v":""}]
[{"$f":"IF('Access Point (Desc)'!A138=\"\",\"\",'Access Point (Desc)'!A138)","v":""},{"$f":"IF('Access Point (Desc)'!B138=\"\",\"\",'Access Point (Desc)'!B138)","v":""},{"$f":"IF('Access Point (Desc)'!C138=\"\",\"\",'Access Point (Desc)'!C138)","v":""},{"$f":"IF('Access Point (Desc)'!D138=\"\",\"\",'Access Point (Desc)'!D138)","v":""},{"$f":"IF('Access Point (Desc)'!E138=\"\",\"\",INDEX([1]OWNER!$A$2:$A$100,MATCH('Access Point (Desc)'!$E138,[1]!MASTER_OWNER_DESC[#Data],0),0))","v":""},{"$f":"IF('Access Point (Desc)'!F138=\"\",\"\",INDEX([1]COUNTY!$A$2:$A$100,MATCH('Access Point (Desc)'!F138,[1]!MASTER_COUNTY_NAME[#Data],0),0))","v":""},{"$f":"IF('Access Point (Desc)'!G138=\"\",\"\",'Access Point (Desc)'!G138)","v":""},{"$f":"IF('Access Point (Desc)'!H138=\"\",\"\",'Access Point (Desc)'!H138)","v":""},{"$f":"IF('Access Point (Desc)'!I138=\"\",\"\",INDEX([1]ROUTE_MH_TYPE!$A$2:$A$100,MATCH('Access Point (Desc)'!$I138,[1]!MASTER_ROUTE_MH_TYPE_DESC[#Data],0),0))","v":""},{"$f":"IF('Access Point (Desc)'!J138=\"\",\"\",INDEX([1]MANHOLE_MTL!$A$2:$A$100,MATCH('Access Point (Desc)'!$J138,[1]!MASTER_MANHOLE_MTL_DESC[#Data],0),0))","v":""},{"$f":"IF('Access Point (Desc)'!K138=\"\",\"\",INDEX([1]MANHOLE_SIZE!$A$2:$A$120,MATCH('Access Point (Desc)'!$K138,[1]!MASTER_MANHOLE_SIZE_DESC[#Data],0),0))","v":""},{"$f":"IF('Access Point (Desc)'!L138=\"\",\"\",INDEX([1]ROUTE_MH_LID_TYPE!$A$2:$A$100,MATCH('Access Point (Desc)'!$L138,[1]!MASTER_ROUTE_MH_LID_TYPE_DESC[#Data],0),0))","v":""},{"$f":"IF('Access Point (Desc)'!M138=\"\",\"\",INDEX([1]MANHOLE_MTL!$A$2:$A$100,MATCH('Access Point (Desc)'!$M138,[1]!MASTER_MANHOLE_MTL_DESC[#Data],0),0))","v":""},{"$f":"IF('Access Point (Desc)'!N138=\"\",\"\",INDEX([1]LID_BOLT_TYPE!$A$2:$A$100,MATCH('Access Point (Desc)'!$N138,[1]!MASTER_LID_BOLT_TYPE_DESC[#Data],0),0))","v":""},{"$f":"IF('Access Point (Desc)'!O138=\"\",\"\",INDEX([1]YES_NO!$A$2:$A$100,MATCH('Access Point (Desc)'!$O138,[1]!MASTER_YES_NO_DESC[#Data],0),0))","v":""},{"$f":"IF('Access Point (Desc)'!P138=\"\",\"\",'Access Point (Desc)'!P138)","v":""},{"$f":"IF('Access Point (Desc)'!Q138=\"\",\"\",INDEX([1]YES_NO!$A$2:$A$100,MATCH('Access Point (Desc)'!$Q138,[1]!MASTER_YES_NO_DESC[#Data],0),0))","v":""}]
[{"$f":"IF('Access Point (Desc)'!A139=\"\",\"\",'Access Point (Desc)'!A139)","v":""},{"$f":"IF('Access Point (Desc)'!B139=\"\",\"\",'Access Point (Desc)'!B139)","v":""},{"$f":"IF('Access Point (Desc)'!C139=\"\",\"\",'Access Point (Desc)'!C139)","v":""},{"$f":"IF('Access Point (Desc)'!D139=\"\",\"\",'Access Point (Desc)'!D139)","v":""},{"$f":"IF('Access Point (Desc)'!E139=\"\",\"\",INDEX([1]OWNER!$A$2:$A$100,MATCH('Access Point (Desc)'!$E139,[1]!MASTER_OWNER_DESC[#Data],0),0))","v":""},{"$f":"IF('Access Point (Desc)'!F139=\"\",\"\",INDEX([1]COUNTY!$A$2:$A$100,MATCH('Access Point (Desc)'!F139,[1]!MASTER_COUNTY_NAME[#Data],0),0))","v":""},{"$f":"IF('Access Point (Desc)'!G139=\"\",\"\",'Access Point (Desc)'!G139)","v":""},{"$f":"IF('Access Point (Desc)'!H139=\"\",\"\",'Access Point (Desc)'!H139)","v":""},{"$f":"IF('Access Point (Desc)'!I139=\"\",\"\",INDEX([1]ROUTE_MH_TYPE!$A$2:$A$100,MATCH('Access Point (Desc)'!$I139,[1]!MASTER_ROUTE_MH_TYPE_DESC[#Data],0),0))","v":""},{"$f":"IF('Access Point (Desc)'!J139=\"\",\"\",INDEX([1]MANHOLE_MTL!$A$2:$A$100,MATCH('Access Point (Desc)'!$J139,[1]!MASTER_MANHOLE_MTL_DESC[#Data],0),0))","v":""},{"$f":"IF('Access Point (Desc)'!K139=\"\",\"\",INDEX([1]MANHOLE_SIZE!$A$2:$A$120,MATCH('Access Point (Desc)'!$K139,[1]!MASTER_MANHOLE_SIZE_DESC[#Data],0),0))","v":""},{"$f":"IF('Access Point (Desc)'!L139=\"\",\"\",INDEX([1]ROUTE_MH_LID_TYPE!$A$2:$A$100,MATCH('Access Point (Desc)'!$L139,[1]!MASTER_ROUTE_MH_LID_TYPE_DESC[#Data],0),0))","v":""},{"$f":"IF('Access Point (Desc)'!M139=\"\",\"\",INDEX([1]MANHOLE_MTL!$A$2:$A$100,MATCH('Access Point (Desc)'!$M139,[1]!MASTER_MANHOLE_MTL_DESC[#Data],0),0))","v":""},{"$f":"IF('Access Point (Desc)'!N139=\"\",\"\",INDEX([1]LID_BOLT_TYPE!$A$2:$A$100,MATCH('Access Point (Desc)'!$N139,[1]!MASTER_LID_BOLT_TYPE_DESC[#Data],0),0))","v":""},{"$f":"IF('Access Point (Desc)'!O139=\"\",\"\",INDEX([1]YES_NO!$A$2:$A$100,MATCH('Access Point (Desc)'!$O139,[1]!MASTER_YES_NO_DESC[#Data],0),0))","v":""},{"$f":"IF('Access Point (Desc)'!P139=\"\",\"\",'Access Point (Desc)'!P139)","v":""},{"$f":"IF('Access Point (Desc)'!Q139=\"\",\"\",INDEX([1]YES_NO!$A$2:$A$100,MATCH('Access Point (Desc)'!$Q139,[1]!MASTER_YES_NO_DESC[#Data],0),0))","v":""}]
[{"$f":"IF('Access Point (Desc)'!A140=\"\",\"\",'Access Point (Desc)'!A140)","v":""},{"$f":"IF('Access Point (Desc)'!B140=\"\",\"\",'Access Point (Desc)'!B140)","v":""},{"$f":"IF('Access Point (Desc)'!C140=\"\",\"\",'Access Point (Desc)'!C140)","v":""},{"$f":"IF('Access Point (Desc)'!D140=\"\",\"\",'Access Point (Desc)'!D140)","v":""},{"$f":"IF('Access Point (Desc)'!E140=\"\",\"\",INDEX([1]OWNER!$A$2:$A$100,MATCH('Access Point (Desc)'!$E140,[1]!MASTER_OWNER_DESC[#Data],0),0))","v":""},{"$f":"IF('Access Point (Desc)'!F140=\"\",\"\",INDEX([1]COUNTY!$A$2:$A$100,MATCH('Access Point (Desc)'!F140,[1]!MASTER_COUNTY_NAME[#Data],0),0))","v":""},{"$f":"IF('Access Point (Desc)'!G140=\"\",\"\",'Access Point (Desc)'!G140)","v":""},{"$f":"IF('Access Point (Desc)'!H140=\"\",\"\",'Access Point (Desc)'!H140)","v":""},{"$f":"IF('Access Point (Desc)'!I140=\"\",\"\",INDEX([1]ROUTE_MH_TYPE!$A$2:$A$100,MATCH('Access Point (Desc)'!$I140,[1]!MASTER_ROUTE_MH_TYPE_DESC[#Data],0),0))","v":""},{"$f":"IF('Access Point (Desc)'!J140=\"\",\"\",INDEX([1]MANHOLE_MTL!$A$2:$A$100,MATCH('Access Point (Desc)'!$J140,[1]!MASTER_MANHOLE_MTL_DESC[#Data],0),0))","v":""},{"$f":"IF('Access Point (Desc)'!K140=\"\",\"\",INDEX([1]MANHOLE_SIZE!$A$2:$A$120,MATCH('Access Point (Desc)'!$K140,[1]!MASTER_MANHOLE_SIZE_DESC[#Data],0),0))","v":""},{"$f":"IF('Access Point (Desc)'!L140=\"\",\"\",INDEX([1]ROUTE_MH_LID_TYPE!$A$2:$A$100,MATCH('Access Point (Desc)'!$L140,[1]!MASTER_ROUTE_MH_LID_TYPE_DESC[#Data],0),0))","v":""},{"$f":"IF('Access Point (Desc)'!M140=\"\",\"\",INDEX([1]MANHOLE_MTL!$A$2:$A$100,MATCH('Access Point (Desc)'!$M140,[1]!MASTER_MANHOLE_MTL_DESC[#Data],0),0))","v":""},{"$f":"IF('Access Point (Desc)'!N140=\"\",\"\",INDEX([1]LID_BOLT_TYPE!$A$2:$A$100,MATCH('Access Point (Desc)'!$N140,[1]!MASTER_LID_BOLT_TYPE_DESC[#Data],0),0))","v":""},{"$f":"IF('Access Point (Desc)'!O140=\"\",\"\",INDEX([1]YES_NO!$A$2:$A$100,MATCH('Access Point (Desc)'!$O140,[1]!MASTER_YES_NO_DESC[#Data],0),0))","v":""},{"$f":"IF('Access Point (Desc)'!P140=\"\",\"\",'Access Point (Desc)'!P140)","v":""},{"$f":"IF('Access Point (Desc)'!Q140=\"\",\"\",INDEX([1]YES_NO!$A$2:$A$100,MATCH('Access Point (Desc)'!$Q140,[1]!MASTER_YES_NO_DESC[#Data],0),0))","v":""}]
[{"$f":"IF('Access Point (Desc)'!A141=\"\",\"\",'Access Point (Desc)'!A141)","v":""},{"$f":"IF('Access Point (Desc)'!B141=\"\",\"\",'Access Point (Desc)'!B141)","v":""},{"$f":"IF('Access Point (Desc)'!C141=\"\",\"\",'Access Point (Desc)'!C141)","v":""},{"$f":"IF('Access Point (Desc)'!D141=\"\",\"\",'Access Point (Desc)'!D141)","v":""},{"$f":"IF('Access Point (Desc)'!E141=\"\",\"\",INDEX([1]OWNER!$A$2:$A$100,MATCH('Access Point (Desc)'!$E141,[1]!MASTER_OWNER_DESC[#Data],0),0))","v":""},{"$f":"IF('Access Point (Desc)'!F141=\"\",\"\",INDEX([1]COUNTY!$A$2:$A$100,MATCH('Access Point (Desc)'!F141,[1]!MASTER_COUNTY_NAME[#Data],0),0))","v":""},{"$f":"IF('Access Point (Desc)'!G141=\"\",\"\",'Access Point (Desc)'!G141)","v":""},{"$f":"IF('Access Point (Desc)'!H141=\"\",\"\",'Access Point (Desc)'!H141)","v":""},{"$f":"IF('Access Point (Desc)'!I141=\"\",\"\",INDEX([1]ROUTE_MH_TYPE!$A$2:$A$100,MATCH('Access Point (Desc)'!$I141,[1]!MASTER_ROUTE_MH_TYPE_DESC[#Data],0),0))","v":""},{"$f":"IF('Access Point (Desc)'!J141=\"\",\"\",INDEX([1]MANHOLE_MTL!$A$2:$A$100,MATCH('Access Point (Desc)'!$J141,[1]!MASTER_MANHOLE_MTL_DESC[#Data],0),0))","v":""},{"$f":"IF('Access Point (Desc)'!K141=\"\",\"\",INDEX([1]MANHOLE_SIZE!$A$2:$A$120,MATCH('Access Point (Desc)'!$K141,[1]!MASTER_MANHOLE_SIZE_DESC[#Data],0),0))","v":""},{"$f":"IF('Access Point (Desc)'!L141=\"\",\"\",INDEX([1]ROUTE_MH_LID_TYPE!$A$2:$A$100,MATCH('Access Point (Desc)'!$L141,[1]!MASTER_ROUTE_MH_LID_TYPE_DESC[#Data],0),0))","v":""},{"$f":"IF('Access Point (Desc)'!M141=\"\",\"\",INDEX([1]MANHOLE_MTL!$A$2:$A$100,MATCH('Access Point (Desc)'!$M141,[1]!MASTER_MANHOLE_MTL_DESC[#Data],0),0))","v":""},{"$f":"IF('Access Point (Desc)'!N141=\"\",\"\",INDEX([1]LID_BOLT_TYPE!$A$2:$A$100,MATCH('Access Point (Desc)'!$N141,[1]!MASTER_LID_BOLT_TYPE_DESC[#Data],0),0))","v":""},{"$f":"IF('Access Point (Desc)'!O141=\"\",\"\",INDEX([1]YES_NO!$A$2:$A$100,MATCH('Access Point (Desc)'!$O141,[1]!MASTER_YES_NO_DESC[#Data],0),0))","v":""},{"$f":"IF('Access Point (Desc)'!P141=\"\",\"\",'Access Point (Desc)'!P141)","v":""},{"$f":"IF('Access Point (Desc)'!Q141=\"\",\"\",INDEX([1]YES_NO!$A$2:$A$100,MATCH('Access Point (Desc)'!$Q141,[1]!MASTER_YES_NO_DESC[#Data],0),0))","v":""}]
[{"$f":"IF('Access Point (Desc)'!A142=\"\",\"\",'Access Point (Desc)'!A142)","v":""},{"$f":"IF('Access Point (Desc)'!B142=\"\",\"\",'Access Point (Desc)'!B142)","v":""},{"$f":"IF('Access Point (Desc)'!C142=\"\",\"\",'Access Point (Desc)'!C142)","v":""},{"$f":"IF('Access Point (Desc)'!D142=\"\",\"\",'Access Point (Desc)'!D142)","v":""},{"$f":"IF('Access Point (Desc)'!E142=\"\",\"\",INDEX([1]OWNER!$A$2:$A$100,MATCH('Access Point (Desc)'!$E142,[1]!MASTER_OWNER_DESC[#Data],0),0))","v":""},{"$f":"IF('Access Point (Desc)'!F142=\"\",\"\",INDEX([1]COUNTY!$A$2:$A$100,MATCH('Access Point (Desc)'!F142,[1]!MASTER_COUNTY_NAME[#Data],0),0))","v":""},{"$f":"IF('Access Point (Desc)'!G142=\"\",\"\",'Access Point (Desc)'!G142)","v":""},{"$f":"IF('Access Point (Desc)'!H142=\"\",\"\",'Access Point (Desc)'!H142)","v":""},{"$f":"IF('Access Point (Desc)'!I142=\"\",\"\",INDEX([1]ROUTE_MH_TYPE!$A$2:$A$100,MATCH('Access Point (Desc)'!$I142,[1]!MASTER_ROUTE_MH_TYPE_DESC[#Data],0),0))","v":""},{"$f":"IF('Access Point (Desc)'!J142=\"\",\"\",INDEX([1]MANHOLE_MTL!$A$2:$A$100,MATCH('Access Point (Desc)'!$J142,[1]!MASTER_MANHOLE_MTL_DESC[#Data],0),0))","v":""},{"$f":"IF('Access Point (Desc)'!K142=\"\",\"\",INDEX([1]MANHOLE_SIZE!$A$2:$A$120,MATCH('Access Point (Desc)'!$K142,[1]!MASTER_MANHOLE_SIZE_DESC[#Data],0),0))","v":""},{"$f":"IF('Access Point (Desc)'!L142=\"\",\"\",INDEX([1]ROUTE_MH_LID_TYPE!$A$2:$A$100,MATCH('Access Point (Desc)'!$L142,[1]!MASTER_ROUTE_MH_LID_TYPE_DESC[#Data],0),0))","v":""},{"$f":"IF('Access Point (Desc)'!M142=\"\",\"\",INDEX([1]MANHOLE_MTL!$A$2:$A$100,MATCH('Access Point (Desc)'!$M142,[1]!MASTER_MANHOLE_MTL_DESC[#Data],0),0))","v":""},{"$f":"IF('Access Point (Desc)'!N142=\"\",\"\",INDEX([1]LID_BOLT_TYPE!$A$2:$A$100,MATCH('Access Point (Desc)'!$N142,[1]!MASTER_LID_BOLT_TYPE_DESC[#Data],0),0))","v":""},{"$f":"IF('Access Point (Desc)'!O142=\"\",\"\",INDEX([1]YES_NO!$A$2:$A$100,MATCH('Access Point (Desc)'!$O142,[1]!MASTER_YES_NO_DESC[#Data],0),0))","v":""},{"$f":"IF('Access Point (Desc)'!P142=\"\",\"\",'Access Point (Desc)'!P142)","v":""},{"$f":"IF('Access Point (Desc)'!Q142=\"\",\"\",INDEX([1]YES_NO!$A$2:$A$100,MATCH('Access Point (Desc)'!$Q142,[1]!MASTER_YES_NO_DESC[#Data],0),0))","v":""}]
[{"$f":"IF('Access Point (Desc)'!A143=\"\",\"\",'Access Point (Desc)'!A143)","v":""},{"$f":"IF('Access Point (Desc)'!B143=\"\",\"\",'Access Point (Desc)'!B143)","v":""},{"$f":"IF('Access Point (Desc)'!C143=\"\",\"\",'Access Point (Desc)'!C143)","v":""},{"$f":"IF('Access Point (Desc)'!D143=\"\",\"\",'Access Point (Desc)'!D143)","v":""},{"$f":"IF('Access Point (Desc)'!E143=\"\",\"\",INDEX([1]OWNER!$A$2:$A$100,MATCH('Access Point (Desc)'!$E143,[1]!MASTER_OWNER_DESC[#Data],0),0))","v":""},{"$f":"IF('Access Point (Desc)'!F143=\"\",\"\",INDEX([1]COUNTY!$A$2:$A$100,MATCH('Access Point (Desc)'!F143,[1]!MASTER_COUNTY_NAME[#Data],0),0))","v":""},{"$f":"IF('Access Point (Desc)'!G143=\"\",\"\",'Access Point (Desc)'!G143)","v":""},{"$f":"IF('Access Point (Desc)'!H143=\"\",\"\",'Access Point (Desc)'!H143)","v":""},{"$f":"IF('Access Point (Desc)'!I143=\"\",\"\",INDEX([1]ROUTE_MH_TYPE!$A$2:$A$100,MATCH('Access Point (Desc)'!$I143,[1]!MASTER_ROUTE_MH_TYPE_DESC[#Data],0),0))","v":""},{"$f":"IF('Access Point (Desc)'!J143=\"\",\"\",INDEX([1]MANHOLE_MTL!$A$2:$A$100,MATCH('Access Point (Desc)'!$J143,[1]!MASTER_MANHOLE_MTL_DESC[#Data],0),0))","v":""},{"$f":"IF('Access Point (Desc)'!K143=\"\",\"\",INDEX([1]MANHOLE_SIZE!$A$2:$A$120,MATCH('Access Point (Desc)'!$K143,[1]!MASTER_MANHOLE_SIZE_DESC[#Data],0),0))","v":""},{"$f":"IF('Access Point (Desc)'!L143=\"\",\"\",INDEX([1]ROUTE_MH_LID_TYPE!$A$2:$A$100,MATCH('Access Point (Desc)'!$L143,[1]!MASTER_ROUTE_MH_LID_TYPE_DESC[#Data],0),0))","v":""},{"$f":"IF('Access Point (Desc)'!M143=\"\",\"\",INDEX([1]MANHOLE_MTL!$A$2:$A$100,MATCH('Access Point (Desc)'!$M143,[1]!MASTER_MANHOLE_MTL_DESC[#Data],0),0))","v":""},{"$f":"IF('Access Point (Desc)'!N143=\"\",\"\",INDEX([1]LID_BOLT_TYPE!$A$2:$A$100,MATCH('Access Point (Desc)'!$N143,[1]!MASTER_LID_BOLT_TYPE_DESC[#Data],0),0))","v":""},{"$f":"IF('Access Point (Desc)'!O143=\"\",\"\",INDEX([1]YES_NO!$A$2:$A$100,MATCH('Access Point (Desc)'!$O143,[1]!MASTER_YES_NO_DESC[#Data],0),0))","v":""},{"$f":"IF('Access Point (Desc)'!P143=\"\",\"\",'Access Point (Desc)'!P143)","v":""},{"$f":"IF('Access Point (Desc)'!Q143=\"\",\"\",INDEX([1]YES_NO!$A$2:$A$100,MATCH('Access Point (Desc)'!$Q143,[1]!MASTER_YES_NO_DESC[#Data],0),0))","v":""}]
[{"$f":"IF('Access Point (Desc)'!A144=\"\",\"\",'Access Point (Desc)'!A144)","v":""},{"$f":"IF('Access Point (Desc)'!B144=\"\",\"\",'Access Point (Desc)'!B144)","v":""},{"$f":"IF('Access Point (Desc)'!C144=\"\",\"\",'Access Point (Desc)'!C144)","v":""},{"$f":"IF('Access Point (Desc)'!D144=\"\",\"\",'Access Point (Desc)'!D144)","v":""},{"$f":"IF('Access Point (Desc)'!E144=\"\",\"\",INDEX([1]OWNER!$A$2:$A$100,MATCH('Access Point (Desc)'!$E144,[1]!MASTER_OWNER_DESC[#Data],0),0))","v":""},{"$f":"IF('Access Point (Desc)'!F144=\"\",\"\",INDEX([1]COUNTY!$A$2:$A$100,MATCH('Access Point (Desc)'!F144,[1]!MASTER_COUNTY_NAME[#Data],0),0))","v":""},{"$f":"IF('Access Point (Desc)'!G144=\"\",\"\",'Access Point (Desc)'!G144)","v":""},{"$f":"IF('Access Point (Desc)'!H144=\"\",\"\",'Access Point (Desc)'!H144)","v":""},{"$f":"IF('Access Point (Desc)'!I144=\"\",\"\",INDEX([1]ROUTE_MH_TYPE!$A$2:$A$100,MATCH('Access Point (Desc)'!$I144,[1]!MASTER_ROUTE_MH_TYPE_DESC[#Data],0),0))","v":""},{"$f":"IF('Access Point (Desc)'!J144=\"\",\"\",INDEX([1]MANHOLE_MTL!$A$2:$A$100,MATCH('Access Point (Desc)'!$J144,[1]!MASTER_MANHOLE_MTL_DESC[#Data],0),0))","v":""},{"$f":"IF('Access Point (Desc)'!K144=\"\",\"\",INDEX([1]MANHOLE_SIZE!$A$2:$A$120,MATCH('Access Point (Desc)'!$K144,[1]!MASTER_MANHOLE_SIZE_DESC[#Data],0),0))","v":""},{"$f":"IF('Access Point (Desc)'!L144=\"\",\"\",INDEX([1]ROUTE_MH_LID_TYPE!$A$2:$A$100,MATCH('Access Point (Desc)'!$L144,[1]!MASTER_ROUTE_MH_LID_TYPE_DESC[#Data],0),0))","v":""},{"$f":"IF('Access Point (Desc)'!M144=\"\",\"\",INDEX([1]MANHOLE_MTL!$A$2:$A$100,MATCH('Access Point (Desc)'!$M144,[1]!MASTER_MANHOLE_MTL_DESC[#Data],0),0))","v":""},{"$f":"IF('Access Point (Desc)'!N144=\"\",\"\",INDEX([1]LID_BOLT_TYPE!$A$2:$A$100,MATCH('Access Point (Desc)'!$N144,[1]!MASTER_LID_BOLT_TYPE_DESC[#Data],0),0))","v":""},{"$f":"IF('Access Point (Desc)'!O144=\"\",\"\",INDEX([1]YES_NO!$A$2:$A$100,MATCH('Access Point (Desc)'!$O144,[1]!MASTER_YES_NO_DESC[#Data],0),0))","v":""},{"$f":"IF('Access Point (Desc)'!P144=\"\",\"\",'Access Point (Desc)'!P144)","v":""},{"$f":"IF('Access Point (Desc)'!Q144=\"\",\"\",INDEX([1]YES_NO!$A$2:$A$100,MATCH('Access Point (Desc)'!$Q144,[1]!MASTER_YES_NO_DESC[#Data],0),0))","v":""}]
[{"$f":"IF('Access Point (Desc)'!A145=\"\",\"\",'Access Point (Desc)'!A145)","v":""},{"$f":"IF('Access Point (Desc)'!B145=\"\",\"\",'Access Point (Desc)'!B145)","v":""},{"$f":"IF('Access Point (Desc)'!C145=\"\",\"\",'Access Point (Desc)'!C145)","v":""},{"$f":"IF('Access Point (Desc)'!D145=\"\",\"\",'Access Point (Desc)'!D145)","v":""},{"$f":"IF('Access Point (Desc)'!E145=\"\",\"\",INDEX([1]OWNER!$A$2:$A$100,MATCH('Access Point (Desc)'!$E145,[1]!MASTER_OWNER_DESC[#Data],0),0))","v":""},{"$f":"IF('Access Point (Desc)'!F145=\"\",\"\",INDEX([1]COUNTY!$A$2:$A$100,MATCH('Access Point (Desc)'!F145,[1]!MASTER_COUNTY_NAME[#Data],0),0))","v":""},{"$f":"IF('Access Point (Desc)'!G145=\"\",\"\",'Access Point (Desc)'!G145)","v":""},{"$f":"IF('Access Point (Desc)'!H145=\"\",\"\",'Access Point (Desc)'!H145)","v":""},{"$f":"IF('Access Point (Desc)'!I145=\"\",\"\",INDEX([1]ROUTE_MH_TYPE!$A$2:$A$100,MATCH('Access Point (Desc)'!$I145,[1]!MASTER_ROUTE_MH_TYPE_DESC[#Data],0),0))","v":""},{"$f":"IF('Access Point (Desc)'!J145=\"\",\"\",INDEX([1]MANHOLE_MTL!$A$2:$A$100,MATCH('Access Point (Desc)'!$J145,[1]!MASTER_MANHOLE_MTL_DESC[#Data],0),0))","v":""},{"$f":"IF('Access Point (Desc)'!K145=\"\",\"\",INDEX([1]MANHOLE_SIZE!$A$2:$A$120,MATCH('Access Point (Desc)'!$K145,[1]!MASTER_MANHOLE_SIZE_DESC[#Data],0),0))","v":""},{"$f":"IF('Access Point (Desc)'!L145=\"\",\"\",INDEX([1]ROUTE_MH_LID_TYPE!$A$2:$A$100,MATCH('Access Point (Desc)'!$L145,[1]!MASTER_ROUTE_MH_LID_TYPE_DESC[#Data],0),0))","v":""},{"$f":"IF('Access Point (Desc)'!M145=\"\",\"\",INDEX([1]MANHOLE_MTL!$A$2:$A$100,MATCH('Access Point (Desc)'!$M145,[1]!MASTER_MANHOLE_MTL_DESC[#Data],0),0))","v":""},{"$f":"IF('Access Point (Desc)'!N145=\"\",\"\",INDEX([1]LID_BOLT_TYPE!$A$2:$A$100,MATCH('Access Point (Desc)'!$N145,[1]!MASTER_LID_BOLT_TYPE_DESC[#Data],0),0))","v":""},{"$f":"IF('Access Point (Desc)'!O145=\"\",\"\",INDEX([1]YES_NO!$A$2:$A$100,MATCH('Access Point (Desc)'!$O145,[1]!MASTER_YES_NO_DESC[#Data],0),0))","v":""},{"$f":"IF('Access Point (Desc)'!P145=\"\",\"\",'Access Point (Desc)'!P145)","v":""},{"$f":"IF('Access Point (Desc)'!Q145=\"\",\"\",INDEX([1]YES_NO!$A$2:$A$100,MATCH('Access Point (Desc)'!$Q145,[1]!MASTER_YES_NO_DESC[#Data],0),0))","v":""}]
[{"$f":"IF('Access Point (Desc)'!A146=\"\",\"\",'Access Point (Desc)'!A146)","v":""},{"$f":"IF('Access Point (Desc)'!B146=\"\",\"\",'Access Point (Desc)'!B146)","v":""},{"$f":"IF('Access Point (Desc)'!C146=\"\",\"\",'Access Point (Desc)'!C146)","v":""},{"$f":"IF('Access Point (Desc)'!D146=\"\",\"\",'Access Point (Desc)'!D146)","v":""},{"$f":"IF('Access Point (Desc)'!E146=\"\",\"\",INDEX([1]OWNER!$A$2:$A$100,MATCH('Access Point (Desc)'!$E146,[1]!MASTER_OWNER_DESC[#Data],0),0))","v":""},{"$f":"IF('Access Point (Desc)'!F146=\"\",\"\",INDEX([1]COUNTY!$A$2:$A$100,MATCH('Access Point (Desc)'!F146,[1]!MASTER_COUNTY_NAME[#Data],0),0))","v":""},{"$f":"IF('Access Point (Desc)'!G146=\"\",\"\",'Access Point (Desc)'!G146)","v":""},{"$f":"IF('Access Point (Desc)'!H146=\"\",\"\",'Access Point (Desc)'!H146)","v":""},{"$f":"IF('Access Point (Desc)'!I146=\"\",\"\",INDEX([1]ROUTE_MH_TYPE!$A$2:$A$100,MATCH('Access Point (Desc)'!$I146,[1]!MASTER_ROUTE_MH_TYPE_DESC[#Data],0),0))","v":""},{"$f":"IF('Access Point (Desc)'!J146=\"\",\"\",INDEX([1]MANHOLE_MTL!$A$2:$A$100,MATCH('Access Point (Desc)'!$J146,[1]!MASTER_MANHOLE_MTL_DESC[#Data],0),0))","v":""},{"$f":"IF('Access Point (Desc)'!K146=\"\",\"\",INDEX([1]MANHOLE_SIZE!$A$2:$A$120,MATCH('Access Point (Desc)'!$K146,[1]!MASTER_MANHOLE_SIZE_DESC[#Data],0),0))","v":""},{"$f":"IF('Access Point (Desc)'!L146=\"\",\"\",INDEX([1]ROUTE_MH_LID_TYPE!$A$2:$A$100,MATCH('Access Point (Desc)'!$L146,[1]!MASTER_ROUTE_MH_LID_TYPE_DESC[#Data],0),0))","v":""},{"$f":"IF('Access Point (Desc)'!M146=\"\",\"\",INDEX([1]MANHOLE_MTL!$A$2:$A$100,MATCH('Access Point (Desc)'!$M146,[1]!MASTER_MANHOLE_MTL_DESC[#Data],0),0))","v":""},{"$f":"IF('Access Point (Desc)'!N146=\"\",\"\",INDEX([1]LID_BOLT_TYPE!$A$2:$A$100,MATCH('Access Point (Desc)'!$N146,[1]!MASTER_LID_BOLT_TYPE_DESC[#Data],0),0))","v":""},{"$f":"IF('Access Point (Desc)'!O146=\"\",\"\",INDEX([1]YES_NO!$A$2:$A$100,MATCH('Access Point (Desc)'!$O146,[1]!MASTER_YES_NO_DESC[#Data],0),0))","v":""},{"$f":"IF('Access Point (Desc)'!P146=\"\",\"\",'Access Point (Desc)'!P146)","v":""},{"$f":"IF('Access Point (Desc)'!Q146=\"\",\"\",INDEX([1]YES_NO!$A$2:$A$100,MATCH('Access Point (Desc)'!$Q146,[1]!MASTER_YES_NO_DESC[#Data],0),0))","v":""}]
[{"$f":"IF('Access Point (Desc)'!A147=\"\",\"\",'Access Point (Desc)'!A147)","v":""},{"$f":"IF('Access Point (Desc)'!B147=\"\",\"\",'Access Point (Desc)'!B147)","v":""},{"$f":"IF('Access Point (Desc)'!C147=\"\",\"\",'Access Point (Desc)'!C147)","v":""},{"$f":"IF('Access Point (Desc)'!D147=\"\",\"\",'Access Point (Desc)'!D147)","v":""},{"$f":"IF('Access Point (Desc)'!E147=\"\",\"\",INDEX([1]OWNER!$A$2:$A$100,MATCH('Access Point (Desc)'!$E147,[1]!MASTER_OWNER_DESC[#Data],0),0))","v":""},{"$f":"IF('Access Point (Desc)'!F147=\"\",\"\",INDEX([1]COUNTY!$A$2:$A$100,MATCH('Access Point (Desc)'!F147,[1]!MASTER_COUNTY_NAME[#Data],0),0))","v":""},{"$f":"IF('Access Point (Desc)'!G147=\"\",\"\",'Access Point (Desc)'!G147)","v":""},{"$f":"IF('Access Point (Desc)'!H147=\"\",\"\",'Access Point (Desc)'!H147)","v":""},{"$f":"IF('Access Point (Desc)'!I147=\"\",\"\",INDEX([1]ROUTE_MH_TYPE!$A$2:$A$100,MATCH('Access Point (Desc)'!$I147,[1]!MASTER_ROUTE_MH_TYPE_DESC[#Data],0),0))","v":""},{"$f":"IF('Access Point (Desc)'!J147=\"\",\"\",INDEX([1]MANHOLE_MTL!$A$2:$A$100,MATCH('Access Point (Desc)'!$J147,[1]!MASTER_MANHOLE_MTL_DESC[#Data],0),0))","v":""},{"$f":"IF('Access Point (Desc)'!K147=\"\",\"\",INDEX([1]MANHOLE_SIZE!$A$2:$A$120,MATCH('Access Point (Desc)'!$K147,[1]!MASTER_MANHOLE_SIZE_DESC[#Data],0),0))","v":""},{"$f":"IF('Access Point (Desc)'!L147=\"\",\"\",INDEX([1]ROUTE_MH_LID_TYPE!$A$2:$A$100,MATCH('Access Point (Desc)'!$L147,[1]!MASTER_ROUTE_MH_LID_TYPE_DESC[#Data],0),0))","v":""},{"$f":"IF('Access Point (Desc)'!M147=\"\",\"\",INDEX([1]MANHOLE_MTL!$A$2:$A$100,MATCH('Access Point (Desc)'!$M147,[1]!MASTER_MANHOLE_MTL_DESC[#Data],0),0))","v":""},{"$f":"IF('Access Point (Desc)'!N147=\"\",\"\",INDEX([1]LID_BOLT_TYPE!$A$2:$A$100,MATCH('Access Point (Desc)'!$N147,[1]!MASTER_LID_BOLT_TYPE_DESC[#Data],0),0))","v":""},{"$f":"IF('Access Point (Desc)'!O147=\"\",\"\",INDEX([1]YES_NO!$A$2:$A$100,MATCH('Access Point (Desc)'!$O147,[1]!MASTER_YES_NO_DESC[#Data],0),0))","v":""},{"$f":"IF('Access Point (Desc)'!P147=\"\",\"\",'Access Point (Desc)'!P147)","v":""},{"$f":"IF('Access Point (Desc)'!Q147=\"\",\"\",INDEX([1]YES_NO!$A$2:$A$100,MATCH('Access Point (Desc)'!$Q147,[1]!MASTER_YES_NO_DESC[#Data],0),0))","v":""}]
[{"$f":"IF('Access Point (Desc)'!A148=\"\",\"\",'Access Point (Desc)'!A148)","v":""},{"$f":"IF('Access Point (Desc)'!B148=\"\",\"\",'Access Point (Desc)'!B148)","v":""},{"$f":"IF('Access Point (Desc)'!C148=\"\",\"\",'Access Point (Desc)'!C148)","v":""},{"$f":"IF('Access Point (Desc)'!D148=\"\",\"\",'Access Point (Desc)'!D148)","v":""},{"$f":"IF('Access Point (Desc)'!E148=\"\",\"\",INDEX([1]OWNER!$A$2:$A$100,MATCH('Access Point (Desc)'!$E148,[1]!MASTER_OWNER_DESC[#Data],0),0))","v":""},{"$f":"IF('Access Point (Desc)'!F148=\"\",\"\",INDEX([1]COUNTY!$A$2:$A$100,MATCH('Access Point (Desc)'!F148,[1]!MASTER_COUNTY_NAME[#Data],0),0))","v":""},{"$f":"IF('Access Point (Desc)'!G148=\"\",\"\",'Access Point (Desc)'!G148)","v":""},{"$f":"IF('Access Point (Desc)'!H148=\"\",\"\",'Access Point (Desc)'!H148)","v":""},{"$f":"IF('Access Point (Desc)'!I148=\"\",\"\",INDEX([1]ROUTE_MH_TYPE!$A$2:$A$100,MATCH('Access Point (Desc)'!$I148,[1]!MASTER_ROUTE_MH_TYPE_DESC[#Data],0),0))","v":""},{"$f":"IF('Access Point (Desc)'!J148=\"\",\"\",INDEX([1]MANHOLE_MTL!$A$2:$A$100,MATCH('Access Point (Desc)'!$J148,[1]!MASTER_MANHOLE_MTL_DESC[#Data],0),0))","v":""},{"$f":"IF('Access Point (Desc)'!K148=\"\",\"\",INDEX([1]MANHOLE_SIZE!$A$2:$A$120,MATCH('Access Point (Desc)'!$K148,[1]!MASTER_MANHOLE_SIZE_DESC[#Data],0),0))","v":""},{"$f":"IF('Access Point (Desc)'!L148=\"\",\"\",INDEX([1]ROUTE_MH_LID_TYPE!$A$2:$A$100,MATCH('Access Point (Desc)'!$L148,[1]!MASTER_ROUTE_MH_LID_TYPE_DESC[#Data],0),0))","v":""},{"$f":"IF('Access Point (Desc)'!M148=\"\",\"\",INDEX([1]MANHOLE_MTL!$A$2:$A$100,MATCH('Access Point (Desc)'!$M148,[1]!MASTER_MANHOLE_MTL_DESC[#Data],0),0))","v":""},{"$f":"IF('Access Point (Desc)'!N148=\"\",\"\",INDEX([1]LID_BOLT_TYPE!$A$2:$A$100,MATCH('Access Point (Desc)'!$N148,[1]!MASTER_LID_BOLT_TYPE_DESC[#Data],0),0))","v":""},{"$f":"IF('Access Point (Desc)'!O148=\"\",\"\",INDEX([1]YES_NO!$A$2:$A$100,MATCH('Access Point (Desc)'!$O148,[1]!MASTER_YES_NO_DESC[#Data],0),0))","v":""},{"$f":"IF('Access Point (Desc)'!P148=\"\",\"\",'Access Point (Desc)'!P148)","v":""},{"$f":"IF('Access Point (Desc)'!Q148=\"\",\"\",INDEX([1]YES_NO!$A$2:$A$100,MATCH('Access Point (Desc)'!$Q148,[1]!MASTER_YES_NO_DESC[#Data],0),0))","v":""}]
[{"$f":"IF('Access Point (Desc)'!A149=\"\",\"\",'Access Point (Desc)'!A149)","v":""},{"$f":"IF('Access Point (Desc)'!B149=\"\",\"\",'Access Point (Desc)'!B149)","v":""},{"$f":"IF('Access Point (Desc)'!C149=\"\",\"\",'Access Point (Desc)'!C149)","v":""},{"$f":"IF('Access Point (Desc)'!D149=\"\",\"\",'Access Point (Desc)'!D149)","v":""},{"$f":"IF('Access Point (Desc)'!E149=\"\",\"\",INDEX([1]OWNER!$A$2:$A$100,MATCH('Access Point (Desc)'!$E149,[1]!MASTER_OWNER_DESC[#Data],0),0))","v":""},{"$f":"IF('Access Point (Desc)'!F149=\"\",\"\",INDEX([1]COUNTY!$A$2:$A$100,MATCH('Access Point (Desc)'!F149,[1]!MASTER_COUNTY_NAME[#Data],0),0))","v":""},{"$f":"IF('Access Point (Desc)'!G149=\"\",\"\",'Access Point (Desc)'!G149)","v":""},{"$f":"IF('Access Point (Desc)'!H149=\"\",\"\",'Access Point (Desc)'!H149)","v":""},{"$f":"IF('Access Point (Desc)'!I149=\"\",\"\",INDEX([1]ROUTE_MH_TYPE!$A$2:$A$100,MATCH('Access Point (Desc)'!$I149,[1]!MASTER_ROUTE_MH_TYPE_DESC[#Data],0),0))","v":""},{"$f":"IF('Access Point (Desc)'!J149=\"\",\"\",INDEX([1]MANHOLE_MTL!$A$2:$A$100,MATCH('Access Point (Desc)'!$J149,[1]!MASTER_MANHOLE_MTL_DESC[#Data],0),0))","v":""},{"$f":"IF('Access Point (Desc)'!K149=\"\",\"\",INDEX([1]MANHOLE_SIZE!$A$2:$A$120,MATCH('Access Point (Desc)'!$K149,[1]!MASTER_MANHOLE_SIZE_DESC[#Data],0),0))","v":""},{"$f":"IF('Access Point (Desc)'!L149=\"\",\"\",INDEX([1]ROUTE_MH_LID_TYPE!$A$2:$A$100,MATCH('Access Point (Desc)'!$L149,[1]!MASTER_ROUTE_MH_LID_TYPE_DESC[#Data],0),0))","v":""},{"$f":"IF('Access Point (Desc)'!M149=\"\",\"\",INDEX([1]MANHOLE_MTL!$A$2:$A$100,MATCH('Access Point (Desc)'!$M149,[1]!MASTER_MANHOLE_MTL_DESC[#Data],0),0))","v":""},{"$f":"IF('Access Point (Desc)'!N149=\"\",\"\",INDEX([1]LID_BOLT_TYPE!$A$2:$A$100,MATCH('Access Point (Desc)'!$N149,[1]!MASTER_LID_BOLT_TYPE_DESC[#Data],0),0))","v":""},{"$f":"IF('Access Point (Desc)'!O149=\"\",\"\",INDEX([1]YES_NO!$A$2:$A$100,MATCH('Access Point (Desc)'!$O149,[1]!MASTER_YES_NO_DESC[#Data],0),0))","v":""},{"$f":"IF('Access Point (Desc)'!P149=\"\",\"\",'Access Point (Desc)'!P149)","v":""},{"$f":"IF('Access Point (Desc)'!Q149=\"\",\"\",INDEX([1]YES_NO!$A$2:$A$100,MATCH('Access Point (Desc)'!$Q149,[1]!MASTER_YES_NO_DESC[#Data],0),0))","v":""}]
[{"$f":"IF('Access Point (Desc)'!A150=\"\",\"\",'Access Point (Desc)'!A150)","v":""},{"$f":"IF('Access Point (Desc)'!B150=\"\",\"\",'Access Point (Desc)'!B150)","v":""},{"$f":"IF('Access Point (Desc)'!C150=\"\",\"\",'Access Point (Desc)'!C150)","v":""},{"$f":"IF('Access Point (Desc)'!D150=\"\",\"\",'Access Point (Desc)'!D150)","v":""},{"$f":"IF('Access Point (Desc)'!E150=\"\",\"\",INDEX([1]OWNER!$A$2:$A$100,MATCH('Access Point (Desc)'!$E150,[1]!MASTER_OWNER_DESC[#Data],0),0))","v":""},{"$f":"IF('Access Point (Desc)'!F150=\"\",\"\",INDEX([1]COUNTY!$A$2:$A$100,MATCH('Access Point (Desc)'!F150,[1]!MASTER_COUNTY_NAME[#Data],0),0))","v":""},{"$f":"IF('Access Point (Desc)'!G150=\"\",\"\",'Access Point (Desc)'!G150)","v":""},{"$f":"IF('Access Point (Desc)'!H150=\"\",\"\",'Access Point (Desc)'!H150)","v":""},{"$f":"IF('Access Point (Desc)'!I150=\"\",\"\",INDEX([1]ROUTE_MH_TYPE!$A$2:$A$100,MATCH('Access Point (Desc)'!$I150,[1]!MASTER_ROUTE_MH_TYPE_DESC[#Data],0),0))","v":""},{"$f":"IF('Access Point (Desc)'!J150=\"\",\"\",INDEX([1]MANHOLE_MTL!$A$2:$A$100,MATCH('Access Point (Desc)'!$J150,[1]!MASTER_MANHOLE_MTL_DESC[#Data],0),0))","v":""},{"$f":"IF('Access Point (Desc)'!K150=\"\",\"\",INDEX([1]MANHOLE_SIZE!$A$2:$A$120,MATCH('Access Point (Desc)'!$K150,[1]!MASTER_MANHOLE_SIZE_DESC[#Data],0),0))","v":""},{"$f":"IF('Access Point (Desc)'!L150=\"\",\"\",INDEX([1]ROUTE_MH_LID_TYPE!$A$2:$A$100,MATCH('Access Point (Desc)'!$L150,[1]!MASTER_ROUTE_MH_LID_TYPE_DESC[#Data],0),0))","v":""},{"$f":"IF('Access Point (Desc)'!M150=\"\",\"\",INDEX([1]MANHOLE_MTL!$A$2:$A$100,MATCH('Access Point (Desc)'!$M150,[1]!MASTER_MANHOLE_MTL_DESC[#Data],0),0))","v":""},{"$f":"IF('Access Point (Desc)'!N150=\"\",\"\",INDEX([1]LID_BOLT_TYPE!$A$2:$A$100,MATCH('Access Point (Desc)'!$N150,[1]!MASTER_LID_BOLT_TYPE_DESC[#Data],0),0))","v":""},{"$f":"IF('Access Point (Desc)'!O150=\"\",\"\",INDEX([1]YES_NO!$A$2:$A$100,MATCH('Access Point (Desc)'!$O150,[1]!MASTER_YES_NO_DESC[#Data],0),0))","v":""},{"$f":"IF('Access Point (Desc)'!P150=\"\",\"\",'Access Point (Desc)'!P150)","v":""},{"$f":"IF('Access Point (Desc)'!Q150=\"\",\"\",INDEX([1]YES_NO!$A$2:$A$100,MATCH('Access Point (Desc)'!$Q150,[1]!MASTER_YES_NO_DESC[#Data],0),0))","v":""}]
[{"$f":"IF('Access Point (Desc)'!A151=\"\",\"\",'Access Point (Desc)'!A151)","v":""},{"$f":"IF('Access Point (Desc)'!B151=\"\",\"\",'Access Point (Desc)'!B151)","v":""},{"$f":"IF('Access Point (Desc)'!C151=\"\",\"\",'Access Point (Desc)'!C151)","v":""},{"$f":"IF('Access Point (Desc)'!D151=\"\",\"\",'Access Point (Desc)'!D151)","v":""},{"$f":"IF('Access Point (Desc)'!E151=\"\",\"\",INDEX([1]OWNER!$A$2:$A$100,MATCH('Access Point (Desc)'!$E151,[1]!MASTER_OWNER_DESC[#Data],0),0))","v":""},{"$f":"IF('Access Point (Desc)'!F151=\"\",\"\",INDEX([1]COUNTY!$A$2:$A$100,MATCH('Access Point (Desc)'!F151,[1]!MASTER_COUNTY_NAME[#Data],0),0))","v":""},{"$f":"IF('Access Point (Desc)'!G151=\"\",\"\",'Access Point (Desc)'!G151)","v":""},{"$f":"IF('Access Point (Desc)'!H151=\"\",\"\",'Access Point (Desc)'!H151)","v":""},{"$f":"IF('Access Point (Desc)'!I151=\"\",\"\",INDEX([1]ROUTE_MH_TYPE!$A$2:$A$100,MATCH('Access Point (Desc)'!$I151,[1]!MASTER_ROUTE_MH_TYPE_DESC[#Data],0),0))","v":""},{"$f":"IF('Access Point (Desc)'!J151=\"\",\"\",INDEX([1]MANHOLE_MTL!$A$2:$A$100,MATCH('Access Point (Desc)'!$J151,[1]!MASTER_MANHOLE_MTL_DESC[#Data],0),0))","v":""},{"$f":"IF('Access Point (Desc)'!K151=\"\",\"\",INDEX([1]MANHOLE_SIZE!$A$2:$A$120,MATCH('Access Point (Desc)'!$K151,[1]!MASTER_MANHOLE_SIZE_DESC[#Data],0),0))","v":""},{"$f":"IF('Access Point (Desc)'!L151=\"\",\"\",INDEX([1]ROUTE_MH_LID_TYPE!$A$2:$A$100,MATCH('Access Point (Desc)'!$L151,[1]!MASTER_ROUTE_MH_LID_TYPE_DESC[#Data],0),0))","v":""},{"$f":"IF('Access Point (Desc)'!M151=\"\",\"\",INDEX([1]MANHOLE_MTL!$A$2:$A$100,MATCH('Access Point (Desc)'!$M151,[1]!MASTER_MANHOLE_MTL_DESC[#Data],0),0))","v":""},{"$f":"IF('Access Point (Desc)'!N151=\"\",\"\",INDEX([1]LID_BOLT_TYPE!$A$2:$A$100,MATCH('Access Point (Desc)'!$N151,[1]!MASTER_LID_BOLT_TYPE_DESC[#Data],0),0))","v":""},{"$f":"IF('Access Point (Desc)'!O151=\"\",\"\",INDEX([1]YES_NO!$A$2:$A$100,MATCH('Access Point (Desc)'!$O151,[1]!MASTER_YES_NO_DESC[#Data],0),0))","v":""},{"$f":"IF('Access Point (Desc)'!P151=\"\",\"\",'Access Point (Desc)'!P151)","v":""},{"$f":"IF('Access Point (Desc)'!Q151=\"\",\"\",INDEX([1]YES_NO!$A$2:$A$100,MATCH('Access Point (Desc)'!$Q151,[1]!MASTER_YES_NO_DESC[#Data],0),0))","v":""}]
[{"$f":"IF('Access Point (Desc)'!A152=\"\",\"\",'Access Point (Desc)'!A152)","v":""},{"$f":"IF('Access Point (Desc)'!B152=\"\",\"\",'Access Point (Desc)'!B152)","v":""},{"$f":"IF('Access Point (Desc)'!C152=\"\",\"\",'Access Point (Desc)'!C152)","v":""},{"$f":"IF('Access Point (Desc)'!D152=\"\",\"\",'Access Point (Desc)'!D152)","v":""},{"$f":"IF('Access Point (Desc)'!E152=\"\",\"\",INDEX([1]OWNER!$A$2:$A$100,MATCH('Access Point (Desc)'!$E152,[1]!MASTER_OWNER_DESC[#Data],0),0))","v":""},{"$f":"IF('Access Point (Desc)'!F152=\"\",\"\",INDEX([1]COUNTY!$A$2:$A$100,MATCH('Access Point (Desc)'!F152,[1]!MASTER_COUNTY_NAME[#Data],0),0))","v":""},{"$f":"IF('Access Point (Desc)'!G152=\"\",\"\",'Access Point (Desc)'!G152)","v":""},{"$f":"IF('Access Point (Desc)'!H152=\"\",\"\",'Access Point (Desc)'!H152)","v":""},{"$f":"IF('Access Point (Desc)'!I152=\"\",\"\",INDEX([1]ROUTE_MH_TYPE!$A$2:$A$100,MATCH('Access Point (Desc)'!$I152,[1]!MASTER_ROUTE_MH_TYPE_DESC[#Data],0),0))","v":""},{"$f":"IF('Access Point (Desc)'!J152=\"\",\"\",INDEX([1]MANHOLE_MTL!$A$2:$A$100,MATCH('Access Point (Desc)'!$J152,[1]!MASTER_MANHOLE_MTL_DESC[#Data],0),0))","v":""},{"$f":"IF('Access Point (Desc)'!K152=\"\",\"\",INDEX([1]MANHOLE_SIZE!$A$2:$A$120,MATCH('Access Point (Desc)'!$K152,[1]!MASTER_MANHOLE_SIZE_DESC[#Data],0),0))","v":""},{"$f":"IF('Access Point (Desc)'!L152=\"\",\"\",INDEX([1]ROUTE_MH_LID_TYPE!$A$2:$A$100,MATCH('Access Point (Desc)'!$L152,[1]!MASTER_ROUTE_MH_LID_TYPE_DESC[#Data],0),0))","v":""},{"$f":"IF('Access Point (Desc)'!M152=\"\",\"\",INDEX([1]MANHOLE_MTL!$A$2:$A$100,MATCH('Access Point (Desc)'!$M152,[1]!MASTER_MANHOLE_MTL_DESC[#Data],0),0))","v":""},{"$f":"IF('Access Point (Desc)'!N152=\"\",\"\",INDEX([1]LID_BOLT_TYPE!$A$2:$A$100,MATCH('Access Point (Desc)'!$N152,[1]!MASTER_LID_BOLT_TYPE_DESC[#Data],0),0))","v":""},{"$f":"IF('Access Point (Desc)'!O152=\"\",\"\",INDEX([1]YES_NO!$A$2:$A$100,MATCH('Access Point (Desc)'!$O152,[1]!MASTER_YES_NO_DESC[#Data],0),0))","v":""},{"$f":"IF('Access Point (Desc)'!P152=\"\",\"\",'Access Point (Desc)'!P152)","v":""},{"$f":"IF('Access Point (Desc)'!Q152=\"\",\"\",INDEX([1]YES_NO!$A$2:$A$100,MATCH('Access Point (Desc)'!$Q152,[1]!MASTER_YES_NO_DESC[#Data],0),0))","v":""}]
[{"$f":"IF('Access Point (Desc)'!A153=\"\",\"\",'Access Point (Desc)'!A153)","v":""},{"$f":"IF('Access Point (Desc)'!B153=\"\",\"\",'Access Point (Desc)'!B153)","v":""},{"$f":"IF('Access Point (Desc)'!C153=\"\",\"\",'Access Point (Desc)'!C153)","v":""},{"$f":"IF('Access Point (Desc)'!D153=\"\",\"\",'Access Point (Desc)'!D153)","v":""},{"$f":"IF('Access Point (Desc)'!E153=\"\",\"\",INDEX([1]OWNER!$A$2:$A$100,MATCH('Access Point (Desc)'!$E153,[1]!MASTER_OWNER_DESC[#Data],0),0))","v":""},{"$f":"IF('Access Point (Desc)'!F153=\"\",\"\",INDEX([1]COUNTY!$A$2:$A$100,MATCH('Access Point (Desc)'!F153,[1]!MASTER_COUNTY_NAME[#Data],0),0))","v":""},{"$f":"IF('Access Point (Desc)'!G153=\"\",\"\",'Access Point (Desc)'!G153)","v":""},{"$f":"IF('Access Point (Desc)'!H153=\"\",\"\",'Access Point (Desc)'!H153)","v":""},{"$f":"IF('Access Point (Desc)'!I153=\"\",\"\",INDEX([1]ROUTE_MH_TYPE!$A$2:$A$100,MATCH('Access Point (Desc)'!$I153,[1]!MASTER_ROUTE_MH_TYPE_DESC[#Data],0),0))","v":""},{"$f":"IF('Access Point (Desc)'!J153=\"\",\"\",INDEX([1]MANHOLE_MTL!$A$2:$A$100,MATCH('Access Point (Desc)'!$J153,[1]!MASTER_MANHOLE_MTL_DESC[#Data],0),0))","v":""},{"$f":"IF('Access Point (Desc)'!K153=\"\",\"\",INDEX([1]MANHOLE_SIZE!$A$2:$A$120,MATCH('Access Point (Desc)'!$K153,[1]!MASTER_MANHOLE_SIZE_DESC[#Data],0),0))","v":""},{"$f":"IF('Access Point (Desc)'!L153=\"\",\"\",INDEX([1]ROUTE_MH_LID_TYPE!$A$2:$A$100,MATCH('Access Point (Desc)'!$L153,[1]!MASTER_ROUTE_MH_LID_TYPE_DESC[#Data],0),0))","v":""},{"$f":"IF('Access Point (Desc)'!M153=\"\",\"\",INDEX([1]MANHOLE_MTL!$A$2:$A$100,MATCH('Access Point (Desc)'!$M153,[1]!MASTER_MANHOLE_MTL_DESC[#Data],0),0))","v":""},{"$f":"IF('Access Point (Desc)'!N153=\"\",\"\",INDEX([1]LID_BOLT_TYPE!$A$2:$A$100,MATCH('Access Point (Desc)'!$N153,[1]!MASTER_LID_BOLT_TYPE_DESC[#Data],0),0))","v":""},{"$f":"IF('Access Point (Desc)'!O153=\"\",\"\",INDEX([1]YES_NO!$A$2:$A$100,MATCH('Access Point (Desc)'!$O153,[1]!MASTER_YES_NO_DESC[#Data],0),0))","v":""},{"$f":"IF('Access Point (Desc)'!P153=\"\",\"\",'Access Point (Desc)'!P153)","v":""},{"$f":"IF('Access Point (Desc)'!Q153=\"\",\"\",INDEX([1]YES_NO!$A$2:$A$100,MATCH('Access Point (Desc)'!$Q153,[1]!MASTER_YES_NO_DESC[#Data],0),0))","v":""}]
[{"$f":"IF('Access Point (Desc)'!A154=\"\",\"\",'Access Point (Desc)'!A154)","v":""},{"$f":"IF('Access Point (Desc)'!B154=\"\",\"\",'Access Point (Desc)'!B154)","v":""},{"$f":"IF('Access Point (Desc)'!C154=\"\",\"\",'Access Point (Desc)'!C154)","v":""},{"$f":"IF('Access Point (Desc)'!D154=\"\",\"\",'Access Point (Desc)'!D154)","v":""},{"$f":"IF('Access Point (Desc)'!E154=\"\",\"\",INDEX([1]OWNER!$A$2:$A$100,MATCH('Access Point (Desc)'!$E154,[1]!MASTER_OWNER_DESC[#Data],0),0))","v":""},{"$f":"IF('Access Point (Desc)'!F154=\"\",\"\",INDEX([1]COUNTY!$A$2:$A$100,MATCH('Access Point (Desc)'!F154,[1]!MASTER_COUNTY_NAME[#Data],0),0))","v":""},{"$f":"IF('Access Point (Desc)'!G154=\"\",\"\",'Access Point (Desc)'!G154)","v":""},{"$f":"IF('Access Point (Desc)'!H154=\"\",\"\",'Access Point (Desc)'!H154)","v":""},{"$f":"IF('Access Point (Desc)'!I154=\"\",\"\",INDEX([1]ROUTE_MH_TYPE!$A$2:$A$100,MATCH('Access Point (Desc)'!$I154,[1]!MASTER_ROUTE_MH_TYPE_DESC[#Data],0),0))","v":""},{"$f":"IF('Access Point (Desc)'!J154=\"\",\"\",INDEX([1]MANHOLE_MTL!$A$2:$A$100,MATCH('Access Point (Desc)'!$J154,[1]!MASTER_MANHOLE_MTL_DESC[#Data],0),0))","v":""},{"$f":"IF('Access Point (Desc)'!K154=\"\",\"\",INDEX([1]MANHOLE_SIZE!$A$2:$A$120,MATCH('Access Point (Desc)'!$K154,[1]!MASTER_MANHOLE_SIZE_DESC[#Data],0),0))","v":""},{"$f":"IF('Access Point (Desc)'!L154=\"\",\"\",INDEX([1]ROUTE_MH_LID_TYPE!$A$2:$A$100,MATCH('Access Point (Desc)'!$L154,[1]!MASTER_ROUTE_MH_LID_TYPE_DESC[#Data],0),0))","v":""},{"$f":"IF('Access Point (Desc)'!M154=\"\",\"\",INDEX([1]MANHOLE_MTL!$A$2:$A$100,MATCH('Access Point (Desc)'!$M154,[1]!MASTER_MANHOLE_MTL_DESC[#Data],0),0))","v":""},{"$f":"IF('Access Point (Desc)'!N154=\"\",\"\",INDEX([1]LID_BOLT_TYPE!$A$2:$A$100,MATCH('Access Point (Desc)'!$N154,[1]!MASTER_LID_BOLT_TYPE_DESC[#Data],0),0))","v":""},{"$f":"IF('Access Point (Desc)'!O154=\"\",\"\",INDEX([1]YES_NO!$A$2:$A$100,MATCH('Access Point (Desc)'!$O154,[1]!MASTER_YES_NO_DESC[#Data],0),0))","v":""},{"$f":"IF('Access Point (Desc)'!P154=\"\",\"\",'Access Point (Desc)'!P154)","v":""},{"$f":"IF('Access Point (Desc)'!Q154=\"\",\"\",INDEX([1]YES_NO!$A$2:$A$100,MATCH('Access Point (Desc)'!$Q154,[1]!MASTER_YES_NO_DESC[#Data],0),0))","v":""}]
[{"$f":"IF('Access Point (Desc)'!A155=\"\",\"\",'Access Point (Desc)'!A155)","v":""},{"$f":"IF('Access Point (Desc)'!B155=\"\",\"\",'Access Point (Desc)'!B155)","v":""},{"$f":"IF('Access Point (Desc)'!C155=\"\",\"\",'Access Point (Desc)'!C155)","v":""},{"$f":"IF('Access Point (Desc)'!D155=\"\",\"\",'Access Point (Desc)'!D155)","v":""},{"$f":"IF('Access Point (Desc)'!E155=\"\",\"\",INDEX([1]OWNER!$A$2:$A$100,MATCH('Access Point (Desc)'!$E155,[1]!MASTER_OWNER_DESC[#Data],0),0))","v":""},{"$f":"IF('Access Point (Desc)'!F155=\"\",\"\",INDEX([1]COUNTY!$A$2:$A$100,MATCH('Access Point (Desc)'!F155,[1]!MASTER_COUNTY_NAME[#Data],0),0))","v":""},{"$f":"IF('Access Point (Desc)'!G155=\"\",\"\",'Access Point (Desc)'!G155)","v":""},{"$f":"IF('Access Point (Desc)'!H155=\"\",\"\",'Access Point (Desc)'!H155)","v":""},{"$f":"IF('Access Point (Desc)'!I155=\"\",\"\",INDEX([1]ROUTE_MH_TYPE!$A$2:$A$100,MATCH('Access Point (Desc)'!$I155,[1]!MASTER_ROUTE_MH_TYPE_DESC[#Data],0),0))","v":""},{"$f":"IF('Access Point (Desc)'!J155=\"\",\"\",INDEX([1]MANHOLE_MTL!$A$2:$A$100,MATCH('Access Point (Desc)'!$J155,[1]!MASTER_MANHOLE_MTL_DESC[#Data],0),0))","v":""},{"$f":"IF('Access Point (Desc)'!K155=\"\",\"\",INDEX([1]MANHOLE_SIZE!$A$2:$A$120,MATCH('Access Point (Desc)'!$K155,[1]!MASTER_MANHOLE_SIZE_DESC[#Data],0),0))","v":""},{"$f":"IF('Access Point (Desc)'!L155=\"\",\"\",INDEX([1]ROUTE_MH_LID_TYPE!$A$2:$A$100,MATCH('Access Point (Desc)'!$L155,[1]!MASTER_ROUTE_MH_LID_TYPE_DESC[#Data],0),0))","v":""},{"$f":"IF('Access Point (Desc)'!M155=\"\",\"\",INDEX([1]MANHOLE_MTL!$A$2:$A$100,MATCH('Access Point (Desc)'!$M155,[1]!MASTER_MANHOLE_MTL_DESC[#Data],0),0))","v":""},{"$f":"IF('Access Point (Desc)'!N155=\"\",\"\",INDEX([1]LID_BOLT_TYPE!$A$2:$A$100,MATCH('Access Point (Desc)'!$N155,[1]!MASTER_LID_BOLT_TYPE_DESC[#Data],0),0))","v":""},{"$f":"IF('Access Point (Desc)'!O155=\"\",\"\",INDEX([1]YES_NO!$A$2:$A$100,MATCH('Access Point (Desc)'!$O155,[1]!MASTER_YES_NO_DESC[#Data],0),0))","v":""},{"$f":"IF('Access Point (Desc)'!P155=\"\",\"\",'Access Point (Desc)'!P155)","v":""},{"$f":"IF('Access Point (Desc)'!Q155=\"\",\"\",INDEX([1]YES_NO!$A$2:$A$100,MATCH('Access Point (Desc)'!$Q155,[1]!MASTER_YES_NO_DESC[#Data],0),0))","v":""}]
[{"$f":"IF('Access Point (Desc)'!A156=\"\",\"\",'Access Point (Desc)'!A156)","v":""},{"$f":"IF('Access Point (Desc)'!B156=\"\",\"\",'Access Point (Desc)'!B156)","v":""},{"$f":"IF('Access Point (Desc)'!C156=\"\",\"\",'Access Point (Desc)'!C156)","v":""},{"$f":"IF('Access Point (Desc)'!D156=\"\",\"\",'Access Point (Desc)'!D156)","v":""},{"$f":"IF('Access Point (Desc)'!E156=\"\",\"\",INDEX([1]OWNER!$A$2:$A$100,MATCH('Access Point (Desc)'!$E156,[1]!MASTER_OWNER_DESC[#Data],0),0))","v":""},{"$f":"IF('Access Point (Desc)'!F156=\"\",\"\",INDEX([1]COUNTY!$A$2:$A$100,MATCH('Access Point (Desc)'!F156,[1]!MASTER_COUNTY_NAME[#Data],0),0))","v":""},{"$f":"IF('Access Point (Desc)'!G156=\"\",\"\",'Access Point (Desc)'!G156)","v":""},{"$f":"IF('Access Point (Desc)'!H156=\"\",\"\",'Access Point (Desc)'!H156)","v":""},{"$f":"IF('Access Point (Desc)'!I156=\"\",\"\",INDEX([1]ROUTE_MH_TYPE!$A$2:$A$100,MATCH('Access Point (Desc)'!$I156,[1]!MASTER_ROUTE_MH_TYPE_DESC[#Data],0),0))","v":""},{"$f":"IF('Access Point (Desc)'!J156=\"\",\"\",INDEX([1]MANHOLE_MTL!$A$2:$A$100,MATCH('Access Point (Desc)'!$J156,[1]!MASTER_MANHOLE_MTL_DESC[#Data],0),0))","v":""},{"$f":"IF('Access Point (Desc)'!K156=\"\",\"\",INDEX([1]MANHOLE_SIZE!$A$2:$A$120,MATCH('Access Point (Desc)'!$K156,[1]!MASTER_MANHOLE_SIZE_DESC[#Data],0),0))","v":""},{"$f":"IF('Access Point (Desc)'!L156=\"\",\"\",INDEX([1]ROUTE_MH_LID_TYPE!$A$2:$A$100,MATCH('Access Point (Desc)'!$L156,[1]!MASTER_ROUTE_MH_LID_TYPE_DESC[#Data],0),0))","v":""},{"$f":"IF('Access Point (Desc)'!M156=\"\",\"\",INDEX([1]MANHOLE_MTL!$A$2:$A$100,MATCH('Access Point (Desc)'!$M156,[1]!MASTER_MANHOLE_MTL_DESC[#Data],0),0))","v":""},{"$f":"IF('Access Point (Desc)'!N156=\"\",\"\",INDEX([1]LID_BOLT_TYPE!$A$2:$A$100,MATCH('Access Point (Desc)'!$N156,[1]!MASTER_LID_BOLT_TYPE_DESC[#Data],0),0))","v":""},{"$f":"IF('Access Point (Desc)'!O156=\"\",\"\",INDEX([1]YES_NO!$A$2:$A$100,MATCH('Access Point (Desc)'!$O156,[1]!MASTER_YES_NO_DESC[#Data],0),0))","v":""},{"$f":"IF('Access Point (Desc)'!P156=\"\",\"\",'Access Point (Desc)'!P156)","v":""},{"$f":"IF('Access Point (Desc)'!Q156=\"\",\"\",INDEX([1]YES_NO!$A$2:$A$100,MATCH('Access Point (Desc)'!$Q156,[1]!MASTER_YES_NO_DESC[#Data],0),0))","v":""}]
[{"$f":"IF('Access Point (Desc)'!A157=\"\",\"\",'Access Point (Desc)'!A157)","v":""},{"$f":"IF('Access Point (Desc)'!B157=\"\",\"\",'Access Point (Desc)'!B157)","v":""},{"$f":"IF('Access Point (Desc)'!C157=\"\",\"\",'Access Point (Desc)'!C157)","v":""},{"$f":"IF('Access Point (Desc)'!D157=\"\",\"\",'Access Point (Desc)'!D157)","v":""},{"$f":"IF('Access Point (Desc)'!E157=\"\",\"\",INDEX([1]OWNER!$A$2:$A$100,MATCH('Access Point (Desc)'!$E157,[1]!MASTER_OWNER_DESC[#Data],0),0))","v":""},{"$f":"IF('Access Point (Desc)'!F157=\"\",\"\",INDEX([1]COUNTY!$A$2:$A$100,MATCH('Access Point (Desc)'!F157,[1]!MASTER_COUNTY_NAME[#Data],0),0))","v":""},{"$f":"IF('Access Point (Desc)'!G157=\"\",\"\",'Access Point (Desc)'!G157)","v":""},{"$f":"IF('Access Point (Desc)'!H157=\"\",\"\",'Access Point (Desc)'!H157)","v":""},{"$f":"IF('Access Point (Desc)'!I157=\"\",\"\",INDEX([1]ROUTE_MH_TYPE!$A$2:$A$100,MATCH('Access Point (Desc)'!$I157,[1]!MASTER_ROUTE_MH_TYPE_DESC[#Data],0),0))","v":""},{"$f":"IF('Access Point (Desc)'!J157=\"\",\"\",INDEX([1]MANHOLE_MTL!$A$2:$A$100,MATCH('Access Point (Desc)'!$J157,[1]!MASTER_MANHOLE_MTL_DESC[#Data],0),0))","v":""},{"$f":"IF('Access Point (Desc)'!K157=\"\",\"\",INDEX([1]MANHOLE_SIZE!$A$2:$A$120,MATCH('Access Point (Desc)'!$K157,[1]!MASTER_MANHOLE_SIZE_DESC[#Data],0),0))","v":""},{"$f":"IF('Access Point (Desc)'!L157=\"\",\"\",INDEX([1]ROUTE_MH_LID_TYPE!$A$2:$A$100,MATCH('Access Point (Desc)'!$L157,[1]!MASTER_ROUTE_MH_LID_TYPE_DESC[#Data],0),0))","v":""},{"$f":"IF('Access Point (Desc)'!M157=\"\",\"\",INDEX([1]MANHOLE_MTL!$A$2:$A$100,MATCH('Access Point (Desc)'!$M157,[1]!MASTER_MANHOLE_MTL_DESC[#Data],0),0))","v":""},{"$f":"IF('Access Point (Desc)'!N157=\"\",\"\",INDEX([1]LID_BOLT_TYPE!$A$2:$A$100,MATCH('Access Point (Desc)'!$N157,[1]!MASTER_LID_BOLT_TYPE_DESC[#Data],0),0))","v":""},{"$f":"IF('Access Point (Desc)'!O157=\"\",\"\",INDEX([1]YES_NO!$A$2:$A$100,MATCH('Access Point (Desc)'!$O157,[1]!MASTER_YES_NO_DESC[#Data],0),0))","v":""},{"$f":"IF('Access Point (Desc)'!P157=\"\",\"\",'Access Point (Desc)'!P157)","v":""},{"$f":"IF('Access Point (Desc)'!Q157=\"\",\"\",INDEX([1]YES_NO!$A$2:$A$100,MATCH('Access Point (Desc)'!$Q157,[1]!MASTER_YES_NO_DESC[#Data],0),0))","v":""}]
[{"$f":"IF('Access Point (Desc)'!A158=\"\",\"\",'Access Point (Desc)'!A158)","v":""},{"$f":"IF('Access Point (Desc)'!B158=\"\",\"\",'Access Point (Desc)'!B158)","v":""},{"$f":"IF('Access Point (Desc)'!C158=\"\",\"\",'Access Point (Desc)'!C158)","v":""},{"$f":"IF('Access Point (Desc)'!D158=\"\",\"\",'Access Point (Desc)'!D158)","v":""},{"$f":"IF('Access Point (Desc)'!E158=\"\",\"\",INDEX([1]OWNER!$A$2:$A$100,MATCH('Access Point (Desc)'!$E158,[1]!MASTER_OWNER_DESC[#Data],0),0))","v":""},{"$f":"IF('Access Point (Desc)'!F158=\"\",\"\",INDEX([1]COUNTY!$A$2:$A$100,MATCH('Access Point (Desc)'!F158,[1]!MASTER_COUNTY_NAME[#Data],0),0))","v":""},{"$f":"IF('Access Point (Desc)'!G158=\"\",\"\",'Access Point (Desc)'!G158)","v":""},{"$f":"IF('Access Point (Desc)'!H158=\"\",\"\",'Access Point (Desc)'!H158)","v":""},{"$f":"IF('Access Point (Desc)'!I158=\"\",\"\",INDEX([1]ROUTE_MH_TYPE!$A$2:$A$100,MATCH('Access Point (Desc)'!$I158,[1]!MASTER_ROUTE_MH_TYPE_DESC[#Data],0),0))","v":""},{"$f":"IF('Access Point (Desc)'!J158=\"\",\"\",INDEX([1]MANHOLE_MTL!$A$2:$A$100,MATCH('Access Point (Desc)'!$J158,[1]!MASTER_MANHOLE_MTL_DESC[#Data],0),0))","v":""},{"$f":"IF('Access Point (Desc)'!K158=\"\",\"\",INDEX([1]MANHOLE_SIZE!$A$2:$A$120,MATCH('Access Point (Desc)'!$K158,[1]!MASTER_MANHOLE_SIZE_DESC[#Data],0),0))","v":""},{"$f":"IF('Access Point (Desc)'!L158=\"\",\"\",INDEX([1]ROUTE_MH_LID_TYPE!$A$2:$A$100,MATCH('Access Point (Desc)'!$L158,[1]!MASTER_ROUTE_MH_LID_TYPE_DESC[#Data],0),0))","v":""},{"$f":"IF('Access Point (Desc)'!M158=\"\",\"\",INDEX([1]MANHOLE_MTL!$A$2:$A$100,MATCH('Access Point (Desc)'!$M158,[1]!MASTER_MANHOLE_MTL_DESC[#Data],0),0))","v":""},{"$f":"IF('Access Point (Desc)'!N158=\"\",\"\",INDEX([1]LID_BOLT_TYPE!$A$2:$A$100,MATCH('Access Point (Desc)'!$N158,[1]!MASTER_LID_BOLT_TYPE_DESC[#Data],0),0))","v":""},{"$f":"IF('Access Point (Desc)'!O158=\"\",\"\",INDEX([1]YES_NO!$A$2:$A$100,MATCH('Access Point (Desc)'!$O158,[1]!MASTER_YES_NO_DESC[#Data],0),0))","v":""},{"$f":"IF('Access Point (Desc)'!P158=\"\",\"\",'Access Point (Desc)'!P158)","v":""},{"$f":"IF('Access Point (Desc)'!Q158=\"\",\"\",INDEX([1]YES_NO!$A$2:$A$100,MATCH('Access Point (Desc)'!$Q158,[1]!MASTER_YES_NO_DESC[#Data],0),0))","v":""}]
[{"$f":"IF('Access Point (Desc)'!A159=\"\",\"\",'Access Point (Desc)'!A159)","v":""},{"$f":"IF('Access Point (Desc)'!B159=\"\",\"\",'Access Point (Desc)'!B159)","v":""},{"$f":"IF('Access Point (Desc)'!C159=\"\",\"\",'Access Point (Desc)'!C159)","v":""},{"$f":"IF('Access Point (Desc)'!D159=\"\",\"\",'Access Point (Desc)'!D159)","v":""},{"$f":"IF('Access Point (Desc)'!E159=\"\",\"\",INDEX([1]OWNER!$A$2:$A$100,MATCH('Access Point (Desc)'!$E159,[1]!MASTER_OWNER_DESC[#Data],0),0))","v":""},{"$f":"IF('Access Point (Desc)'!F159=\"\",\"\",INDEX([1]COUNTY!$A$2:$A$100,MATCH('Access Point (Desc)'!F159,[1]!MASTER_COUNTY_NAME[#Data],0),0))","v":""},{"$f":"IF('Access Point (Desc)'!G159=\"\",\"\",'Access Point (Desc)'!G159)","v":""},{"$f":"IF('Access Point (Desc)'!H159=\"\",\"\",'Access Point (Desc)'!H159)","v":""},{"$f":"IF('Access Point (Desc)'!I159=\"\",\"\",INDEX([1]ROUTE_MH_TYPE!$A$2:$A$100,MATCH('Access Point (Desc)'!$I159,[1]!MASTER_ROUTE_MH_TYPE_DESC[#Data],0),0))","v":""},{"$f":"IF('Access Point (Desc)'!J159=\"\",\"\",INDEX([1]MANHOLE_MTL!$A$2:$A$100,MATCH('Access Point (Desc)'!$J159,[1]!MASTER_MANHOLE_MTL_DESC[#Data],0),0))","v":""},{"$f":"IF('Access Point (Desc)'!K159=\"\",\"\",INDEX([1]MANHOLE_SIZE!$A$2:$A$120,MATCH('Access Point (Desc)'!$K159,[1]!MASTER_MANHOLE_SIZE_DESC[#Data],0),0))","v":""},{"$f":"IF('Access Point (Desc)'!L159=\"\",\"\",INDEX([1]ROUTE_MH_LID_TYPE!$A$2:$A$100,MATCH('Access Point (Desc)'!$L159,[1]!MASTER_ROUTE_MH_LID_TYPE_DESC[#Data],0),0))","v":""},{"$f":"IF('Access Point (Desc)'!M159=\"\",\"\",INDEX([1]MANHOLE_MTL!$A$2:$A$100,MATCH('Access Point (Desc)'!$M159,[1]!MASTER_MANHOLE_MTL_DESC[#Data],0),0))","v":""},{"$f":"IF('Access Point (Desc)'!N159=\"\",\"\",INDEX([1]LID_BOLT_TYPE!$A$2:$A$100,MATCH('Access Point (Desc)'!$N159,[1]!MASTER_LID_BOLT_TYPE_DESC[#Data],0),0))","v":""},{"$f":"IF('Access Point (Desc)'!O159=\"\",\"\",INDEX([1]YES_NO!$A$2:$A$100,MATCH('Access Point (Desc)'!$O159,[1]!MASTER_YES_NO_DESC[#Data],0),0))","v":""},{"$f":"IF('Access Point (Desc)'!P159=\"\",\"\",'Access Point (Desc)'!P159)","v":""},{"$f":"IF('Access Point (Desc)'!Q159=\"\",\"\",INDEX([1]YES_NO!$A$2:$A$100,MATCH('Access Point (Desc)'!$Q159,[1]!MASTER_YES_NO_DESC[#Data],0),0))","v":""}]
[{"$f":"IF('Access Point (Desc)'!A160=\"\",\"\",'Access Point (Desc)'!A160)","v":""},{"$f":"IF('Access Point (Desc)'!B160=\"\",\"\",'Access Point (Desc)'!B160)","v":""},{"$f":"IF('Access Point (Desc)'!C160=\"\",\"\",'Access Point (Desc)'!C160)","v":""},{"$f":"IF('Access Point (Desc)'!D160=\"\",\"\",'Access Point (Desc)'!D160)","v":""},{"$f":"IF('Access Point (Desc)'!E160=\"\",\"\",INDEX([1]OWNER!$A$2:$A$100,MATCH('Access Point (Desc)'!$E160,[1]!MASTER_OWNER_DESC[#Data],0),0))","v":""},{"$f":"IF('Access Point (Desc)'!F160=\"\",\"\",INDEX([1]COUNTY!$A$2:$A$100,MATCH('Access Point (Desc)'!F160,[1]!MASTER_COUNTY_NAME[#Data],0),0))","v":""},{"$f":"IF('Access Point (Desc)'!G160=\"\",\"\",'Access Point (Desc)'!G160)","v":""},{"$f":"IF('Access Point (Desc)'!H160=\"\",\"\",'Access Point (Desc)'!H160)","v":""},{"$f":"IF('Access Point (Desc)'!I160=\"\",\"\",INDEX([1]ROUTE_MH_TYPE!$A$2:$A$100,MATCH('Access Point (Desc)'!$I160,[1]!MASTER_ROUTE_MH_TYPE_DESC[#Data],0),0))","v":""},{"$f":"IF('Access Point (Desc)'!J160=\"\",\"\",INDEX([1]MANHOLE_MTL!$A$2:$A$100,MATCH('Access Point (Desc)'!$J160,[1]!MASTER_MANHOLE_MTL_DESC[#Data],0),0))","v":""},{"$f":"IF('Access Point (Desc)'!K160=\"\",\"\",INDEX([1]MANHOLE_SIZE!$A$2:$A$120,MATCH('Access Point (Desc)'!$K160,[1]!MASTER_MANHOLE_SIZE_DESC[#Data],0),0))","v":""},{"$f":"IF('Access Point (Desc)'!L160=\"\",\"\",INDEX([1]ROUTE_MH_LID_TYPE!$A$2:$A$100,MATCH('Access Point (Desc)'!$L160,[1]!MASTER_ROUTE_MH_LID_TYPE_DESC[#Data],0),0))","v":""},{"$f":"IF('Access Point (Desc)'!M160=\"\",\"\",INDEX([1]MANHOLE_MTL!$A$2:$A$100,MATCH('Access Point (Desc)'!$M160,[1]!MASTER_MANHOLE_MTL_DESC[#Data],0),0))","v":""},{"$f":"IF('Access Point (Desc)'!N160=\"\",\"\",INDEX([1]LID_BOLT_TYPE!$A$2:$A$100,MATCH('Access Point (Desc)'!$N160,[1]!MASTER_LID_BOLT_TYPE_DESC[#Data],0),0))","v":""},{"$f":"IF('Access Point (Desc)'!O160=\"\",\"\",INDEX([1]YES_NO!$A$2:$A$100,MATCH('Access Point (Desc)'!$O160,[1]!MASTER_YES_NO_DESC[#Data],0),0))","v":""},{"$f":"IF('Access Point (Desc)'!P160=\"\",\"\",'Access Point (Desc)'!P160)","v":""},{"$f":"IF('Access Point (Desc)'!Q160=\"\",\"\",INDEX([1]YES_NO!$A$2:$A$100,MATCH('Access Point (Desc)'!$Q160,[1]!MASTER_YES_NO_DESC[#Data],0),0))","v":""}]
[{"$f":"IF('Access Point (Desc)'!A161=\"\",\"\",'Access Point (Desc)'!A161)","v":""},{"$f":"IF('Access Point (Desc)'!B161=\"\",\"\",'Access Point (Desc)'!B161)","v":""},{"$f":"IF('Access Point (Desc)'!C161=\"\",\"\",'Access Point (Desc)'!C161)","v":""},{"$f":"IF('Access Point (Desc)'!D161=\"\",\"\",'Access Point (Desc)'!D161)","v":""},{"$f":"IF('Access Point (Desc)'!E161=\"\",\"\",INDEX([1]OWNER!$A$2:$A$100,MATCH('Access Point (Desc)'!$E161,[1]!MASTER_OWNER_DESC[#Data],0),0))","v":""},{"$f":"IF('Access Point (Desc)'!F161=\"\",\"\",INDEX([1]COUNTY!$A$2:$A$100,MATCH('Access Point (Desc)'!F161,[1]!MASTER_COUNTY_NAME[#Data],0),0))","v":""},{"$f":"IF('Access Point (Desc)'!G161=\"\",\"\",'Access Point (Desc)'!G161)","v":""},{"$f":"IF('Access Point (Desc)'!H161=\"\",\"\",'Access Point (Desc)'!H161)","v":""},{"$f":"IF('Access Point (Desc)'!I161=\"\",\"\",INDEX([1]ROUTE_MH_TYPE!$A$2:$A$100,MATCH('Access Point (Desc)'!$I161,[1]!MASTER_ROUTE_MH_TYPE_DESC[#Data],0),0))","v":""},{"$f":"IF('Access Point (Desc)'!J161=\"\",\"\",INDEX([1]MANHOLE_MTL!$A$2:$A$100,MATCH('Access Point (Desc)'!$J161,[1]!MASTER_MANHOLE_MTL_DESC[#Data],0),0))","v":""},{"$f":"IF('Access Point (Desc)'!K161=\"\",\"\",INDEX([1]MANHOLE_SIZE!$A$2:$A$120,MATCH('Access Point (Desc)'!$K161,[1]!MASTER_MANHOLE_SIZE_DESC[#Data],0),0))","v":""},{"$f":"IF('Access Point (Desc)'!L161=\"\",\"\",INDEX([1]ROUTE_MH_LID_TYPE!$A$2:$A$100,MATCH('Access Point (Desc)'!$L161,[1]!MASTER_ROUTE_MH_LID_TYPE_DESC[#Data],0),0))","v":""},{"$f":"IF('Access Point (Desc)'!M161=\"\",\"\",INDEX([1]MANHOLE_MTL!$A$2:$A$100,MATCH('Access Point (Desc)'!$M161,[1]!MASTER_MANHOLE_MTL_DESC[#Data],0),0))","v":""},{"$f":"IF('Access Point (Desc)'!N161=\"\",\"\",INDEX([1]LID_BOLT_TYPE!$A$2:$A$100,MATCH('Access Point (Desc)'!$N161,[1]!MASTER_LID_BOLT_TYPE_DESC[#Data],0),0))","v":""},{"$f":"IF('Access Point (Desc)'!O161=\"\",\"\",INDEX([1]YES_NO!$A$2:$A$100,MATCH('Access Point (Desc)'!$O161,[1]!MASTER_YES_NO_DESC[#Data],0),0))","v":""},{"$f":"IF('Access Point (Desc)'!P161=\"\",\"\",'Access Point (Desc)'!P161)","v":""},{"$f":"IF('Access Point (Desc)'!Q161=\"\",\"\",INDEX([1]YES_NO!$A$2:$A$100,MATCH('Access Point (Desc)'!$Q161,[1]!MASTER_YES_NO_DESC[#Data],0),0))","v":""}]
[{"$f":"IF('Access Point (Desc)'!A162=\"\",\"\",'Access Point (Desc)'!A162)","v":""},{"$f":"IF('Access Point (Desc)'!B162=\"\",\"\",'Access Point (Desc)'!B162)","v":""},{"$f":"IF('Access Point (Desc)'!C162=\"\",\"\",'Access Point (Desc)'!C162)","v":""},{"$f":"IF('Access Point (Desc)'!D162=\"\",\"\",'Access Point (Desc)'!D162)","v":""},{"$f":"IF('Access Point (Desc)'!E162=\"\",\"\",INDEX([1]OWNER!$A$2:$A$100,MATCH('Access Point (Desc)'!$E162,[1]!MASTER_OWNER_DESC[#Data],0),0))","v":""},{"$f":"IF('Access Point (Desc)'!F162=\"\",\"\",INDEX([1]COUNTY!$A$2:$A$100,MATCH('Access Point (Desc)'!F162,[1]!MASTER_COUNTY_NAME[#Data],0),0))","v":""},{"$f":"IF('Access Point (Desc)'!G162=\"\",\"\",'Access Point (Desc)'!G162)","v":""},{"$f":"IF('Access Point (Desc)'!H162=\"\",\"\",'Access Point (Desc)'!H162)","v":""},{"$f":"IF('Access Point (Desc)'!I162=\"\",\"\",INDEX([1]ROUTE_MH_TYPE!$A$2:$A$100,MATCH('Access Point (Desc)'!$I162,[1]!MASTER_ROUTE_MH_TYPE_DESC[#Data],0),0))","v":""},{"$f":"IF('Access Point (Desc)'!J162=\"\",\"\",INDEX([1]MANHOLE_MTL!$A$2:$A$100,MATCH('Access Point (Desc)'!$J162,[1]!MASTER_MANHOLE_MTL_DESC[#Data],0),0))","v":""},{"$f":"IF('Access Point (Desc)'!K162=\"\",\"\",INDEX([1]MANHOLE_SIZE!$A$2:$A$120,MATCH('Access Point (Desc)'!$K162,[1]!MASTER_MANHOLE_SIZE_DESC[#Data],0),0))","v":""},{"$f":"IF('Access Point (Desc)'!L162=\"\",\"\",INDEX([1]ROUTE_MH_LID_TYPE!$A$2:$A$100,MATCH('Access Point (Desc)'!$L162,[1]!MASTER_ROUTE_MH_LID_TYPE_DESC[#Data],0),0))","v":""},{"$f":"IF('Access Point (Desc)'!M162=\"\",\"\",INDEX([1]MANHOLE_MTL!$A$2:$A$100,MATCH('Access Point (Desc)'!$M162,[1]!MASTER_MANHOLE_MTL_DESC[#Data],0),0))","v":""},{"$f":"IF('Access Point (Desc)'!N162=\"\",\"\",INDEX([1]LID_BOLT_TYPE!$A$2:$A$100,MATCH('Access Point (Desc)'!$N162,[1]!MASTER_LID_BOLT_TYPE_DESC[#Data],0),0))","v":""},{"$f":"IF('Access Point (Desc)'!O162=\"\",\"\",INDEX([1]YES_NO!$A$2:$A$100,MATCH('Access Point (Desc)'!$O162,[1]!MASTER_YES_NO_DESC[#Data],0),0))","v":""},{"$f":"IF('Access Point (Desc)'!P162=\"\",\"\",'Access Point (Desc)'!P162)","v":""},{"$f":"IF('Access Point (Desc)'!Q162=\"\",\"\",INDEX([1]YES_NO!$A$2:$A$100,MATCH('Access Point (Desc)'!$Q162,[1]!MASTER_YES_NO_DESC[#Data],0),0))","v":""}]
[{"$f":"IF('Access Point (Desc)'!A163=\"\",\"\",'Access Point (Desc)'!A163)","v":""},{"$f":"IF('Access Point (Desc)'!B163=\"\",\"\",'Access Point (Desc)'!B163)","v":""},{"$f":"IF('Access Point (Desc)'!C163=\"\",\"\",'Access Point (Desc)'!C163)","v":""},{"$f":"IF('Access Point (Desc)'!D163=\"\",\"\",'Access Point (Desc)'!D163)","v":""},{"$f":"IF('Access Point (Desc)'!E163=\"\",\"\",INDEX([1]OWNER!$A$2:$A$100,MATCH('Access Point (Desc)'!$E163,[1]!MASTER_OWNER_DESC[#Data],0),0))","v":""},{"$f":"IF('Access Point (Desc)'!F163=\"\",\"\",INDEX([1]COUNTY!$A$2:$A$100,MATCH('Access Point (Desc)'!F163,[1]!MASTER_COUNTY_NAME[#Data],0),0))","v":""},{"$f":"IF('Access Point (Desc)'!G163=\"\",\"\",'Access Point (Desc)'!G163)","v":""},{"$f":"IF('Access Point (Desc)'!H163=\"\",\"\",'Access Point (Desc)'!H163)","v":""},{"$f":"IF('Access Point (Desc)'!I163=\"\",\"\",INDEX([1]ROUTE_MH_TYPE!$A$2:$A$100,MATCH('Access Point (Desc)'!$I163,[1]!MASTER_ROUTE_MH_TYPE_DESC[#Data],0),0))","v":""},{"$f":"IF('Access Point (Desc)'!J163=\"\",\"\",INDEX([1]MANHOLE_MTL!$A$2:$A$100,MATCH('Access Point (Desc)'!$J163,[1]!MASTER_MANHOLE_MTL_DESC[#Data],0),0))","v":""},{"$f":"IF('Access Point (Desc)'!K163=\"\",\"\",INDEX([1]MANHOLE_SIZE!$A$2:$A$120,MATCH('Access Point (Desc)'!$K163,[1]!MASTER_MANHOLE_SIZE_DESC[#Data],0),0))","v":""},{"$f":"IF('Access Point (Desc)'!L163=\"\",\"\",INDEX([1]ROUTE_MH_LID_TYPE!$A$2:$A$100,MATCH('Access Point (Desc)'!$L163,[1]!MASTER_ROUTE_MH_LID_TYPE_DESC[#Data],0),0))","v":""},{"$f":"IF('Access Point (Desc)'!M163=\"\",\"\",INDEX([1]MANHOLE_MTL!$A$2:$A$100,MATCH('Access Point (Desc)'!$M163,[1]!MASTER_MANHOLE_MTL_DESC[#Data],0),0))","v":""},{"$f":"IF('Access Point (Desc)'!N163=\"\",\"\",INDEX([1]LID_BOLT_TYPE!$A$2:$A$100,MATCH('Access Point (Desc)'!$N163,[1]!MASTER_LID_BOLT_TYPE_DESC[#Data],0),0))","v":""},{"$f":"IF('Access Point (Desc)'!O163=\"\",\"\",INDEX([1]YES_NO!$A$2:$A$100,MATCH('Access Point (Desc)'!$O163,[1]!MASTER_YES_NO_DESC[#Data],0),0))","v":""},{"$f":"IF('Access Point (Desc)'!P163=\"\",\"\",'Access Point (Desc)'!P163)","v":""},{"$f":"IF('Access Point (Desc)'!Q163=\"\",\"\",INDEX([1]YES_NO!$A$2:$A$100,MATCH('Access Point (Desc)'!$Q163,[1]!MASTER_YES_NO_DESC[#Data],0),0))","v":""}]
[{"$f":"IF('Access Point (Desc)'!A164=\"\",\"\",'Access Point (Desc)'!A164)","v":""},{"$f":"IF('Access Point (Desc)'!B164=\"\",\"\",'Access Point (Desc)'!B164)","v":""},{"$f":"IF('Access Point (Desc)'!C164=\"\",\"\",'Access Point (Desc)'!C164)","v":""},{"$f":"IF('Access Point (Desc)'!D164=\"\",\"\",'Access Point (Desc)'!D164)","v":""},{"$f":"IF('Access Point (Desc)'!E164=\"\",\"\",INDEX([1]OWNER!$A$2:$A$100,MATCH('Access Point (Desc)'!$E164,[1]!MASTER_OWNER_DESC[#Data],0),0))","v":""},{"$f":"IF('Access Point (Desc)'!F164=\"\",\"\",INDEX([1]COUNTY!$A$2:$A$100,MATCH('Access Point (Desc)'!F164,[1]!MASTER_COUNTY_NAME[#Data],0),0))","v":""},{"$f":"IF('Access Point (Desc)'!G164=\"\",\"\",'Access Point (Desc)'!G164)","v":""},{"$f":"IF('Access Point (Desc)'!H164=\"\",\"\",'Access Point (Desc)'!H164)","v":""},{"$f":"IF('Access Point (Desc)'!I164=\"\",\"\",INDEX([1]ROUTE_MH_TYPE!$A$2:$A$100,MATCH('Access Point (Desc)'!$I164,[1]!MASTER_ROUTE_MH_TYPE_DESC[#Data],0),0))","v":""},{"$f":"IF('Access Point (Desc)'!J164=\"\",\"\",INDEX([1]MANHOLE_MTL!$A$2:$A$100,MATCH('Access Point (Desc)'!$J164,[1]!MASTER_MANHOLE_MTL_DESC[#Data],0),0))","v":""},{"$f":"IF('Access Point (Desc)'!K164=\"\",\"\",INDEX([1]MANHOLE_SIZE!$A$2:$A$120,MATCH('Access Point (Desc)'!$K164,[1]!MASTER_MANHOLE_SIZE_DESC[#Data],0),0))","v":""},{"$f":"IF('Access Point (Desc)'!L164=\"\",\"\",INDEX([1]ROUTE_MH_LID_TYPE!$A$2:$A$100,MATCH('Access Point (Desc)'!$L164,[1]!MASTER_ROUTE_MH_LID_TYPE_DESC[#Data],0),0))","v":""},{"$f":"IF('Access Point (Desc)'!M164=\"\",\"\",INDEX([1]MANHOLE_MTL!$A$2:$A$100,MATCH('Access Point (Desc)'!$M164,[1]!MASTER_MANHOLE_MTL_DESC[#Data],0),0))","v":""},{"$f":"IF('Access Point (Desc)'!N164=\"\",\"\",INDEX([1]LID_BOLT_TYPE!$A$2:$A$100,MATCH('Access Point (Desc)'!$N164,[1]!MASTER_LID_BOLT_TYPE_DESC[#Data],0),0))","v":""},{"$f":"IF('Access Point (Desc)'!O164=\"\",\"\",INDEX([1]YES_NO!$A$2:$A$100,MATCH('Access Point (Desc)'!$O164,[1]!MASTER_YES_NO_DESC[#Data],0),0))","v":""},{"$f":"IF('Access Point (Desc)'!P164=\"\",\"\",'Access Point (Desc)'!P164)","v":""},{"$f":"IF('Access Point (Desc)'!Q164=\"\",\"\",INDEX([1]YES_NO!$A$2:$A$100,MATCH('Access Point (Desc)'!$Q164,[1]!MASTER_YES_NO_DESC[#Data],0),0))","v":""}]
[{"$f":"IF('Access Point (Desc)'!A165=\"\",\"\",'Access Point (Desc)'!A165)","v":""},{"$f":"IF('Access Point (Desc)'!B165=\"\",\"\",'Access Point (Desc)'!B165)","v":""},{"$f":"IF('Access Point (Desc)'!C165=\"\",\"\",'Access Point (Desc)'!C165)","v":""},{"$f":"IF('Access Point (Desc)'!D165=\"\",\"\",'Access Point (Desc)'!D165)","v":""},{"$f":"IF('Access Point (Desc)'!E165=\"\",\"\",INDEX([1]OWNER!$A$2:$A$100,MATCH('Access Point (Desc)'!$E165,[1]!MASTER_OWNER_DESC[#Data],0),0))","v":""},{"$f":"IF('Access Point (Desc)'!F165=\"\",\"\",INDEX([1]COUNTY!$A$2:$A$100,MATCH('Access Point (Desc)'!F165,[1]!MASTER_COUNTY_NAME[#Data],0),0))","v":""},{"$f":"IF('Access Point (Desc)'!G165=\"\",\"\",'Access Point (Desc)'!G165)","v":""},{"$f":"IF('Access Point (Desc)'!H165=\"\",\"\",'Access Point (Desc)'!H165)","v":""},{"$f":"IF('Access Point (Desc)'!I165=\"\",\"\",INDEX([1]ROUTE_MH_TYPE!$A$2:$A$100,MATCH('Access Point (Desc)'!$I165,[1]!MASTER_ROUTE_MH_TYPE_DESC[#Data],0),0))","v":""},{"$f":"IF('Access Point (Desc)'!J165=\"\",\"\",INDEX([1]MANHOLE_MTL!$A$2:$A$100,MATCH('Access Point (Desc)'!$J165,[1]!MASTER_MANHOLE_MTL_DESC[#Data],0),0))","v":""},{"$f":"IF('Access Point (Desc)'!K165=\"\",\"\",INDEX([1]MANHOLE_SIZE!$A$2:$A$120,MATCH('Access Point (Desc)'!$K165,[1]!MASTER_MANHOLE_SIZE_DESC[#Data],0),0))","v":""},{"$f":"IF('Access Point (Desc)'!L165=\"\",\"\",INDEX([1]ROUTE_MH_LID_TYPE!$A$2:$A$100,MATCH('Access Point (Desc)'!$L165,[1]!MASTER_ROUTE_MH_LID_TYPE_DESC[#Data],0),0))","v":""},{"$f":"IF('Access Point (Desc)'!M165=\"\",\"\",INDEX([1]MANHOLE_MTL!$A$2:$A$100,MATCH('Access Point (Desc)'!$M165,[1]!MASTER_MANHOLE_MTL_DESC[#Data],0),0))","v":""},{"$f":"IF('Access Point (Desc)'!N165=\"\",\"\",INDEX([1]LID_BOLT_TYPE!$A$2:$A$100,MATCH('Access Point (Desc)'!$N165,[1]!MASTER_LID_BOLT_TYPE_DESC[#Data],0),0))","v":""},{"$f":"IF('Access Point (Desc)'!O165=\"\",\"\",INDEX([1]YES_NO!$A$2:$A$100,MATCH('Access Point (Desc)'!$O165,[1]!MASTER_YES_NO_DESC[#Data],0),0))","v":""},{"$f":"IF('Access Point (Desc)'!P165=\"\",\"\",'Access Point (Desc)'!P165)","v":""},{"$f":"IF('Access Point (Desc)'!Q165=\"\",\"\",INDEX([1]YES_NO!$A$2:$A$100,MATCH('Access Point (Desc)'!$Q165,[1]!MASTER_YES_NO_DESC[#Data],0),0))","v":""}]
[{"$f":"IF('Access Point (Desc)'!A166=\"\",\"\",'Access Point (Desc)'!A166)","v":""},{"$f":"IF('Access Point (Desc)'!B166=\"\",\"\",'Access Point (Desc)'!B166)","v":""},{"$f":"IF('Access Point (Desc)'!C166=\"\",\"\",'Access Point (Desc)'!C166)","v":""},{"$f":"IF('Access Point (Desc)'!D166=\"\",\"\",'Access Point (Desc)'!D166)","v":""},{"$f":"IF('Access Point (Desc)'!E166=\"\",\"\",INDEX([1]OWNER!$A$2:$A$100,MATCH('Access Point (Desc)'!$E166,[1]!MASTER_OWNER_DESC[#Data],0),0))","v":""},{"$f":"IF('Access Point (Desc)'!F166=\"\",\"\",INDEX([1]COUNTY!$A$2:$A$100,MATCH('Access Point (Desc)'!F166,[1]!MASTER_COUNTY_NAME[#Data],0),0))","v":""},{"$f":"IF('Access Point (Desc)'!G166=\"\",\"\",'Access Point (Desc)'!G166)","v":""},{"$f":"IF('Access Point (Desc)'!H166=\"\",\"\",'Access Point (Desc)'!H166)","v":""},{"$f":"IF('Access Point (Desc)'!I166=\"\",\"\",INDEX([1]ROUTE_MH_TYPE!$A$2:$A$100,MATCH('Access Point (Desc)'!$I166,[1]!MASTER_ROUTE_MH_TYPE_DESC[#Data],0),0))","v":""},{"$f":"IF('Access Point (Desc)'!J166=\"\",\"\",INDEX([1]MANHOLE_MTL!$A$2:$A$100,MATCH('Access Point (Desc)'!$J166,[1]!MASTER_MANHOLE_MTL_DESC[#Data],0),0))","v":""},{"$f":"IF('Access Point (Desc)'!K166=\"\",\"\",INDEX([1]MANHOLE_SIZE!$A$2:$A$120,MATCH('Access Point (Desc)'!$K166,[1]!MASTER_MANHOLE_SIZE_DESC[#Data],0),0))","v":""},{"$f":"IF('Access Point (Desc)'!L166=\"\",\"\",INDEX([1]ROUTE_MH_LID_TYPE!$A$2:$A$100,MATCH('Access Point (Desc)'!$L166,[1]!MASTER_ROUTE_MH_LID_TYPE_DESC[#Data],0),0))","v":""},{"$f":"IF('Access Point (Desc)'!M166=\"\",\"\",INDEX([1]MANHOLE_MTL!$A$2:$A$100,MATCH('Access Point (Desc)'!$M166,[1]!MASTER_MANHOLE_MTL_DESC[#Data],0),0))","v":""},{"$f":"IF('Access Point (Desc)'!N166=\"\",\"\",INDEX([1]LID_BOLT_TYPE!$A$2:$A$100,MATCH('Access Point (Desc)'!$N166,[1]!MASTER_LID_BOLT_TYPE_DESC[#Data],0),0))","v":""},{"$f":"IF('Access Point (Desc)'!O166=\"\",\"\",INDEX([1]YES_NO!$A$2:$A$100,MATCH('Access Point (Desc)'!$O166,[1]!MASTER_YES_NO_DESC[#Data],0),0))","v":""},{"$f":"IF('Access Point (Desc)'!P166=\"\",\"\",'Access Point (Desc)'!P166)","v":""},{"$f":"IF('Access Point (Desc)'!Q166=\"\",\"\",INDEX([1]YES_NO!$A$2:$A$100,MATCH('Access Point (Desc)'!$Q166,[1]!MASTER_YES_NO_DESC[#Data],0),0))","v":""}]
[{"$f":"IF('Access Point (Desc)'!A167=\"\",\"\",'Access Point (Desc)'!A167)","v":""},{"$f":"IF('Access Point (Desc)'!B167=\"\",\"\",'Access Point (Desc)'!B167)","v":""},{"$f":"IF('Access Point (Desc)'!C167=\"\",\"\",'Access Point (Desc)'!C167)","v":""},{"$f":"IF('Access Point (Desc)'!D167=\"\",\"\",'Access Point (Desc)'!D167)","v":""},{"$f":"IF('Access Point (Desc)'!E167=\"\",\"\",INDEX([1]OWNER!$A$2:$A$100,MATCH('Access Point (Desc)'!$E167,[1]!MASTER_OWNER_DESC[#Data],0),0))","v":""},{"$f":"IF('Access Point (Desc)'!F167=\"\",\"\",INDEX([1]COUNTY!$A$2:$A$100,MATCH('Access Point (Desc)'!F167,[1]!MASTER_COUNTY_NAME[#Data],0),0))","v":""},{"$f":"IF('Access Point (Desc)'!G167=\"\",\"\",'Access Point (Desc)'!G167)","v":""},{"$f":"IF('Access Point (Desc)'!H167=\"\",\"\",'Access Point (Desc)'!H167)","v":""},{"$f":"IF('Access Point (Desc)'!I167=\"\",\"\",INDEX([1]ROUTE_MH_TYPE!$A$2:$A$100,MATCH('Access Point (Desc)'!$I167,[1]!MASTER_ROUTE_MH_TYPE_DESC[#Data],0),0))","v":""},{"$f":"IF('Access Point (Desc)'!J167=\"\",\"\",INDEX([1]MANHOLE_MTL!$A$2:$A$100,MATCH('Access Point (Desc)'!$J167,[1]!MASTER_MANHOLE_MTL_DESC[#Data],0),0))","v":""},{"$f":"IF('Access Point (Desc)'!K167=\"\",\"\",INDEX([1]MANHOLE_SIZE!$A$2:$A$120,MATCH('Access Point (Desc)'!$K167,[1]!MASTER_MANHOLE_SIZE_DESC[#Data],0),0))","v":""},{"$f":"IF('Access Point (Desc)'!L167=\"\",\"\",INDEX([1]ROUTE_MH_LID_TYPE!$A$2:$A$100,MATCH('Access Point (Desc)'!$L167,[1]!MASTER_ROUTE_MH_LID_TYPE_DESC[#Data],0),0))","v":""},{"$f":"IF('Access Point (Desc)'!M167=\"\",\"\",INDEX([1]MANHOLE_MTL!$A$2:$A$100,MATCH('Access Point (Desc)'!$M167,[1]!MASTER_MANHOLE_MTL_DESC[#Data],0),0))","v":""},{"$f":"IF('Access Point (Desc)'!N167=\"\",\"\",INDEX([1]LID_BOLT_TYPE!$A$2:$A$100,MATCH('Access Point (Desc)'!$N167,[1]!MASTER_LID_BOLT_TYPE_DESC[#Data],0),0))","v":""},{"$f":"IF('Access Point (Desc)'!O167=\"\",\"\",INDEX([1]YES_NO!$A$2:$A$100,MATCH('Access Point (Desc)'!$O167,[1]!MASTER_YES_NO_DESC[#Data],0),0))","v":""},{"$f":"IF('Access Point (Desc)'!P167=\"\",\"\",'Access Point (Desc)'!P167)","v":""},{"$f":"IF('Access Point (Desc)'!Q167=\"\",\"\",INDEX([1]YES_NO!$A$2:$A$100,MATCH('Access Point (Desc)'!$Q167,[1]!MASTER_YES_NO_DESC[#Data],0),0))","v":""}]
[{"$f":"IF('Access Point (Desc)'!A168=\"\",\"\",'Access Point (Desc)'!A168)","v":""},{"$f":"IF('Access Point (Desc)'!B168=\"\",\"\",'Access Point (Desc)'!B168)","v":""},{"$f":"IF('Access Point (Desc)'!C168=\"\",\"\",'Access Point (Desc)'!C168)","v":""},{"$f":"IF('Access Point (Desc)'!D168=\"\",\"\",'Access Point (Desc)'!D168)","v":""},{"$f":"IF('Access Point (Desc)'!E168=\"\",\"\",INDEX([1]OWNER!$A$2:$A$100,MATCH('Access Point (Desc)'!$E168,[1]!MASTER_OWNER_DESC[#Data],0),0))","v":""},{"$f":"IF('Access Point (Desc)'!F168=\"\",\"\",INDEX([1]COUNTY!$A$2:$A$100,MATCH('Access Point (Desc)'!F168,[1]!MASTER_COUNTY_NAME[#Data],0),0))","v":""},{"$f":"IF('Access Point (Desc)'!G168=\"\",\"\",'Access Point (Desc)'!G168)","v":""},{"$f":"IF('Access Point (Desc)'!H168=\"\",\"\",'Access Point (Desc)'!H168)","v":""},{"$f":"IF('Access Point (Desc)'!I168=\"\",\"\",INDEX([1]ROUTE_MH_TYPE!$A$2:$A$100,MATCH('Access Point (Desc)'!$I168,[1]!MASTER_ROUTE_MH_TYPE_DESC[#Data],0),0))","v":""},{"$f":"IF('Access Point (Desc)'!J168=\"\",\"\",INDEX([1]MANHOLE_MTL!$A$2:$A$100,MATCH('Access Point (Desc)'!$J168,[1]!MASTER_MANHOLE_MTL_DESC[#Data],0),0))","v":""},{"$f":"IF('Access Point (Desc)'!K168=\"\",\"\",INDEX([1]MANHOLE_SIZE!$A$2:$A$120,MATCH('Access Point (Desc)'!$K168,[1]!MASTER_MANHOLE_SIZE_DESC[#Data],0),0))","v":""},{"$f":"IF('Access Point (Desc)'!L168=\"\",\"\",INDEX([1]ROUTE_MH_LID_TYPE!$A$2:$A$100,MATCH('Access Point (Desc)'!$L168,[1]!MASTER_ROUTE_MH_LID_TYPE_DESC[#Data],0),0))","v":""},{"$f":"IF('Access Point (Desc)'!M168=\"\",\"\",INDEX([1]MANHOLE_MTL!$A$2:$A$100,MATCH('Access Point (Desc)'!$M168,[1]!MASTER_MANHOLE_MTL_DESC[#Data],0),0))","v":""},{"$f":"IF('Access Point (Desc)'!N168=\"\",\"\",INDEX([1]LID_BOLT_TYPE!$A$2:$A$100,MATCH('Access Point (Desc)'!$N168,[1]!MASTER_LID_BOLT_TYPE_DESC[#Data],0),0))","v":""},{"$f":"IF('Access Point (Desc)'!O168=\"\",\"\",INDEX([1]YES_NO!$A$2:$A$100,MATCH('Access Point (Desc)'!$O168,[1]!MASTER_YES_NO_DESC[#Data],0),0))","v":""},{"$f":"IF('Access Point (Desc)'!P168=\"\",\"\",'Access Point (Desc)'!P168)","v":""},{"$f":"IF('Access Point (Desc)'!Q168=\"\",\"\",INDEX([1]YES_NO!$A$2:$A$100,MATCH('Access Point (Desc)'!$Q168,[1]!MASTER_YES_NO_DESC[#Data],0),0))","v":""}]
[{"$f":"IF('Access Point (Desc)'!A169=\"\",\"\",'Access Point (Desc)'!A169)","v":""},{"$f":"IF('Access Point (Desc)'!B169=\"\",\"\",'Access Point (Desc)'!B169)","v":""},{"$f":"IF('Access Point (Desc)'!C169=\"\",\"\",'Access Point (Desc)'!C169)","v":""},{"$f":"IF('Access Point (Desc)'!D169=\"\",\"\",'Access Point (Desc)'!D169)","v":""},{"$f":"IF('Access Point (Desc)'!E169=\"\",\"\",INDEX([1]OWNER!$A$2:$A$100,MATCH('Access Point (Desc)'!$E169,[1]!MASTER_OWNER_DESC[#Data],0),0))","v":""},{"$f":"IF('Access Point (Desc)'!F169=\"\",\"\",INDEX([1]COUNTY!$A$2:$A$100,MATCH('Access Point (Desc)'!F169,[1]!MASTER_COUNTY_NAME[#Data],0),0))","v":""},{"$f":"IF('Access Point (Desc)'!G169=\"\",\"\",'Access Point (Desc)'!G169)","v":""},{"$f":"IF('Access Point (Desc)'!H169=\"\",\"\",'Access Point (Desc)'!H169)","v":""},{"$f":"IF('Access Point (Desc)'!I169=\"\",\"\",INDEX([1]ROUTE_MH_TYPE!$A$2:$A$100,MATCH('Access Point (Desc)'!$I169,[1]!MASTER_ROUTE_MH_TYPE_DESC[#Data],0),0))","v":""},{"$f":"IF('Access Point (Desc)'!J169=\"\",\"\",INDEX([1]MANHOLE_MTL!$A$2:$A$100,MATCH('Access Point (Desc)'!$J169,[1]!MASTER_MANHOLE_MTL_DESC[#Data],0),0))","v":""},{"$f":"IF('Access Point (Desc)'!K169=\"\",\"\",INDEX([1]MANHOLE_SIZE!$A$2:$A$120,MATCH('Access Point (Desc)'!$K169,[1]!MASTER_MANHOLE_SIZE_DESC[#Data],0),0))","v":""},{"$f":"IF('Access Point (Desc)'!L169=\"\",\"\",INDEX([1]ROUTE_MH_LID_TYPE!$A$2:$A$100,MATCH('Access Point (Desc)'!$L169,[1]!MASTER_ROUTE_MH_LID_TYPE_DESC[#Data],0),0))","v":""},{"$f":"IF('Access Point (Desc)'!M169=\"\",\"\",INDEX([1]MANHOLE_MTL!$A$2:$A$100,MATCH('Access Point (Desc)'!$M169,[1]!MASTER_MANHOLE_MTL_DESC[#Data],0),0))","v":""},{"$f":"IF('Access Point (Desc)'!N169=\"\",\"\",INDEX([1]LID_BOLT_TYPE!$A$2:$A$100,MATCH('Access Point (Desc)'!$N169,[1]!MASTER_LID_BOLT_TYPE_DESC[#Data],0),0))","v":""},{"$f":"IF('Access Point (Desc)'!O169=\"\",\"\",INDEX([1]YES_NO!$A$2:$A$100,MATCH('Access Point (Desc)'!$O169,[1]!MASTER_YES_NO_DESC[#Data],0),0))","v":""},{"$f":"IF('Access Point (Desc)'!P169=\"\",\"\",'Access Point (Desc)'!P169)","v":""},{"$f":"IF('Access Point (Desc)'!Q169=\"\",\"\",INDEX([1]YES_NO!$A$2:$A$100,MATCH('Access Point (Desc)'!$Q169,[1]!MASTER_YES_NO_DESC[#Data],0),0))","v":""}]
[{"$f":"IF('Access Point (Desc)'!A170=\"\",\"\",'Access Point (Desc)'!A170)","v":""},{"$f":"IF('Access Point (Desc)'!B170=\"\",\"\",'Access Point (Desc)'!B170)","v":""},{"$f":"IF('Access Point (Desc)'!C170=\"\",\"\",'Access Point (Desc)'!C170)","v":""},{"$f":"IF('Access Point (Desc)'!D170=\"\",\"\",'Access Point (Desc)'!D170)","v":""},{"$f":"IF('Access Point (Desc)'!E170=\"\",\"\",INDEX([1]OWNER!$A$2:$A$100,MATCH('Access Point (Desc)'!$E170,[1]!MASTER_OWNER_DESC[#Data],0),0))","v":""},{"$f":"IF('Access Point (Desc)'!F170=\"\",\"\",INDEX([1]COUNTY!$A$2:$A$100,MATCH('Access Point (Desc)'!F170,[1]!MASTER_COUNTY_NAME[#Data],0),0))","v":""},{"$f":"IF('Access Point (Desc)'!G170=\"\",\"\",'Access Point (Desc)'!G170)","v":""},{"$f":"IF('Access Point (Desc)'!H170=\"\",\"\",'Access Point (Desc)'!H170)","v":""},{"$f":"IF('Access Point (Desc)'!I170=\"\",\"\",INDEX([1]ROUTE_MH_TYPE!$A$2:$A$100,MATCH('Access Point (Desc)'!$I170,[1]!MASTER_ROUTE_MH_TYPE_DESC[#Data],0),0))","v":""},{"$f":"IF('Access Point (Desc)'!J170=\"\",\"\",INDEX([1]MANHOLE_MTL!$A$2:$A$100,MATCH('Access Point (Desc)'!$J170,[1]!MASTER_MANHOLE_MTL_DESC[#Data],0),0))","v":""},{"$f":"IF('Access Point (Desc)'!K170=\"\",\"\",INDEX([1]MANHOLE_SIZE!$A$2:$A$120,MATCH('Access Point (Desc)'!$K170,[1]!MASTER_MANHOLE_SIZE_DESC[#Data],0),0))","v":""},{"$f":"IF('Access Point (Desc)'!L170=\"\",\"\",INDEX([1]ROUTE_MH_LID_TYPE!$A$2:$A$100,MATCH('Access Point (Desc)'!$L170,[1]!MASTER_ROUTE_MH_LID_TYPE_DESC[#Data],0),0))","v":""},{"$f":"IF('Access Point (Desc)'!M170=\"\",\"\",INDEX([1]MANHOLE_MTL!$A$2:$A$100,MATCH('Access Point (Desc)'!$M170,[1]!MASTER_MANHOLE_MTL_DESC[#Data],0),0))","v":""},{"$f":"IF('Access Point (Desc)'!N170=\"\",\"\",INDEX([1]LID_BOLT_TYPE!$A$2:$A$100,MATCH('Access Point (Desc)'!$N170,[1]!MASTER_LID_BOLT_TYPE_DESC[#Data],0),0))","v":""},{"$f":"IF('Access Point (Desc)'!O170=\"\",\"\",INDEX([1]YES_NO!$A$2:$A$100,MATCH('Access Point (Desc)'!$O170,[1]!MASTER_YES_NO_DESC[#Data],0),0))","v":""},{"$f":"IF('Access Point (Desc)'!P170=\"\",\"\",'Access Point (Desc)'!P170)","v":""},{"$f":"IF('Access Point (Desc)'!Q170=\"\",\"\",INDEX([1]YES_NO!$A$2:$A$100,MATCH('Access Point (Desc)'!$Q170,[1]!MASTER_YES_NO_DESC[#Data],0),0))","v":""}]
[{"$f":"IF('Access Point (Desc)'!A171=\"\",\"\",'Access Point (Desc)'!A171)","v":""},{"$f":"IF('Access Point (Desc)'!B171=\"\",\"\",'Access Point (Desc)'!B171)","v":""},{"$f":"IF('Access Point (Desc)'!C171=\"\",\"\",'Access Point (Desc)'!C171)","v":""},{"$f":"IF('Access Point (Desc)'!D171=\"\",\"\",'Access Point (Desc)'!D171)","v":""},{"$f":"IF('Access Point (Desc)'!E171=\"\",\"\",INDEX([1]OWNER!$A$2:$A$100,MATCH('Access Point (Desc)'!$E171,[1]!MASTER_OWNER_DESC[#Data],0),0))","v":""},{"$f":"IF('Access Point (Desc)'!F171=\"\",\"\",INDEX([1]COUNTY!$A$2:$A$100,MATCH('Access Point (Desc)'!F171,[1]!MASTER_COUNTY_NAME[#Data],0),0))","v":""},{"$f":"IF('Access Point (Desc)'!G171=\"\",\"\",'Access Point (Desc)'!G171)","v":""},{"$f":"IF('Access Point (Desc)'!H171=\"\",\"\",'Access Point (Desc)'!H171)","v":""},{"$f":"IF('Access Point (Desc)'!I171=\"\",\"\",INDEX([1]ROUTE_MH_TYPE!$A$2:$A$100,MATCH('Access Point (Desc)'!$I171,[1]!MASTER_ROUTE_MH_TYPE_DESC[#Data],0),0))","v":""},{"$f":"IF('Access Point (Desc)'!J171=\"\",\"\",INDEX([1]MANHOLE_MTL!$A$2:$A$100,MATCH('Access Point (Desc)'!$J171,[1]!MASTER_MANHOLE_MTL_DESC[#Data],0),0))","v":""},{"$f":"IF('Access Point (Desc)'!K171=\"\",\"\",INDEX([1]MANHOLE_SIZE!$A$2:$A$120,MATCH('Access Point (Desc)'!$K171,[1]!MASTER_MANHOLE_SIZE_DESC[#Data],0),0))","v":""},{"$f":"IF('Access Point (Desc)'!L171=\"\",\"\",INDEX([1]ROUTE_MH_LID_TYPE!$A$2:$A$100,MATCH('Access Point (Desc)'!$L171,[1]!MASTER_ROUTE_MH_LID_TYPE_DESC[#Data],0),0))","v":""},{"$f":"IF('Access Point (Desc)'!M171=\"\",\"\",INDEX([1]MANHOLE_MTL!$A$2:$A$100,MATCH('Access Point (Desc)'!$M171,[1]!MASTER_MANHOLE_MTL_DESC[#Data],0),0))","v":""},{"$f":"IF('Access Point (Desc)'!N171=\"\",\"\",INDEX([1]LID_BOLT_TYPE!$A$2:$A$100,MATCH('Access Point (Desc)'!$N171,[1]!MASTER_LID_BOLT_TYPE_DESC[#Data],0),0))","v":""},{"$f":"IF('Access Point (Desc)'!O171=\"\",\"\",INDEX([1]YES_NO!$A$2:$A$100,MATCH('Access Point (Desc)'!$O171,[1]!MASTER_YES_NO_DESC[#Data],0),0))","v":""},{"$f":"IF('Access Point (Desc)'!P171=\"\",\"\",'Access Point (Desc)'!P171)","v":""},{"$f":"IF('Access Point (Desc)'!Q171=\"\",\"\",INDEX([1]YES_NO!$A$2:$A$100,MATCH('Access Point (Desc)'!$Q171,[1]!MASTER_YES_NO_DESC[#Data],0),0))","v":""}]
[{"$f":"IF('Access Point (Desc)'!A172=\"\",\"\",'Access Point (Desc)'!A172)","v":""},{"$f":"IF('Access Point (Desc)'!B172=\"\",\"\",'Access Point (Desc)'!B172)","v":""},{"$f":"IF('Access Point (Desc)'!C172=\"\",\"\",'Access Point (Desc)'!C172)","v":""},{"$f":"IF('Access Point (Desc)'!D172=\"\",\"\",'Access Point (Desc)'!D172)","v":""},{"$f":"IF('Access Point (Desc)'!E172=\"\",\"\",INDEX([1]OWNER!$A$2:$A$100,MATCH('Access Point (Desc)'!$E172,[1]!MASTER_OWNER_DESC[#Data],0),0))","v":""},{"$f":"IF('Access Point (Desc)'!F172=\"\",\"\",INDEX([1]COUNTY!$A$2:$A$100,MATCH('Access Point (Desc)'!F172,[1]!MASTER_COUNTY_NAME[#Data],0),0))","v":""},{"$f":"IF('Access Point (Desc)'!G172=\"\",\"\",'Access Point (Desc)'!G172)","v":""},{"$f":"IF('Access Point (Desc)'!H172=\"\",\"\",'Access Point (Desc)'!H172)","v":""},{"$f":"IF('Access Point (Desc)'!I172=\"\",\"\",INDEX([1]ROUTE_MH_TYPE!$A$2:$A$100,MATCH('Access Point (Desc)'!$I172,[1]!MASTER_ROUTE_MH_TYPE_DESC[#Data],0),0))","v":""},{"$f":"IF('Access Point (Desc)'!J172=\"\",\"\",INDEX([1]MANHOLE_MTL!$A$2:$A$100,MATCH('Access Point (Desc)'!$J172,[1]!MASTER_MANHOLE_MTL_DESC[#Data],0),0))","v":""},{"$f":"IF('Access Point (Desc)'!K172=\"\",\"\",INDEX([1]MANHOLE_SIZE!$A$2:$A$120,MATCH('Access Point (Desc)'!$K172,[1]!MASTER_MANHOLE_SIZE_DESC[#Data],0),0))","v":""},{"$f":"IF('Access Point (Desc)'!L172=\"\",\"\",INDEX([1]ROUTE_MH_LID_TYPE!$A$2:$A$100,MATCH('Access Point (Desc)'!$L172,[1]!MASTER_ROUTE_MH_LID_TYPE_DESC[#Data],0),0))","v":""},{"$f":"IF('Access Point (Desc)'!M172=\"\",\"\",INDEX([1]MANHOLE_MTL!$A$2:$A$100,MATCH('Access Point (Desc)'!$M172,[1]!MASTER_MANHOLE_MTL_DESC[#Data],0),0))","v":""},{"$f":"IF('Access Point (Desc)'!N172=\"\",\"\",INDEX([1]LID_BOLT_TYPE!$A$2:$A$100,MATCH('Access Point (Desc)'!$N172,[1]!MASTER_LID_BOLT_TYPE_DESC[#Data],0),0))","v":""},{"$f":"IF('Access Point (Desc)'!O172=\"\",\"\",INDEX([1]YES_NO!$A$2:$A$100,MATCH('Access Point (Desc)'!$O172,[1]!MASTER_YES_NO_DESC[#Data],0),0))","v":""},{"$f":"IF('Access Point (Desc)'!P172=\"\",\"\",'Access Point (Desc)'!P172)","v":""},{"$f":"IF('Access Point (Desc)'!Q172=\"\",\"\",INDEX([1]YES_NO!$A$2:$A$100,MATCH('Access Point (Desc)'!$Q172,[1]!MASTER_YES_NO_DESC[#Data],0),0))","v":""}]
[{"$f":"IF('Access Point (Desc)'!A173=\"\",\"\",'Access Point (Desc)'!A173)","v":""},{"$f":"IF('Access Point (Desc)'!B173=\"\",\"\",'Access Point (Desc)'!B173)","v":""},{"$f":"IF('Access Point (Desc)'!C173=\"\",\"\",'Access Point (Desc)'!C173)","v":""},{"$f":"IF('Access Point (Desc)'!D173=\"\",\"\",'Access Point (Desc)'!D173)","v":""},{"$f":"IF('Access Point (Desc)'!E173=\"\",\"\",INDEX([1]OWNER!$A$2:$A$100,MATCH('Access Point (Desc)'!$E173,[1]!MASTER_OWNER_DESC[#Data],0),0))","v":""},{"$f":"IF('Access Point (Desc)'!F173=\"\",\"\",INDEX([1]COUNTY!$A$2:$A$100,MATCH('Access Point (Desc)'!F173,[1]!MASTER_COUNTY_NAME[#Data],0),0))","v":""},{"$f":"IF('Access Point (Desc)'!G173=\"\",\"\",'Access Point (Desc)'!G173)","v":""},{"$f":"IF('Access Point (Desc)'!H173=\"\",\"\",'Access Point (Desc)'!H173)","v":""},{"$f":"IF('Access Point (Desc)'!I173=\"\",\"\",INDEX([1]ROUTE_MH_TYPE!$A$2:$A$100,MATCH('Access Point (Desc)'!$I173,[1]!MASTER_ROUTE_MH_TYPE_DESC[#Data],0),0))","v":""},{"$f":"IF('Access Point (Desc)'!J173=\"\",\"\",INDEX([1]MANHOLE_MTL!$A$2:$A$100,MATCH('Access Point (Desc)'!$J173,[1]!MASTER_MANHOLE_MTL_DESC[#Data],0),0))","v":""},{"$f":"IF('Access Point (Desc)'!K173=\"\",\"\",INDEX([1]MANHOLE_SIZE!$A$2:$A$120,MATCH('Access Point (Desc)'!$K173,[1]!MASTER_MANHOLE_SIZE_DESC[#Data],0),0))","v":""},{"$f":"IF('Access Point (Desc)'!L173=\"\",\"\",INDEX([1]ROUTE_MH_LID_TYPE!$A$2:$A$100,MATCH('Access Point (Desc)'!$L173,[1]!MASTER_ROUTE_MH_LID_TYPE_DESC[#Data],0),0))","v":""},{"$f":"IF('Access Point (Desc)'!M173=\"\",\"\",INDEX([1]MANHOLE_MTL!$A$2:$A$100,MATCH('Access Point (Desc)'!$M173,[1]!MASTER_MANHOLE_MTL_DESC[#Data],0),0))","v":""},{"$f":"IF('Access Point (Desc)'!N173=\"\",\"\",INDEX([1]LID_BOLT_TYPE!$A$2:$A$100,MATCH('Access Point (Desc)'!$N173,[1]!MASTER_LID_BOLT_TYPE_DESC[#Data],0),0))","v":""},{"$f":"IF('Access Point (Desc)'!O173=\"\",\"\",INDEX([1]YES_NO!$A$2:$A$100,MATCH('Access Point (Desc)'!$O173,[1]!MASTER_YES_NO_DESC[#Data],0),0))","v":""},{"$f":"IF('Access Point (Desc)'!P173=\"\",\"\",'Access Point (Desc)'!P173)","v":""},{"$f":"IF('Access Point (Desc)'!Q173=\"\",\"\",INDEX([1]YES_NO!$A$2:$A$100,MATCH('Access Point (Desc)'!$Q173,[1]!MASTER_YES_NO_DESC[#Data],0),0))","v":""}]
[{"$f":"IF('Access Point (Desc)'!A174=\"\",\"\",'Access Point (Desc)'!A174)","v":""},{"$f":"IF('Access Point (Desc)'!B174=\"\",\"\",'Access Point (Desc)'!B174)","v":""},{"$f":"IF('Access Point (Desc)'!C174=\"\",\"\",'Access Point (Desc)'!C174)","v":""},{"$f":"IF('Access Point (Desc)'!D174=\"\",\"\",'Access Point (Desc)'!D174)","v":""},{"$f":"IF('Access Point (Desc)'!E174=\"\",\"\",INDEX([1]OWNER!$A$2:$A$100,MATCH('Access Point (Desc)'!$E174,[1]!MASTER_OWNER_DESC[#Data],0),0))","v":""},{"$f":"IF('Access Point (Desc)'!F174=\"\",\"\",INDEX([1]COUNTY!$A$2:$A$100,MATCH('Access Point (Desc)'!F174,[1]!MASTER_COUNTY_NAME[#Data],0),0))","v":""},{"$f":"IF('Access Point (Desc)'!G174=\"\",\"\",'Access Point (Desc)'!G174)","v":""},{"$f":"IF('Access Point (Desc)'!H174=\"\",\"\",'Access Point (Desc)'!H174)","v":""},{"$f":"IF('Access Point (Desc)'!I174=\"\",\"\",INDEX([1]ROUTE_MH_TYPE!$A$2:$A$100,MATCH('Access Point (Desc)'!$I174,[1]!MASTER_ROUTE_MH_TYPE_DESC[#Data],0),0))","v":""},{"$f":"IF('Access Point (Desc)'!J174=\"\",\"\",INDEX([1]MANHOLE_MTL!$A$2:$A$100,MATCH('Access Point (Desc)'!$J174,[1]!MASTER_MANHOLE_MTL_DESC[#Data],0),0))","v":""},{"$f":"IF('Access Point (Desc)'!K174=\"\",\"\",INDEX([1]MANHOLE_SIZE!$A$2:$A$120,MATCH('Access Point (Desc)'!$K174,[1]!MASTER_MANHOLE_SIZE_DESC[#Data],0),0))","v":""},{"$f":"IF('Access Point (Desc)'!L174=\"\",\"\",INDEX([1]ROUTE_MH_LID_TYPE!$A$2:$A$100,MATCH('Access Point (Desc)'!$L174,[1]!MASTER_ROUTE_MH_LID_TYPE_DESC[#Data],0),0))","v":""},{"$f":"IF('Access Point (Desc)'!M174=\"\",\"\",INDEX([1]MANHOLE_MTL!$A$2:$A$100,MATCH('Access Point (Desc)'!$M174,[1]!MASTER_MANHOLE_MTL_DESC[#Data],0),0))","v":""},{"$f":"IF('Access Point (Desc)'!N174=\"\",\"\",INDEX([1]LID_BOLT_TYPE!$A$2:$A$100,MATCH('Access Point (Desc)'!$N174,[1]!MASTER_LID_BOLT_TYPE_DESC[#Data],0),0))","v":""},{"$f":"IF('Access Point (Desc)'!O174=\"\",\"\",INDEX([1]YES_NO!$A$2:$A$100,MATCH('Access Point (Desc)'!$O174,[1]!MASTER_YES_NO_DESC[#Data],0),0))","v":""},{"$f":"IF('Access Point (Desc)'!P174=\"\",\"\",'Access Point (Desc)'!P174)","v":""},{"$f":"IF('Access Point (Desc)'!Q174=\"\",\"\",INDEX([1]YES_NO!$A$2:$A$100,MATCH('Access Point (Desc)'!$Q174,[1]!MASTER_YES_NO_DESC[#Data],0),0))","v":""}]
[{"$f":"IF('Access Point (Desc)'!A175=\"\",\"\",'Access Point (Desc)'!A175)","v":""},{"$f":"IF('Access Point (Desc)'!B175=\"\",\"\",'Access Point (Desc)'!B175)","v":""},{"$f":"IF('Access Point (Desc)'!C175=\"\",\"\",'Access Point (Desc)'!C175)","v":""},{"$f":"IF('Access Point (Desc)'!D175=\"\",\"\",'Access Point (Desc)'!D175)","v":""},{"$f":"IF('Access Point (Desc)'!E175=\"\",\"\",INDEX([1]OWNER!$A$2:$A$100,MATCH('Access Point (Desc)'!$E175,[1]!MASTER_OWNER_DESC[#Data],0),0))","v":""},{"$f":"IF('Access Point (Desc)'!F175=\"\",\"\",INDEX([1]COUNTY!$A$2:$A$100,MATCH('Access Point (Desc)'!F175,[1]!MASTER_COUNTY_NAME[#Data],0),0))","v":""},{"$f":"IF('Access Point (Desc)'!G175=\"\",\"\",'Access Point (Desc)'!G175)","v":""},{"$f":"IF('Access Point (Desc)'!H175=\"\",\"\",'Access Point (Desc)'!H175)","v":""},{"$f":"IF('Access Point (Desc)'!I175=\"\",\"\",INDEX([1]ROUTE_MH_TYPE!$A$2:$A$100,MATCH('Access Point (Desc)'!$I175,[1]!MASTER_ROUTE_MH_TYPE_DESC[#Data],0),0))","v":""},{"$f":"IF('Access Point (Desc)'!J175=\"\",\"\",INDEX([1]MANHOLE_MTL!$A$2:$A$100,MATCH('Access Point (Desc)'!$J175,[1]!MASTER_MANHOLE_MTL_DESC[#Data],0),0))","v":""},{"$f":"IF('Access Point (Desc)'!K175=\"\",\"\",INDEX([1]MANHOLE_SIZE!$A$2:$A$120,MATCH('Access Point (Desc)'!$K175,[1]!MASTER_MANHOLE_SIZE_DESC[#Data],0),0))","v":""},{"$f":"IF('Access Point (Desc)'!L175=\"\",\"\",INDEX([1]ROUTE_MH_LID_TYPE!$A$2:$A$100,MATCH('Access Point (Desc)'!$L175,[1]!MASTER_ROUTE_MH_LID_TYPE_DESC[#Data],0),0))","v":""},{"$f":"IF('Access Point (Desc)'!M175=\"\",\"\",INDEX([1]MANHOLE_MTL!$A$2:$A$100,MATCH('Access Point (Desc)'!$M175,[1]!MASTER_MANHOLE_MTL_DESC[#Data],0),0))","v":""},{"$f":"IF('Access Point (Desc)'!N175=\"\",\"\",INDEX([1]LID_BOLT_TYPE!$A$2:$A$100,MATCH('Access Point (Desc)'!$N175,[1]!MASTER_LID_BOLT_TYPE_DESC[#Data],0),0))","v":""},{"$f":"IF('Access Point (Desc)'!O175=\"\",\"\",INDEX([1]YES_NO!$A$2:$A$100,MATCH('Access Point (Desc)'!$O175,[1]!MASTER_YES_NO_DESC[#Data],0),0))","v":""},{"$f":"IF('Access Point (Desc)'!P175=\"\",\"\",'Access Point (Desc)'!P175)","v":""},{"$f":"IF('Access Point (Desc)'!Q175=\"\",\"\",INDEX([1]YES_NO!$A$2:$A$100,MATCH('Access Point (Desc)'!$Q175,[1]!MASTER_YES_NO_DESC[#Data],0),0))","v":""}]
[{"$f":"IF('Access Point (Desc)'!A176=\"\",\"\",'Access Point (Desc)'!A176)","v":""},{"$f":"IF('Access Point (Desc)'!B176=\"\",\"\",'Access Point (Desc)'!B176)","v":""},{"$f":"IF('Access Point (Desc)'!C176=\"\",\"\",'Access Point (Desc)'!C176)","v":""},{"$f":"IF('Access Point (Desc)'!D176=\"\",\"\",'Access Point (Desc)'!D176)","v":""},{"$f":"IF('Access Point (Desc)'!E176=\"\",\"\",INDEX([1]OWNER!$A$2:$A$100,MATCH('Access Point (Desc)'!$E176,[1]!MASTER_OWNER_DESC[#Data],0),0))","v":""},{"$f":"IF('Access Point (Desc)'!F176=\"\",\"\",INDEX([1]COUNTY!$A$2:$A$100,MATCH('Access Point (Desc)'!F176,[1]!MASTER_COUNTY_NAME[#Data],0),0))","v":""},{"$f":"IF('Access Point (Desc)'!G176=\"\",\"\",'Access Point (Desc)'!G176)","v":""},{"$f":"IF('Access Point (Desc)'!H176=\"\",\"\",'Access Point (Desc)'!H176)","v":""},{"$f":"IF('Access Point (Desc)'!I176=\"\",\"\",INDEX([1]ROUTE_MH_TYPE!$A$2:$A$100,MATCH('Access Point (Desc)'!$I176,[1]!MASTER_ROUTE_MH_TYPE_DESC[#Data],0),0))","v":""},{"$f":"IF('Access Point (Desc)'!J176=\"\",\"\",INDEX([1]MANHOLE_MTL!$A$2:$A$100,MATCH('Access Point (Desc)'!$J176,[1]!MASTER_MANHOLE_MTL_DESC[#Data],0),0))","v":""},{"$f":"IF('Access Point (Desc)'!K176=\"\",\"\",INDEX([1]MANHOLE_SIZE!$A$2:$A$120,MATCH('Access Point (Desc)'!$K176,[1]!MASTER_MANHOLE_SIZE_DESC[#Data],0),0))","v":""},{"$f":"IF('Access Point (Desc)'!L176=\"\",\"\",INDEX([1]ROUTE_MH_LID_TYPE!$A$2:$A$100,MATCH('Access Point (Desc)'!$L176,[1]!MASTER_ROUTE_MH_LID_TYPE_DESC[#Data],0),0))","v":""},{"$f":"IF('Access Point (Desc)'!M176=\"\",\"\",INDEX([1]MANHOLE_MTL!$A$2:$A$100,MATCH('Access Point (Desc)'!$M176,[1]!MASTER_MANHOLE_MTL_DESC[#Data],0),0))","v":""},{"$f":"IF('Access Point (Desc)'!N176=\"\",\"\",INDEX([1]LID_BOLT_TYPE!$A$2:$A$100,MATCH('Access Point (Desc)'!$N176,[1]!MASTER_LID_BOLT_TYPE_DESC[#Data],0),0))","v":""},{"$f":"IF('Access Point (Desc)'!O176=\"\",\"\",INDEX([1]YES_NO!$A$2:$A$100,MATCH('Access Point (Desc)'!$O176,[1]!MASTER_YES_NO_DESC[#Data],0),0))","v":""},{"$f":"IF('Access Point (Desc)'!P176=\"\",\"\",'Access Point (Desc)'!P176)","v":""},{"$f":"IF('Access Point (Desc)'!Q176=\"\",\"\",INDEX([1]YES_NO!$A$2:$A$100,MATCH('Access Point (Desc)'!$Q176,[1]!MASTER_YES_NO_DESC[#Data],0),0))","v":""}]
[{"$f":"IF('Access Point (Desc)'!A177=\"\",\"\",'Access Point (Desc)'!A177)","v":""},{"$f":"IF('Access Point (Desc)'!B177=\"\",\"\",'Access Point (Desc)'!B177)","v":""},{"$f":"IF('Access Point (Desc)'!C177=\"\",\"\",'Access Point (Desc)'!C177)","v":""},{"$f":"IF('Access Point (Desc)'!D177=\"\",\"\",'Access Point (Desc)'!D177)","v":""},{"$f":"IF('Access Point (Desc)'!E177=\"\",\"\",INDEX([1]OWNER!$A$2:$A$100,MATCH('Access Point (Desc)'!$E177,[1]!MASTER_OWNER_DESC[#Data],0),0))","v":""},{"$f":"IF('Access Point (Desc)'!F177=\"\",\"\",INDEX([1]COUNTY!$A$2:$A$100,MATCH('Access Point (Desc)'!F177,[1]!MASTER_COUNTY_NAME[#Data],0),0))","v":""},{"$f":"IF('Access Point (Desc)'!G177=\"\",\"\",'Access Point (Desc)'!G177)","v":""},{"$f":"IF('Access Point (Desc)'!H177=\"\",\"\",'Access Point (Desc)'!H177)","v":""},{"$f":"IF('Access Point (Desc)'!I177=\"\",\"\",INDEX([1]ROUTE_MH_TYPE!$A$2:$A$100,MATCH('Access Point (Desc)'!$I177,[1]!MASTER_ROUTE_MH_TYPE_DESC[#Data],0),0))","v":""},{"$f":"IF('Access Point (Desc)'!J177=\"\",\"\",INDEX([1]MANHOLE_MTL!$A$2:$A$100,MATCH('Access Point (Desc)'!$J177,[1]!MASTER_MANHOLE_MTL_DESC[#Data],0),0))","v":""},{"$f":"IF('Access Point (Desc)'!K177=\"\",\"\",INDEX([1]MANHOLE_SIZE!$A$2:$A$120,MATCH('Access Point (Desc)'!$K177,[1]!MASTER_MANHOLE_SIZE_DESC[#Data],0),0))","v":""},{"$f":"IF('Access Point (Desc)'!L177=\"\",\"\",INDEX([1]ROUTE_MH_LID_TYPE!$A$2:$A$100,MATCH('Access Point (Desc)'!$L177,[1]!MASTER_ROUTE_MH_LID_TYPE_DESC[#Data],0),0))","v":""},{"$f":"IF('Access Point (Desc)'!M177=\"\",\"\",INDEX([1]MANHOLE_MTL!$A$2:$A$100,MATCH('Access Point (Desc)'!$M177,[1]!MASTER_MANHOLE_MTL_DESC[#Data],0),0))","v":""},{"$f":"IF('Access Point (Desc)'!N177=\"\",\"\",INDEX([1]LID_BOLT_TYPE!$A$2:$A$100,MATCH('Access Point (Desc)'!$N177,[1]!MASTER_LID_BOLT_TYPE_DESC[#Data],0),0))","v":""},{"$f":"IF('Access Point (Desc)'!O177=\"\",\"\",INDEX([1]YES_NO!$A$2:$A$100,MATCH('Access Point (Desc)'!$O177,[1]!MASTER_YES_NO_DESC[#Data],0),0))","v":""},{"$f":"IF('Access Point (Desc)'!P177=\"\",\"\",'Access Point (Desc)'!P177)","v":""},{"$f":"IF('Access Point (Desc)'!Q177=\"\",\"\",INDEX([1]YES_NO!$A$2:$A$100,MATCH('Access Point (Desc)'!$Q177,[1]!MASTER_YES_NO_DESC[#Data],0),0))","v":""}]
[{"$f":"IF('Access Point (Desc)'!A178=\"\",\"\",'Access Point (Desc)'!A178)","v":""},{"$f":"IF('Access Point (Desc)'!B178=\"\",\"\",'Access Point (Desc)'!B178)","v":""},{"$f":"IF('Access Point (Desc)'!C178=\"\",\"\",'Access Point (Desc)'!C178)","v":""},{"$f":"IF('Access Point (Desc)'!D178=\"\",\"\",'Access Point (Desc)'!D178)","v":""},{"$f":"IF('Access Point (Desc)'!E178=\"\",\"\",INDEX([1]OWNER!$A$2:$A$100,MATCH('Access Point (Desc)'!$E178,[1]!MASTER_OWNER_DESC[#Data],0),0))","v":""},{"$f":"IF('Access Point (Desc)'!F178=\"\",\"\",INDEX([1]COUNTY!$A$2:$A$100,MATCH('Access Point (Desc)'!F178,[1]!MASTER_COUNTY_NAME[#Data],0),0))","v":""},{"$f":"IF('Access Point (Desc)'!G178=\"\",\"\",'Access Point (Desc)'!G178)","v":""},{"$f":"IF('Access Point (Desc)'!H178=\"\",\"\",'Access Point (Desc)'!H178)","v":""},{"$f":"IF('Access Point (Desc)'!I178=\"\",\"\",INDEX([1]ROUTE_MH_TYPE!$A$2:$A$100,MATCH('Access Point (Desc)'!$I178,[1]!MASTER_ROUTE_MH_TYPE_DESC[#Data],0),0))","v":""},{"$f":"IF('Access Point (Desc)'!J178=\"\",\"\",INDEX([1]MANHOLE_MTL!$A$2:$A$100,MATCH('Access Point (Desc)'!$J178,[1]!MASTER_MANHOLE_MTL_DESC[#Data],0),0))","v":""},{"$f":"IF('Access Point (Desc)'!K178=\"\",\"\",INDEX([1]MANHOLE_SIZE!$A$2:$A$120,MATCH('Access Point (Desc)'!$K178,[1]!MASTER_MANHOLE_SIZE_DESC[#Data],0),0))","v":""},{"$f":"IF('Access Point (Desc)'!L178=\"\",\"\",INDEX([1]ROUTE_MH_LID_TYPE!$A$2:$A$100,MATCH('Access Point (Desc)'!$L178,[1]!MASTER_ROUTE_MH_LID_TYPE_DESC[#Data],0),0))","v":""},{"$f":"IF('Access Point (Desc)'!M178=\"\",\"\",INDEX([1]MANHOLE_MTL!$A$2:$A$100,MATCH('Access Point (Desc)'!$M178,[1]!MASTER_MANHOLE_MTL_DESC[#Data],0),0))","v":""},{"$f":"IF('Access Point (Desc)'!N178=\"\",\"\",INDEX([1]LID_BOLT_TYPE!$A$2:$A$100,MATCH('Access Point (Desc)'!$N178,[1]!MASTER_LID_BOLT_TYPE_DESC[#Data],0),0))","v":""},{"$f":"IF('Access Point (Desc)'!O178=\"\",\"\",INDEX([1]YES_NO!$A$2:$A$100,MATCH('Access Point (Desc)'!$O178,[1]!MASTER_YES_NO_DESC[#Data],0),0))","v":""},{"$f":"IF('Access Point (Desc)'!P178=\"\",\"\",'Access Point (Desc)'!P178)","v":""},{"$f":"IF('Access Point (Desc)'!Q178=\"\",\"\",INDEX([1]YES_NO!$A$2:$A$100,MATCH('Access Point (Desc)'!$Q178,[1]!MASTER_YES_NO_DESC[#Data],0),0))","v":""}]
[{"$f":"IF('Access Point (Desc)'!A179=\"\",\"\",'Access Point (Desc)'!A179)","v":""},{"$f":"IF('Access Point (Desc)'!B179=\"\",\"\",'Access Point (Desc)'!B179)","v":""},{"$f":"IF('Access Point (Desc)'!C179=\"\",\"\",'Access Point (Desc)'!C179)","v":""},{"$f":"IF('Access Point (Desc)'!D179=\"\",\"\",'Access Point (Desc)'!D179)","v":""},{"$f":"IF('Access Point (Desc)'!E179=\"\",\"\",INDEX([1]OWNER!$A$2:$A$100,MATCH('Access Point (Desc)'!$E179,[1]!MASTER_OWNER_DESC[#Data],0),0))","v":""},{"$f":"IF('Access Point (Desc)'!F179=\"\",\"\",INDEX([1]COUNTY!$A$2:$A$100,MATCH('Access Point (Desc)'!F179,[1]!MASTER_COUNTY_NAME[#Data],0),0))","v":""},{"$f":"IF('Access Point (Desc)'!G179=\"\",\"\",'Access Point (Desc)'!G179)","v":""},{"$f":"IF('Access Point (Desc)'!H179=\"\",\"\",'Access Point (Desc)'!H179)","v":""},{"$f":"IF('Access Point (Desc)'!I179=\"\",\"\",INDEX([1]ROUTE_MH_TYPE!$A$2:$A$100,MATCH('Access Point (Desc)'!$I179,[1]!MASTER_ROUTE_MH_TYPE_DESC[#Data],0),0))","v":""},{"$f":"IF('Access Point (Desc)'!J179=\"\",\"\",INDEX([1]MANHOLE_MTL!$A$2:$A$100,MATCH('Access Point (Desc)'!$J179,[1]!MASTER_MANHOLE_MTL_DESC[#Data],0),0))","v":""},{"$f":"IF('Access Point (Desc)'!K179=\"\",\"\",INDEX([1]MANHOLE_SIZE!$A$2:$A$120,MATCH('Access Point (Desc)'!$K179,[1]!MASTER_MANHOLE_SIZE_DESC[#Data],0),0))","v":""},{"$f":"IF('Access Point (Desc)'!L179=\"\",\"\",INDEX([1]ROUTE_MH_LID_TYPE!$A$2:$A$100,MATCH('Access Point (Desc)'!$L179,[1]!MASTER_ROUTE_MH_LID_TYPE_DESC[#Data],0),0))","v":""},{"$f":"IF('Access Point (Desc)'!M179=\"\",\"\",INDEX([1]MANHOLE_MTL!$A$2:$A$100,MATCH('Access Point (Desc)'!$M179,[1]!MASTER_MANHOLE_MTL_DESC[#Data],0),0))","v":""},{"$f":"IF('Access Point (Desc)'!N179=\"\",\"\",INDEX([1]LID_BOLT_TYPE!$A$2:$A$100,MATCH('Access Point (Desc)'!$N179,[1]!MASTER_LID_BOLT_TYPE_DESC[#Data],0),0))","v":""},{"$f":"IF('Access Point (Desc)'!O179=\"\",\"\",INDEX([1]YES_NO!$A$2:$A$100,MATCH('Access Point (Desc)'!$O179,[1]!MASTER_YES_NO_DESC[#Data],0),0))","v":""},{"$f":"IF('Access Point (Desc)'!P179=\"\",\"\",'Access Point (Desc)'!P179)","v":""},{"$f":"IF('Access Point (Desc)'!Q179=\"\",\"\",INDEX([1]YES_NO!$A$2:$A$100,MATCH('Access Point (Desc)'!$Q179,[1]!MASTER_YES_NO_DESC[#Data],0),0))","v":""}]
[{"$f":"IF('Access Point (Desc)'!A180=\"\",\"\",'Access Point (Desc)'!A180)","v":""},{"$f":"IF('Access Point (Desc)'!B180=\"\",\"\",'Access Point (Desc)'!B180)","v":""},{"$f":"IF('Access Point (Desc)'!C180=\"\",\"\",'Access Point (Desc)'!C180)","v":""},{"$f":"IF('Access Point (Desc)'!D180=\"\",\"\",'Access Point (Desc)'!D180)","v":""},{"$f":"IF('Access Point (Desc)'!E180=\"\",\"\",INDEX([1]OWNER!$A$2:$A$100,MATCH('Access Point (Desc)'!$E180,[1]!MASTER_OWNER_DESC[#Data],0),0))","v":""},{"$f":"IF('Access Point (Desc)'!F180=\"\",\"\",INDEX([1]COUNTY!$A$2:$A$100,MATCH('Access Point (Desc)'!F180,[1]!MASTER_COUNTY_NAME[#Data],0),0))","v":""},{"$f":"IF('Access Point (Desc)'!G180=\"\",\"\",'Access Point (Desc)'!G180)","v":""},{"$f":"IF('Access Point (Desc)'!H180=\"\",\"\",'Access Point (Desc)'!H180)","v":""},{"$f":"IF('Access Point (Desc)'!I180=\"\",\"\",INDEX([1]ROUTE_MH_TYPE!$A$2:$A$100,MATCH('Access Point (Desc)'!$I180,[1]!MASTER_ROUTE_MH_TYPE_DESC[#Data],0),0))","v":""},{"$f":"IF('Access Point (Desc)'!J180=\"\",\"\",INDEX([1]MANHOLE_MTL!$A$2:$A$100,MATCH('Access Point (Desc)'!$J180,[1]!MASTER_MANHOLE_MTL_DESC[#Data],0),0))","v":""},{"$f":"IF('Access Point (Desc)'!K180=\"\",\"\",INDEX([1]MANHOLE_SIZE!$A$2:$A$120,MATCH('Access Point (Desc)'!$K180,[1]!MASTER_MANHOLE_SIZE_DESC[#Data],0),0))","v":""},{"$f":"IF('Access Point (Desc)'!L180=\"\",\"\",INDEX([1]ROUTE_MH_LID_TYPE!$A$2:$A$100,MATCH('Access Point (Desc)'!$L180,[1]!MASTER_ROUTE_MH_LID_TYPE_DESC[#Data],0),0))","v":""},{"$f":"IF('Access Point (Desc)'!M180=\"\",\"\",INDEX([1]MANHOLE_MTL!$A$2:$A$100,MATCH('Access Point (Desc)'!$M180,[1]!MASTER_MANHOLE_MTL_DESC[#Data],0),0))","v":""},{"$f":"IF('Access Point (Desc)'!N180=\"\",\"\",INDEX([1]LID_BOLT_TYPE!$A$2:$A$100,MATCH('Access Point (Desc)'!$N180,[1]!MASTER_LID_BOLT_TYPE_DESC[#Data],0),0))","v":""},{"$f":"IF('Access Point (Desc)'!O180=\"\",\"\",INDEX([1]YES_NO!$A$2:$A$100,MATCH('Access Point (Desc)'!$O180,[1]!MASTER_YES_NO_DESC[#Data],0),0))","v":""},{"$f":"IF('Access Point (Desc)'!P180=\"\",\"\",'Access Point (Desc)'!P180)","v":""},{"$f":"IF('Access Point (Desc)'!Q180=\"\",\"\",INDEX([1]YES_NO!$A$2:$A$100,MATCH('Access Point (Desc)'!$Q180,[1]!MASTER_YES_NO_DESC[#Data],0),0))","v":""}]
[{"$f":"IF('Access Point (Desc)'!A181=\"\",\"\",'Access Point (Desc)'!A181)","v":""},{"$f":"IF('Access Point (Desc)'!B181=\"\",\"\",'Access Point (Desc)'!B181)","v":""},{"$f":"IF('Access Point (Desc)'!C181=\"\",\"\",'Access Point (Desc)'!C181)","v":""},{"$f":"IF('Access Point (Desc)'!D181=\"\",\"\",'Access Point (Desc)'!D181)","v":""},{"$f":"IF('Access Point (Desc)'!E181=\"\",\"\",INDEX([1]OWNER!$A$2:$A$100,MATCH('Access Point (Desc)'!$E181,[1]!MASTER_OWNER_DESC[#Data],0),0))","v":""},{"$f":"IF('Access Point (Desc)'!F181=\"\",\"\",INDEX([1]COUNTY!$A$2:$A$100,MATCH('Access Point (Desc)'!F181,[1]!MASTER_COUNTY_NAME[#Data],0),0))","v":""},{"$f":"IF('Access Point (Desc)'!G181=\"\",\"\",'Access Point (Desc)'!G181)","v":""},{"$f":"IF('Access Point (Desc)'!H181=\"\",\"\",'Access Point (Desc)'!H181)","v":""},{"$f":"IF('Access Point (Desc)'!I181=\"\",\"\",INDEX([1]ROUTE_MH_TYPE!$A$2:$A$100,MATCH('Access Point (Desc)'!$I181,[1]!MASTER_ROUTE_MH_TYPE_DESC[#Data],0),0))","v":""},{"$f":"IF('Access Point (Desc)'!J181=\"\",\"\",INDEX([1]MANHOLE_MTL!$A$2:$A$100,MATCH('Access Point (Desc)'!$J181,[1]!MASTER_MANHOLE_MTL_DESC[#Data],0),0))","v":""},{"$f":"IF('Access Point (Desc)'!K181=\"\",\"\",INDEX([1]MANHOLE_SIZE!$A$2:$A$120,MATCH('Access Point (Desc)'!$K181,[1]!MASTER_MANHOLE_SIZE_DESC[#Data],0),0))","v":""},{"$f":"IF('Access Point (Desc)'!L181=\"\",\"\",INDEX([1]ROUTE_MH_LID_TYPE!$A$2:$A$100,MATCH('Access Point (Desc)'!$L181,[1]!MASTER_ROUTE_MH_LID_TYPE_DESC[#Data],0),0))","v":""},{"$f":"IF('Access Point (Desc)'!M181=\"\",\"\",INDEX([1]MANHOLE_MTL!$A$2:$A$100,MATCH('Access Point (Desc)'!$M181,[1]!MASTER_MANHOLE_MTL_DESC[#Data],0),0))","v":""},{"$f":"IF('Access Point (Desc)'!N181=\"\",\"\",INDEX([1]LID_BOLT_TYPE!$A$2:$A$100,MATCH('Access Point (Desc)'!$N181,[1]!MASTER_LID_BOLT_TYPE_DESC[#Data],0),0))","v":""},{"$f":"IF('Access Point (Desc)'!O181=\"\",\"\",INDEX([1]YES_NO!$A$2:$A$100,MATCH('Access Point (Desc)'!$O181,[1]!MASTER_YES_NO_DESC[#Data],0),0))","v":""},{"$f":"IF('Access Point (Desc)'!P181=\"\",\"\",'Access Point (Desc)'!P181)","v":""},{"$f":"IF('Access Point (Desc)'!Q181=\"\",\"\",INDEX([1]YES_NO!$A$2:$A$100,MATCH('Access Point (Desc)'!$Q181,[1]!MASTER_YES_NO_DESC[#Data],0),0))","v":""}]
[{"$f":"IF('Access Point (Desc)'!A182=\"\",\"\",'Access Point (Desc)'!A182)","v":""},{"$f":"IF('Access Point (Desc)'!B182=\"\",\"\",'Access Point (Desc)'!B182)","v":""},{"$f":"IF('Access Point (Desc)'!C182=\"\",\"\",'Access Point (Desc)'!C182)","v":""},{"$f":"IF('Access Point (Desc)'!D182=\"\",\"\",'Access Point (Desc)'!D182)","v":""},{"$f":"IF('Access Point (Desc)'!E182=\"\",\"\",INDEX([1]OWNER!$A$2:$A$100,MATCH('Access Point (Desc)'!$E182,[1]!MASTER_OWNER_DESC[#Data],0),0))","v":""},{"$f":"IF('Access Point (Desc)'!F182=\"\",\"\",INDEX([1]COUNTY!$A$2:$A$100,MATCH('Access Point (Desc)'!F182,[1]!MASTER_COUNTY_NAME[#Data],0),0))","v":""},{"$f":"IF('Access Point (Desc)'!G182=\"\",\"\",'Access Point (Desc)'!G182)","v":""},{"$f":"IF('Access Point (Desc)'!H182=\"\",\"\",'Access Point (Desc)'!H182)","v":""},{"$f":"IF('Access Point (Desc)'!I182=\"\",\"\",INDEX([1]ROUTE_MH_TYPE!$A$2:$A$100,MATCH('Access Point (Desc)'!$I182,[1]!MASTER_ROUTE_MH_TYPE_DESC[#Data],0),0))","v":""},{"$f":"IF('Access Point (Desc)'!J182=\"\",\"\",INDEX([1]MANHOLE_MTL!$A$2:$A$100,MATCH('Access Point (Desc)'!$J182,[1]!MASTER_MANHOLE_MTL_DESC[#Data],0),0))","v":""},{"$f":"IF('Access Point (Desc)'!K182=\"\",\"\",INDEX([1]MANHOLE_SIZE!$A$2:$A$120,MATCH('Access Point (Desc)'!$K182,[1]!MASTER_MANHOLE_SIZE_DESC[#Data],0),0))","v":""},{"$f":"IF('Access Point (Desc)'!L182=\"\",\"\",INDEX([1]ROUTE_MH_LID_TYPE!$A$2:$A$100,MATCH('Access Point (Desc)'!$L182,[1]!MASTER_ROUTE_MH_LID_TYPE_DESC[#Data],0),0))","v":""},{"$f":"IF('Access Point (Desc)'!M182=\"\",\"\",INDEX([1]MANHOLE_MTL!$A$2:$A$100,MATCH('Access Point (Desc)'!$M182,[1]!MASTER_MANHOLE_MTL_DESC[#Data],0),0))","v":""},{"$f":"IF('Access Point (Desc)'!N182=\"\",\"\",INDEX([1]LID_BOLT_TYPE!$A$2:$A$100,MATCH('Access Point (Desc)'!$N182,[1]!MASTER_LID_BOLT_TYPE_DESC[#Data],0),0))","v":""},{"$f":"IF('Access Point (Desc)'!O182=\"\",\"\",INDEX([1]YES_NO!$A$2:$A$100,MATCH('Access Point (Desc)'!$O182,[1]!MASTER_YES_NO_DESC[#Data],0),0))","v":""},{"$f":"IF('Access Point (Desc)'!P182=\"\",\"\",'Access Point (Desc)'!P182)","v":""},{"$f":"IF('Access Point (Desc)'!Q182=\"\",\"\",INDEX([1]YES_NO!$A$2:$A$100,MATCH('Access Point (Desc)'!$Q182,[1]!MASTER_YES_NO_DESC[#Data],0),0))","v":""}]
[{"$f":"IF('Access Point (Desc)'!A183=\"\",\"\",'Access Point (Desc)'!A183)","v":""},{"$f":"IF('Access Point (Desc)'!B183=\"\",\"\",'Access Point (Desc)'!B183)","v":""},{"$f":"IF('Access Point (Desc)'!C183=\"\",\"\",'Access Point (Desc)'!C183)","v":""},{"$f":"IF('Access Point (Desc)'!D183=\"\",\"\",'Access Point (Desc)'!D183)","v":""},{"$f":"IF('Access Point (Desc)'!E183=\"\",\"\",INDEX([1]OWNER!$A$2:$A$100,MATCH('Access Point (Desc)'!$E183,[1]!MASTER_OWNER_DESC[#Data],0),0))","v":""},{"$f":"IF('Access Point (Desc)'!F183=\"\",\"\",INDEX([1]COUNTY!$A$2:$A$100,MATCH('Access Point (Desc)'!F183,[1]!MASTER_COUNTY_NAME[#Data],0),0))","v":""},{"$f":"IF('Access Point (Desc)'!G183=\"\",\"\",'Access Point (Desc)'!G183)","v":""},{"$f":"IF('Access Point (Desc)'!H183=\"\",\"\",'Access Point (Desc)'!H183)","v":""},{"$f":"IF('Access Point (Desc)'!I183=\"\",\"\",INDEX([1]ROUTE_MH_TYPE!$A$2:$A$100,MATCH('Access Point (Desc)'!$I183,[1]!MASTER_ROUTE_MH_TYPE_DESC[#Data],0),0))","v":""},{"$f":"IF('Access Point (Desc)'!J183=\"\",\"\",INDEX([1]MANHOLE_MTL!$A$2:$A$100,MATCH('Access Point (Desc)'!$J183,[1]!MASTER_MANHOLE_MTL_DESC[#Data],0),0))","v":""},{"$f":"IF('Access Point (Desc)'!K183=\"\",\"\",INDEX([1]MANHOLE_SIZE!$A$2:$A$120,MATCH('Access Point (Desc)'!$K183,[1]!MASTER_MANHOLE_SIZE_DESC[#Data],0),0))","v":""},{"$f":"IF('Access Point (Desc)'!L183=\"\",\"\",INDEX([1]ROUTE_MH_LID_TYPE!$A$2:$A$100,MATCH('Access Point (Desc)'!$L183,[1]!MASTER_ROUTE_MH_LID_TYPE_DESC[#Data],0),0))","v":""},{"$f":"IF('Access Point (Desc)'!M183=\"\",\"\",INDEX([1]MANHOLE_MTL!$A$2:$A$100,MATCH('Access Point (Desc)'!$M183,[1]!MASTER_MANHOLE_MTL_DESC[#Data],0),0))","v":""},{"$f":"IF('Access Point (Desc)'!N183=\"\",\"\",INDEX([1]LID_BOLT_TYPE!$A$2:$A$100,MATCH('Access Point (Desc)'!$N183,[1]!MASTER_LID_BOLT_TYPE_DESC[#Data],0),0))","v":""},{"$f":"IF('Access Point (Desc)'!O183=\"\",\"\",INDEX([1]YES_NO!$A$2:$A$100,MATCH('Access Point (Desc)'!$O183,[1]!MASTER_YES_NO_DESC[#Data],0),0))","v":""},{"$f":"IF('Access Point (Desc)'!P183=\"\",\"\",'Access Point (Desc)'!P183)","v":""},{"$f":"IF('Access Point (Desc)'!Q183=\"\",\"\",INDEX([1]YES_NO!$A$2:$A$100,MATCH('Access Point (Desc)'!$Q183,[1]!MASTER_YES_NO_DESC[#Data],0),0))","v":""}]
[{"$f":"IF('Access Point (Desc)'!A184=\"\",\"\",'Access Point (Desc)'!A184)","v":""},{"$f":"IF('Access Point (Desc)'!B184=\"\",\"\",'Access Point (Desc)'!B184)","v":""},{"$f":"IF('Access Point (Desc)'!C184=\"\",\"\",'Access Point (Desc)'!C184)","v":""},{"$f":"IF('Access Point (Desc)'!D184=\"\",\"\",'Access Point (Desc)'!D184)","v":""},{"$f":"IF('Access Point (Desc)'!E184=\"\",\"\",INDEX([1]OWNER!$A$2:$A$100,MATCH('Access Point (Desc)'!$E184,[1]!MASTER_OWNER_DESC[#Data],0),0))","v":""},{"$f":"IF('Access Point (Desc)'!F184=\"\",\"\",INDEX([1]COUNTY!$A$2:$A$100,MATCH('Access Point (Desc)'!F184,[1]!MASTER_COUNTY_NAME[#Data],0),0))","v":""},{"$f":"IF('Access Point (Desc)'!G184=\"\",\"\",'Access Point (Desc)'!G184)","v":""},{"$f":"IF('Access Point (Desc)'!H184=\"\",\"\",'Access Point (Desc)'!H184)","v":""},{"$f":"IF('Access Point (Desc)'!I184=\"\",\"\",INDEX([1]ROUTE_MH_TYPE!$A$2:$A$100,MATCH('Access Point (Desc)'!$I184,[1]!MASTER_ROUTE_MH_TYPE_DESC[#Data],0),0))","v":""},{"$f":"IF('Access Point (Desc)'!J184=\"\",\"\",INDEX([1]MANHOLE_MTL!$A$2:$A$100,MATCH('Access Point (Desc)'!$J184,[1]!MASTER_MANHOLE_MTL_DESC[#Data],0),0))","v":""},{"$f":"IF('Access Point (Desc)'!K184=\"\",\"\",INDEX([1]MANHOLE_SIZE!$A$2:$A$120,MATCH('Access Point (Desc)'!$K184,[1]!MASTER_MANHOLE_SIZE_DESC[#Data],0),0))","v":""},{"$f":"IF('Access Point (Desc)'!L184=\"\",\"\",INDEX([1]ROUTE_MH_LID_TYPE!$A$2:$A$100,MATCH('Access Point (Desc)'!$L184,[1]!MASTER_ROUTE_MH_LID_TYPE_DESC[#Data],0),0))","v":""},{"$f":"IF('Access Point (Desc)'!M184=\"\",\"\",INDEX([1]MANHOLE_MTL!$A$2:$A$100,MATCH('Access Point (Desc)'!$M184,[1]!MASTER_MANHOLE_MTL_DESC[#Data],0),0))","v":""},{"$f":"IF('Access Point (Desc)'!N184=\"\",\"\",INDEX([1]LID_BOLT_TYPE!$A$2:$A$100,MATCH('Access Point (Desc)'!$N184,[1]!MASTER_LID_BOLT_TYPE_DESC[#Data],0),0))","v":""},{"$f":"IF('Access Point (Desc)'!O184=\"\",\"\",INDEX([1]YES_NO!$A$2:$A$100,MATCH('Access Point (Desc)'!$O184,[1]!MASTER_YES_NO_DESC[#Data],0),0))","v":""},{"$f":"IF('Access Point (Desc)'!P184=\"\",\"\",'Access Point (Desc)'!P184)","v":""},{"$f":"IF('Access Point (Desc)'!Q184=\"\",\"\",INDEX([1]YES_NO!$A$2:$A$100,MATCH('Access Point (Desc)'!$Q184,[1]!MASTER_YES_NO_DESC[#Data],0),0))","v":""}]
[{"$f":"IF('Access Point (Desc)'!A185=\"\",\"\",'Access Point (Desc)'!A185)","v":""},{"$f":"IF('Access Point (Desc)'!B185=\"\",\"\",'Access Point (Desc)'!B185)","v":""},{"$f":"IF('Access Point (Desc)'!C185=\"\",\"\",'Access Point (Desc)'!C185)","v":""},{"$f":"IF('Access Point (Desc)'!D185=\"\",\"\",'Access Point (Desc)'!D185)","v":""},{"$f":"IF('Access Point (Desc)'!E185=\"\",\"\",INDEX([1]OWNER!$A$2:$A$100,MATCH('Access Point (Desc)'!$E185,[1]!MASTER_OWNER_DESC[#Data],0),0))","v":""},{"$f":"IF('Access Point (Desc)'!F185=\"\",\"\",INDEX([1]COUNTY!$A$2:$A$100,MATCH('Access Point (Desc)'!F185,[1]!MASTER_COUNTY_NAME[#Data],0),0))","v":""},{"$f":"IF('Access Point (Desc)'!G185=\"\",\"\",'Access Point (Desc)'!G185)","v":""},{"$f":"IF('Access Point (Desc)'!H185=\"\",\"\",'Access Point (Desc)'!H185)","v":""},{"$f":"IF('Access Point (Desc)'!I185=\"\",\"\",INDEX([1]ROUTE_MH_TYPE!$A$2:$A$100,MATCH('Access Point (Desc)'!$I185,[1]!MASTER_ROUTE_MH_TYPE_DESC[#Data],0),0))","v":""},{"$f":"IF('Access Point (Desc)'!J185=\"\",\"\",INDEX([1]MANHOLE_MTL!$A$2:$A$100,MATCH('Access Point (Desc)'!$J185,[1]!MASTER_MANHOLE_MTL_DESC[#Data],0),0))","v":""},{"$f":"IF('Access Point (Desc)'!K185=\"\",\"\",INDEX([1]MANHOLE_SIZE!$A$2:$A$120,MATCH('Access Point (Desc)'!$K185,[1]!MASTER_MANHOLE_SIZE_DESC[#Data],0),0))","v":""},{"$f":"IF('Access Point (Desc)'!L185=\"\",\"\",INDEX([1]ROUTE_MH_LID_TYPE!$A$2:$A$100,MATCH('Access Point (Desc)'!$L185,[1]!MASTER_ROUTE_MH_LID_TYPE_DESC[#Data],0),0))","v":""},{"$f":"IF('Access Point (Desc)'!M185=\"\",\"\",INDEX([1]MANHOLE_MTL!$A$2:$A$100,MATCH('Access Point (Desc)'!$M185,[1]!MASTER_MANHOLE_MTL_DESC[#Data],0),0))","v":""},{"$f":"IF('Access Point (Desc)'!N185=\"\",\"\",INDEX([1]LID_BOLT_TYPE!$A$2:$A$100,MATCH('Access Point (Desc)'!$N185,[1]!MASTER_LID_BOLT_TYPE_DESC[#Data],0),0))","v":""},{"$f":"IF('Access Point (Desc)'!O185=\"\",\"\",INDEX([1]YES_NO!$A$2:$A$100,MATCH('Access Point (Desc)'!$O185,[1]!MASTER_YES_NO_DESC[#Data],0),0))","v":""},{"$f":"IF('Access Point (Desc)'!P185=\"\",\"\",'Access Point (Desc)'!P185)","v":""},{"$f":"IF('Access Point (Desc)'!Q185=\"\",\"\",INDEX([1]YES_NO!$A$2:$A$100,MATCH('Access Point (Desc)'!$Q185,[1]!MASTER_YES_NO_DESC[#Data],0),0))","v":""}]
[{"$f":"IF('Access Point (Desc)'!A186=\"\",\"\",'Access Point (Desc)'!A186)","v":""},{"$f":"IF('Access Point (Desc)'!B186=\"\",\"\",'Access Point (Desc)'!B186)","v":""},{"$f":"IF('Access Point (Desc)'!C186=\"\",\"\",'Access Point (Desc)'!C186)","v":""},{"$f":"IF('Access Point (Desc)'!D186=\"\",\"\",'Access Point (Desc)'!D186)","v":""},{"$f":"IF('Access Point (Desc)'!E186=\"\",\"\",INDEX([1]OWNER!$A$2:$A$100,MATCH('Access Point (Desc)'!$E186,[1]!MASTER_OWNER_DESC[#Data],0),0))","v":""},{"$f":"IF('Access Point (Desc)'!F186=\"\",\"\",INDEX([1]COUNTY!$A$2:$A$100,MATCH('Access Point (Desc)'!F186,[1]!MASTER_COUNTY_NAME[#Data],0),0))","v":""},{"$f":"IF('Access Point (Desc)'!G186=\"\",\"\",'Access Point (Desc)'!G186)","v":""},{"$f":"IF('Access Point (Desc)'!H186=\"\",\"\",'Access Point (Desc)'!H186)","v":""},{"$f":"IF('Access Point (Desc)'!I186=\"\",\"\",INDEX([1]ROUTE_MH_TYPE!$A$2:$A$100,MATCH('Access Point (Desc)'!$I186,[1]!MASTER_ROUTE_MH_TYPE_DESC[#Data],0),0))","v":""},{"$f":"IF('Access Point (Desc)'!J186=\"\",\"\",INDEX([1]MANHOLE_MTL!$A$2:$A$100,MATCH('Access Point (Desc)'!$J186,[1]!MASTER_MANHOLE_MTL_DESC[#Data],0),0))","v":""},{"$f":"IF('Access Point (Desc)'!K186=\"\",\"\",INDEX([1]MANHOLE_SIZE!$A$2:$A$120,MATCH('Access Point (Desc)'!$K186,[1]!MASTER_MANHOLE_SIZE_DESC[#Data],0),0))","v":""},{"$f":"IF('Access Point (Desc)'!L186=\"\",\"\",INDEX([1]ROUTE_MH_LID_TYPE!$A$2:$A$100,MATCH('Access Point (Desc)'!$L186,[1]!MASTER_ROUTE_MH_LID_TYPE_DESC[#Data],0),0))","v":""},{"$f":"IF('Access Point (Desc)'!M186=\"\",\"\",INDEX([1]MANHOLE_MTL!$A$2:$A$100,MATCH('Access Point (Desc)'!$M186,[1]!MASTER_MANHOLE_MTL_DESC[#Data],0),0))","v":""},{"$f":"IF('Access Point (Desc)'!N186=\"\",\"\",INDEX([1]LID_BOLT_TYPE!$A$2:$A$100,MATCH('Access Point (Desc)'!$N186,[1]!MASTER_LID_BOLT_TYPE_DESC[#Data],0),0))","v":""},{"$f":"IF('Access Point (Desc)'!O186=\"\",\"\",INDEX([1]YES_NO!$A$2:$A$100,MATCH('Access Point (Desc)'!$O186,[1]!MASTER_YES_NO_DESC[#Data],0),0))","v":""},{"$f":"IF('Access Point (Desc)'!P186=\"\",\"\",'Access Point (Desc)'!P186)","v":""},{"$f":"IF('Access Point (Desc)'!Q186=\"\",\"\",INDEX([1]YES_NO!$A$2:$A$100,MATCH('Access Point (Desc)'!$Q186,[1]!MASTER_YES_NO_DESC[#Data],0),0))","v":""}]
[{"$f":"IF('Access Point (Desc)'!A187=\"\",\"\",'Access Point (Desc)'!A187)","v":""},{"$f":"IF('Access Point (Desc)'!B187=\"\",\"\",'Access Point (Desc)'!B187)","v":""},{"$f":"IF('Access Point (Desc)'!C187=\"\",\"\",'Access Point (Desc)'!C187)","v":""},{"$f":"IF('Access Point (Desc)'!D187=\"\",\"\",'Access Point (Desc)'!D187)","v":""},{"$f":"IF('Access Point (Desc)'!E187=\"\",\"\",INDEX([1]OWNER!$A$2:$A$100,MATCH('Access Point (Desc)'!$E187,[1]!MASTER_OWNER_DESC[#Data],0),0))","v":""},{"$f":"IF('Access Point (Desc)'!F187=\"\",\"\",INDEX([1]COUNTY!$A$2:$A$100,MATCH('Access Point (Desc)'!F187,[1]!MASTER_COUNTY_NAME[#Data],0),0))","v":""},{"$f":"IF('Access Point (Desc)'!G187=\"\",\"\",'Access Point (Desc)'!G187)","v":""},{"$f":"IF('Access Point (Desc)'!H187=\"\",\"\",'Access Point (Desc)'!H187)","v":""},{"$f":"IF('Access Point (Desc)'!I187=\"\",\"\",INDEX([1]ROUTE_MH_TYPE!$A$2:$A$100,MATCH('Access Point (Desc)'!$I187,[1]!MASTER_ROUTE_MH_TYPE_DESC[#Data],0),0))","v":""},{"$f":"IF('Access Point (Desc)'!J187=\"\",\"\",INDEX([1]MANHOLE_MTL!$A$2:$A$100,MATCH('Access Point (Desc)'!$J187,[1]!MASTER_MANHOLE_MTL_DESC[#Data],0),0))","v":""},{"$f":"IF('Access Point (Desc)'!K187=\"\",\"\",INDEX([1]MANHOLE_SIZE!$A$2:$A$120,MATCH('Access Point (Desc)'!$K187,[1]!MASTER_MANHOLE_SIZE_DESC[#Data],0),0))","v":""},{"$f":"IF('Access Point (Desc)'!L187=\"\",\"\",INDEX([1]ROUTE_MH_LID_TYPE!$A$2:$A$100,MATCH('Access Point (Desc)'!$L187,[1]!MASTER_ROUTE_MH_LID_TYPE_DESC[#Data],0),0))","v":""},{"$f":"IF('Access Point (Desc)'!M187=\"\",\"\",INDEX([1]MANHOLE_MTL!$A$2:$A$100,MATCH('Access Point (Desc)'!$M187,[1]!MASTER_MANHOLE_MTL_DESC[#Data],0),0))","v":""},{"$f":"IF('Access Point (Desc)'!N187=\"\",\"\",INDEX([1]LID_BOLT_TYPE!$A$2:$A$100,MATCH('Access Point (Desc)'!$N187,[1]!MASTER_LID_BOLT_TYPE_DESC[#Data],0),0))","v":""},{"$f":"IF('Access Point (Desc)'!O187=\"\",\"\",INDEX([1]YES_NO!$A$2:$A$100,MATCH('Access Point (Desc)'!$O187,[1]!MASTER_YES_NO_DESC[#Data],0),0))","v":""},{"$f":"IF('Access Point (Desc)'!P187=\"\",\"\",'Access Point (Desc)'!P187)","v":""},{"$f":"IF('Access Point (Desc)'!Q187=\"\",\"\",INDEX([1]YES_NO!$A$2:$A$100,MATCH('Access Point (Desc)'!$Q187,[1]!MASTER_YES_NO_DESC[#Data],0),0))","v":""}]
[{"$f":"IF('Access Point (Desc)'!A188=\"\",\"\",'Access Point (Desc)'!A188)","v":""},{"$f":"IF('Access Point (Desc)'!B188=\"\",\"\",'Access Point (Desc)'!B188)","v":""},{"$f":"IF('Access Point (Desc)'!C188=\"\",\"\",'Access Point (Desc)'!C188)","v":""},{"$f":"IF('Access Point (Desc)'!D188=\"\",\"\",'Access Point (Desc)'!D188)","v":""},{"$f":"IF('Access Point (Desc)'!E188=\"\",\"\",INDEX([1]OWNER!$A$2:$A$100,MATCH('Access Point (Desc)'!$E188,[1]!MASTER_OWNER_DESC[#Data],0),0))","v":""},{"$f":"IF('Access Point (Desc)'!F188=\"\",\"\",INDEX([1]COUNTY!$A$2:$A$100,MATCH('Access Point (Desc)'!F188,[1]!MASTER_COUNTY_NAME[#Data],0),0))","v":""},{"$f":"IF('Access Point (Desc)'!G188=\"\",\"\",'Access Point (Desc)'!G188)","v":""},{"$f":"IF('Access Point (Desc)'!H188=\"\",\"\",'Access Point (Desc)'!H188)","v":""},{"$f":"IF('Access Point (Desc)'!I188=\"\",\"\",INDEX([1]ROUTE_MH_TYPE!$A$2:$A$100,MATCH('Access Point (Desc)'!$I188,[1]!MASTER_ROUTE_MH_TYPE_DESC[#Data],0),0))","v":""},{"$f":"IF('Access Point (Desc)'!J188=\"\",\"\",INDEX([1]MANHOLE_MTL!$A$2:$A$100,MATCH('Access Point (Desc)'!$J188,[1]!MASTER_MANHOLE_MTL_DESC[#Data],0),0))","v":""},{"$f":"IF('Access Point (Desc)'!K188=\"\",\"\",INDEX([1]MANHOLE_SIZE!$A$2:$A$120,MATCH('Access Point (Desc)'!$K188,[1]!MASTER_MANHOLE_SIZE_DESC[#Data],0),0))","v":""},{"$f":"IF('Access Point (Desc)'!L188=\"\",\"\",INDEX([1]ROUTE_MH_LID_TYPE!$A$2:$A$100,MATCH('Access Point (Desc)'!$L188,[1]!MASTER_ROUTE_MH_LID_TYPE_DESC[#Data],0),0))","v":""},{"$f":"IF('Access Point (Desc)'!M188=\"\",\"\",INDEX([1]MANHOLE_MTL!$A$2:$A$100,MATCH('Access Point (Desc)'!$M188,[1]!MASTER_MANHOLE_MTL_DESC[#Data],0),0))","v":""},{"$f":"IF('Access Point (Desc)'!N188=\"\",\"\",INDEX([1]LID_BOLT_TYPE!$A$2:$A$100,MATCH('Access Point (Desc)'!$N188,[1]!MASTER_LID_BOLT_TYPE_DESC[#Data],0),0))","v":""},{"$f":"IF('Access Point (Desc)'!O188=\"\",\"\",INDEX([1]YES_NO!$A$2:$A$100,MATCH('Access Point (Desc)'!$O188,[1]!MASTER_YES_NO_DESC[#Data],0),0))","v":""},{"$f":"IF('Access Point (Desc)'!P188=\"\",\"\",'Access Point (Desc)'!P188)","v":""},{"$f":"IF('Access Point (Desc)'!Q188=\"\",\"\",INDEX([1]YES_NO!$A$2:$A$100,MATCH('Access Point (Desc)'!$Q188,[1]!MASTER_YES_NO_DESC[#Data],0),0))","v":""}]
[{"$f":"IF('Access Point (Desc)'!A189=\"\",\"\",'Access Point (Desc)'!A189)","v":""},{"$f":"IF('Access Point (Desc)'!B189=\"\",\"\",'Access Point (Desc)'!B189)","v":""},{"$f":"IF('Access Point (Desc)'!C189=\"\",\"\",'Access Point (Desc)'!C189)","v":""},{"$f":"IF('Access Point (Desc)'!D189=\"\",\"\",'Access Point (Desc)'!D189)","v":""},{"$f":"IF('Access Point (Desc)'!E189=\"\",\"\",INDEX([1]OWNER!$A$2:$A$100,MATCH('Access Point (Desc)'!$E189,[1]!MASTER_OWNER_DESC[#Data],0),0))","v":""},{"$f":"IF('Access Point (Desc)'!F189=\"\",\"\",INDEX([1]COUNTY!$A$2:$A$100,MATCH('Access Point (Desc)'!F189,[1]!MASTER_COUNTY_NAME[#Data],0),0))","v":""},{"$f":"IF('Access Point (Desc)'!G189=\"\",\"\",'Access Point (Desc)'!G189)","v":""},{"$f":"IF('Access Point (Desc)'!H189=\"\",\"\",'Access Point (Desc)'!H189)","v":""},{"$f":"IF('Access Point (Desc)'!I189=\"\",\"\",INDEX([1]ROUTE_MH_TYPE!$A$2:$A$100,MATCH('Access Point (Desc)'!$I189,[1]!MASTER_ROUTE_MH_TYPE_DESC[#Data],0),0))","v":""},{"$f":"IF('Access Point (Desc)'!J189=\"\",\"\",INDEX([1]MANHOLE_MTL!$A$2:$A$100,MATCH('Access Point (Desc)'!$J189,[1]!MASTER_MANHOLE_MTL_DESC[#Data],0),0))","v":""},{"$f":"IF('Access Point (Desc)'!K189=\"\",\"\",INDEX([1]MANHOLE_SIZE!$A$2:$A$120,MATCH('Access Point (Desc)'!$K189,[1]!MASTER_MANHOLE_SIZE_DESC[#Data],0),0))","v":""},{"$f":"IF('Access Point (Desc)'!L189=\"\",\"\",INDEX([1]ROUTE_MH_LID_TYPE!$A$2:$A$100,MATCH('Access Point (Desc)'!$L189,[1]!MASTER_ROUTE_MH_LID_TYPE_DESC[#Data],0),0))","v":""},{"$f":"IF('Access Point (Desc)'!M189=\"\",\"\",INDEX([1]MANHOLE_MTL!$A$2:$A$100,MATCH('Access Point (Desc)'!$M189,[1]!MASTER_MANHOLE_MTL_DESC[#Data],0),0))","v":""},{"$f":"IF('Access Point (Desc)'!N189=\"\",\"\",INDEX([1]LID_BOLT_TYPE!$A$2:$A$100,MATCH('Access Point (Desc)'!$N189,[1]!MASTER_LID_BOLT_TYPE_DESC[#Data],0),0))","v":""},{"$f":"IF('Access Point (Desc)'!O189=\"\",\"\",INDEX([1]YES_NO!$A$2:$A$100,MATCH('Access Point (Desc)'!$O189,[1]!MASTER_YES_NO_DESC[#Data],0),0))","v":""},{"$f":"IF('Access Point (Desc)'!P189=\"\",\"\",'Access Point (Desc)'!P189)","v":""},{"$f":"IF('Access Point (Desc)'!Q189=\"\",\"\",INDEX([1]YES_NO!$A$2:$A$100,MATCH('Access Point (Desc)'!$Q189,[1]!MASTER_YES_NO_DESC[#Data],0),0))","v":""}]
[{"$f":"IF('Access Point (Desc)'!A190=\"\",\"\",'Access Point (Desc)'!A190)","v":""},{"$f":"IF('Access Point (Desc)'!B190=\"\",\"\",'Access Point (Desc)'!B190)","v":""},{"$f":"IF('Access Point (Desc)'!C190=\"\",\"\",'Access Point (Desc)'!C190)","v":""},{"$f":"IF('Access Point (Desc)'!D190=\"\",\"\",'Access Point (Desc)'!D190)","v":""},{"$f":"IF('Access Point (Desc)'!E190=\"\",\"\",INDEX([1]OWNER!$A$2:$A$100,MATCH('Access Point (Desc)'!$E190,[1]!MASTER_OWNER_DESC[#Data],0),0))","v":""},{"$f":"IF('Access Point (Desc)'!F190=\"\",\"\",INDEX([1]COUNTY!$A$2:$A$100,MATCH('Access Point (Desc)'!F190,[1]!MASTER_COUNTY_NAME[#Data],0),0))","v":""},{"$f":"IF('Access Point (Desc)'!G190=\"\",\"\",'Access Point (Desc)'!G190)","v":""},{"$f":"IF('Access Point (Desc)'!H190=\"\",\"\",'Access Point (Desc)'!H190)","v":""},{"$f":"IF('Access Point (Desc)'!I190=\"\",\"\",INDEX([1]ROUTE_MH_TYPE!$A$2:$A$100,MATCH('Access Point (Desc)'!$I190,[1]!MASTER_ROUTE_MH_TYPE_DESC[#Data],0),0))","v":""},{"$f":"IF('Access Point (Desc)'!J190=\"\",\"\",INDEX([1]MANHOLE_MTL!$A$2:$A$100,MATCH('Access Point (Desc)'!$J190,[1]!MASTER_MANHOLE_MTL_DESC[#Data],0),0))","v":""},{"$f":"IF('Access Point (Desc)'!K190=\"\",\"\",INDEX([1]MANHOLE_SIZE!$A$2:$A$120,MATCH('Access Point (Desc)'!$K190,[1]!MASTER_MANHOLE_SIZE_DESC[#Data],0),0))","v":""},{"$f":"IF('Access Point (Desc)'!L190=\"\",\"\",INDEX([1]ROUTE_MH_LID_TYPE!$A$2:$A$100,MATCH('Access Point (Desc)'!$L190,[1]!MASTER_ROUTE_MH_LID_TYPE_DESC[#Data],0),0))","v":""},{"$f":"IF('Access Point (Desc)'!M190=\"\",\"\",INDEX([1]MANHOLE_MTL!$A$2:$A$100,MATCH('Access Point (Desc)'!$M190,[1]!MASTER_MANHOLE_MTL_DESC[#Data],0),0))","v":""},{"$f":"IF('Access Point (Desc)'!N190=\"\",\"\",INDEX([1]LID_BOLT_TYPE!$A$2:$A$100,MATCH('Access Point (Desc)'!$N190,[1]!MASTER_LID_BOLT_TYPE_DESC[#Data],0),0))","v":""},{"$f":"IF('Access Point (Desc)'!O190=\"\",\"\",INDEX([1]YES_NO!$A$2:$A$100,MATCH('Access Point (Desc)'!$O190,[1]!MASTER_YES_NO_DESC[#Data],0),0))","v":""},{"$f":"IF('Access Point (Desc)'!P190=\"\",\"\",'Access Point (Desc)'!P190)","v":""},{"$f":"IF('Access Point (Desc)'!Q190=\"\",\"\",INDEX([1]YES_NO!$A$2:$A$100,MATCH('Access Point (Desc)'!$Q190,[1]!MASTER_YES_NO_DESC[#Data],0),0))","v":""}]
[{"$f":"IF('Access Point (Desc)'!A191=\"\",\"\",'Access Point (Desc)'!A191)","v":""},{"$f":"IF('Access Point (Desc)'!B191=\"\",\"\",'Access Point (Desc)'!B191)","v":""},{"$f":"IF('Access Point (Desc)'!C191=\"\",\"\",'Access Point (Desc)'!C191)","v":""},{"$f":"IF('Access Point (Desc)'!D191=\"\",\"\",'Access Point (Desc)'!D191)","v":""},{"$f":"IF('Access Point (Desc)'!E191=\"\",\"\",INDEX([1]OWNER!$A$2:$A$100,MATCH('Access Point (Desc)'!$E191,[1]!MASTER_OWNER_DESC[#Data],0),0))","v":""},{"$f":"IF('Access Point (Desc)'!F191=\"\",\"\",INDEX([1]COUNTY!$A$2:$A$100,MATCH('Access Point (Desc)'!F191,[1]!MASTER_COUNTY_NAME[#Data],0),0))","v":""},{"$f":"IF('Access Point (Desc)'!G191=\"\",\"\",'Access Point (Desc)'!G191)","v":""},{"$f":"IF('Access Point (Desc)'!H191=\"\",\"\",'Access Point (Desc)'!H191)","v":""},{"$f":"IF('Access Point (Desc)'!I191=\"\",\"\",INDEX([1]ROUTE_MH_TYPE!$A$2:$A$100,MATCH('Access Point (Desc)'!$I191,[1]!MASTER_ROUTE_MH_TYPE_DESC[#Data],0),0))","v":""},{"$f":"IF('Access Point (Desc)'!J191=\"\",\"\",INDEX([1]MANHOLE_MTL!$A$2:$A$100,MATCH('Access Point (Desc)'!$J191,[1]!MASTER_MANHOLE_MTL_DESC[#Data],0),0))","v":""},{"$f":"IF('Access Point (Desc)'!K191=\"\",\"\",INDEX([1]MANHOLE_SIZE!$A$2:$A$120,MATCH('Access Point (Desc)'!$K191,[1]!MASTER_MANHOLE_SIZE_DESC[#Data],0),0))","v":""},{"$f":"IF('Access Point (Desc)'!L191=\"\",\"\",INDEX([1]ROUTE_MH_LID_TYPE!$A$2:$A$100,MATCH('Access Point (Desc)'!$L191,[1]!MASTER_ROUTE_MH_LID_TYPE_DESC[#Data],0),0))","v":""},{"$f":"IF('Access Point (Desc)'!M191=\"\",\"\",INDEX([1]MANHOLE_MTL!$A$2:$A$100,MATCH('Access Point (Desc)'!$M191,[1]!MASTER_MANHOLE_MTL_DESC[#Data],0),0))","v":""},{"$f":"IF('Access Point (Desc)'!N191=\"\",\"\",INDEX([1]LID_BOLT_TYPE!$A$2:$A$100,MATCH('Access Point (Desc)'!$N191,[1]!MASTER_LID_BOLT_TYPE_DESC[#Data],0),0))","v":""},{"$f":"IF('Access Point (Desc)'!O191=\"\",\"\",INDEX([1]YES_NO!$A$2:$A$100,MATCH('Access Point (Desc)'!$O191,[1]!MASTER_YES_NO_DESC[#Data],0),0))","v":""},{"$f":"IF('Access Point (Desc)'!P191=\"\",\"\",'Access Point (Desc)'!P191)","v":""},{"$f":"IF('Access Point (Desc)'!Q191=\"\",\"\",INDEX([1]YES_NO!$A$2:$A$100,MATCH('Access Point (Desc)'!$Q191,[1]!MASTER_YES_NO_DESC[#Data],0),0))","v":""}]
[{"$f":"IF('Access Point (Desc)'!A192=\"\",\"\",'Access Point (Desc)'!A192)","v":""},{"$f":"IF('Access Point (Desc)'!B192=\"\",\"\",'Access Point (Desc)'!B192)","v":""},{"$f":"IF('Access Point (Desc)'!C192=\"\",\"\",'Access Point (Desc)'!C192)","v":""},{"$f":"IF('Access Point (Desc)'!D192=\"\",\"\",'Access Point (Desc)'!D192)","v":""},{"$f":"IF('Access Point (Desc)'!E192=\"\",\"\",INDEX([1]OWNER!$A$2:$A$100,MATCH('Access Point (Desc)'!$E192,[1]!MASTER_OWNER_DESC[#Data],0),0))","v":""},{"$f":"IF('Access Point (Desc)'!F192=\"\",\"\",INDEX([1]COUNTY!$A$2:$A$100,MATCH('Access Point (Desc)'!F192,[1]!MASTER_COUNTY_NAME[#Data],0),0))","v":""},{"$f":"IF('Access Point (Desc)'!G192=\"\",\"\",'Access Point (Desc)'!G192)","v":""},{"$f":"IF('Access Point (Desc)'!H192=\"\",\"\",'Access Point (Desc)'!H192)","v":""},{"$f":"IF('Access Point (Desc)'!I192=\"\",\"\",INDEX([1]ROUTE_MH_TYPE!$A$2:$A$100,MATCH('Access Point (Desc)'!$I192,[1]!MASTER_ROUTE_MH_TYPE_DESC[#Data],0),0))","v":""},{"$f":"IF('Access Point (Desc)'!J192=\"\",\"\",INDEX([1]MANHOLE_MTL!$A$2:$A$100,MATCH('Access Point (Desc)'!$J192,[1]!MASTER_MANHOLE_MTL_DESC[#Data],0),0))","v":""},{"$f":"IF('Access Point (Desc)'!K192=\"\",\"\",INDEX([1]MANHOLE_SIZE!$A$2:$A$120,MATCH('Access Point (Desc)'!$K192,[1]!MASTER_MANHOLE_SIZE_DESC[#Data],0),0))","v":""},{"$f":"IF('Access Point (Desc)'!L192=\"\",\"\",INDEX([1]ROUTE_MH_LID_TYPE!$A$2:$A$100,MATCH('Access Point (Desc)'!$L192,[1]!MASTER_ROUTE_MH_LID_TYPE_DESC[#Data],0),0))","v":""},{"$f":"IF('Access Point (Desc)'!M192=\"\",\"\",INDEX([1]MANHOLE_MTL!$A$2:$A$100,MATCH('Access Point (Desc)'!$M192,[1]!MASTER_MANHOLE_MTL_DESC[#Data],0),0))","v":""},{"$f":"IF('Access Point (Desc)'!N192=\"\",\"\",INDEX([1]LID_BOLT_TYPE!$A$2:$A$100,MATCH('Access Point (Desc)'!$N192,[1]!MASTER_LID_BOLT_TYPE_DESC[#Data],0),0))","v":""},{"$f":"IF('Access Point (Desc)'!O192=\"\",\"\",INDEX([1]YES_NO!$A$2:$A$100,MATCH('Access Point (Desc)'!$O192,[1]!MASTER_YES_NO_DESC[#Data],0),0))","v":""},{"$f":"IF('Access Point (Desc)'!P192=\"\",\"\",'Access Point (Desc)'!P192)","v":""},{"$f":"IF('Access Point (Desc)'!Q192=\"\",\"\",INDEX([1]YES_NO!$A$2:$A$100,MATCH('Access Point (Desc)'!$Q192,[1]!MASTER_YES_NO_DESC[#Data],0),0))","v":""}]
[{"$f":"IF('Access Point (Desc)'!A193=\"\",\"\",'Access Point (Desc)'!A193)","v":""},{"$f":"IF('Access Point (Desc)'!B193=\"\",\"\",'Access Point (Desc)'!B193)","v":""},{"$f":"IF('Access Point (Desc)'!C193=\"\",\"\",'Access Point (Desc)'!C193)","v":""},{"$f":"IF('Access Point (Desc)'!D193=\"\",\"\",'Access Point (Desc)'!D193)","v":""},{"$f":"IF('Access Point (Desc)'!E193=\"\",\"\",INDEX([1]OWNER!$A$2:$A$100,MATCH('Access Point (Desc)'!$E193,[1]!MASTER_OWNER_DESC[#Data],0),0))","v":""},{"$f":"IF('Access Point (Desc)'!F193=\"\",\"\",INDEX([1]COUNTY!$A$2:$A$100,MATCH('Access Point (Desc)'!F193,[1]!MASTER_COUNTY_NAME[#Data],0),0))","v":""},{"$f":"IF('Access Point (Desc)'!G193=\"\",\"\",'Access Point (Desc)'!G193)","v":""},{"$f":"IF('Access Point (Desc)'!H193=\"\",\"\",'Access Point (Desc)'!H193)","v":""},{"$f":"IF('Access Point (Desc)'!I193=\"\",\"\",INDEX([1]ROUTE_MH_TYPE!$A$2:$A$100,MATCH('Access Point (Desc)'!$I193,[1]!MASTER_ROUTE_MH_TYPE_DESC[#Data],0),0))","v":""},{"$f":"IF('Access Point (Desc)'!J193=\"\",\"\",INDEX([1]MANHOLE_MTL!$A$2:$A$100,MATCH('Access Point (Desc)'!$J193,[1]!MASTER_MANHOLE_MTL_DESC[#Data],0),0))","v":""},{"$f":"IF('Access Point (Desc)'!K193=\"\",\"\",INDEX([1]MANHOLE_SIZE!$A$2:$A$120,MATCH('Access Point (Desc)'!$K193,[1]!MASTER_MANHOLE_SIZE_DESC[#Data],0),0))","v":""},{"$f":"IF('Access Point (Desc)'!L193=\"\",\"\",INDEX([1]ROUTE_MH_LID_TYPE!$A$2:$A$100,MATCH('Access Point (Desc)'!$L193,[1]!MASTER_ROUTE_MH_LID_TYPE_DESC[#Data],0),0))","v":""},{"$f":"IF('Access Point (Desc)'!M193=\"\",\"\",INDEX([1]MANHOLE_MTL!$A$2:$A$100,MATCH('Access Point (Desc)'!$M193,[1]!MASTER_MANHOLE_MTL_DESC[#Data],0),0))","v":""},{"$f":"IF('Access Point (Desc)'!N193=\"\",\"\",INDEX([1]LID_BOLT_TYPE!$A$2:$A$100,MATCH('Access Point (Desc)'!$N193,[1]!MASTER_LID_BOLT_TYPE_DESC[#Data],0),0))","v":""},{"$f":"IF('Access Point (Desc)'!O193=\"\",\"\",INDEX([1]YES_NO!$A$2:$A$100,MATCH('Access Point (Desc)'!$O193,[1]!MASTER_YES_NO_DESC[#Data],0),0))","v":""},{"$f":"IF('Access Point (Desc)'!P193=\"\",\"\",'Access Point (Desc)'!P193)","v":""},{"$f":"IF('Access Point (Desc)'!Q193=\"\",\"\",INDEX([1]YES_NO!$A$2:$A$100,MATCH('Access Point (Desc)'!$Q193,[1]!MASTER_YES_NO_DESC[#Data],0),0))","v":""}]
[{"$f":"IF('Access Point (Desc)'!A194=\"\",\"\",'Access Point (Desc)'!A194)","v":""},{"$f":"IF('Access Point (Desc)'!B194=\"\",\"\",'Access Point (Desc)'!B194)","v":""},{"$f":"IF('Access Point (Desc)'!C194=\"\",\"\",'Access Point (Desc)'!C194)","v":""},{"$f":"IF('Access Point (Desc)'!D194=\"\",\"\",'Access Point (Desc)'!D194)","v":""},{"$f":"IF('Access Point (Desc)'!E194=\"\",\"\",INDEX([1]OWNER!$A$2:$A$100,MATCH('Access Point (Desc)'!$E194,[1]!MASTER_OWNER_DESC[#Data],0),0))","v":""},{"$f":"IF('Access Point (Desc)'!F194=\"\",\"\",INDEX([1]COUNTY!$A$2:$A$100,MATCH('Access Point (Desc)'!F194,[1]!MASTER_COUNTY_NAME[#Data],0),0))","v":""},{"$f":"IF('Access Point (Desc)'!G194=\"\",\"\",'Access Point (Desc)'!G194)","v":""},{"$f":"IF('Access Point (Desc)'!H194=\"\",\"\",'Access Point (Desc)'!H194)","v":""},{"$f":"IF('Access Point (Desc)'!I194=\"\",\"\",INDEX([1]ROUTE_MH_TYPE!$A$2:$A$100,MATCH('Access Point (Desc)'!$I194,[1]!MASTER_ROUTE_MH_TYPE_DESC[#Data],0),0))","v":""},{"$f":"IF('Access Point (Desc)'!J194=\"\",\"\",INDEX([1]MANHOLE_MTL!$A$2:$A$100,MATCH('Access Point (Desc)'!$J194,[1]!MASTER_MANHOLE_MTL_DESC[#Data],0),0))","v":""},{"$f":"IF('Access Point (Desc)'!K194=\"\",\"\",INDEX([1]MANHOLE_SIZE!$A$2:$A$120,MATCH('Access Point (Desc)'!$K194,[1]!MASTER_MANHOLE_SIZE_DESC[#Data],0),0))","v":""},{"$f":"IF('Access Point (Desc)'!L194=\"\",\"\",INDEX([1]ROUTE_MH_LID_TYPE!$A$2:$A$100,MATCH('Access Point (Desc)'!$L194,[1]!MASTER_ROUTE_MH_LID_TYPE_DESC[#Data],0),0))","v":""},{"$f":"IF('Access Point (Desc)'!M194=\"\",\"\",INDEX([1]MANHOLE_MTL!$A$2:$A$100,MATCH('Access Point (Desc)'!$M194,[1]!MASTER_MANHOLE_MTL_DESC[#Data],0),0))","v":""},{"$f":"IF('Access Point (Desc)'!N194=\"\",\"\",INDEX([1]LID_BOLT_TYPE!$A$2:$A$100,MATCH('Access Point (Desc)'!$N194,[1]!MASTER_LID_BOLT_TYPE_DESC[#Data],0),0))","v":""},{"$f":"IF('Access Point (Desc)'!O194=\"\",\"\",INDEX([1]YES_NO!$A$2:$A$100,MATCH('Access Point (Desc)'!$O194,[1]!MASTER_YES_NO_DESC[#Data],0),0))","v":""},{"$f":"IF('Access Point (Desc)'!P194=\"\",\"\",'Access Point (Desc)'!P194)","v":""},{"$f":"IF('Access Point (Desc)'!Q194=\"\",\"\",INDEX([1]YES_NO!$A$2:$A$100,MATCH('Access Point (Desc)'!$Q194,[1]!MASTER_YES_NO_DESC[#Data],0),0))","v":""}]
[{"$f":"IF('Access Point (Desc)'!A195=\"\",\"\",'Access Point (Desc)'!A195)","v":""},{"$f":"IF('Access Point (Desc)'!B195=\"\",\"\",'Access Point (Desc)'!B195)","v":""},{"$f":"IF('Access Point (Desc)'!C195=\"\",\"\",'Access Point (Desc)'!C195)","v":""},{"$f":"IF('Access Point (Desc)'!D195=\"\",\"\",'Access Point (Desc)'!D195)","v":""},{"$f":"IF('Access Point (Desc)'!E195=\"\",\"\",INDEX([1]OWNER!$A$2:$A$100,MATCH('Access Point (Desc)'!$E195,[1]!MASTER_OWNER_DESC[#Data],0),0))","v":""},{"$f":"IF('Access Point (Desc)'!F195=\"\",\"\",INDEX([1]COUNTY!$A$2:$A$100,MATCH('Access Point (Desc)'!F195,[1]!MASTER_COUNTY_NAME[#Data],0),0))","v":""},{"$f":"IF('Access Point (Desc)'!G195=\"\",\"\",'Access Point (Desc)'!G195)","v":""},{"$f":"IF('Access Point (Desc)'!H195=\"\",\"\",'Access Point (Desc)'!H195)","v":""},{"$f":"IF('Access Point (Desc)'!I195=\"\",\"\",INDEX([1]ROUTE_MH_TYPE!$A$2:$A$100,MATCH('Access Point (Desc)'!$I195,[1]!MASTER_ROUTE_MH_TYPE_DESC[#Data],0),0))","v":""},{"$f":"IF('Access Point (Desc)'!J195=\"\",\"\",INDEX([1]MANHOLE_MTL!$A$2:$A$100,MATCH('Access Point (Desc)'!$J195,[1]!MASTER_MANHOLE_MTL_DESC[#Data],0),0))","v":""},{"$f":"IF('Access Point (Desc)'!K195=\"\",\"\",INDEX([1]MANHOLE_SIZE!$A$2:$A$120,MATCH('Access Point (Desc)'!$K195,[1]!MASTER_MANHOLE_SIZE_DESC[#Data],0),0))","v":""},{"$f":"IF('Access Point (Desc)'!L195=\"\",\"\",INDEX([1]ROUTE_MH_LID_TYPE!$A$2:$A$100,MATCH('Access Point (Desc)'!$L195,[1]!MASTER_ROUTE_MH_LID_TYPE_DESC[#Data],0),0))","v":""},{"$f":"IF('Access Point (Desc)'!M195=\"\",\"\",INDEX([1]MANHOLE_MTL!$A$2:$A$100,MATCH('Access Point (Desc)'!$M195,[1]!MASTER_MANHOLE_MTL_DESC[#Data],0),0))","v":""},{"$f":"IF('Access Point (Desc)'!N195=\"\",\"\",INDEX([1]LID_BOLT_TYPE!$A$2:$A$100,MATCH('Access Point (Desc)'!$N195,[1]!MASTER_LID_BOLT_TYPE_DESC[#Data],0),0))","v":""},{"$f":"IF('Access Point (Desc)'!O195=\"\",\"\",INDEX([1]YES_NO!$A$2:$A$100,MATCH('Access Point (Desc)'!$O195,[1]!MASTER_YES_NO_DESC[#Data],0),0))","v":""},{"$f":"IF('Access Point (Desc)'!P195=\"\",\"\",'Access Point (Desc)'!P195)","v":""},{"$f":"IF('Access Point (Desc)'!Q195=\"\",\"\",INDEX([1]YES_NO!$A$2:$A$100,MATCH('Access Point (Desc)'!$Q195,[1]!MASTER_YES_NO_DESC[#Data],0),0))","v":""}]
[{"$f":"IF('Access Point (Desc)'!A196=\"\",\"\",'Access Point (Desc)'!A196)","v":""},{"$f":"IF('Access Point (Desc)'!B196=\"\",\"\",'Access Point (Desc)'!B196)","v":""},{"$f":"IF('Access Point (Desc)'!C196=\"\",\"\",'Access Point (Desc)'!C196)","v":""},{"$f":"IF('Access Point (Desc)'!D196=\"\",\"\",'Access Point (Desc)'!D196)","v":""},{"$f":"IF('Access Point (Desc)'!E196=\"\",\"\",INDEX([1]OWNER!$A$2:$A$100,MATCH('Access Point (Desc)'!$E196,[1]!MASTER_OWNER_DESC[#Data],0),0))","v":""},{"$f":"IF('Access Point (Desc)'!F196=\"\",\"\",INDEX([1]COUNTY!$A$2:$A$100,MATCH('Access Point (Desc)'!F196,[1]!MASTER_COUNTY_NAME[#Data],0),0))","v":""},{"$f":"IF('Access Point (Desc)'!G196=\"\",\"\",'Access Point (Desc)'!G196)","v":""},{"$f":"IF('Access Point (Desc)'!H196=\"\",\"\",'Access Point (Desc)'!H196)","v":""},{"$f":"IF('Access Point (Desc)'!I196=\"\",\"\",INDEX([1]ROUTE_MH_TYPE!$A$2:$A$100,MATCH('Access Point (Desc)'!$I196,[1]!MASTER_ROUTE_MH_TYPE_DESC[#Data],0),0))","v":""},{"$f":"IF('Access Point (Desc)'!J196=\"\",\"\",INDEX([1]MANHOLE_MTL!$A$2:$A$100,MATCH('Access Point (Desc)'!$J196,[1]!MASTER_MANHOLE_MTL_DESC[#Data],0),0))","v":""},{"$f":"IF('Access Point (Desc)'!K196=\"\",\"\",INDEX([1]MANHOLE_SIZE!$A$2:$A$120,MATCH('Access Point (Desc)'!$K196,[1]!MASTER_MANHOLE_SIZE_DESC[#Data],0),0))","v":""},{"$f":"IF('Access Point (Desc)'!L196=\"\",\"\",INDEX([1]ROUTE_MH_LID_TYPE!$A$2:$A$100,MATCH('Access Point (Desc)'!$L196,[1]!MASTER_ROUTE_MH_LID_TYPE_DESC[#Data],0),0))","v":""},{"$f":"IF('Access Point (Desc)'!M196=\"\",\"\",INDEX([1]MANHOLE_MTL!$A$2:$A$100,MATCH('Access Point (Desc)'!$M196,[1]!MASTER_MANHOLE_MTL_DESC[#Data],0),0))","v":""},{"$f":"IF('Access Point (Desc)'!N196=\"\",\"\",INDEX([1]LID_BOLT_TYPE!$A$2:$A$100,MATCH('Access Point (Desc)'!$N196,[1]!MASTER_LID_BOLT_TYPE_DESC[#Data],0),0))","v":""},{"$f":"IF('Access Point (Desc)'!O196=\"\",\"\",INDEX([1]YES_NO!$A$2:$A$100,MATCH('Access Point (Desc)'!$O196,[1]!MASTER_YES_NO_DESC[#Data],0),0))","v":""},{"$f":"IF('Access Point (Desc)'!P196=\"\",\"\",'Access Point (Desc)'!P196)","v":""},{"$f":"IF('Access Point (Desc)'!Q196=\"\",\"\",INDEX([1]YES_NO!$A$2:$A$100,MATCH('Access Point (Desc)'!$Q196,[1]!MASTER_YES_NO_DESC[#Data],0),0))","v":""}]
[{"$f":"IF('Access Point (Desc)'!A197=\"\",\"\",'Access Point (Desc)'!A197)","v":""},{"$f":"IF('Access Point (Desc)'!B197=\"\",\"\",'Access Point (Desc)'!B197)","v":""},{"$f":"IF('Access Point (Desc)'!C197=\"\",\"\",'Access Point (Desc)'!C197)","v":""},{"$f":"IF('Access Point (Desc)'!D197=\"\",\"\",'Access Point (Desc)'!D197)","v":""},{"$f":"IF('Access Point (Desc)'!E197=\"\",\"\",INDEX([1]OWNER!$A$2:$A$100,MATCH('Access Point (Desc)'!$E197,[1]!MASTER_OWNER_DESC[#Data],0),0))","v":""},{"$f":"IF('Access Point (Desc)'!F197=\"\",\"\",INDEX([1]COUNTY!$A$2:$A$100,MATCH('Access Point (Desc)'!F197,[1]!MASTER_COUNTY_NAME[#Data],0),0))","v":""},{"$f":"IF('Access Point (Desc)'!G197=\"\",\"\",'Access Point (Desc)'!G197)","v":""},{"$f":"IF('Access Point (Desc)'!H197=\"\",\"\",'Access Point (Desc)'!H197)","v":""},{"$f":"IF('Access Point (Desc)'!I197=\"\",\"\",INDEX([1]ROUTE_MH_TYPE!$A$2:$A$100,MATCH('Access Point (Desc)'!$I197,[1]!MASTER_ROUTE_MH_TYPE_DESC[#Data],0),0))","v":""},{"$f":"IF('Access Point (Desc)'!J197=\"\",\"\",INDEX([1]MANHOLE_MTL!$A$2:$A$100,MATCH('Access Point (Desc)'!$J197,[1]!MASTER_MANHOLE_MTL_DESC[#Data],0),0))","v":""},{"$f":"IF('Access Point (Desc)'!K197=\"\",\"\",INDEX([1]MANHOLE_SIZE!$A$2:$A$120,MATCH('Access Point (Desc)'!$K197,[1]!MASTER_MANHOLE_SIZE_DESC[#Data],0),0))","v":""},{"$f":"IF('Access Point (Desc)'!L197=\"\",\"\",INDEX([1]ROUTE_MH_LID_TYPE!$A$2:$A$100,MATCH('Access Point (Desc)'!$L197,[1]!MASTER_ROUTE_MH_LID_TYPE_DESC[#Data],0),0))","v":""},{"$f":"IF('Access Point (Desc)'!M197=\"\",\"\",INDEX([1]MANHOLE_MTL!$A$2:$A$100,MATCH('Access Point (Desc)'!$M197,[1]!MASTER_MANHOLE_MTL_DESC[#Data],0),0))","v":""},{"$f":"IF('Access Point (Desc)'!N197=\"\",\"\",INDEX([1]LID_BOLT_TYPE!$A$2:$A$100,MATCH('Access Point (Desc)'!$N197,[1]!MASTER_LID_BOLT_TYPE_DESC[#Data],0),0))","v":""},{"$f":"IF('Access Point (Desc)'!O197=\"\",\"\",INDEX([1]YES_NO!$A$2:$A$100,MATCH('Access Point (Desc)'!$O197,[1]!MASTER_YES_NO_DESC[#Data],0),0))","v":""},{"$f":"IF('Access Point (Desc)'!P197=\"\",\"\",'Access Point (Desc)'!P197)","v":""},{"$f":"IF('Access Point (Desc)'!Q197=\"\",\"\",INDEX([1]YES_NO!$A$2:$A$100,MATCH('Access Point (Desc)'!$Q197,[1]!MASTER_YES_NO_DESC[#Data],0),0))","v":""}]
[{"$f":"IF('Access Point (Desc)'!A198=\"\",\"\",'Access Point (Desc)'!A198)","v":""},{"$f":"IF('Access Point (Desc)'!B198=\"\",\"\",'Access Point (Desc)'!B198)","v":""},{"$f":"IF('Access Point (Desc)'!C198=\"\",\"\",'Access Point (Desc)'!C198)","v":""},{"$f":"IF('Access Point (Desc)'!D198=\"\",\"\",'Access Point (Desc)'!D198)","v":""},{"$f":"IF('Access Point (Desc)'!E198=\"\",\"\",INDEX([1]OWNER!$A$2:$A$100,MATCH('Access Point (Desc)'!$E198,[1]!MASTER_OWNER_DESC[#Data],0),0))","v":""},{"$f":"IF('Access Point (Desc)'!F198=\"\",\"\",INDEX([1]COUNTY!$A$2:$A$100,MATCH('Access Point (Desc)'!F198,[1]!MASTER_COUNTY_NAME[#Data],0),0))","v":""},{"$f":"IF('Access Point (Desc)'!G198=\"\",\"\",'Access Point (Desc)'!G198)","v":""},{"$f":"IF('Access Point (Desc)'!H198=\"\",\"\",'Access Point (Desc)'!H198)","v":""},{"$f":"IF('Access Point (Desc)'!I198=\"\",\"\",INDEX([1]ROUTE_MH_TYPE!$A$2:$A$100,MATCH('Access Point (Desc)'!$I198,[1]!MASTER_ROUTE_MH_TYPE_DESC[#Data],0),0))","v":""},{"$f":"IF('Access Point (Desc)'!J198=\"\",\"\",INDEX([1]MANHOLE_MTL!$A$2:$A$100,MATCH('Access Point (Desc)'!$J198,[1]!MASTER_MANHOLE_MTL_DESC[#Data],0),0))","v":""},{"$f":"IF('Access Point (Desc)'!K198=\"\",\"\",INDEX([1]MANHOLE_SIZE!$A$2:$A$120,MATCH('Access Point (Desc)'!$K198,[1]!MASTER_MANHOLE_SIZE_DESC[#Data],0),0))","v":""},{"$f":"IF('Access Point (Desc)'!L198=\"\",\"\",INDEX([1]ROUTE_MH_LID_TYPE!$A$2:$A$100,MATCH('Access Point (Desc)'!$L198,[1]!MASTER_ROUTE_MH_LID_TYPE_DESC[#Data],0),0))","v":""},{"$f":"IF('Access Point (Desc)'!M198=\"\",\"\",INDEX([1]MANHOLE_MTL!$A$2:$A$100,MATCH('Access Point (Desc)'!$M198,[1]!MASTER_MANHOLE_MTL_DESC[#Data],0),0))","v":""},{"$f":"IF('Access Point (Desc)'!N198=\"\",\"\",INDEX([1]LID_BOLT_TYPE!$A$2:$A$100,MATCH('Access Point (Desc)'!$N198,[1]!MASTER_LID_BOLT_TYPE_DESC[#Data],0),0))","v":""},{"$f":"IF('Access Point (Desc)'!O198=\"\",\"\",INDEX([1]YES_NO!$A$2:$A$100,MATCH('Access Point (Desc)'!$O198,[1]!MASTER_YES_NO_DESC[#Data],0),0))","v":""},{"$f":"IF('Access Point (Desc)'!P198=\"\",\"\",'Access Point (Desc)'!P198)","v":""},{"$f":"IF('Access Point (Desc)'!Q198=\"\",\"\",INDEX([1]YES_NO!$A$2:$A$100,MATCH('Access Point (Desc)'!$Q198,[1]!MASTER_YES_NO_DESC[#Data],0),0))","v":""}]
[{"$f":"IF('Access Point (Desc)'!A199=\"\",\"\",'Access Point (Desc)'!A199)","v":""},{"$f":"IF('Access Point (Desc)'!B199=\"\",\"\",'Access Point (Desc)'!B199)","v":""},{"$f":"IF('Access Point (Desc)'!C199=\"\",\"\",'Access Point (Desc)'!C199)","v":""},{"$f":"IF('Access Point (Desc)'!D199=\"\",\"\",'Access Point (Desc)'!D199)","v":""},{"$f":"IF('Access Point (Desc)'!E199=\"\",\"\",INDEX([1]OWNER!$A$2:$A$100,MATCH('Access Point (Desc)'!$E199,[1]!MASTER_OWNER_DESC[#Data],0),0))","v":""},{"$f":"IF('Access Point (Desc)'!F199=\"\",\"\",INDEX([1]COUNTY!$A$2:$A$100,MATCH('Access Point (Desc)'!F199,[1]!MASTER_COUNTY_NAME[#Data],0),0))","v":""},{"$f":"IF('Access Point (Desc)'!G199=\"\",\"\",'Access Point (Desc)'!G199)","v":""},{"$f":"IF('Access Point (Desc)'!H199=\"\",\"\",'Access Point (Desc)'!H199)","v":""},{"$f":"IF('Access Point (Desc)'!I199=\"\",\"\",INDEX([1]ROUTE_MH_TYPE!$A$2:$A$100,MATCH('Access Point (Desc)'!$I199,[1]!MASTER_ROUTE_MH_TYPE_DESC[#Data],0),0))","v":""},{"$f":"IF('Access Point (Desc)'!J199=\"\",\"\",INDEX([1]MANHOLE_MTL!$A$2:$A$100,MATCH('Access Point (Desc)'!$J199,[1]!MASTER_MANHOLE_MTL_DESC[#Data],0),0))","v":""},{"$f":"IF('Access Point (Desc)'!K199=\"\",\"\",INDEX([1]MANHOLE_SIZE!$A$2:$A$120,MATCH('Access Point (Desc)'!$K199,[1]!MASTER_MANHOLE_SIZE_DESC[#Data],0),0))","v":""},{"$f":"IF('Access Point (Desc)'!L199=\"\",\"\",INDEX([1]ROUTE_MH_LID_TYPE!$A$2:$A$100,MATCH('Access Point (Desc)'!$L199,[1]!MASTER_ROUTE_MH_LID_TYPE_DESC[#Data],0),0))","v":""},{"$f":"IF('Access Point (Desc)'!M199=\"\",\"\",INDEX([1]MANHOLE_MTL!$A$2:$A$100,MATCH('Access Point (Desc)'!$M199,[1]!MASTER_MANHOLE_MTL_DESC[#Data],0),0))","v":""},{"$f":"IF('Access Point (Desc)'!N199=\"\",\"\",INDEX([1]LID_BOLT_TYPE!$A$2:$A$100,MATCH('Access Point (Desc)'!$N199,[1]!MASTER_LID_BOLT_TYPE_DESC[#Data],0),0))","v":""},{"$f":"IF('Access Point (Desc)'!O199=\"\",\"\",INDEX([1]YES_NO!$A$2:$A$100,MATCH('Access Point (Desc)'!$O199,[1]!MASTER_YES_NO_DESC[#Data],0),0))","v":""},{"$f":"IF('Access Point (Desc)'!P199=\"\",\"\",'Access Point (Desc)'!P199)","v":""},{"$f":"IF('Access Point (Desc)'!Q199=\"\",\"\",INDEX([1]YES_NO!$A$2:$A$100,MATCH('Access Point (Desc)'!$Q199,[1]!MASTER_YES_NO_DESC[#Data],0),0))","v":""}]
[{"$f":"IF('Access Point (Desc)'!A200=\"\",\"\",'Access Point (Desc)'!A200)","v":""},{"$f":"IF('Access Point (Desc)'!B200=\"\",\"\",'Access Point (Desc)'!B200)","v":""},{"$f":"IF('Access Point (Desc)'!C200=\"\",\"\",'Access Point (Desc)'!C200)","v":""},{"$f":"IF('Access Point (Desc)'!D200=\"\",\"\",'Access Point (Desc)'!D200)","v":""},{"$f":"IF('Access Point (Desc)'!E200=\"\",\"\",INDEX([1]OWNER!$A$2:$A$100,MATCH('Access Point (Desc)'!$E200,[1]!MASTER_OWNER_DESC[#Data],0),0))","v":""},{"$f":"IF('Access Point (Desc)'!F200=\"\",\"\",INDEX([1]COUNTY!$A$2:$A$100,MATCH('Access Point (Desc)'!F200,[1]!MASTER_COUNTY_NAME[#Data],0),0))","v":""},{"$f":"IF('Access Point (Desc)'!G200=\"\",\"\",'Access Point (Desc)'!G200)","v":""},{"$f":"IF('Access Point (Desc)'!H200=\"\",\"\",'Access Point (Desc)'!H200)","v":""},{"$f":"IF('Access Point (Desc)'!I200=\"\",\"\",INDEX([1]ROUTE_MH_TYPE!$A$2:$A$100,MATCH('Access Point (Desc)'!$I200,[1]!MASTER_ROUTE_MH_TYPE_DESC[#Data],0),0))","v":""},{"$f":"IF('Access Point (Desc)'!J200=\"\",\"\",INDEX([1]MANHOLE_MTL!$A$2:$A$100,MATCH('Access Point (Desc)'!$J200,[1]!MASTER_MANHOLE_MTL_DESC[#Data],0),0))","v":""},{"$f":"IF('Access Point (Desc)'!K200=\"\",\"\",INDEX([1]MANHOLE_SIZE!$A$2:$A$120,MATCH('Access Point (Desc)'!$K200,[1]!MASTER_MANHOLE_SIZE_DESC[#Data],0),0))","v":""},{"$f":"IF('Access Point (Desc)'!L200=\"\",\"\",INDEX([1]ROUTE_MH_LID_TYPE!$A$2:$A$100,MATCH('Access Point (Desc)'!$L200,[1]!MASTER_ROUTE_MH_LID_TYPE_DESC[#Data],0),0))","v":""},{"$f":"IF('Access Point (Desc)'!M200=\"\",\"\",INDEX([1]MANHOLE_MTL!$A$2:$A$100,MATCH('Access Point (Desc)'!$M200,[1]!MASTER_MANHOLE_MTL_DESC[#Data],0),0))","v":""},{"$f":"IF('Access Point (Desc)'!N200=\"\",\"\",INDEX([1]LID_BOLT_TYPE!$A$2:$A$100,MATCH('Access Point (Desc)'!$N200,[1]!MASTER_LID_BOLT_TYPE_DESC[#Data],0),0))","v":""},{"$f":"IF('Access Point (Desc)'!O200=\"\",\"\",INDEX([1]YES_NO!$A$2:$A$100,MATCH('Access Point (Desc)'!$O200,[1]!MASTER_YES_NO_DESC[#Data],0),0))","v":""},{"$f":"IF('Access Point (Desc)'!P200=\"\",\"\",'Access Point (Desc)'!P200)","v":""},{"$f":"IF('Access Point (Desc)'!Q200=\"\",\"\",INDEX([1]YES_NO!$A$2:$A$100,MATCH('Access Point (Desc)'!$Q200,[1]!MASTER_YES_NO_DESC[#Data],0),0))","v":""}]
[{"$f":"IF('Access Point (Desc)'!A201=\"\",\"\",'Access Point (Desc)'!A201)","v":""},{"$f":"IF('Access Point (Desc)'!B201=\"\",\"\",'Access Point (Desc)'!B201)","v":""},{"$f":"IF('Access Point (Desc)'!C201=\"\",\"\",'Access Point (Desc)'!C201)","v":""},{"$f":"IF('Access Point (Desc)'!D201=\"\",\"\",'Access Point (Desc)'!D201)","v":""},{"$f":"IF('Access Point (Desc)'!E201=\"\",\"\",INDEX([1]OWNER!$A$2:$A$100,MATCH('Access Point (Desc)'!$E201,[1]!MASTER_OWNER_DESC[#Data],0),0))","v":""},{"$f":"IF('Access Point (Desc)'!F201=\"\",\"\",INDEX([1]COUNTY!$A$2:$A$100,MATCH('Access Point (Desc)'!F201,[1]!MASTER_COUNTY_NAME[#Data],0),0))","v":""},{"$f":"IF('Access Point (Desc)'!G201=\"\",\"\",'Access Point (Desc)'!G201)","v":""},{"$f":"IF('Access Point (Desc)'!H201=\"\",\"\",'Access Point (Desc)'!H201)","v":""},{"$f":"IF('Access Point (Desc)'!I201=\"\",\"\",INDEX([1]ROUTE_MH_TYPE!$A$2:$A$100,MATCH('Access Point (Desc)'!$I201,[1]!MASTER_ROUTE_MH_TYPE_DESC[#Data],0),0))","v":""},{"$f":"IF('Access Point (Desc)'!J201=\"\",\"\",INDEX([1]MANHOLE_MTL!$A$2:$A$100,MATCH('Access Point (Desc)'!$J201,[1]!MASTER_MANHOLE_MTL_DESC[#Data],0),0))","v":""},{"$f":"IF('Access Point (Desc)'!K201=\"\",\"\",INDEX([1]MANHOLE_SIZE!$A$2:$A$120,MATCH('Access Point (Desc)'!$K201,[1]!MASTER_MANHOLE_SIZE_DESC[#Data],0),0))","v":""},{"$f":"IF('Access Point (Desc)'!L201=\"\",\"\",INDEX([1]ROUTE_MH_LID_TYPE!$A$2:$A$100,MATCH('Access Point (Desc)'!$L201,[1]!MASTER_ROUTE_MH_LID_TYPE_DESC[#Data],0),0))","v":""},{"$f":"IF('Access Point (Desc)'!M201=\"\",\"\",INDEX([1]MANHOLE_MTL!$A$2:$A$100,MATCH('Access Point (Desc)'!$M201,[1]!MASTER_MANHOLE_MTL_DESC[#Data],0),0))","v":""},{"$f":"IF('Access Point (Desc)'!N201=\"\",\"\",INDEX([1]LID_BOLT_TYPE!$A$2:$A$100,MATCH('Access Point (Desc)'!$N201,[1]!MASTER_LID_BOLT_TYPE_DESC[#Data],0),0))","v":""},{"$f":"IF('Access Point (Desc)'!O201=\"\",\"\",INDEX([1]YES_NO!$A$2:$A$100,MATCH('Access Point (Desc)'!$O201,[1]!MASTER_YES_NO_DESC[#Data],0),0))","v":""},{"$f":"IF('Access Point (Desc)'!P201=\"\",\"\",'Access Point (Desc)'!P201)","v":""},{"$f":"IF('Access Point (Desc)'!Q201=\"\",\"\",INDEX([1]YES_NO!$A$2:$A$100,MATCH('Access Point (Desc)'!$Q201,[1]!MASTER_YES_NO_DESC[#Data],0),0))","v":""}]
[{"$f":"IF('Access Point (Desc)'!A202=\"\",\"\",'Access Point (Desc)'!A202)","v":""},{"$f":"IF('Access Point (Desc)'!B202=\"\",\"\",'Access Point (Desc)'!B202)","v":""},{"$f":"IF('Access Point (Desc)'!C202=\"\",\"\",'Access Point (Desc)'!C202)","v":""},{"$f":"IF('Access Point (Desc)'!D202=\"\",\"\",'Access Point (Desc)'!D202)","v":""},{"$f":"IF('Access Point (Desc)'!E202=\"\",\"\",INDEX([1]OWNER!$A$2:$A$100,MATCH('Access Point (Desc)'!$E202,[1]!MASTER_OWNER_DESC[#Data],0),0))","v":""},{"$f":"IF('Access Point (Desc)'!F202=\"\",\"\",INDEX([1]COUNTY!$A$2:$A$100,MATCH('Access Point (Desc)'!F202,[1]!MASTER_COUNTY_NAME[#Data],0),0))","v":""},{"$f":"IF('Access Point (Desc)'!G202=\"\",\"\",'Access Point (Desc)'!G202)","v":""},{"$f":"IF('Access Point (Desc)'!H202=\"\",\"\",'Access Point (Desc)'!H202)","v":""},{"$f":"IF('Access Point (Desc)'!I202=\"\",\"\",INDEX([1]ROUTE_MH_TYPE!$A$2:$A$100,MATCH('Access Point (Desc)'!$I202,[1]!MASTER_ROUTE_MH_TYPE_DESC[#Data],0),0))","v":""},{"$f":"IF('Access Point (Desc)'!J202=\"\",\"\",INDEX([1]MANHOLE_MTL!$A$2:$A$100,MATCH('Access Point (Desc)'!$J202,[1]!MASTER_MANHOLE_MTL_DESC[#Data],0),0))","v":""},{"$f":"IF('Access Point (Desc)'!K202=\"\",\"\",INDEX([1]MANHOLE_SIZE!$A$2:$A$120,MATCH('Access Point (Desc)'!$K202,[1]!MASTER_MANHOLE_SIZE_DESC[#Data],0),0))","v":""},{"$f":"IF('Access Point (Desc)'!L202=\"\",\"\",INDEX([1]ROUTE_MH_LID_TYPE!$A$2:$A$100,MATCH('Access Point (Desc)'!$L202,[1]!MASTER_ROUTE_MH_LID_TYPE_DESC[#Data],0),0))","v":""},{"$f":"IF('Access Point (Desc)'!M202=\"\",\"\",INDEX([1]MANHOLE_MTL!$A$2:$A$100,MATCH('Access Point (Desc)'!$M202,[1]!MASTER_MANHOLE_MTL_DESC[#Data],0),0))","v":""},{"$f":"IF('Access Point (Desc)'!N202=\"\",\"\",INDEX([1]LID_BOLT_TYPE!$A$2:$A$100,MATCH('Access Point (Desc)'!$N202,[1]!MASTER_LID_BOLT_TYPE_DESC[#Data],0),0))","v":""},{"$f":"IF('Access Point (Desc)'!O202=\"\",\"\",INDEX([1]YES_NO!$A$2:$A$100,MATCH('Access Point (Desc)'!$O202,[1]!MASTER_YES_NO_DESC[#Data],0),0))","v":""},{"$f":"IF('Access Point (Desc)'!P202=\"\",\"\",'Access Point (Desc)'!P202)","v":""},{"$f":"IF('Access Point (Desc)'!Q202=\"\",\"\",INDEX([1]YES_NO!$A$2:$A$100,MATCH('Access Point (Desc)'!$Q202,[1]!MASTER_YES_NO_DESC[#Data],0),0))","v":""}]
[{"$f":"IF('Access Point (Desc)'!A203=\"\",\"\",'Access Point (Desc)'!A203)","v":""},{"$f":"IF('Access Point (Desc)'!B203=\"\",\"\",'Access Point (Desc)'!B203)","v":""},{"$f":"IF('Access Point (Desc)'!C203=\"\",\"\",'Access Point (Desc)'!C203)","v":""},{"$f":"IF('Access Point (Desc)'!D203=\"\",\"\",'Access Point (Desc)'!D203)","v":""},{"$f":"IF('Access Point (Desc)'!E203=\"\",\"\",INDEX([1]OWNER!$A$2:$A$100,MATCH('Access Point (Desc)'!$E203,[1]!MASTER_OWNER_DESC[#Data],0),0))","v":""},{"$f":"IF('Access Point (Desc)'!F203=\"\",\"\",INDEX([1]COUNTY!$A$2:$A$100,MATCH('Access Point (Desc)'!F203,[1]!MASTER_COUNTY_NAME[#Data],0),0))","v":""},{"$f":"IF('Access Point (Desc)'!G203=\"\",\"\",'Access Point (Desc)'!G203)","v":""},{"$f":"IF('Access Point (Desc)'!H203=\"\",\"\",'Access Point (Desc)'!H203)","v":""},{"$f":"IF('Access Point (Desc)'!I203=\"\",\"\",INDEX([1]ROUTE_MH_TYPE!$A$2:$A$100,MATCH('Access Point (Desc)'!$I203,[1]!MASTER_ROUTE_MH_TYPE_DESC[#Data],0),0))","v":""},{"$f":"IF('Access Point (Desc)'!J203=\"\",\"\",INDEX([1]MANHOLE_MTL!$A$2:$A$100,MATCH('Access Point (Desc)'!$J203,[1]!MASTER_MANHOLE_MTL_DESC[#Data],0),0))","v":""},{"$f":"IF('Access Point (Desc)'!K203=\"\",\"\",INDEX([1]MANHOLE_SIZE!$A$2:$A$120,MATCH('Access Point (Desc)'!$K203,[1]!MASTER_MANHOLE_SIZE_DESC[#Data],0),0))","v":""},{"$f":"IF('Access Point (Desc)'!L203=\"\",\"\",INDEX([1]ROUTE_MH_LID_TYPE!$A$2:$A$100,MATCH('Access Point (Desc)'!$L203,[1]!MASTER_ROUTE_MH_LID_TYPE_DESC[#Data],0),0))","v":""},{"$f":"IF('Access Point (Desc)'!M203=\"\",\"\",INDEX([1]MANHOLE_MTL!$A$2:$A$100,MATCH('Access Point (Desc)'!$M203,[1]!MASTER_MANHOLE_MTL_DESC[#Data],0),0))","v":""},{"$f":"IF('Access Point (Desc)'!N203=\"\",\"\",INDEX([1]LID_BOLT_TYPE!$A$2:$A$100,MATCH('Access Point (Desc)'!$N203,[1]!MASTER_LID_BOLT_TYPE_DESC[#Data],0),0))","v":""},{"$f":"IF('Access Point (Desc)'!O203=\"\",\"\",INDEX([1]YES_NO!$A$2:$A$100,MATCH('Access Point (Desc)'!$O203,[1]!MASTER_YES_NO_DESC[#Data],0),0))","v":""},{"$f":"IF('Access Point (Desc)'!P203=\"\",\"\",'Access Point (Desc)'!P203)","v":""},{"$f":"IF('Access Point (Desc)'!Q203=\"\",\"\",INDEX([1]YES_NO!$A$2:$A$100,MATCH('Access Point (Desc)'!$Q203,[1]!MASTER_YES_NO_DESC[#Data],0),0))","v":""}]
[{"$f":"IF('Access Point (Desc)'!A204=\"\",\"\",'Access Point (Desc)'!A204)","v":""},{"$f":"IF('Access Point (Desc)'!B204=\"\",\"\",'Access Point (Desc)'!B204)","v":""},{"$f":"IF('Access Point (Desc)'!C204=\"\",\"\",'Access Point (Desc)'!C204)","v":""},{"$f":"IF('Access Point (Desc)'!D204=\"\",\"\",'Access Point (Desc)'!D204)","v":""},{"$f":"IF('Access Point (Desc)'!E204=\"\",\"\",INDEX([1]OWNER!$A$2:$A$100,MATCH('Access Point (Desc)'!$E204,[1]!MASTER_OWNER_DESC[#Data],0),0))","v":""},{"$f":"IF('Access Point (Desc)'!F204=\"\",\"\",INDEX([1]COUNTY!$A$2:$A$100,MATCH('Access Point (Desc)'!F204,[1]!MASTER_COUNTY_NAME[#Data],0),0))","v":""},{"$f":"IF('Access Point (Desc)'!G204=\"\",\"\",'Access Point (Desc)'!G204)","v":""},{"$f":"IF('Access Point (Desc)'!H204=\"\",\"\",'Access Point (Desc)'!H204)","v":""},{"$f":"IF('Access Point (Desc)'!I204=\"\",\"\",INDEX([1]ROUTE_MH_TYPE!$A$2:$A$100,MATCH('Access Point (Desc)'!$I204,[1]!MASTER_ROUTE_MH_TYPE_DESC[#Data],0),0))","v":""},{"$f":"IF('Access Point (Desc)'!J204=\"\",\"\",INDEX([1]MANHOLE_MTL!$A$2:$A$100,MATCH('Access Point (Desc)'!$J204,[1]!MASTER_MANHOLE_MTL_DESC[#Data],0),0))","v":""},{"$f":"IF('Access Point (Desc)'!K204=\"\",\"\",INDEX([1]MANHOLE_SIZE!$A$2:$A$120,MATCH('Access Point (Desc)'!$K204,[1]!MASTER_MANHOLE_SIZE_DESC[#Data],0),0))","v":""},{"$f":"IF('Access Point (Desc)'!L204=\"\",\"\",INDEX([1]ROUTE_MH_LID_TYPE!$A$2:$A$100,MATCH('Access Point (Desc)'!$L204,[1]!MASTER_ROUTE_MH_LID_TYPE_DESC[#Data],0),0))","v":""},{"$f":"IF('Access Point (Desc)'!M204=\"\",\"\",INDEX([1]MANHOLE_MTL!$A$2:$A$100,MATCH('Access Point (Desc)'!$M204,[1]!MASTER_MANHOLE_MTL_DESC[#Data],0),0))","v":""},{"$f":"IF('Access Point (Desc)'!N204=\"\",\"\",INDEX([1]LID_BOLT_TYPE!$A$2:$A$100,MATCH('Access Point (Desc)'!$N204,[1]!MASTER_LID_BOLT_TYPE_DESC[#Data],0),0))","v":""},{"$f":"IF('Access Point (Desc)'!O204=\"\",\"\",INDEX([1]YES_NO!$A$2:$A$100,MATCH('Access Point (Desc)'!$O204,[1]!MASTER_YES_NO_DESC[#Data],0),0))","v":""},{"$f":"IF('Access Point (Desc)'!P204=\"\",\"\",'Access Point (Desc)'!P204)","v":""},{"$f":"IF('Access Point (Desc)'!Q204=\"\",\"\",INDEX([1]YES_NO!$A$2:$A$100,MATCH('Access Point (Desc)'!$Q204,[1]!MASTER_YES_NO_DESC[#Data],0),0))","v":""}]
[{"$f":"IF('Access Point (Desc)'!A205=\"\",\"\",'Access Point (Desc)'!A205)","v":""},{"$f":"IF('Access Point (Desc)'!B205=\"\",\"\",'Access Point (Desc)'!B205)","v":""},{"$f":"IF('Access Point (Desc)'!C205=\"\",\"\",'Access Point (Desc)'!C205)","v":""},{"$f":"IF('Access Point (Desc)'!D205=\"\",\"\",'Access Point (Desc)'!D205)","v":""},{"$f":"IF('Access Point (Desc)'!E205=\"\",\"\",INDEX([1]OWNER!$A$2:$A$100,MATCH('Access Point (Desc)'!$E205,[1]!MASTER_OWNER_DESC[#Data],0),0))","v":""},{"$f":"IF('Access Point (Desc)'!F205=\"\",\"\",INDEX([1]COUNTY!$A$2:$A$100,MATCH('Access Point (Desc)'!F205,[1]!MASTER_COUNTY_NAME[#Data],0),0))","v":""},{"$f":"IF('Access Point (Desc)'!G205=\"\",\"\",'Access Point (Desc)'!G205)","v":""},{"$f":"IF('Access Point (Desc)'!H205=\"\",\"\",'Access Point (Desc)'!H205)","v":""},{"$f":"IF('Access Point (Desc)'!I205=\"\",\"\",INDEX([1]ROUTE_MH_TYPE!$A$2:$A$100,MATCH('Access Point (Desc)'!$I205,[1]!MASTER_ROUTE_MH_TYPE_DESC[#Data],0),0))","v":""},{"$f":"IF('Access Point (Desc)'!J205=\"\",\"\",INDEX([1]MANHOLE_MTL!$A$2:$A$100,MATCH('Access Point (Desc)'!$J205,[1]!MASTER_MANHOLE_MTL_DESC[#Data],0),0))","v":""},{"$f":"IF('Access Point (Desc)'!K205=\"\",\"\",INDEX([1]MANHOLE_SIZE!$A$2:$A$120,MATCH('Access Point (Desc)'!$K205,[1]!MASTER_MANHOLE_SIZE_DESC[#Data],0),0))","v":""},{"$f":"IF('Access Point (Desc)'!L205=\"\",\"\",INDEX([1]ROUTE_MH_LID_TYPE!$A$2:$A$100,MATCH('Access Point (Desc)'!$L205,[1]!MASTER_ROUTE_MH_LID_TYPE_DESC[#Data],0),0))","v":""},{"$f":"IF('Access Point (Desc)'!M205=\"\",\"\",INDEX([1]MANHOLE_MTL!$A$2:$A$100,MATCH('Access Point (Desc)'!$M205,[1]!MASTER_MANHOLE_MTL_DESC[#Data],0),0))","v":""},{"$f":"IF('Access Point (Desc)'!N205=\"\",\"\",INDEX([1]LID_BOLT_TYPE!$A$2:$A$100,MATCH('Access Point (Desc)'!$N205,[1]!MASTER_LID_BOLT_TYPE_DESC[#Data],0),0))","v":""},{"$f":"IF('Access Point (Desc)'!O205=\"\",\"\",INDEX([1]YES_NO!$A$2:$A$100,MATCH('Access Point (Desc)'!$O205,[1]!MASTER_YES_NO_DESC[#Data],0),0))","v":""},{"$f":"IF('Access Point (Desc)'!P205=\"\",\"\",'Access Point (Desc)'!P205)","v":""},{"$f":"IF('Access Point (Desc)'!Q205=\"\",\"\",INDEX([1]YES_NO!$A$2:$A$100,MATCH('Access Point (Desc)'!$Q205,[1]!MASTER_YES_NO_DESC[#Data],0),0))","v":""}]
[{"$f":"IF('Access Point (Desc)'!A206=\"\",\"\",'Access Point (Desc)'!A206)","v":""},{"$f":"IF('Access Point (Desc)'!B206=\"\",\"\",'Access Point (Desc)'!B206)","v":""},{"$f":"IF('Access Point (Desc)'!C206=\"\",\"\",'Access Point (Desc)'!C206)","v":""},{"$f":"IF('Access Point (Desc)'!D206=\"\",\"\",'Access Point (Desc)'!D206)","v":""},{"$f":"IF('Access Point (Desc)'!E206=\"\",\"\",INDEX([1]OWNER!$A$2:$A$100,MATCH('Access Point (Desc)'!$E206,[1]!MASTER_OWNER_DESC[#Data],0),0))","v":""},{"$f":"IF('Access Point (Desc)'!F206=\"\",\"\",INDEX([1]COUNTY!$A$2:$A$100,MATCH('Access Point (Desc)'!F206,[1]!MASTER_COUNTY_NAME[#Data],0),0))","v":""},{"$f":"IF('Access Point (Desc)'!G206=\"\",\"\",'Access Point (Desc)'!G206)","v":""},{"$f":"IF('Access Point (Desc)'!H206=\"\",\"\",'Access Point (Desc)'!H206)","v":""},{"$f":"IF('Access Point (Desc)'!I206=\"\",\"\",INDEX([1]ROUTE_MH_TYPE!$A$2:$A$100,MATCH('Access Point (Desc)'!$I206,[1]!MASTER_ROUTE_MH_TYPE_DESC[#Data],0),0))","v":""},{"$f":"IF('Access Point (Desc)'!J206=\"\",\"\",INDEX([1]MANHOLE_MTL!$A$2:$A$100,MATCH('Access Point (Desc)'!$J206,[1]!MASTER_MANHOLE_MTL_DESC[#Data],0),0))","v":""},{"$f":"IF('Access Point (Desc)'!K206=\"\",\"\",INDEX([1]MANHOLE_SIZE!$A$2:$A$120,MATCH('Access Point (Desc)'!$K206,[1]!MASTER_MANHOLE_SIZE_DESC[#Data],0),0))","v":""},{"$f":"IF('Access Point (Desc)'!L206=\"\",\"\",INDEX([1]ROUTE_MH_LID_TYPE!$A$2:$A$100,MATCH('Access Point (Desc)'!$L206,[1]!MASTER_ROUTE_MH_LID_TYPE_DESC[#Data],0),0))","v":""},{"$f":"IF('Access Point (Desc)'!M206=\"\",\"\",INDEX([1]MANHOLE_MTL!$A$2:$A$100,MATCH('Access Point (Desc)'!$M206,[1]!MASTER_MANHOLE_MTL_DESC[#Data],0),0))","v":""},{"$f":"IF('Access Point (Desc)'!N206=\"\",\"\",INDEX([1]LID_BOLT_TYPE!$A$2:$A$100,MATCH('Access Point (Desc)'!$N206,[1]!MASTER_LID_BOLT_TYPE_DESC[#Data],0),0))","v":""},{"$f":"IF('Access Point (Desc)'!O206=\"\",\"\",INDEX([1]YES_NO!$A$2:$A$100,MATCH('Access Point (Desc)'!$O206,[1]!MASTER_YES_NO_DESC[#Data],0),0))","v":""},{"$f":"IF('Access Point (Desc)'!P206=\"\",\"\",'Access Point (Desc)'!P206)","v":""},{"$f":"IF('Access Point (Desc)'!Q206=\"\",\"\",INDEX([1]YES_NO!$A$2:$A$100,MATCH('Access Point (Desc)'!$Q206,[1]!MASTER_YES_NO_DESC[#Data],0),0))","v":""}]
[{"$f":"IF('Access Point (Desc)'!A207=\"\",\"\",'Access Point (Desc)'!A207)","v":""},{"$f":"IF('Access Point (Desc)'!B207=\"\",\"\",'Access Point (Desc)'!B207)","v":""},{"$f":"IF('Access Point (Desc)'!C207=\"\",\"\",'Access Point (Desc)'!C207)","v":""},{"$f":"IF('Access Point (Desc)'!D207=\"\",\"\",'Access Point (Desc)'!D207)","v":""},{"$f":"IF('Access Point (Desc)'!E207=\"\",\"\",INDEX([1]OWNER!$A$2:$A$100,MATCH('Access Point (Desc)'!$E207,[1]!MASTER_OWNER_DESC[#Data],0),0))","v":""},{"$f":"IF('Access Point (Desc)'!F207=\"\",\"\",INDEX([1]COUNTY!$A$2:$A$100,MATCH('Access Point (Desc)'!F207,[1]!MASTER_COUNTY_NAME[#Data],0),0))","v":""},{"$f":"IF('Access Point (Desc)'!G207=\"\",\"\",'Access Point (Desc)'!G207)","v":""},{"$f":"IF('Access Point (Desc)'!H207=\"\",\"\",'Access Point (Desc)'!H207)","v":""},{"$f":"IF('Access Point (Desc)'!I207=\"\",\"\",INDEX([1]ROUTE_MH_TYPE!$A$2:$A$100,MATCH('Access Point (Desc)'!$I207,[1]!MASTER_ROUTE_MH_TYPE_DESC[#Data],0),0))","v":""},{"$f":"IF('Access Point (Desc)'!J207=\"\",\"\",INDEX([1]MANHOLE_MTL!$A$2:$A$100,MATCH('Access Point (Desc)'!$J207,[1]!MASTER_MANHOLE_MTL_DESC[#Data],0),0))","v":""},{"$f":"IF('Access Point (Desc)'!K207=\"\",\"\",INDEX([1]MANHOLE_SIZE!$A$2:$A$120,MATCH('Access Point (Desc)'!$K207,[1]!MASTER_MANHOLE_SIZE_DESC[#Data],0),0))","v":""},{"$f":"IF('Access Point (Desc)'!L207=\"\",\"\",INDEX([1]ROUTE_MH_LID_TYPE!$A$2:$A$100,MATCH('Access Point (Desc)'!$L207,[1]!MASTER_ROUTE_MH_LID_TYPE_DESC[#Data],0),0))","v":""},{"$f":"IF('Access Point (Desc)'!M207=\"\",\"\",INDEX([1]MANHOLE_MTL!$A$2:$A$100,MATCH('Access Point (Desc)'!$M207,[1]!MASTER_MANHOLE_MTL_DESC[#Data],0),0))","v":""},{"$f":"IF('Access Point (Desc)'!N207=\"\",\"\",INDEX([1]LID_BOLT_TYPE!$A$2:$A$100,MATCH('Access Point (Desc)'!$N207,[1]!MASTER_LID_BOLT_TYPE_DESC[#Data],0),0))","v":""},{"$f":"IF('Access Point (Desc)'!O207=\"\",\"\",INDEX([1]YES_NO!$A$2:$A$100,MATCH('Access Point (Desc)'!$O207,[1]!MASTER_YES_NO_DESC[#Data],0),0))","v":""},{"$f":"IF('Access Point (Desc)'!P207=\"\",\"\",'Access Point (Desc)'!P207)","v":""},{"$f":"IF('Access Point (Desc)'!Q207=\"\",\"\",INDEX([1]YES_NO!$A$2:$A$100,MATCH('Access Point (Desc)'!$Q207,[1]!MASTER_YES_NO_DESC[#Data],0),0))","v":""}]
[{"$f":"IF('Access Point (Desc)'!A208=\"\",\"\",'Access Point (Desc)'!A208)","v":""},{"$f":"IF('Access Point (Desc)'!B208=\"\",\"\",'Access Point (Desc)'!B208)","v":""},{"$f":"IF('Access Point (Desc)'!C208=\"\",\"\",'Access Point (Desc)'!C208)","v":""},{"$f":"IF('Access Point (Desc)'!D208=\"\",\"\",'Access Point (Desc)'!D208)","v":""},{"$f":"IF('Access Point (Desc)'!E208=\"\",\"\",INDEX([1]OWNER!$A$2:$A$100,MATCH('Access Point (Desc)'!$E208,[1]!MASTER_OWNER_DESC[#Data],0),0))","v":""},{"$f":"IF('Access Point (Desc)'!F208=\"\",\"\",INDEX([1]COUNTY!$A$2:$A$100,MATCH('Access Point (Desc)'!F208,[1]!MASTER_COUNTY_NAME[#Data],0),0))","v":""},{"$f":"IF('Access Point (Desc)'!G208=\"\",\"\",'Access Point (Desc)'!G208)","v":""},{"$f":"IF('Access Point (Desc)'!H208=\"\",\"\",'Access Point (Desc)'!H208)","v":""},{"$f":"IF('Access Point (Desc)'!I208=\"\",\"\",INDEX([1]ROUTE_MH_TYPE!$A$2:$A$100,MATCH('Access Point (Desc)'!$I208,[1]!MASTER_ROUTE_MH_TYPE_DESC[#Data],0),0))","v":""},{"$f":"IF('Access Point (Desc)'!J208=\"\",\"\",INDEX([1]MANHOLE_MTL!$A$2:$A$100,MATCH('Access Point (Desc)'!$J208,[1]!MASTER_MANHOLE_MTL_DESC[#Data],0),0))","v":""},{"$f":"IF('Access Point (Desc)'!K208=\"\",\"\",INDEX([1]MANHOLE_SIZE!$A$2:$A$120,MATCH('Access Point (Desc)'!$K208,[1]!MASTER_MANHOLE_SIZE_DESC[#Data],0),0))","v":""},{"$f":"IF('Access Point (Desc)'!L208=\"\",\"\",INDEX([1]ROUTE_MH_LID_TYPE!$A$2:$A$100,MATCH('Access Point (Desc)'!$L208,[1]!MASTER_ROUTE_MH_LID_TYPE_DESC[#Data],0),0))","v":""},{"$f":"IF('Access Point (Desc)'!M208=\"\",\"\",INDEX([1]MANHOLE_MTL!$A$2:$A$100,MATCH('Access Point (Desc)'!$M208,[1]!MASTER_MANHOLE_MTL_DESC[#Data],0),0))","v":""},{"$f":"IF('Access Point (Desc)'!N208=\"\",\"\",INDEX([1]LID_BOLT_TYPE!$A$2:$A$100,MATCH('Access Point (Desc)'!$N208,[1]!MASTER_LID_BOLT_TYPE_DESC[#Data],0),0))","v":""},{"$f":"IF('Access Point (Desc)'!O208=\"\",\"\",INDEX([1]YES_NO!$A$2:$A$100,MATCH('Access Point (Desc)'!$O208,[1]!MASTER_YES_NO_DESC[#Data],0),0))","v":""},{"$f":"IF('Access Point (Desc)'!P208=\"\",\"\",'Access Point (Desc)'!P208)","v":""},{"$f":"IF('Access Point (Desc)'!Q208=\"\",\"\",INDEX([1]YES_NO!$A$2:$A$100,MATCH('Access Point (Desc)'!$Q208,[1]!MASTER_YES_NO_DESC[#Data],0),0))","v":""}]
[{"$f":"IF('Access Point (Desc)'!A209=\"\",\"\",'Access Point (Desc)'!A209)","v":""},{"$f":"IF('Access Point (Desc)'!B209=\"\",\"\",'Access Point (Desc)'!B209)","v":""},{"$f":"IF('Access Point (Desc)'!C209=\"\",\"\",'Access Point (Desc)'!C209)","v":""},{"$f":"IF('Access Point (Desc)'!D209=\"\",\"\",'Access Point (Desc)'!D209)","v":""},{"$f":"IF('Access Point (Desc)'!E209=\"\",\"\",INDEX([1]OWNER!$A$2:$A$100,MATCH('Access Point (Desc)'!$E209,[1]!MASTER_OWNER_DESC[#Data],0),0))","v":""},{"$f":"IF('Access Point (Desc)'!F209=\"\",\"\",INDEX([1]COUNTY!$A$2:$A$100,MATCH('Access Point (Desc)'!F209,[1]!MASTER_COUNTY_NAME[#Data],0),0))","v":""},{"$f":"IF('Access Point (Desc)'!G209=\"\",\"\",'Access Point (Desc)'!G209)","v":""},{"$f":"IF('Access Point (Desc)'!H209=\"\",\"\",'Access Point (Desc)'!H209)","v":""},{"$f":"IF('Access Point (Desc)'!I209=\"\",\"\",INDEX([1]ROUTE_MH_TYPE!$A$2:$A$100,MATCH('Access Point (Desc)'!$I209,[1]!MASTER_ROUTE_MH_TYPE_DESC[#Data],0),0))","v":""},{"$f":"IF('Access Point (Desc)'!J209=\"\",\"\",INDEX([1]MANHOLE_MTL!$A$2:$A$100,MATCH('Access Point (Desc)'!$J209,[1]!MASTER_MANHOLE_MTL_DESC[#Data],0),0))","v":""},{"$f":"IF('Access Point (Desc)'!K209=\"\",\"\",INDEX([1]MANHOLE_SIZE!$A$2:$A$120,MATCH('Access Point (Desc)'!$K209,[1]!MASTER_MANHOLE_SIZE_DESC[#Data],0),0))","v":""},{"$f":"IF('Access Point (Desc)'!L209=\"\",\"\",INDEX([1]ROUTE_MH_LID_TYPE!$A$2:$A$100,MATCH('Access Point (Desc)'!$L209,[1]!MASTER_ROUTE_MH_LID_TYPE_DESC[#Data],0),0))","v":""},{"$f":"IF('Access Point (Desc)'!M209=\"\",\"\",INDEX([1]MANHOLE_MTL!$A$2:$A$100,MATCH('Access Point (Desc)'!$M209,[1]!MASTER_MANHOLE_MTL_DESC[#Data],0),0))","v":""},{"$f":"IF('Access Point (Desc)'!N209=\"\",\"\",INDEX([1]LID_BOLT_TYPE!$A$2:$A$100,MATCH('Access Point (Desc)'!$N209,[1]!MASTER_LID_BOLT_TYPE_DESC[#Data],0),0))","v":""},{"$f":"IF('Access Point (Desc)'!O209=\"\",\"\",INDEX([1]YES_NO!$A$2:$A$100,MATCH('Access Point (Desc)'!$O209,[1]!MASTER_YES_NO_DESC[#Data],0),0))","v":""},{"$f":"IF('Access Point (Desc)'!P209=\"\",\"\",'Access Point (Desc)'!P209)","v":""},{"$f":"IF('Access Point (Desc)'!Q209=\"\",\"\",INDEX([1]YES_NO!$A$2:$A$100,MATCH('Access Point (Desc)'!$Q209,[1]!MASTER_YES_NO_DESC[#Data],0),0))","v":""}]
[{"$f":"IF('Access Point (Desc)'!A210=\"\",\"\",'Access Point (Desc)'!A210)","v":""},{"$f":"IF('Access Point (Desc)'!B210=\"\",\"\",'Access Point (Desc)'!B210)","v":""},{"$f":"IF('Access Point (Desc)'!C210=\"\",\"\",'Access Point (Desc)'!C210)","v":""},{"$f":"IF('Access Point (Desc)'!D210=\"\",\"\",'Access Point (Desc)'!D210)","v":""},{"$f":"IF('Access Point (Desc)'!E210=\"\",\"\",INDEX([1]OWNER!$A$2:$A$100,MATCH('Access Point (Desc)'!$E210,[1]!MASTER_OWNER_DESC[#Data],0),0))","v":""},{"$f":"IF('Access Point (Desc)'!F210=\"\",\"\",INDEX([1]COUNTY!$A$2:$A$100,MATCH('Access Point (Desc)'!F210,[1]!MASTER_COUNTY_NAME[#Data],0),0))","v":""},{"$f":"IF('Access Point (Desc)'!G210=\"\",\"\",'Access Point (Desc)'!G210)","v":""},{"$f":"IF('Access Point (Desc)'!H210=\"\",\"\",'Access Point (Desc)'!H210)","v":""},{"$f":"IF('Access Point (Desc)'!I210=\"\",\"\",INDEX([1]ROUTE_MH_TYPE!$A$2:$A$100,MATCH('Access Point (Desc)'!$I210,[1]!MASTER_ROUTE_MH_TYPE_DESC[#Data],0),0))","v":""},{"$f":"IF('Access Point (Desc)'!J210=\"\",\"\",INDEX([1]MANHOLE_MTL!$A$2:$A$100,MATCH('Access Point (Desc)'!$J210,[1]!MASTER_MANHOLE_MTL_DESC[#Data],0),0))","v":""},{"$f":"IF('Access Point (Desc)'!K210=\"\",\"\",INDEX([1]MANHOLE_SIZE!$A$2:$A$120,MATCH('Access Point (Desc)'!$K210,[1]!MASTER_MANHOLE_SIZE_DESC[#Data],0),0))","v":""},{"$f":"IF('Access Point (Desc)'!L210=\"\",\"\",INDEX([1]ROUTE_MH_LID_TYPE!$A$2:$A$100,MATCH('Access Point (Desc)'!$L210,[1]!MASTER_ROUTE_MH_LID_TYPE_DESC[#Data],0),0))","v":""},{"$f":"IF('Access Point (Desc)'!M210=\"\",\"\",INDEX([1]MANHOLE_MTL!$A$2:$A$100,MATCH('Access Point (Desc)'!$M210,[1]!MASTER_MANHOLE_MTL_DESC[#Data],0),0))","v":""},{"$f":"IF('Access Point (Desc)'!N210=\"\",\"\",INDEX([1]LID_BOLT_TYPE!$A$2:$A$100,MATCH('Access Point (Desc)'!$N210,[1]!MASTER_LID_BOLT_TYPE_DESC[#Data],0),0))","v":""},{"$f":"IF('Access Point (Desc)'!O210=\"\",\"\",INDEX([1]YES_NO!$A$2:$A$100,MATCH('Access Point (Desc)'!$O210,[1]!MASTER_YES_NO_DESC[#Data],0),0))","v":""},{"$f":"IF('Access Point (Desc)'!P210=\"\",\"\",'Access Point (Desc)'!P210)","v":""},{"$f":"IF('Access Point (Desc)'!Q210=\"\",\"\",INDEX([1]YES_NO!$A$2:$A$100,MATCH('Access Point (Desc)'!$Q210,[1]!MASTER_YES_NO_DESC[#Data],0),0))","v":""}]
[{"$f":"IF('Access Point (Desc)'!A211=\"\",\"\",'Access Point (Desc)'!A211)","v":""},{"$f":"IF('Access Point (Desc)'!B211=\"\",\"\",'Access Point (Desc)'!B211)","v":""},{"$f":"IF('Access Point (Desc)'!C211=\"\",\"\",'Access Point (Desc)'!C211)","v":""},{"$f":"IF('Access Point (Desc)'!D211=\"\",\"\",'Access Point (Desc)'!D211)","v":""},{"$f":"IF('Access Point (Desc)'!E211=\"\",\"\",INDEX([1]OWNER!$A$2:$A$100,MATCH('Access Point (Desc)'!$E211,[1]!MASTER_OWNER_DESC[#Data],0),0))","v":""},{"$f":"IF('Access Point (Desc)'!F211=\"\",\"\",INDEX([1]COUNTY!$A$2:$A$100,MATCH('Access Point (Desc)'!F211,[1]!MASTER_COUNTY_NAME[#Data],0),0))","v":""},{"$f":"IF('Access Point (Desc)'!G211=\"\",\"\",'Access Point (Desc)'!G211)","v":""},{"$f":"IF('Access Point (Desc)'!H211=\"\",\"\",'Access Point (Desc)'!H211)","v":""},{"$f":"IF('Access Point (Desc)'!I211=\"\",\"\",INDEX([1]ROUTE_MH_TYPE!$A$2:$A$100,MATCH('Access Point (Desc)'!$I211,[1]!MASTER_ROUTE_MH_TYPE_DESC[#Data],0),0))","v":""},{"$f":"IF('Access Point (Desc)'!J211=\"\",\"\",INDEX([1]MANHOLE_MTL!$A$2:$A$100,MATCH('Access Point (Desc)'!$J211,[1]!MASTER_MANHOLE_MTL_DESC[#Data],0),0))","v":""},{"$f":"IF('Access Point (Desc)'!K211=\"\",\"\",INDEX([1]MANHOLE_SIZE!$A$2:$A$120,MATCH('Access Point (Desc)'!$K211,[1]!MASTER_MANHOLE_SIZE_DESC[#Data],0),0))","v":""},{"$f":"IF('Access Point (Desc)'!L211=\"\",\"\",INDEX([1]ROUTE_MH_LID_TYPE!$A$2:$A$100,MATCH('Access Point (Desc)'!$L211,[1]!MASTER_ROUTE_MH_LID_TYPE_DESC[#Data],0),0))","v":""},{"$f":"IF('Access Point (Desc)'!M211=\"\",\"\",INDEX([1]MANHOLE_MTL!$A$2:$A$100,MATCH('Access Point (Desc)'!$M211,[1]!MASTER_MANHOLE_MTL_DESC[#Data],0),0))","v":""},{"$f":"IF('Access Point (Desc)'!N211=\"\",\"\",INDEX([1]LID_BOLT_TYPE!$A$2:$A$100,MATCH('Access Point (Desc)'!$N211,[1]!MASTER_LID_BOLT_TYPE_DESC[#Data],0),0))","v":""},{"$f":"IF('Access Point (Desc)'!O211=\"\",\"\",INDEX([1]YES_NO!$A$2:$A$100,MATCH('Access Point (Desc)'!$O211,[1]!MASTER_YES_NO_DESC[#Data],0),0))","v":""},{"$f":"IF('Access Point (Desc)'!P211=\"\",\"\",'Access Point (Desc)'!P211)","v":""},{"$f":"IF('Access Point (Desc)'!Q211=\"\",\"\",INDEX([1]YES_NO!$A$2:$A$100,MATCH('Access Point (Desc)'!$Q211,[1]!MASTER_YES_NO_DESC[#Data],0),0))","v":""}]
[{"$f":"IF('Access Point (Desc)'!A212=\"\",\"\",'Access Point (Desc)'!A212)","v":""},{"$f":"IF('Access Point (Desc)'!B212=\"\",\"\",'Access Point (Desc)'!B212)","v":""},{"$f":"IF('Access Point (Desc)'!C212=\"\",\"\",'Access Point (Desc)'!C212)","v":""},{"$f":"IF('Access Point (Desc)'!D212=\"\",\"\",'Access Point (Desc)'!D212)","v":""},{"$f":"IF('Access Point (Desc)'!E212=\"\",\"\",INDEX([1]OWNER!$A$2:$A$100,MATCH('Access Point (Desc)'!$E212,[1]!MASTER_OWNER_DESC[#Data],0),0))","v":""},{"$f":"IF('Access Point (Desc)'!F212=\"\",\"\",INDEX([1]COUNTY!$A$2:$A$100,MATCH('Access Point (Desc)'!F212,[1]!MASTER_COUNTY_NAME[#Data],0),0))","v":""},{"$f":"IF('Access Point (Desc)'!G212=\"\",\"\",'Access Point (Desc)'!G212)","v":""},{"$f":"IF('Access Point (Desc)'!H212=\"\",\"\",'Access Point (Desc)'!H212)","v":""},{"$f":"IF('Access Point (Desc)'!I212=\"\",\"\",INDEX([1]ROUTE_MH_TYPE!$A$2:$A$100,MATCH('Access Point (Desc)'!$I212,[1]!MASTER_ROUTE_MH_TYPE_DESC[#Data],0),0))","v":""},{"$f":"IF('Access Point (Desc)'!J212=\"\",\"\",INDEX([1]MANHOLE_MTL!$A$2:$A$100,MATCH('Access Point (Desc)'!$J212,[1]!MASTER_MANHOLE_MTL_DESC[#Data],0),0))","v":""},{"$f":"IF('Access Point (Desc)'!K212=\"\",\"\",INDEX([1]MANHOLE_SIZE!$A$2:$A$120,MATCH('Access Point (Desc)'!$K212,[1]!MASTER_MANHOLE_SIZE_DESC[#Data],0),0))","v":""},{"$f":"IF('Access Point (Desc)'!L212=\"\",\"\",INDEX([1]ROUTE_MH_LID_TYPE!$A$2:$A$100,MATCH('Access Point (Desc)'!$L212,[1]!MASTER_ROUTE_MH_LID_TYPE_DESC[#Data],0),0))","v":""},{"$f":"IF('Access Point (Desc)'!M212=\"\",\"\",INDEX([1]MANHOLE_MTL!$A$2:$A$100,MATCH('Access Point (Desc)'!$M212,[1]!MASTER_MANHOLE_MTL_DESC[#Data],0),0))","v":""},{"$f":"IF('Access Point (Desc)'!N212=\"\",\"\",INDEX([1]LID_BOLT_TYPE!$A$2:$A$100,MATCH('Access Point (Desc)'!$N212,[1]!MASTER_LID_BOLT_TYPE_DESC[#Data],0),0))","v":""},{"$f":"IF('Access Point (Desc)'!O212=\"\",\"\",INDEX([1]YES_NO!$A$2:$A$100,MATCH('Access Point (Desc)'!$O212,[1]!MASTER_YES_NO_DESC[#Data],0),0))","v":""},{"$f":"IF('Access Point (Desc)'!P212=\"\",\"\",'Access Point (Desc)'!P212)","v":""},{"$f":"IF('Access Point (Desc)'!Q212=\"\",\"\",INDEX([1]YES_NO!$A$2:$A$100,MATCH('Access Point (Desc)'!$Q212,[1]!MASTER_YES_NO_DESC[#Data],0),0))","v":""}]
[{"$f":"IF('Access Point (Desc)'!A213=\"\",\"\",'Access Point (Desc)'!A213)","v":""},{"$f":"IF('Access Point (Desc)'!B213=\"\",\"\",'Access Point (Desc)'!B213)","v":""},{"$f":"IF('Access Point (Desc)'!C213=\"\",\"\",'Access Point (Desc)'!C213)","v":""},{"$f":"IF('Access Point (Desc)'!D213=\"\",\"\",'Access Point (Desc)'!D213)","v":""},{"$f":"IF('Access Point (Desc)'!E213=\"\",\"\",INDEX([1]OWNER!$A$2:$A$100,MATCH('Access Point (Desc)'!$E213,[1]!MASTER_OWNER_DESC[#Data],0),0))","v":""},{"$f":"IF('Access Point (Desc)'!F213=\"\",\"\",INDEX([1]COUNTY!$A$2:$A$100,MATCH('Access Point (Desc)'!F213,[1]!MASTER_COUNTY_NAME[#Data],0),0))","v":""},{"$f":"IF('Access Point (Desc)'!G213=\"\",\"\",'Access Point (Desc)'!G213)","v":""},{"$f":"IF('Access Point (Desc)'!H213=\"\",\"\",'Access Point (Desc)'!H213)","v":""},{"$f":"IF('Access Point (Desc)'!I213=\"\",\"\",INDEX([1]ROUTE_MH_TYPE!$A$2:$A$100,MATCH('Access Point (Desc)'!$I213,[1]!MASTER_ROUTE_MH_TYPE_DESC[#Data],0),0))","v":""},{"$f":"IF('Access Point (Desc)'!J213=\"\",\"\",INDEX([1]MANHOLE_MTL!$A$2:$A$100,MATCH('Access Point (Desc)'!$J213,[1]!MASTER_MANHOLE_MTL_DESC[#Data],0),0))","v":""},{"$f":"IF('Access Point (Desc)'!K213=\"\",\"\",INDEX([1]MANHOLE_SIZE!$A$2:$A$120,MATCH('Access Point (Desc)'!$K213,[1]!MASTER_MANHOLE_SIZE_DESC[#Data],0),0))","v":""},{"$f":"IF('Access Point (Desc)'!L213=\"\",\"\",INDEX([1]ROUTE_MH_LID_TYPE!$A$2:$A$100,MATCH('Access Point (Desc)'!$L213,[1]!MASTER_ROUTE_MH_LID_TYPE_DESC[#Data],0),0))","v":""},{"$f":"IF('Access Point (Desc)'!M213=\"\",\"\",INDEX([1]MANHOLE_MTL!$A$2:$A$100,MATCH('Access Point (Desc)'!$M213,[1]!MASTER_MANHOLE_MTL_DESC[#Data],0),0))","v":""},{"$f":"IF('Access Point (Desc)'!N213=\"\",\"\",INDEX([1]LID_BOLT_TYPE!$A$2:$A$100,MATCH('Access Point (Desc)'!$N213,[1]!MASTER_LID_BOLT_TYPE_DESC[#Data],0),0))","v":""},{"$f":"IF('Access Point (Desc)'!O213=\"\",\"\",INDEX([1]YES_NO!$A$2:$A$100,MATCH('Access Point (Desc)'!$O213,[1]!MASTER_YES_NO_DESC[#Data],0),0))","v":""},{"$f":"IF('Access Point (Desc)'!P213=\"\",\"\",'Access Point (Desc)'!P213)","v":""},{"$f":"IF('Access Point (Desc)'!Q213=\"\",\"\",INDEX([1]YES_NO!$A$2:$A$100,MATCH('Access Point (Desc)'!$Q213,[1]!MASTER_YES_NO_DESC[#Data],0),0))","v":""}]
[{"$f":"IF('Access Point (Desc)'!A214=\"\",\"\",'Access Point (Desc)'!A214)","v":""},{"$f":"IF('Access Point (Desc)'!B214=\"\",\"\",'Access Point (Desc)'!B214)","v":""},{"$f":"IF('Access Point (Desc)'!C214=\"\",\"\",'Access Point (Desc)'!C214)","v":""},{"$f":"IF('Access Point (Desc)'!D214=\"\",\"\",'Access Point (Desc)'!D214)","v":""},{"$f":"IF('Access Point (Desc)'!E214=\"\",\"\",INDEX([1]OWNER!$A$2:$A$100,MATCH('Access Point (Desc)'!$E214,[1]!MASTER_OWNER_DESC[#Data],0),0))","v":""},{"$f":"IF('Access Point (Desc)'!F214=\"\",\"\",INDEX([1]COUNTY!$A$2:$A$100,MATCH('Access Point (Desc)'!F214,[1]!MASTER_COUNTY_NAME[#Data],0),0))","v":""},{"$f":"IF('Access Point (Desc)'!G214=\"\",\"\",'Access Point (Desc)'!G214)","v":""},{"$f":"IF('Access Point (Desc)'!H214=\"\",\"\",'Access Point (Desc)'!H214)","v":""},{"$f":"IF('Access Point (Desc)'!I214=\"\",\"\",INDEX([1]ROUTE_MH_TYPE!$A$2:$A$100,MATCH('Access Point (Desc)'!$I214,[1]!MASTER_ROUTE_MH_TYPE_DESC[#Data],0),0))","v":""},{"$f":"IF('Access Point (Desc)'!J214=\"\",\"\",INDEX([1]MANHOLE_MTL!$A$2:$A$100,MATCH('Access Point (Desc)'!$J214,[1]!MASTER_MANHOLE_MTL_DESC[#Data],0),0))","v":""},{"$f":"IF('Access Point (Desc)'!K214=\"\",\"\",INDEX([1]MANHOLE_SIZE!$A$2:$A$120,MATCH('Access Point (Desc)'!$K214,[1]!MASTER_MANHOLE_SIZE_DESC[#Data],0),0))","v":""},{"$f":"IF('Access Point (Desc)'!L214=\"\",\"\",INDEX([1]ROUTE_MH_LID_TYPE!$A$2:$A$100,MATCH('Access Point (Desc)'!$L214,[1]!MASTER_ROUTE_MH_LID_TYPE_DESC[#Data],0),0))","v":""},{"$f":"IF('Access Point (Desc)'!M214=\"\",\"\",INDEX([1]MANHOLE_MTL!$A$2:$A$100,MATCH('Access Point (Desc)'!$M214,[1]!MASTER_MANHOLE_MTL_DESC[#Data],0),0))","v":""},{"$f":"IF('Access Point (Desc)'!N214=\"\",\"\",INDEX([1]LID_BOLT_TYPE!$A$2:$A$100,MATCH('Access Point (Desc)'!$N214,[1]!MASTER_LID_BOLT_TYPE_DESC[#Data],0),0))","v":""},{"$f":"IF('Access Point (Desc)'!O214=\"\",\"\",INDEX([1]YES_NO!$A$2:$A$100,MATCH('Access Point (Desc)'!$O214,[1]!MASTER_YES_NO_DESC[#Data],0),0))","v":""},{"$f":"IF('Access Point (Desc)'!P214=\"\",\"\",'Access Point (Desc)'!P214)","v":""},{"$f":"IF('Access Point (Desc)'!Q214=\"\",\"\",INDEX([1]YES_NO!$A$2:$A$100,MATCH('Access Point (Desc)'!$Q214,[1]!MASTER_YES_NO_DESC[#Data],0),0))","v":""}]
[{"$f":"IF('Access Point (Desc)'!A215=\"\",\"\",'Access Point (Desc)'!A215)","v":""},{"$f":"IF('Access Point (Desc)'!B215=\"\",\"\",'Access Point (Desc)'!B215)","v":""},{"$f":"IF('Access Point (Desc)'!C215=\"\",\"\",'Access Point (Desc)'!C215)","v":""},{"$f":"IF('Access Point (Desc)'!D215=\"\",\"\",'Access Point (Desc)'!D215)","v":""},{"$f":"IF('Access Point (Desc)'!E215=\"\",\"\",INDEX([1]OWNER!$A$2:$A$100,MATCH('Access Point (Desc)'!$E215,[1]!MASTER_OWNER_DESC[#Data],0),0))","v":""},{"$f":"IF('Access Point (Desc)'!F215=\"\",\"\",INDEX([1]COUNTY!$A$2:$A$100,MATCH('Access Point (Desc)'!F215,[1]!MASTER_COUNTY_NAME[#Data],0),0))","v":""},{"$f":"IF('Access Point (Desc)'!G215=\"\",\"\",'Access Point (Desc)'!G215)","v":""},{"$f":"IF('Access Point (Desc)'!H215=\"\",\"\",'Access Point (Desc)'!H215)","v":""},{"$f":"IF('Access Point (Desc)'!I215=\"\",\"\",INDEX([1]ROUTE_MH_TYPE!$A$2:$A$100,MATCH('Access Point (Desc)'!$I215,[1]!MASTER_ROUTE_MH_TYPE_DESC[#Data],0),0))","v":""},{"$f":"IF('Access Point (Desc)'!J215=\"\",\"\",INDEX([1]MANHOLE_MTL!$A$2:$A$100,MATCH('Access Point (Desc)'!$J215,[1]!MASTER_MANHOLE_MTL_DESC[#Data],0),0))","v":""},{"$f":"IF('Access Point (Desc)'!K215=\"\",\"\",INDEX([1]MANHOLE_SIZE!$A$2:$A$120,MATCH('Access Point (Desc)'!$K215,[1]!MASTER_MANHOLE_SIZE_DESC[#Data],0),0))","v":""},{"$f":"IF('Access Point (Desc)'!L215=\"\",\"\",INDEX([1]ROUTE_MH_LID_TYPE!$A$2:$A$100,MATCH('Access Point (Desc)'!$L215,[1]!MASTER_ROUTE_MH_LID_TYPE_DESC[#Data],0),0))","v":""},{"$f":"IF('Access Point (Desc)'!M215=\"\",\"\",INDEX([1]MANHOLE_MTL!$A$2:$A$100,MATCH('Access Point (Desc)'!$M215,[1]!MASTER_MANHOLE_MTL_DESC[#Data],0),0))","v":""},{"$f":"IF('Access Point (Desc)'!N215=\"\",\"\",INDEX([1]LID_BOLT_TYPE!$A$2:$A$100,MATCH('Access Point (Desc)'!$N215,[1]!MASTER_LID_BOLT_TYPE_DESC[#Data],0),0))","v":""},{"$f":"IF('Access Point (Desc)'!O215=\"\",\"\",INDEX([1]YES_NO!$A$2:$A$100,MATCH('Access Point (Desc)'!$O215,[1]!MASTER_YES_NO_DESC[#Data],0),0))","v":""},{"$f":"IF('Access Point (Desc)'!P215=\"\",\"\",'Access Point (Desc)'!P215)","v":""},{"$f":"IF('Access Point (Desc)'!Q215=\"\",\"\",INDEX([1]YES_NO!$A$2:$A$100,MATCH('Access Point (Desc)'!$Q215,[1]!MASTER_YES_NO_DESC[#Data],0),0))","v":""}]
[{"$f":"IF('Access Point (Desc)'!A216=\"\",\"\",'Access Point (Desc)'!A216)","v":""},{"$f":"IF('Access Point (Desc)'!B216=\"\",\"\",'Access Point (Desc)'!B216)","v":""},{"$f":"IF('Access Point (Desc)'!C216=\"\",\"\",'Access Point (Desc)'!C216)","v":""},{"$f":"IF('Access Point (Desc)'!D216=\"\",\"\",'Access Point (Desc)'!D216)","v":""},{"$f":"IF('Access Point (Desc)'!E216=\"\",\"\",INDEX([1]OWNER!$A$2:$A$100,MATCH('Access Point (Desc)'!$E216,[1]!MASTER_OWNER_DESC[#Data],0),0))","v":""},{"$f":"IF('Access Point (Desc)'!F216=\"\",\"\",INDEX([1]COUNTY!$A$2:$A$100,MATCH('Access Point (Desc)'!F216,[1]!MASTER_COUNTY_NAME[#Data],0),0))","v":""},{"$f":"IF('Access Point (Desc)'!G216=\"\",\"\",'Access Point (Desc)'!G216)","v":""},{"$f":"IF('Access Point (Desc)'!H216=\"\",\"\",'Access Point (Desc)'!H216)","v":""},{"$f":"IF('Access Point (Desc)'!I216=\"\",\"\",INDEX([1]ROUTE_MH_TYPE!$A$2:$A$100,MATCH('Access Point (Desc)'!$I216,[1]!MASTER_ROUTE_MH_TYPE_DESC[#Data],0),0))","v":""},{"$f":"IF('Access Point (Desc)'!J216=\"\",\"\",INDEX([1]MANHOLE_MTL!$A$2:$A$100,MATCH('Access Point (Desc)'!$J216,[1]!MASTER_MANHOLE_MTL_DESC[#Data],0),0))","v":""},{"$f":"IF('Access Point (Desc)'!K216=\"\",\"\",INDEX([1]MANHOLE_SIZE!$A$2:$A$120,MATCH('Access Point (Desc)'!$K216,[1]!MASTER_MANHOLE_SIZE_DESC[#Data],0),0))","v":""},{"$f":"IF('Access Point (Desc)'!L216=\"\",\"\",INDEX([1]ROUTE_MH_LID_TYPE!$A$2:$A$100,MATCH('Access Point (Desc)'!$L216,[1]!MASTER_ROUTE_MH_LID_TYPE_DESC[#Data],0),0))","v":""},{"$f":"IF('Access Point (Desc)'!M216=\"\",\"\",INDEX([1]MANHOLE_MTL!$A$2:$A$100,MATCH('Access Point (Desc)'!$M216,[1]!MASTER_MANHOLE_MTL_DESC[#Data],0),0))","v":""},{"$f":"IF('Access Point (Desc)'!N216=\"\",\"\",INDEX([1]LID_BOLT_TYPE!$A$2:$A$100,MATCH('Access Point (Desc)'!$N216,[1]!MASTER_LID_BOLT_TYPE_DESC[#Data],0),0))","v":""},{"$f":"IF('Access Point (Desc)'!O216=\"\",\"\",INDEX([1]YES_NO!$A$2:$A$100,MATCH('Access Point (Desc)'!$O216,[1]!MASTER_YES_NO_DESC[#Data],0),0))","v":""},{"$f":"IF('Access Point (Desc)'!P216=\"\",\"\",'Access Point (Desc)'!P216)","v":""},{"$f":"IF('Access Point (Desc)'!Q216=\"\",\"\",INDEX([1]YES_NO!$A$2:$A$100,MATCH('Access Point (Desc)'!$Q216,[1]!MASTER_YES_NO_DESC[#Data],0),0))","v":""}]
[{"$f":"IF('Access Point (Desc)'!A217=\"\",\"\",'Access Point (Desc)'!A217)","v":""},{"$f":"IF('Access Point (Desc)'!B217=\"\",\"\",'Access Point (Desc)'!B217)","v":""},{"$f":"IF('Access Point (Desc)'!C217=\"\",\"\",'Access Point (Desc)'!C217)","v":""},{"$f":"IF('Access Point (Desc)'!D217=\"\",\"\",'Access Point (Desc)'!D217)","v":""},{"$f":"IF('Access Point (Desc)'!E217=\"\",\"\",INDEX([1]OWNER!$A$2:$A$100,MATCH('Access Point (Desc)'!$E217,[1]!MASTER_OWNER_DESC[#Data],0),0))","v":""},{"$f":"IF('Access Point (Desc)'!F217=\"\",\"\",INDEX([1]COUNTY!$A$2:$A$100,MATCH('Access Point (Desc)'!F217,[1]!MASTER_COUNTY_NAME[#Data],0),0))","v":""},{"$f":"IF('Access Point (Desc)'!G217=\"\",\"\",'Access Point (Desc)'!G217)","v":""},{"$f":"IF('Access Point (Desc)'!H217=\"\",\"\",'Access Point (Desc)'!H217)","v":""},{"$f":"IF('Access Point (Desc)'!I217=\"\",\"\",INDEX([1]ROUTE_MH_TYPE!$A$2:$A$100,MATCH('Access Point (Desc)'!$I217,[1]!MASTER_ROUTE_MH_TYPE_DESC[#Data],0),0))","v":""},{"$f":"IF('Access Point (Desc)'!J217=\"\",\"\",INDEX([1]MANHOLE_MTL!$A$2:$A$100,MATCH('Access Point (Desc)'!$J217,[1]!MASTER_MANHOLE_MTL_DESC[#Data],0),0))","v":""},{"$f":"IF('Access Point (Desc)'!K217=\"\",\"\",INDEX([1]MANHOLE_SIZE!$A$2:$A$120,MATCH('Access Point (Desc)'!$K217,[1]!MASTER_MANHOLE_SIZE_DESC[#Data],0),0))","v":""},{"$f":"IF('Access Point (Desc)'!L217=\"\",\"\",INDEX([1]ROUTE_MH_LID_TYPE!$A$2:$A$100,MATCH('Access Point (Desc)'!$L217,[1]!MASTER_ROUTE_MH_LID_TYPE_DESC[#Data],0),0))","v":""},{"$f":"IF('Access Point (Desc)'!M217=\"\",\"\",INDEX([1]MANHOLE_MTL!$A$2:$A$100,MATCH('Access Point (Desc)'!$M217,[1]!MASTER_MANHOLE_MTL_DESC[#Data],0),0))","v":""},{"$f":"IF('Access Point (Desc)'!N217=\"\",\"\",INDEX([1]LID_BOLT_TYPE!$A$2:$A$100,MATCH('Access Point (Desc)'!$N217,[1]!MASTER_LID_BOLT_TYPE_DESC[#Data],0),0))","v":""},{"$f":"IF('Access Point (Desc)'!O217=\"\",\"\",INDEX([1]YES_NO!$A$2:$A$100,MATCH('Access Point (Desc)'!$O217,[1]!MASTER_YES_NO_DESC[#Data],0),0))","v":""},{"$f":"IF('Access Point (Desc)'!P217=\"\",\"\",'Access Point (Desc)'!P217)","v":""},{"$f":"IF('Access Point (Desc)'!Q217=\"\",\"\",INDEX([1]YES_NO!$A$2:$A$100,MATCH('Access Point (Desc)'!$Q217,[1]!MASTER_YES_NO_DESC[#Data],0),0))","v":""}]
[{"$f":"IF('Access Point (Desc)'!A218=\"\",\"\",'Access Point (Desc)'!A218)","v":""},{"$f":"IF('Access Point (Desc)'!B218=\"\",\"\",'Access Point (Desc)'!B218)","v":""},{"$f":"IF('Access Point (Desc)'!C218=\"\",\"\",'Access Point (Desc)'!C218)","v":""},{"$f":"IF('Access Point (Desc)'!D218=\"\",\"\",'Access Point (Desc)'!D218)","v":""},{"$f":"IF('Access Point (Desc)'!E218=\"\",\"\",INDEX([1]OWNER!$A$2:$A$100,MATCH('Access Point (Desc)'!$E218,[1]!MASTER_OWNER_DESC[#Data],0),0))","v":""},{"$f":"IF('Access Point (Desc)'!F218=\"\",\"\",INDEX([1]COUNTY!$A$2:$A$100,MATCH('Access Point (Desc)'!F218,[1]!MASTER_COUNTY_NAME[#Data],0),0))","v":""},{"$f":"IF('Access Point (Desc)'!G218=\"\",\"\",'Access Point (Desc)'!G218)","v":""},{"$f":"IF('Access Point (Desc)'!H218=\"\",\"\",'Access Point (Desc)'!H218)","v":""},{"$f":"IF('Access Point (Desc)'!I218=\"\",\"\",INDEX([1]ROUTE_MH_TYPE!$A$2:$A$100,MATCH('Access Point (Desc)'!$I218,[1]!MASTER_ROUTE_MH_TYPE_DESC[#Data],0),0))","v":""},{"$f":"IF('Access Point (Desc)'!J218=\"\",\"\",INDEX([1]MANHOLE_MTL!$A$2:$A$100,MATCH('Access Point (Desc)'!$J218,[1]!MASTER_MANHOLE_MTL_DESC[#Data],0),0))","v":""},{"$f":"IF('Access Point (Desc)'!K218=\"\",\"\",INDEX([1]MANHOLE_SIZE!$A$2:$A$120,MATCH('Access Point (Desc)'!$K218,[1]!MASTER_MANHOLE_SIZE_DESC[#Data],0),0))","v":""},{"$f":"IF('Access Point (Desc)'!L218=\"\",\"\",INDEX([1]ROUTE_MH_LID_TYPE!$A$2:$A$100,MATCH('Access Point (Desc)'!$L218,[1]!MASTER_ROUTE_MH_LID_TYPE_DESC[#Data],0),0))","v":""},{"$f":"IF('Access Point (Desc)'!M218=\"\",\"\",INDEX([1]MANHOLE_MTL!$A$2:$A$100,MATCH('Access Point (Desc)'!$M218,[1]!MASTER_MANHOLE_MTL_DESC[#Data],0),0))","v":""},{"$f":"IF('Access Point (Desc)'!N218=\"\",\"\",INDEX([1]LID_BOLT_TYPE!$A$2:$A$100,MATCH('Access Point (Desc)'!$N218,[1]!MASTER_LID_BOLT_TYPE_DESC[#Data],0),0))","v":""},{"$f":"IF('Access Point (Desc)'!O218=\"\",\"\",INDEX([1]YES_NO!$A$2:$A$100,MATCH('Access Point (Desc)'!$O218,[1]!MASTER_YES_NO_DESC[#Data],0),0))","v":""},{"$f":"IF('Access Point (Desc)'!P218=\"\",\"\",'Access Point (Desc)'!P218)","v":""},{"$f":"IF('Access Point (Desc)'!Q218=\"\",\"\",INDEX([1]YES_NO!$A$2:$A$100,MATCH('Access Point (Desc)'!$Q218,[1]!MASTER_YES_NO_DESC[#Data],0),0))","v":""}]
[{"$f":"IF('Access Point (Desc)'!A219=\"\",\"\",'Access Point (Desc)'!A219)","v":""},{"$f":"IF('Access Point (Desc)'!B219=\"\",\"\",'Access Point (Desc)'!B219)","v":""},{"$f":"IF('Access Point (Desc)'!C219=\"\",\"\",'Access Point (Desc)'!C219)","v":""},{"$f":"IF('Access Point (Desc)'!D219=\"\",\"\",'Access Point (Desc)'!D219)","v":""},{"$f":"IF('Access Point (Desc)'!E219=\"\",\"\",INDEX([1]OWNER!$A$2:$A$100,MATCH('Access Point (Desc)'!$E219,[1]!MASTER_OWNER_DESC[#Data],0),0))","v":""},{"$f":"IF('Access Point (Desc)'!F219=\"\",\"\",INDEX([1]COUNTY!$A$2:$A$100,MATCH('Access Point (Desc)'!F219,[1]!MASTER_COUNTY_NAME[#Data],0),0))","v":""},{"$f":"IF('Access Point (Desc)'!G219=\"\",\"\",'Access Point (Desc)'!G219)","v":""},{"$f":"IF('Access Point (Desc)'!H219=\"\",\"\",'Access Point (Desc)'!H219)","v":""},{"$f":"IF('Access Point (Desc)'!I219=\"\",\"\",INDEX([1]ROUTE_MH_TYPE!$A$2:$A$100,MATCH('Access Point (Desc)'!$I219,[1]!MASTER_ROUTE_MH_TYPE_DESC[#Data],0),0))","v":""},{"$f":"IF('Access Point (Desc)'!J219=\"\",\"\",INDEX([1]MANHOLE_MTL!$A$2:$A$100,MATCH('Access Point (Desc)'!$J219,[1]!MASTER_MANHOLE_MTL_DESC[#Data],0),0))","v":""},{"$f":"IF('Access Point (Desc)'!K219=\"\",\"\",INDEX([1]MANHOLE_SIZE!$A$2:$A$120,MATCH('Access Point (Desc)'!$K219,[1]!MASTER_MANHOLE_SIZE_DESC[#Data],0),0))","v":""},{"$f":"IF('Access Point (Desc)'!L219=\"\",\"\",INDEX([1]ROUTE_MH_LID_TYPE!$A$2:$A$100,MATCH('Access Point (Desc)'!$L219,[1]!MASTER_ROUTE_MH_LID_TYPE_DESC[#Data],0),0))","v":""},{"$f":"IF('Access Point (Desc)'!M219=\"\",\"\",INDEX([1]MANHOLE_MTL!$A$2:$A$100,MATCH('Access Point (Desc)'!$M219,[1]!MASTER_MANHOLE_MTL_DESC[#Data],0),0))","v":""},{"$f":"IF('Access Point (Desc)'!N219=\"\",\"\",INDEX([1]LID_BOLT_TYPE!$A$2:$A$100,MATCH('Access Point (Desc)'!$N219,[1]!MASTER_LID_BOLT_TYPE_DESC[#Data],0),0))","v":""},{"$f":"IF('Access Point (Desc)'!O219=\"\",\"\",INDEX([1]YES_NO!$A$2:$A$100,MATCH('Access Point (Desc)'!$O219,[1]!MASTER_YES_NO_DESC[#Data],0),0))","v":""},{"$f":"IF('Access Point (Desc)'!P219=\"\",\"\",'Access Point (Desc)'!P219)","v":""},{"$f":"IF('Access Point (Desc)'!Q219=\"\",\"\",INDEX([1]YES_NO!$A$2:$A$100,MATCH('Access Point (Desc)'!$Q219,[1]!MASTER_YES_NO_DESC[#Data],0),0))","v":""}]
[{"$f":"IF('Access Point (Desc)'!A220=\"\",\"\",'Access Point (Desc)'!A220)","v":""},{"$f":"IF('Access Point (Desc)'!B220=\"\",\"\",'Access Point (Desc)'!B220)","v":""},{"$f":"IF('Access Point (Desc)'!C220=\"\",\"\",'Access Point (Desc)'!C220)","v":""},{"$f":"IF('Access Point (Desc)'!D220=\"\",\"\",'Access Point (Desc)'!D220)","v":""},{"$f":"IF('Access Point (Desc)'!E220=\"\",\"\",INDEX([1]OWNER!$A$2:$A$100,MATCH('Access Point (Desc)'!$E220,[1]!MASTER_OWNER_DESC[#Data],0),0))","v":""},{"$f":"IF('Access Point (Desc)'!F220=\"\",\"\",INDEX([1]COUNTY!$A$2:$A$100,MATCH('Access Point (Desc)'!F220,[1]!MASTER_COUNTY_NAME[#Data],0),0))","v":""},{"$f":"IF('Access Point (Desc)'!G220=\"\",\"\",'Access Point (Desc)'!G220)","v":""},{"$f":"IF('Access Point (Desc)'!H220=\"\",\"\",'Access Point (Desc)'!H220)","v":""},{"$f":"IF('Access Point (Desc)'!I220=\"\",\"\",INDEX([1]ROUTE_MH_TYPE!$A$2:$A$100,MATCH('Access Point (Desc)'!$I220,[1]!MASTER_ROUTE_MH_TYPE_DESC[#Data],0),0))","v":""},{"$f":"IF('Access Point (Desc)'!J220=\"\",\"\",INDEX([1]MANHOLE_MTL!$A$2:$A$100,MATCH('Access Point (Desc)'!$J220,[1]!MASTER_MANHOLE_MTL_DESC[#Data],0),0))","v":""},{"$f":"IF('Access Point (Desc)'!K220=\"\",\"\",INDEX([1]MANHOLE_SIZE!$A$2:$A$120,MATCH('Access Point (Desc)'!$K220,[1]!MASTER_MANHOLE_SIZE_DESC[#Data],0),0))","v":""},{"$f":"IF('Access Point (Desc)'!L220=\"\",\"\",INDEX([1]ROUTE_MH_LID_TYPE!$A$2:$A$100,MATCH('Access Point (Desc)'!$L220,[1]!MASTER_ROUTE_MH_LID_TYPE_DESC[#Data],0),0))","v":""},{"$f":"IF('Access Point (Desc)'!M220=\"\",\"\",INDEX([1]MANHOLE_MTL!$A$2:$A$100,MATCH('Access Point (Desc)'!$M220,[1]!MASTER_MANHOLE_MTL_DESC[#Data],0),0))","v":""},{"$f":"IF('Access Point (Desc)'!N220=\"\",\"\",INDEX([1]LID_BOLT_TYPE!$A$2:$A$100,MATCH('Access Point (Desc)'!$N220,[1]!MASTER_LID_BOLT_TYPE_DESC[#Data],0),0))","v":""},{"$f":"IF('Access Point (Desc)'!O220=\"\",\"\",INDEX([1]YES_NO!$A$2:$A$100,MATCH('Access Point (Desc)'!$O220,[1]!MASTER_YES_NO_DESC[#Data],0),0))","v":""},{"$f":"IF('Access Point (Desc)'!P220=\"\",\"\",'Access Point (Desc)'!P220)","v":""},{"$f":"IF('Access Point (Desc)'!Q220=\"\",\"\",INDEX([1]YES_NO!$A$2:$A$100,MATCH('Access Point (Desc)'!$Q220,[1]!MASTER_YES_NO_DESC[#Data],0),0))","v":""}]
[{"$f":"IF('Access Point (Desc)'!A221=\"\",\"\",'Access Point (Desc)'!A221)","v":""},{"$f":"IF('Access Point (Desc)'!B221=\"\",\"\",'Access Point (Desc)'!B221)","v":""},{"$f":"IF('Access Point (Desc)'!C221=\"\",\"\",'Access Point (Desc)'!C221)","v":""},{"$f":"IF('Access Point (Desc)'!D221=\"\",\"\",'Access Point (Desc)'!D221)","v":""},{"$f":"IF('Access Point (Desc)'!E221=\"\",\"\",INDEX([1]OWNER!$A$2:$A$100,MATCH('Access Point (Desc)'!$E221,[1]!MASTER_OWNER_DESC[#Data],0),0))","v":""},{"$f":"IF('Access Point (Desc)'!F221=\"\",\"\",INDEX([1]COUNTY!$A$2:$A$100,MATCH('Access Point (Desc)'!F221,[1]!MASTER_COUNTY_NAME[#Data],0),0))","v":""},{"$f":"IF('Access Point (Desc)'!G221=\"\",\"\",'Access Point (Desc)'!G221)","v":""},{"$f":"IF('Access Point (Desc)'!H221=\"\",\"\",'Access Point (Desc)'!H221)","v":""},{"$f":"IF('Access Point (Desc)'!I221=\"\",\"\",INDEX([1]ROUTE_MH_TYPE!$A$2:$A$100,MATCH('Access Point (Desc)'!$I221,[1]!MASTER_ROUTE_MH_TYPE_DESC[#Data],0),0))","v":""},{"$f":"IF('Access Point (Desc)'!J221=\"\",\"\",INDEX([1]MANHOLE_MTL!$A$2:$A$100,MATCH('Access Point (Desc)'!$J221,[1]!MASTER_MANHOLE_MTL_DESC[#Data],0),0))","v":""},{"$f":"IF('Access Point (Desc)'!K221=\"\",\"\",INDEX([1]MANHOLE_SIZE!$A$2:$A$120,MATCH('Access Point (Desc)'!$K221,[1]!MASTER_MANHOLE_SIZE_DESC[#Data],0),0))","v":""},{"$f":"IF('Access Point (Desc)'!L221=\"\",\"\",INDEX([1]ROUTE_MH_LID_TYPE!$A$2:$A$100,MATCH('Access Point (Desc)'!$L221,[1]!MASTER_ROUTE_MH_LID_TYPE_DESC[#Data],0),0))","v":""},{"$f":"IF('Access Point (Desc)'!M221=\"\",\"\",INDEX([1]MANHOLE_MTL!$A$2:$A$100,MATCH('Access Point (Desc)'!$M221,[1]!MASTER_MANHOLE_MTL_DESC[#Data],0),0))","v":""},{"$f":"IF('Access Point (Desc)'!N221=\"\",\"\",INDEX([1]LID_BOLT_TYPE!$A$2:$A$100,MATCH('Access Point (Desc)'!$N221,[1]!MASTER_LID_BOLT_TYPE_DESC[#Data],0),0))","v":""},{"$f":"IF('Access Point (Desc)'!O221=\"\",\"\",INDEX([1]YES_NO!$A$2:$A$100,MATCH('Access Point (Desc)'!$O221,[1]!MASTER_YES_NO_DESC[#Data],0),0))","v":""},{"$f":"IF('Access Point (Desc)'!P221=\"\",\"\",'Access Point (Desc)'!P221)","v":""},{"$f":"IF('Access Point (Desc)'!Q221=\"\",\"\",INDEX([1]YES_NO!$A$2:$A$100,MATCH('Access Point (Desc)'!$Q221,[1]!MASTER_YES_NO_DESC[#Data],0),0))","v":""}]
[{"$f":"IF('Access Point (Desc)'!A222=\"\",\"\",'Access Point (Desc)'!A222)","v":""},{"$f":"IF('Access Point (Desc)'!B222=\"\",\"\",'Access Point (Desc)'!B222)","v":""},{"$f":"IF('Access Point (Desc)'!C222=\"\",\"\",'Access Point (Desc)'!C222)","v":""},{"$f":"IF('Access Point (Desc)'!D222=\"\",\"\",'Access Point (Desc)'!D222)","v":""},{"$f":"IF('Access Point (Desc)'!E222=\"\",\"\",INDEX([1]OWNER!$A$2:$A$100,MATCH('Access Point (Desc)'!$E222,[1]!MASTER_OWNER_DESC[#Data],0),0))","v":""},{"$f":"IF('Access Point (Desc)'!F222=\"\",\"\",INDEX([1]COUNTY!$A$2:$A$100,MATCH('Access Point (Desc)'!F222,[1]!MASTER_COUNTY_NAME[#Data],0),0))","v":""},{"$f":"IF('Access Point (Desc)'!G222=\"\",\"\",'Access Point (Desc)'!G222)","v":""},{"$f":"IF('Access Point (Desc)'!H222=\"\",\"\",'Access Point (Desc)'!H222)","v":""},{"$f":"IF('Access Point (Desc)'!I222=\"\",\"\",INDEX([1]ROUTE_MH_TYPE!$A$2:$A$100,MATCH('Access Point (Desc)'!$I222,[1]!MASTER_ROUTE_MH_TYPE_DESC[#Data],0),0))","v":""},{"$f":"IF('Access Point (Desc)'!J222=\"\",\"\",INDEX([1]MANHOLE_MTL!$A$2:$A$100,MATCH('Access Point (Desc)'!$J222,[1]!MASTER_MANHOLE_MTL_DESC[#Data],0),0))","v":""},{"$f":"IF('Access Point (Desc)'!K222=\"\",\"\",INDEX([1]MANHOLE_SIZE!$A$2:$A$120,MATCH('Access Point (Desc)'!$K222,[1]!MASTER_MANHOLE_SIZE_DESC[#Data],0),0))","v":""},{"$f":"IF('Access Point (Desc)'!L222=\"\",\"\",INDEX([1]ROUTE_MH_LID_TYPE!$A$2:$A$100,MATCH('Access Point (Desc)'!$L222,[1]!MASTER_ROUTE_MH_LID_TYPE_DESC[#Data],0),0))","v":""},{"$f":"IF('Access Point (Desc)'!M222=\"\",\"\",INDEX([1]MANHOLE_MTL!$A$2:$A$100,MATCH('Access Point (Desc)'!$M222,[1]!MASTER_MANHOLE_MTL_DESC[#Data],0),0))","v":""},{"$f":"IF('Access Point (Desc)'!N222=\"\",\"\",INDEX([1]LID_BOLT_TYPE!$A$2:$A$100,MATCH('Access Point (Desc)'!$N222,[1]!MASTER_LID_BOLT_TYPE_DESC[#Data],0),0))","v":""},{"$f":"IF('Access Point (Desc)'!O222=\"\",\"\",INDEX([1]YES_NO!$A$2:$A$100,MATCH('Access Point (Desc)'!$O222,[1]!MASTER_YES_NO_DESC[#Data],0),0))","v":""},{"$f":"IF('Access Point (Desc)'!P222=\"\",\"\",'Access Point (Desc)'!P222)","v":""},{"$f":"IF('Access Point (Desc)'!Q222=\"\",\"\",INDEX([1]YES_NO!$A$2:$A$100,MATCH('Access Point (Desc)'!$Q222,[1]!MASTER_YES_NO_DESC[#Data],0),0))","v":""}]
[{"$f":"IF('Access Point (Desc)'!A223=\"\",\"\",'Access Point (Desc)'!A223)","v":""},{"$f":"IF('Access Point (Desc)'!B223=\"\",\"\",'Access Point (Desc)'!B223)","v":""},{"$f":"IF('Access Point (Desc)'!C223=\"\",\"\",'Access Point (Desc)'!C223)","v":""},{"$f":"IF('Access Point (Desc)'!D223=\"\",\"\",'Access Point (Desc)'!D223)","v":""},{"$f":"IF('Access Point (Desc)'!E223=\"\",\"\",INDEX([1]OWNER!$A$2:$A$100,MATCH('Access Point (Desc)'!$E223,[1]!MASTER_OWNER_DESC[#Data],0),0))","v":""},{"$f":"IF('Access Point (Desc)'!F223=\"\",\"\",INDEX([1]COUNTY!$A$2:$A$100,MATCH('Access Point (Desc)'!F223,[1]!MASTER_COUNTY_NAME[#Data],0),0))","v":""},{"$f":"IF('Access Point (Desc)'!G223=\"\",\"\",'Access Point (Desc)'!G223)","v":""},{"$f":"IF('Access Point (Desc)'!H223=\"\",\"\",'Access Point (Desc)'!H223)","v":""},{"$f":"IF('Access Point (Desc)'!I223=\"\",\"\",INDEX([1]ROUTE_MH_TYPE!$A$2:$A$100,MATCH('Access Point (Desc)'!$I223,[1]!MASTER_ROUTE_MH_TYPE_DESC[#Data],0),0))","v":""},{"$f":"IF('Access Point (Desc)'!J223=\"\",\"\",INDEX([1]MANHOLE_MTL!$A$2:$A$100,MATCH('Access Point (Desc)'!$J223,[1]!MASTER_MANHOLE_MTL_DESC[#Data],0),0))","v":""},{"$f":"IF('Access Point (Desc)'!K223=\"\",\"\",INDEX([1]MANHOLE_SIZE!$A$2:$A$120,MATCH('Access Point (Desc)'!$K223,[1]!MASTER_MANHOLE_SIZE_DESC[#Data],0),0))","v":""},{"$f":"IF('Access Point (Desc)'!L223=\"\",\"\",INDEX([1]ROUTE_MH_LID_TYPE!$A$2:$A$100,MATCH('Access Point (Desc)'!$L223,[1]!MASTER_ROUTE_MH_LID_TYPE_DESC[#Data],0),0))","v":""},{"$f":"IF('Access Point (Desc)'!M223=\"\",\"\",INDEX([1]MANHOLE_MTL!$A$2:$A$100,MATCH('Access Point (Desc)'!$M223,[1]!MASTER_MANHOLE_MTL_DESC[#Data],0),0))","v":""},{"$f":"IF('Access Point (Desc)'!N223=\"\",\"\",INDEX([1]LID_BOLT_TYPE!$A$2:$A$100,MATCH('Access Point (Desc)'!$N223,[1]!MASTER_LID_BOLT_TYPE_DESC[#Data],0),0))","v":""},{"$f":"IF('Access Point (Desc)'!O223=\"\",\"\",INDEX([1]YES_NO!$A$2:$A$100,MATCH('Access Point (Desc)'!$O223,[1]!MASTER_YES_NO_DESC[#Data],0),0))","v":""},{"$f":"IF('Access Point (Desc)'!P223=\"\",\"\",'Access Point (Desc)'!P223)","v":""},{"$f":"IF('Access Point (Desc)'!Q223=\"\",\"\",INDEX([1]YES_NO!$A$2:$A$100,MATCH('Access Point (Desc)'!$Q223,[1]!MASTER_YES_NO_DESC[#Data],0),0))","v":""}]
[{"$f":"IF('Access Point (Desc)'!A224=\"\",\"\",'Access Point (Desc)'!A224)","v":""},{"$f":"IF('Access Point (Desc)'!B224=\"\",\"\",'Access Point (Desc)'!B224)","v":""},{"$f":"IF('Access Point (Desc)'!C224=\"\",\"\",'Access Point (Desc)'!C224)","v":""},{"$f":"IF('Access Point (Desc)'!D224=\"\",\"\",'Access Point (Desc)'!D224)","v":""},{"$f":"IF('Access Point (Desc)'!E224=\"\",\"\",INDEX([1]OWNER!$A$2:$A$100,MATCH('Access Point (Desc)'!$E224,[1]!MASTER_OWNER_DESC[#Data],0),0))","v":""},{"$f":"IF('Access Point (Desc)'!F224=\"\",\"\",INDEX([1]COUNTY!$A$2:$A$100,MATCH('Access Point (Desc)'!F224,[1]!MASTER_COUNTY_NAME[#Data],0),0))","v":""},{"$f":"IF('Access Point (Desc)'!G224=\"\",\"\",'Access Point (Desc)'!G224)","v":""},{"$f":"IF('Access Point (Desc)'!H224=\"\",\"\",'Access Point (Desc)'!H224)","v":""},{"$f":"IF('Access Point (Desc)'!I224=\"\",\"\",INDEX([1]ROUTE_MH_TYPE!$A$2:$A$100,MATCH('Access Point (Desc)'!$I224,[1]!MASTER_ROUTE_MH_TYPE_DESC[#Data],0),0))","v":""},{"$f":"IF('Access Point (Desc)'!J224=\"\",\"\",INDEX([1]MANHOLE_MTL!$A$2:$A$100,MATCH('Access Point (Desc)'!$J224,[1]!MASTER_MANHOLE_MTL_DESC[#Data],0),0))","v":""},{"$f":"IF('Access Point (Desc)'!K224=\"\",\"\",INDEX([1]MANHOLE_SIZE!$A$2:$A$120,MATCH('Access Point (Desc)'!$K224,[1]!MASTER_MANHOLE_SIZE_DESC[#Data],0),0))","v":""},{"$f":"IF('Access Point (Desc)'!L224=\"\",\"\",INDEX([1]ROUTE_MH_LID_TYPE!$A$2:$A$100,MATCH('Access Point (Desc)'!$L224,[1]!MASTER_ROUTE_MH_LID_TYPE_DESC[#Data],0),0))","v":""},{"$f":"IF('Access Point (Desc)'!M224=\"\",\"\",INDEX([1]MANHOLE_MTL!$A$2:$A$100,MATCH('Access Point (Desc)'!$M224,[1]!MASTER_MANHOLE_MTL_DESC[#Data],0),0))","v":""},{"$f":"IF('Access Point (Desc)'!N224=\"\",\"\",INDEX([1]LID_BOLT_TYPE!$A$2:$A$100,MATCH('Access Point (Desc)'!$N224,[1]!MASTER_LID_BOLT_TYPE_DESC[#Data],0),0))","v":""},{"$f":"IF('Access Point (Desc)'!O224=\"\",\"\",INDEX([1]YES_NO!$A$2:$A$100,MATCH('Access Point (Desc)'!$O224,[1]!MASTER_YES_NO_DESC[#Data],0),0))","v":""},{"$f":"IF('Access Point (Desc)'!P224=\"\",\"\",'Access Point (Desc)'!P224)","v":""},{"$f":"IF('Access Point (Desc)'!Q224=\"\",\"\",INDEX([1]YES_NO!$A$2:$A$100,MATCH('Access Point (Desc)'!$Q224,[1]!MASTER_YES_NO_DESC[#Data],0),0))","v":""}]
[{"$f":"IF('Access Point (Desc)'!A225=\"\",\"\",'Access Point (Desc)'!A225)","v":""},{"$f":"IF('Access Point (Desc)'!B225=\"\",\"\",'Access Point (Desc)'!B225)","v":""},{"$f":"IF('Access Point (Desc)'!C225=\"\",\"\",'Access Point (Desc)'!C225)","v":""},{"$f":"IF('Access Point (Desc)'!D225=\"\",\"\",'Access Point (Desc)'!D225)","v":""},{"$f":"IF('Access Point (Desc)'!E225=\"\",\"\",INDEX([1]OWNER!$A$2:$A$100,MATCH('Access Point (Desc)'!$E225,[1]!MASTER_OWNER_DESC[#Data],0),0))","v":""},{"$f":"IF('Access Point (Desc)'!F225=\"\",\"\",INDEX([1]COUNTY!$A$2:$A$100,MATCH('Access Point (Desc)'!F225,[1]!MASTER_COUNTY_NAME[#Data],0),0))","v":""},{"$f":"IF('Access Point (Desc)'!G225=\"\",\"\",'Access Point (Desc)'!G225)","v":""},{"$f":"IF('Access Point (Desc)'!H225=\"\",\"\",'Access Point (Desc)'!H225)","v":""},{"$f":"IF('Access Point (Desc)'!I225=\"\",\"\",INDEX([1]ROUTE_MH_TYPE!$A$2:$A$100,MATCH('Access Point (Desc)'!$I225,[1]!MASTER_ROUTE_MH_TYPE_DESC[#Data],0),0))","v":""},{"$f":"IF('Access Point (Desc)'!J225=\"\",\"\",INDEX([1]MANHOLE_MTL!$A$2:$A$100,MATCH('Access Point (Desc)'!$J225,[1]!MASTER_MANHOLE_MTL_DESC[#Data],0),0))","v":""},{"$f":"IF('Access Point (Desc)'!K225=\"\",\"\",INDEX([1]MANHOLE_SIZE!$A$2:$A$120,MATCH('Access Point (Desc)'!$K225,[1]!MASTER_MANHOLE_SIZE_DESC[#Data],0),0))","v":""},{"$f":"IF('Access Point (Desc)'!L225=\"\",\"\",INDEX([1]ROUTE_MH_LID_TYPE!$A$2:$A$100,MATCH('Access Point (Desc)'!$L225,[1]!MASTER_ROUTE_MH_LID_TYPE_DESC[#Data],0),0))","v":""},{"$f":"IF('Access Point (Desc)'!M225=\"\",\"\",INDEX([1]MANHOLE_MTL!$A$2:$A$100,MATCH('Access Point (Desc)'!$M225,[1]!MASTER_MANHOLE_MTL_DESC[#Data],0),0))","v":""},{"$f":"IF('Access Point (Desc)'!N225=\"\",\"\",INDEX([1]LID_BOLT_TYPE!$A$2:$A$100,MATCH('Access Point (Desc)'!$N225,[1]!MASTER_LID_BOLT_TYPE_DESC[#Data],0),0))","v":""},{"$f":"IF('Access Point (Desc)'!O225=\"\",\"\",INDEX([1]YES_NO!$A$2:$A$100,MATCH('Access Point (Desc)'!$O225,[1]!MASTER_YES_NO_DESC[#Data],0),0))","v":""},{"$f":"IF('Access Point (Desc)'!P225=\"\",\"\",'Access Point (Desc)'!P225)","v":""},{"$f":"IF('Access Point (Desc)'!Q225=\"\",\"\",INDEX([1]YES_NO!$A$2:$A$100,MATCH('Access Point (Desc)'!$Q225,[1]!MASTER_YES_NO_DESC[#Data],0),0))","v":""}]
[{"$f":"IF('Access Point (Desc)'!A226=\"\",\"\",'Access Point (Desc)'!A226)","v":""},{"$f":"IF('Access Point (Desc)'!B226=\"\",\"\",'Access Point (Desc)'!B226)","v":""},{"$f":"IF('Access Point (Desc)'!C226=\"\",\"\",'Access Point (Desc)'!C226)","v":""},{"$f":"IF('Access Point (Desc)'!D226=\"\",\"\",'Access Point (Desc)'!D226)","v":""},{"$f":"IF('Access Point (Desc)'!E226=\"\",\"\",INDEX([1]OWNER!$A$2:$A$100,MATCH('Access Point (Desc)'!$E226,[1]!MASTER_OWNER_DESC[#Data],0),0))","v":""},{"$f":"IF('Access Point (Desc)'!F226=\"\",\"\",INDEX([1]COUNTY!$A$2:$A$100,MATCH('Access Point (Desc)'!F226,[1]!MASTER_COUNTY_NAME[#Data],0),0))","v":""},{"$f":"IF('Access Point (Desc)'!G226=\"\",\"\",'Access Point (Desc)'!G226)","v":""},{"$f":"IF('Access Point (Desc)'!H226=\"\",\"\",'Access Point (Desc)'!H226)","v":""},{"$f":"IF('Access Point (Desc)'!I226=\"\",\"\",INDEX([1]ROUTE_MH_TYPE!$A$2:$A$100,MATCH('Access Point (Desc)'!$I226,[1]!MASTER_ROUTE_MH_TYPE_DESC[#Data],0),0))","v":""},{"$f":"IF('Access Point (Desc)'!J226=\"\",\"\",INDEX([1]MANHOLE_MTL!$A$2:$A$100,MATCH('Access Point (Desc)'!$J226,[1]!MASTER_MANHOLE_MTL_DESC[#Data],0),0))","v":""},{"$f":"IF('Access Point (Desc)'!K226=\"\",\"\",INDEX([1]MANHOLE_SIZE!$A$2:$A$120,MATCH('Access Point (Desc)'!$K226,[1]!MASTER_MANHOLE_SIZE_DESC[#Data],0),0))","v":""},{"$f":"IF('Access Point (Desc)'!L226=\"\",\"\",INDEX([1]ROUTE_MH_LID_TYPE!$A$2:$A$100,MATCH('Access Point (Desc)'!$L226,[1]!MASTER_ROUTE_MH_LID_TYPE_DESC[#Data],0),0))","v":""},{"$f":"IF('Access Point (Desc)'!M226=\"\",\"\",INDEX([1]MANHOLE_MTL!$A$2:$A$100,MATCH('Access Point (Desc)'!$M226,[1]!MASTER_MANHOLE_MTL_DESC[#Data],0),0))","v":""},{"$f":"IF('Access Point (Desc)'!N226=\"\",\"\",INDEX([1]LID_BOLT_TYPE!$A$2:$A$100,MATCH('Access Point (Desc)'!$N226,[1]!MASTER_LID_BOLT_TYPE_DESC[#Data],0),0))","v":""},{"$f":"IF('Access Point (Desc)'!O226=\"\",\"\",INDEX([1]YES_NO!$A$2:$A$100,MATCH('Access Point (Desc)'!$O226,[1]!MASTER_YES_NO_DESC[#Data],0),0))","v":""},{"$f":"IF('Access Point (Desc)'!P226=\"\",\"\",'Access Point (Desc)'!P226)","v":""},{"$f":"IF('Access Point (Desc)'!Q226=\"\",\"\",INDEX([1]YES_NO!$A$2:$A$100,MATCH('Access Point (Desc)'!$Q226,[1]!MASTER_YES_NO_DESC[#Data],0),0))","v":""}]
[{"$f":"IF('Access Point (Desc)'!A227=\"\",\"\",'Access Point (Desc)'!A227)","v":""},{"$f":"IF('Access Point (Desc)'!B227=\"\",\"\",'Access Point (Desc)'!B227)","v":""},{"$f":"IF('Access Point (Desc)'!C227=\"\",\"\",'Access Point (Desc)'!C227)","v":""},{"$f":"IF('Access Point (Desc)'!D227=\"\",\"\",'Access Point (Desc)'!D227)","v":""},{"$f":"IF('Access Point (Desc)'!E227=\"\",\"\",INDEX([1]OWNER!$A$2:$A$100,MATCH('Access Point (Desc)'!$E227,[1]!MASTER_OWNER_DESC[#Data],0),0))","v":""},{"$f":"IF('Access Point (Desc)'!F227=\"\",\"\",INDEX([1]COUNTY!$A$2:$A$100,MATCH('Access Point (Desc)'!F227,[1]!MASTER_COUNTY_NAME[#Data],0),0))","v":""},{"$f":"IF('Access Point (Desc)'!G227=\"\",\"\",'Access Point (Desc)'!G227)","v":""},{"$f":"IF('Access Point (Desc)'!H227=\"\",\"\",'Access Point (Desc)'!H227)","v":""},{"$f":"IF('Access Point (Desc)'!I227=\"\",\"\",INDEX([1]ROUTE_MH_TYPE!$A$2:$A$100,MATCH('Access Point (Desc)'!$I227,[1]!MASTER_ROUTE_MH_TYPE_DESC[#Data],0),0))","v":""},{"$f":"IF('Access Point (Desc)'!J227=\"\",\"\",INDEX([1]MANHOLE_MTL!$A$2:$A$100,MATCH('Access Point (Desc)'!$J227,[1]!MASTER_MANHOLE_MTL_DESC[#Data],0),0))","v":""},{"$f":"IF('Access Point (Desc)'!K227=\"\",\"\",INDEX([1]MANHOLE_SIZE!$A$2:$A$120,MATCH('Access Point (Desc)'!$K227,[1]!MASTER_MANHOLE_SIZE_DESC[#Data],0),0))","v":""},{"$f":"IF('Access Point (Desc)'!L227=\"\",\"\",INDEX([1]ROUTE_MH_LID_TYPE!$A$2:$A$100,MATCH('Access Point (Desc)'!$L227,[1]!MASTER_ROUTE_MH_LID_TYPE_DESC[#Data],0),0))","v":""},{"$f":"IF('Access Point (Desc)'!M227=\"\",\"\",INDEX([1]MANHOLE_MTL!$A$2:$A$100,MATCH('Access Point (Desc)'!$M227,[1]!MASTER_MANHOLE_MTL_DESC[#Data],0),0))","v":""},{"$f":"IF('Access Point (Desc)'!N227=\"\",\"\",INDEX([1]LID_BOLT_TYPE!$A$2:$A$100,MATCH('Access Point (Desc)'!$N227,[1]!MASTER_LID_BOLT_TYPE_DESC[#Data],0),0))","v":""},{"$f":"IF('Access Point (Desc)'!O227=\"\",\"\",INDEX([1]YES_NO!$A$2:$A$100,MATCH('Access Point (Desc)'!$O227,[1]!MASTER_YES_NO_DESC[#Data],0),0))","v":""},{"$f":"IF('Access Point (Desc)'!P227=\"\",\"\",'Access Point (Desc)'!P227)","v":""},{"$f":"IF('Access Point (Desc)'!Q227=\"\",\"\",INDEX([1]YES_NO!$A$2:$A$100,MATCH('Access Point (Desc)'!$Q227,[1]!MASTER_YES_NO_DESC[#Data],0),0))","v":""}]
[{"$f":"IF('Access Point (Desc)'!A228=\"\",\"\",'Access Point (Desc)'!A228)","v":""},{"$f":"IF('Access Point (Desc)'!B228=\"\",\"\",'Access Point (Desc)'!B228)","v":""},{"$f":"IF('Access Point (Desc)'!C228=\"\",\"\",'Access Point (Desc)'!C228)","v":""},{"$f":"IF('Access Point (Desc)'!D228=\"\",\"\",'Access Point (Desc)'!D228)","v":""},{"$f":"IF('Access Point (Desc)'!E228=\"\",\"\",INDEX([1]OWNER!$A$2:$A$100,MATCH('Access Point (Desc)'!$E228,[1]!MASTER_OWNER_DESC[#Data],0),0))","v":""},{"$f":"IF('Access Point (Desc)'!F228=\"\",\"\",INDEX([1]COUNTY!$A$2:$A$100,MATCH('Access Point (Desc)'!F228,[1]!MASTER_COUNTY_NAME[#Data],0),0))","v":""},{"$f":"IF('Access Point (Desc)'!G228=\"\",\"\",'Access Point (Desc)'!G228)","v":""},{"$f":"IF('Access Point (Desc)'!H228=\"\",\"\",'Access Point (Desc)'!H228)","v":""},{"$f":"IF('Access Point (Desc)'!I228=\"\",\"\",INDEX([1]ROUTE_MH_TYPE!$A$2:$A$100,MATCH('Access Point (Desc)'!$I228,[1]!MASTER_ROUTE_MH_TYPE_DESC[#Data],0),0))","v":""},{"$f":"IF('Access Point (Desc)'!J228=\"\",\"\",INDEX([1]MANHOLE_MTL!$A$2:$A$100,MATCH('Access Point (Desc)'!$J228,[1]!MASTER_MANHOLE_MTL_DESC[#Data],0),0))","v":""},{"$f":"IF('Access Point (Desc)'!K228=\"\",\"\",INDEX([1]MANHOLE_SIZE!$A$2:$A$120,MATCH('Access Point (Desc)'!$K228,[1]!MASTER_MANHOLE_SIZE_DESC[#Data],0),0))","v":""},{"$f":"IF('Access Point (Desc)'!L228=\"\",\"\",INDEX([1]ROUTE_MH_LID_TYPE!$A$2:$A$100,MATCH('Access Point (Desc)'!$L228,[1]!MASTER_ROUTE_MH_LID_TYPE_DESC[#Data],0),0))","v":""},{"$f":"IF('Access Point (Desc)'!M228=\"\",\"\",INDEX([1]MANHOLE_MTL!$A$2:$A$100,MATCH('Access Point (Desc)'!$M228,[1]!MASTER_MANHOLE_MTL_DESC[#Data],0),0))","v":""},{"$f":"IF('Access Point (Desc)'!N228=\"\",\"\",INDEX([1]LID_BOLT_TYPE!$A$2:$A$100,MATCH('Access Point (Desc)'!$N228,[1]!MASTER_LID_BOLT_TYPE_DESC[#Data],0),0))","v":""},{"$f":"IF('Access Point (Desc)'!O228=\"\",\"\",INDEX([1]YES_NO!$A$2:$A$100,MATCH('Access Point (Desc)'!$O228,[1]!MASTER_YES_NO_DESC[#Data],0),0))","v":""},{"$f":"IF('Access Point (Desc)'!P228=\"\",\"\",'Access Point (Desc)'!P228)","v":""},{"$f":"IF('Access Point (Desc)'!Q228=\"\",\"\",INDEX([1]YES_NO!$A$2:$A$100,MATCH('Access Point (Desc)'!$Q228,[1]!MASTER_YES_NO_DESC[#Data],0),0))","v":""}]
[{"$f":"IF('Access Point (Desc)'!A229=\"\",\"\",'Access Point (Desc)'!A229)","v":""},{"$f":"IF('Access Point (Desc)'!B229=\"\",\"\",'Access Point (Desc)'!B229)","v":""},{"$f":"IF('Access Point (Desc)'!C229=\"\",\"\",'Access Point (Desc)'!C229)","v":""},{"$f":"IF('Access Point (Desc)'!D229=\"\",\"\",'Access Point (Desc)'!D229)","v":""},{"$f":"IF('Access Point (Desc)'!E229=\"\",\"\",INDEX([1]OWNER!$A$2:$A$100,MATCH('Access Point (Desc)'!$E229,[1]!MASTER_OWNER_DESC[#Data],0),0))","v":""},{"$f":"IF('Access Point (Desc)'!F229=\"\",\"\",INDEX([1]COUNTY!$A$2:$A$100,MATCH('Access Point (Desc)'!F229,[1]!MASTER_COUNTY_NAME[#Data],0),0))","v":""},{"$f":"IF('Access Point (Desc)'!G229=\"\",\"\",'Access Point (Desc)'!G229)","v":""},{"$f":"IF('Access Point (Desc)'!H229=\"\",\"\",'Access Point (Desc)'!H229)","v":""},{"$f":"IF('Access Point (Desc)'!I229=\"\",\"\",INDEX([1]ROUTE_MH_TYPE!$A$2:$A$100,MATCH('Access Point (Desc)'!$I229,[1]!MASTER_ROUTE_MH_TYPE_DESC[#Data],0),0))","v":""},{"$f":"IF('Access Point (Desc)'!J229=\"\",\"\",INDEX([1]MANHOLE_MTL!$A$2:$A$100,MATCH('Access Point (Desc)'!$J229,[1]!MASTER_MANHOLE_MTL_DESC[#Data],0),0))","v":""},{"$f":"IF('Access Point (Desc)'!K229=\"\",\"\",INDEX([1]MANHOLE_SIZE!$A$2:$A$120,MATCH('Access Point (Desc)'!$K229,[1]!MASTER_MANHOLE_SIZE_DESC[#Data],0),0))","v":""},{"$f":"IF('Access Point (Desc)'!L229=\"\",\"\",INDEX([1]ROUTE_MH_LID_TYPE!$A$2:$A$100,MATCH('Access Point (Desc)'!$L229,[1]!MASTER_ROUTE_MH_LID_TYPE_DESC[#Data],0),0))","v":""},{"$f":"IF('Access Point (Desc)'!M229=\"\",\"\",INDEX([1]MANHOLE_MTL!$A$2:$A$100,MATCH('Access Point (Desc)'!$M229,[1]!MASTER_MANHOLE_MTL_DESC[#Data],0),0))","v":""},{"$f":"IF('Access Point (Desc)'!N229=\"\",\"\",INDEX([1]LID_BOLT_TYPE!$A$2:$A$100,MATCH('Access Point (Desc)'!$N229,[1]!MASTER_LID_BOLT_TYPE_DESC[#Data],0),0))","v":""},{"$f":"IF('Access Point (Desc)'!O229=\"\",\"\",INDEX([1]YES_NO!$A$2:$A$100,MATCH('Access Point (Desc)'!$O229,[1]!MASTER_YES_NO_DESC[#Data],0),0))","v":""},{"$f":"IF('Access Point (Desc)'!P229=\"\",\"\",'Access Point (Desc)'!P229)","v":""},{"$f":"IF('Access Point (Desc)'!Q229=\"\",\"\",INDEX([1]YES_NO!$A$2:$A$100,MATCH('Access Point (Desc)'!$Q229,[1]!MASTER_YES_NO_DESC[#Data],0),0))","v":""}]
[{"$f":"IF('Access Point (Desc)'!A230=\"\",\"\",'Access Point (Desc)'!A230)","v":""},{"$f":"IF('Access Point (Desc)'!B230=\"\",\"\",'Access Point (Desc)'!B230)","v":""},{"$f":"IF('Access Point (Desc)'!C230=\"\",\"\",'Access Point (Desc)'!C230)","v":""},{"$f":"IF('Access Point (Desc)'!D230=\"\",\"\",'Access Point (Desc)'!D230)","v":""},{"$f":"IF('Access Point (Desc)'!E230=\"\",\"\",INDEX([1]OWNER!$A$2:$A$100,MATCH('Access Point (Desc)'!$E230,[1]!MASTER_OWNER_DESC[#Data],0),0))","v":""},{"$f":"IF('Access Point (Desc)'!F230=\"\",\"\",INDEX([1]COUNTY!$A$2:$A$100,MATCH('Access Point (Desc)'!F230,[1]!MASTER_COUNTY_NAME[#Data],0),0))","v":""},{"$f":"IF('Access Point (Desc)'!G230=\"\",\"\",'Access Point (Desc)'!G230)","v":""},{"$f":"IF('Access Point (Desc)'!H230=\"\",\"\",'Access Point (Desc)'!H230)","v":""},{"$f":"IF('Access Point (Desc)'!I230=\"\",\"\",INDEX([1]ROUTE_MH_TYPE!$A$2:$A$100,MATCH('Access Point (Desc)'!$I230,[1]!MASTER_ROUTE_MH_TYPE_DESC[#Data],0),0))","v":""},{"$f":"IF('Access Point (Desc)'!J230=\"\",\"\",INDEX([1]MANHOLE_MTL!$A$2:$A$100,MATCH('Access Point (Desc)'!$J230,[1]!MASTER_MANHOLE_MTL_DESC[#Data],0),0))","v":""},{"$f":"IF('Access Point (Desc)'!K230=\"\",\"\",INDEX([1]MANHOLE_SIZE!$A$2:$A$120,MATCH('Access Point (Desc)'!$K230,[1]!MASTER_MANHOLE_SIZE_DESC[#Data],0),0))","v":""},{"$f":"IF('Access Point (Desc)'!L230=\"\",\"\",INDEX([1]ROUTE_MH_LID_TYPE!$A$2:$A$100,MATCH('Access Point (Desc)'!$L230,[1]!MASTER_ROUTE_MH_LID_TYPE_DESC[#Data],0),0))","v":""},{"$f":"IF('Access Point (Desc)'!M230=\"\",\"\",INDEX([1]MANHOLE_MTL!$A$2:$A$100,MATCH('Access Point (Desc)'!$M230,[1]!MASTER_MANHOLE_MTL_DESC[#Data],0),0))","v":""},{"$f":"IF('Access Point (Desc)'!N230=\"\",\"\",INDEX([1]LID_BOLT_TYPE!$A$2:$A$100,MATCH('Access Point (Desc)'!$N230,[1]!MASTER_LID_BOLT_TYPE_DESC[#Data],0),0))","v":""},{"$f":"IF('Access Point (Desc)'!O230=\"\",\"\",INDEX([1]YES_NO!$A$2:$A$100,MATCH('Access Point (Desc)'!$O230,[1]!MASTER_YES_NO_DESC[#Data],0),0))","v":""},{"$f":"IF('Access Point (Desc)'!P230=\"\",\"\",'Access Point (Desc)'!P230)","v":""},{"$f":"IF('Access Point (Desc)'!Q230=\"\",\"\",INDEX([1]YES_NO!$A$2:$A$100,MATCH('Access Point (Desc)'!$Q230,[1]!MASTER_YES_NO_DESC[#Data],0),0))","v":""}]
[{"$f":"IF('Access Point (Desc)'!A231=\"\",\"\",'Access Point (Desc)'!A231)","v":""},{"$f":"IF('Access Point (Desc)'!B231=\"\",\"\",'Access Point (Desc)'!B231)","v":""},{"$f":"IF('Access Point (Desc)'!C231=\"\",\"\",'Access Point (Desc)'!C231)","v":""},{"$f":"IF('Access Point (Desc)'!D231=\"\",\"\",'Access Point (Desc)'!D231)","v":""},{"$f":"IF('Access Point (Desc)'!E231=\"\",\"\",INDEX([1]OWNER!$A$2:$A$100,MATCH('Access Point (Desc)'!$E231,[1]!MASTER_OWNER_DESC[#Data],0),0))","v":""},{"$f":"IF('Access Point (Desc)'!F231=\"\",\"\",INDEX([1]COUNTY!$A$2:$A$100,MATCH('Access Point (Desc)'!F231,[1]!MASTER_COUNTY_NAME[#Data],0),0))","v":""},{"$f":"IF('Access Point (Desc)'!G231=\"\",\"\",'Access Point (Desc)'!G231)","v":""},{"$f":"IF('Access Point (Desc)'!H231=\"\",\"\",'Access Point (Desc)'!H231)","v":""},{"$f":"IF('Access Point (Desc)'!I231=\"\",\"\",INDEX([1]ROUTE_MH_TYPE!$A$2:$A$100,MATCH('Access Point (Desc)'!$I231,[1]!MASTER_ROUTE_MH_TYPE_DESC[#Data],0),0))","v":""},{"$f":"IF('Access Point (Desc)'!J231=\"\",\"\",INDEX([1]MANHOLE_MTL!$A$2:$A$100,MATCH('Access Point (Desc)'!$J231,[1]!MASTER_MANHOLE_MTL_DESC[#Data],0),0))","v":""},{"$f":"IF('Access Point (Desc)'!K231=\"\",\"\",INDEX([1]MANHOLE_SIZE!$A$2:$A$120,MATCH('Access Point (Desc)'!$K231,[1]!MASTER_MANHOLE_SIZE_DESC[#Data],0),0))","v":""},{"$f":"IF('Access Point (Desc)'!L231=\"\",\"\",INDEX([1]ROUTE_MH_LID_TYPE!$A$2:$A$100,MATCH('Access Point (Desc)'!$L231,[1]!MASTER_ROUTE_MH_LID_TYPE_DESC[#Data],0),0))","v":""},{"$f":"IF('Access Point (Desc)'!M231=\"\",\"\",INDEX([1]MANHOLE_MTL!$A$2:$A$100,MATCH('Access Point (Desc)'!$M231,[1]!MASTER_MANHOLE_MTL_DESC[#Data],0),0))","v":""},{"$f":"IF('Access Point (Desc)'!N231=\"\",\"\",INDEX([1]LID_BOLT_TYPE!$A$2:$A$100,MATCH('Access Point (Desc)'!$N231,[1]!MASTER_LID_BOLT_TYPE_DESC[#Data],0),0))","v":""},{"$f":"IF('Access Point (Desc)'!O231=\"\",\"\",INDEX([1]YES_NO!$A$2:$A$100,MATCH('Access Point (Desc)'!$O231,[1]!MASTER_YES_NO_DESC[#Data],0),0))","v":""},{"$f":"IF('Access Point (Desc)'!P231=\"\",\"\",'Access Point (Desc)'!P231)","v":""},{"$f":"IF('Access Point (Desc)'!Q231=\"\",\"\",INDEX([1]YES_NO!$A$2:$A$100,MATCH('Access Point (Desc)'!$Q231,[1]!MASTER_YES_NO_DESC[#Data],0),0))","v":""}]
[{"$f":"IF('Access Point (Desc)'!A232=\"\",\"\",'Access Point (Desc)'!A232)","v":""},{"$f":"IF('Access Point (Desc)'!B232=\"\",\"\",'Access Point (Desc)'!B232)","v":""},{"$f":"IF('Access Point (Desc)'!C232=\"\",\"\",'Access Point (Desc)'!C232)","v":""},{"$f":"IF('Access Point (Desc)'!D232=\"\",\"\",'Access Point (Desc)'!D232)","v":""},{"$f":"IF('Access Point (Desc)'!E232=\"\",\"\",INDEX([1]OWNER!$A$2:$A$100,MATCH('Access Point (Desc)'!$E232,[1]!MASTER_OWNER_DESC[#Data],0),0))","v":""},{"$f":"IF('Access Point (Desc)'!F232=\"\",\"\",INDEX([1]COUNTY!$A$2:$A$100,MATCH('Access Point (Desc)'!F232,[1]!MASTER_COUNTY_NAME[#Data],0),0))","v":""},{"$f":"IF('Access Point (Desc)'!G232=\"\",\"\",'Access Point (Desc)'!G232)","v":""},{"$f":"IF('Access Point (Desc)'!H232=\"\",\"\",'Access Point (Desc)'!H232)","v":""},{"$f":"IF('Access Point (Desc)'!I232=\"\",\"\",INDEX([1]ROUTE_MH_TYPE!$A$2:$A$100,MATCH('Access Point (Desc)'!$I232,[1]!MASTER_ROUTE_MH_TYPE_DESC[#Data],0),0))","v":""},{"$f":"IF('Access Point (Desc)'!J232=\"\",\"\",INDEX([1]MANHOLE_MTL!$A$2:$A$100,MATCH('Access Point (Desc)'!$J232,[1]!MASTER_MANHOLE_MTL_DESC[#Data],0),0))","v":""},{"$f":"IF('Access Point (Desc)'!K232=\"\",\"\",INDEX([1]MANHOLE_SIZE!$A$2:$A$120,MATCH('Access Point (Desc)'!$K232,[1]!MASTER_MANHOLE_SIZE_DESC[#Data],0),0))","v":""},{"$f":"IF('Access Point (Desc)'!L232=\"\",\"\",INDEX([1]ROUTE_MH_LID_TYPE!$A$2:$A$100,MATCH('Access Point (Desc)'!$L232,[1]!MASTER_ROUTE_MH_LID_TYPE_DESC[#Data],0),0))","v":""},{"$f":"IF('Access Point (Desc)'!M232=\"\",\"\",INDEX([1]MANHOLE_MTL!$A$2:$A$100,MATCH('Access Point (Desc)'!$M232,[1]!MASTER_MANHOLE_MTL_DESC[#Data],0),0))","v":""},{"$f":"IF('Access Point (Desc)'!N232=\"\",\"\",INDEX([1]LID_BOLT_TYPE!$A$2:$A$100,MATCH('Access Point (Desc)'!$N232,[1]!MASTER_LID_BOLT_TYPE_DESC[#Data],0),0))","v":""},{"$f":"IF('Access Point (Desc)'!O232=\"\",\"\",INDEX([1]YES_NO!$A$2:$A$100,MATCH('Access Point (Desc)'!$O232,[1]!MASTER_YES_NO_DESC[#Data],0),0))","v":""},{"$f":"IF('Access Point (Desc)'!P232=\"\",\"\",'Access Point (Desc)'!P232)","v":""},{"$f":"IF('Access Point (Desc)'!Q232=\"\",\"\",INDEX([1]YES_NO!$A$2:$A$100,MATCH('Access Point (Desc)'!$Q232,[1]!MASTER_YES_NO_DESC[#Data],0),0))","v":""}]
[{"$f":"IF('Access Point (Desc)'!A233=\"\",\"\",'Access Point (Desc)'!A233)","v":""},{"$f":"IF('Access Point (Desc)'!B233=\"\",\"\",'Access Point (Desc)'!B233)","v":""},{"$f":"IF('Access Point (Desc)'!C233=\"\",\"\",'Access Point (Desc)'!C233)","v":""},{"$f":"IF('Access Point (Desc)'!D233=\"\",\"\",'Access Point (Desc)'!D233)","v":""},{"$f":"IF('Access Point (Desc)'!E233=\"\",\"\",INDEX([1]OWNER!$A$2:$A$100,MATCH('Access Point (Desc)'!$E233,[1]!MASTER_OWNER_DESC[#Data],0),0))","v":""},{"$f":"IF('Access Point (Desc)'!F233=\"\",\"\",INDEX([1]COUNTY!$A$2:$A$100,MATCH('Access Point (Desc)'!F233,[1]!MASTER_COUNTY_NAME[#Data],0),0))","v":""},{"$f":"IF('Access Point (Desc)'!G233=\"\",\"\",'Access Point (Desc)'!G233)","v":""},{"$f":"IF('Access Point (Desc)'!H233=\"\",\"\",'Access Point (Desc)'!H233)","v":""},{"$f":"IF('Access Point (Desc)'!I233=\"\",\"\",INDEX([1]ROUTE_MH_TYPE!$A$2:$A$100,MATCH('Access Point (Desc)'!$I233,[1]!MASTER_ROUTE_MH_TYPE_DESC[#Data],0),0))","v":""},{"$f":"IF('Access Point (Desc)'!J233=\"\",\"\",INDEX([1]MANHOLE_MTL!$A$2:$A$100,MATCH('Access Point (Desc)'!$J233,[1]!MASTER_MANHOLE_MTL_DESC[#Data],0),0))","v":""},{"$f":"IF('Access Point (Desc)'!K233=\"\",\"\",INDEX([1]MANHOLE_SIZE!$A$2:$A$120,MATCH('Access Point (Desc)'!$K233,[1]!MASTER_MANHOLE_SIZE_DESC[#Data],0),0))","v":""},{"$f":"IF('Access Point (Desc)'!L233=\"\",\"\",INDEX([1]ROUTE_MH_LID_TYPE!$A$2:$A$100,MATCH('Access Point (Desc)'!$L233,[1]!MASTER_ROUTE_MH_LID_TYPE_DESC[#Data],0),0))","v":""},{"$f":"IF('Access Point (Desc)'!M233=\"\",\"\",INDEX([1]MANHOLE_MTL!$A$2:$A$100,MATCH('Access Point (Desc)'!$M233,[1]!MASTER_MANHOLE_MTL_DESC[#Data],0),0))","v":""},{"$f":"IF('Access Point (Desc)'!N233=\"\",\"\",INDEX([1]LID_BOLT_TYPE!$A$2:$A$100,MATCH('Access Point (Desc)'!$N233,[1]!MASTER_LID_BOLT_TYPE_DESC[#Data],0),0))","v":""},{"$f":"IF('Access Point (Desc)'!O233=\"\",\"\",INDEX([1]YES_NO!$A$2:$A$100,MATCH('Access Point (Desc)'!$O233,[1]!MASTER_YES_NO_DESC[#Data],0),0))","v":""},{"$f":"IF('Access Point (Desc)'!P233=\"\",\"\",'Access Point (Desc)'!P233)","v":""},{"$f":"IF('Access Point (Desc)'!Q233=\"\",\"\",INDEX([1]YES_NO!$A$2:$A$100,MATCH('Access Point (Desc)'!$Q233,[1]!MASTER_YES_NO_DESC[#Data],0),0))","v":""}]
[{"$f":"IF('Access Point (Desc)'!A234=\"\",\"\",'Access Point (Desc)'!A234)","v":""},{"$f":"IF('Access Point (Desc)'!B234=\"\",\"\",'Access Point (Desc)'!B234)","v":""},{"$f":"IF('Access Point (Desc)'!C234=\"\",\"\",'Access Point (Desc)'!C234)","v":""},{"$f":"IF('Access Point (Desc)'!D234=\"\",\"\",'Access Point (Desc)'!D234)","v":""},{"$f":"IF('Access Point (Desc)'!E234=\"\",\"\",INDEX([1]OWNER!$A$2:$A$100,MATCH('Access Point (Desc)'!$E234,[1]!MASTER_OWNER_DESC[#Data],0),0))","v":""},{"$f":"IF('Access Point (Desc)'!F234=\"\",\"\",INDEX([1]COUNTY!$A$2:$A$100,MATCH('Access Point (Desc)'!F234,[1]!MASTER_COUNTY_NAME[#Data],0),0))","v":""},{"$f":"IF('Access Point (Desc)'!G234=\"\",\"\",'Access Point (Desc)'!G234)","v":""},{"$f":"IF('Access Point (Desc)'!H234=\"\",\"\",'Access Point (Desc)'!H234)","v":""},{"$f":"IF('Access Point (Desc)'!I234=\"\",\"\",INDEX([1]ROUTE_MH_TYPE!$A$2:$A$100,MATCH('Access Point (Desc)'!$I234,[1]!MASTER_ROUTE_MH_TYPE_DESC[#Data],0),0))","v":""},{"$f":"IF('Access Point (Desc)'!J234=\"\",\"\",INDEX([1]MANHOLE_MTL!$A$2:$A$100,MATCH('Access Point (Desc)'!$J234,[1]!MASTER_MANHOLE_MTL_DESC[#Data],0),0))","v":""},{"$f":"IF('Access Point (Desc)'!K234=\"\",\"\",INDEX([1]MANHOLE_SIZE!$A$2:$A$120,MATCH('Access Point (Desc)'!$K234,[1]!MASTER_MANHOLE_SIZE_DESC[#Data],0),0))","v":""},{"$f":"IF('Access Point (Desc)'!L234=\"\",\"\",INDEX([1]ROUTE_MH_LID_TYPE!$A$2:$A$100,MATCH('Access Point (Desc)'!$L234,[1]!MASTER_ROUTE_MH_LID_TYPE_DESC[#Data],0),0))","v":""},{"$f":"IF('Access Point (Desc)'!M234=\"\",\"\",INDEX([1]MANHOLE_MTL!$A$2:$A$100,MATCH('Access Point (Desc)'!$M234,[1]!MASTER_MANHOLE_MTL_DESC[#Data],0),0))","v":""},{"$f":"IF('Access Point (Desc)'!N234=\"\",\"\",INDEX([1]LID_BOLT_TYPE!$A$2:$A$100,MATCH('Access Point (Desc)'!$N234,[1]!MASTER_LID_BOLT_TYPE_DESC[#Data],0),0))","v":""},{"$f":"IF('Access Point (Desc)'!O234=\"\",\"\",INDEX([1]YES_NO!$A$2:$A$100,MATCH('Access Point (Desc)'!$O234,[1]!MASTER_YES_NO_DESC[#Data],0),0))","v":""},{"$f":"IF('Access Point (Desc)'!P234=\"\",\"\",'Access Point (Desc)'!P234)","v":""},{"$f":"IF('Access Point (Desc)'!Q234=\"\",\"\",INDEX([1]YES_NO!$A$2:$A$100,MATCH('Access Point (Desc)'!$Q234,[1]!MASTER_YES_NO_DESC[#Data],0),0))","v":""}]
[{"$f":"IF('Access Point (Desc)'!A235=\"\",\"\",'Access Point (Desc)'!A235)","v":""},{"$f":"IF('Access Point (Desc)'!B235=\"\",\"\",'Access Point (Desc)'!B235)","v":""},{"$f":"IF('Access Point (Desc)'!C235=\"\",\"\",'Access Point (Desc)'!C235)","v":""},{"$f":"IF('Access Point (Desc)'!D235=\"\",\"\",'Access Point (Desc)'!D235)","v":""},{"$f":"IF('Access Point (Desc)'!E235=\"\",\"\",INDEX([1]OWNER!$A$2:$A$100,MATCH('Access Point (Desc)'!$E235,[1]!MASTER_OWNER_DESC[#Data],0),0))","v":""},{"$f":"IF('Access Point (Desc)'!F235=\"\",\"\",INDEX([1]COUNTY!$A$2:$A$100,MATCH('Access Point (Desc)'!F235,[1]!MASTER_COUNTY_NAME[#Data],0),0))","v":""},{"$f":"IF('Access Point (Desc)'!G235=\"\",\"\",'Access Point (Desc)'!G235)","v":""},{"$f":"IF('Access Point (Desc)'!H235=\"\",\"\",'Access Point (Desc)'!H235)","v":""},{"$f":"IF('Access Point (Desc)'!I235=\"\",\"\",INDEX([1]ROUTE_MH_TYPE!$A$2:$A$100,MATCH('Access Point (Desc)'!$I235,[1]!MASTER_ROUTE_MH_TYPE_DESC[#Data],0),0))","v":""},{"$f":"IF('Access Point (Desc)'!J235=\"\",\"\",INDEX([1]MANHOLE_MTL!$A$2:$A$100,MATCH('Access Point (Desc)'!$J235,[1]!MASTER_MANHOLE_MTL_DESC[#Data],0),0))","v":""},{"$f":"IF('Access Point (Desc)'!K235=\"\",\"\",INDEX([1]MANHOLE_SIZE!$A$2:$A$120,MATCH('Access Point (Desc)'!$K235,[1]!MASTER_MANHOLE_SIZE_DESC[#Data],0),0))","v":""},{"$f":"IF('Access Point (Desc)'!L235=\"\",\"\",INDEX([1]ROUTE_MH_LID_TYPE!$A$2:$A$100,MATCH('Access Point (Desc)'!$L235,[1]!MASTER_ROUTE_MH_LID_TYPE_DESC[#Data],0),0))","v":""},{"$f":"IF('Access Point (Desc)'!M235=\"\",\"\",INDEX([1]MANHOLE_MTL!$A$2:$A$100,MATCH('Access Point (Desc)'!$M235,[1]!MASTER_MANHOLE_MTL_DESC[#Data],0),0))","v":""},{"$f":"IF('Access Point (Desc)'!N235=\"\",\"\",INDEX([1]LID_BOLT_TYPE!$A$2:$A$100,MATCH('Access Point (Desc)'!$N235,[1]!MASTER_LID_BOLT_TYPE_DESC[#Data],0),0))","v":""},{"$f":"IF('Access Point (Desc)'!O235=\"\",\"\",INDEX([1]YES_NO!$A$2:$A$100,MATCH('Access Point (Desc)'!$O235,[1]!MASTER_YES_NO_DESC[#Data],0),0))","v":""},{"$f":"IF('Access Point (Desc)'!P235=\"\",\"\",'Access Point (Desc)'!P235)","v":""},{"$f":"IF('Access Point (Desc)'!Q235=\"\",\"\",INDEX([1]YES_NO!$A$2:$A$100,MATCH('Access Point (Desc)'!$Q235,[1]!MASTER_YES_NO_DESC[#Data],0),0))","v":""}]
[{"$f":"IF('Access Point (Desc)'!A236=\"\",\"\",'Access Point (Desc)'!A236)","v":""},{"$f":"IF('Access Point (Desc)'!B236=\"\",\"\",'Access Point (Desc)'!B236)","v":""},{"$f":"IF('Access Point (Desc)'!C236=\"\",\"\",'Access Point (Desc)'!C236)","v":""},{"$f":"IF('Access Point (Desc)'!D236=\"\",\"\",'Access Point (Desc)'!D236)","v":""},{"$f":"IF('Access Point (Desc)'!E236=\"\",\"\",INDEX([1]OWNER!$A$2:$A$100,MATCH('Access Point (Desc)'!$E236,[1]!MASTER_OWNER_DESC[#Data],0),0))","v":""},{"$f":"IF('Access Point (Desc)'!F236=\"\",\"\",INDEX([1]COUNTY!$A$2:$A$100,MATCH('Access Point (Desc)'!F236,[1]!MASTER_COUNTY_NAME[#Data],0),0))","v":""},{"$f":"IF('Access Point (Desc)'!G236=\"\",\"\",'Access Point (Desc)'!G236)","v":""},{"$f":"IF('Access Point (Desc)'!H236=\"\",\"\",'Access Point (Desc)'!H236)","v":""},{"$f":"IF('Access Point (Desc)'!I236=\"\",\"\",INDEX([1]ROUTE_MH_TYPE!$A$2:$A$100,MATCH('Access Point (Desc)'!$I236,[1]!MASTER_ROUTE_MH_TYPE_DESC[#Data],0),0))","v":""},{"$f":"IF('Access Point (Desc)'!J236=\"\",\"\",INDEX([1]MANHOLE_MTL!$A$2:$A$100,MATCH('Access Point (Desc)'!$J236,[1]!MASTER_MANHOLE_MTL_DESC[#Data],0),0))","v":""},{"$f":"IF('Access Point (Desc)'!K236=\"\",\"\",INDEX([1]MANHOLE_SIZE!$A$2:$A$120,MATCH('Access Point (Desc)'!$K236,[1]!MASTER_MANHOLE_SIZE_DESC[#Data],0),0))","v":""},{"$f":"IF('Access Point (Desc)'!L236=\"\",\"\",INDEX([1]ROUTE_MH_LID_TYPE!$A$2:$A$100,MATCH('Access Point (Desc)'!$L236,[1]!MASTER_ROUTE_MH_LID_TYPE_DESC[#Data],0),0))","v":""},{"$f":"IF('Access Point (Desc)'!M236=\"\",\"\",INDEX([1]MANHOLE_MTL!$A$2:$A$100,MATCH('Access Point (Desc)'!$M236,[1]!MASTER_MANHOLE_MTL_DESC[#Data],0),0))","v":""},{"$f":"IF('Access Point (Desc)'!N236=\"\",\"\",INDEX([1]LID_BOLT_TYPE!$A$2:$A$100,MATCH('Access Point (Desc)'!$N236,[1]!MASTER_LID_BOLT_TYPE_DESC[#Data],0),0))","v":""},{"$f":"IF('Access Point (Desc)'!O236=\"\",\"\",INDEX([1]YES_NO!$A$2:$A$100,MATCH('Access Point (Desc)'!$O236,[1]!MASTER_YES_NO_DESC[#Data],0),0))","v":""},{"$f":"IF('Access Point (Desc)'!P236=\"\",\"\",'Access Point (Desc)'!P236)","v":""},{"$f":"IF('Access Point (Desc)'!Q236=\"\",\"\",INDEX([1]YES_NO!$A$2:$A$100,MATCH('Access Point (Desc)'!$Q236,[1]!MASTER_YES_NO_DESC[#Data],0),0))","v":""}]
[{"$f":"IF('Access Point (Desc)'!A237=\"\",\"\",'Access Point (Desc)'!A237)","v":""},{"$f":"IF('Access Point (Desc)'!B237=\"\",\"\",'Access Point (Desc)'!B237)","v":""},{"$f":"IF('Access Point (Desc)'!C237=\"\",\"\",'Access Point (Desc)'!C237)","v":""},{"$f":"IF('Access Point (Desc)'!D237=\"\",\"\",'Access Point (Desc)'!D237)","v":""},{"$f":"IF('Access Point (Desc)'!E237=\"\",\"\",INDEX([1]OWNER!$A$2:$A$100,MATCH('Access Point (Desc)'!$E237,[1]!MASTER_OWNER_DESC[#Data],0),0))","v":""},{"$f":"IF('Access Point (Desc)'!F237=\"\",\"\",INDEX([1]COUNTY!$A$2:$A$100,MATCH('Access Point (Desc)'!F237,[1]!MASTER_COUNTY_NAME[#Data],0),0))","v":""},{"$f":"IF('Access Point (Desc)'!G237=\"\",\"\",'Access Point (Desc)'!G237)","v":""},{"$f":"IF('Access Point (Desc)'!H237=\"\",\"\",'Access Point (Desc)'!H237)","v":""},{"$f":"IF('Access Point (Desc)'!I237=\"\",\"\",INDEX([1]ROUTE_MH_TYPE!$A$2:$A$100,MATCH('Access Point (Desc)'!$I237,[1]!MASTER_ROUTE_MH_TYPE_DESC[#Data],0),0))","v":""},{"$f":"IF('Access Point (Desc)'!J237=\"\",\"\",INDEX([1]MANHOLE_MTL!$A$2:$A$100,MATCH('Access Point (Desc)'!$J237,[1]!MASTER_MANHOLE_MTL_DESC[#Data],0),0))","v":""},{"$f":"IF('Access Point (Desc)'!K237=\"\",\"\",INDEX([1]MANHOLE_SIZE!$A$2:$A$120,MATCH('Access Point (Desc)'!$K237,[1]!MASTER_MANHOLE_SIZE_DESC[#Data],0),0))","v":""},{"$f":"IF('Access Point (Desc)'!L237=\"\",\"\",INDEX([1]ROUTE_MH_LID_TYPE!$A$2:$A$100,MATCH('Access Point (Desc)'!$L237,[1]!MASTER_ROUTE_MH_LID_TYPE_DESC[#Data],0),0))","v":""},{"$f":"IF('Access Point (Desc)'!M237=\"\",\"\",INDEX([1]MANHOLE_MTL!$A$2:$A$100,MATCH('Access Point (Desc)'!$M237,[1]!MASTER_MANHOLE_MTL_DESC[#Data],0),0))","v":""},{"$f":"IF('Access Point (Desc)'!N237=\"\",\"\",INDEX([1]LID_BOLT_TYPE!$A$2:$A$100,MATCH('Access Point (Desc)'!$N237,[1]!MASTER_LID_BOLT_TYPE_DESC[#Data],0),0))","v":""},{"$f":"IF('Access Point (Desc)'!O237=\"\",\"\",INDEX([1]YES_NO!$A$2:$A$100,MATCH('Access Point (Desc)'!$O237,[1]!MASTER_YES_NO_DESC[#Data],0),0))","v":""},{"$f":"IF('Access Point (Desc)'!P237=\"\",\"\",'Access Point (Desc)'!P237)","v":""},{"$f":"IF('Access Point (Desc)'!Q237=\"\",\"\",INDEX([1]YES_NO!$A$2:$A$100,MATCH('Access Point (Desc)'!$Q237,[1]!MASTER_YES_NO_DESC[#Data],0),0))","v":""}]
[{"$f":"IF('Access Point (Desc)'!A238=\"\",\"\",'Access Point (Desc)'!A238)","v":""},{"$f":"IF('Access Point (Desc)'!B238=\"\",\"\",'Access Point (Desc)'!B238)","v":""},{"$f":"IF('Access Point (Desc)'!C238=\"\",\"\",'Access Point (Desc)'!C238)","v":""},{"$f":"IF('Access Point (Desc)'!D238=\"\",\"\",'Access Point (Desc)'!D238)","v":""},{"$f":"IF('Access Point (Desc)'!E238=\"\",\"\",INDEX([1]OWNER!$A$2:$A$100,MATCH('Access Point (Desc)'!$E238,[1]!MASTER_OWNER_DESC[#Data],0),0))","v":""},{"$f":"IF('Access Point (Desc)'!F238=\"\",\"\",INDEX([1]COUNTY!$A$2:$A$100,MATCH('Access Point (Desc)'!F238,[1]!MASTER_COUNTY_NAME[#Data],0),0))","v":""},{"$f":"IF('Access Point (Desc)'!G238=\"\",\"\",'Access Point (Desc)'!G238)","v":""},{"$f":"IF('Access Point (Desc)'!H238=\"\",\"\",'Access Point (Desc)'!H238)","v":""},{"$f":"IF('Access Point (Desc)'!I238=\"\",\"\",INDEX([1]ROUTE_MH_TYPE!$A$2:$A$100,MATCH('Access Point (Desc)'!$I238,[1]!MASTER_ROUTE_MH_TYPE_DESC[#Data],0),0))","v":""},{"$f":"IF('Access Point (Desc)'!J238=\"\",\"\",INDEX([1]MANHOLE_MTL!$A$2:$A$100,MATCH('Access Point (Desc)'!$J238,[1]!MASTER_MANHOLE_MTL_DESC[#Data],0),0))","v":""},{"$f":"IF('Access Point (Desc)'!K238=\"\",\"\",INDEX([1]MANHOLE_SIZE!$A$2:$A$120,MATCH('Access Point (Desc)'!$K238,[1]!MASTER_MANHOLE_SIZE_DESC[#Data],0),0))","v":""},{"$f":"IF('Access Point (Desc)'!L238=\"\",\"\",INDEX([1]ROUTE_MH_LID_TYPE!$A$2:$A$100,MATCH('Access Point (Desc)'!$L238,[1]!MASTER_ROUTE_MH_LID_TYPE_DESC[#Data],0),0))","v":""},{"$f":"IF('Access Point (Desc)'!M238=\"\",\"\",INDEX([1]MANHOLE_MTL!$A$2:$A$100,MATCH('Access Point (Desc)'!$M238,[1]!MASTER_MANHOLE_MTL_DESC[#Data],0),0))","v":""},{"$f":"IF('Access Point (Desc)'!N238=\"\",\"\",INDEX([1]LID_BOLT_TYPE!$A$2:$A$100,MATCH('Access Point (Desc)'!$N238,[1]!MASTER_LID_BOLT_TYPE_DESC[#Data],0),0))","v":""},{"$f":"IF('Access Point (Desc)'!O238=\"\",\"\",INDEX([1]YES_NO!$A$2:$A$100,MATCH('Access Point (Desc)'!$O238,[1]!MASTER_YES_NO_DESC[#Data],0),0))","v":""},{"$f":"IF('Access Point (Desc)'!P238=\"\",\"\",'Access Point (Desc)'!P238)","v":""},{"$f":"IF('Access Point (Desc)'!Q238=\"\",\"\",INDEX([1]YES_NO!$A$2:$A$100,MATCH('Access Point (Desc)'!$Q238,[1]!MASTER_YES_NO_DESC[#Data],0),0))","v":""}]
[{"$f":"IF('Access Point (Desc)'!A239=\"\",\"\",'Access Point (Desc)'!A239)","v":""},{"$f":"IF('Access Point (Desc)'!B239=\"\",\"\",'Access Point (Desc)'!B239)","v":""},{"$f":"IF('Access Point (Desc)'!C239=\"\",\"\",'Access Point (Desc)'!C239)","v":""},{"$f":"IF('Access Point (Desc)'!D239=\"\",\"\",'Access Point (Desc)'!D239)","v":""},{"$f":"IF('Access Point (Desc)'!E239=\"\",\"\",INDEX([1]OWNER!$A$2:$A$100,MATCH('Access Point (Desc)'!$E239,[1]!MASTER_OWNER_DESC[#Data],0),0))","v":""},{"$f":"IF('Access Point (Desc)'!F239=\"\",\"\",INDEX([1]COUNTY!$A$2:$A$100,MATCH('Access Point (Desc)'!F239,[1]!MASTER_COUNTY_NAME[#Data],0),0))","v":""},{"$f":"IF('Access Point (Desc)'!G239=\"\",\"\",'Access Point (Desc)'!G239)","v":""},{"$f":"IF('Access Point (Desc)'!H239=\"\",\"\",'Access Point (Desc)'!H239)","v":""},{"$f":"IF('Access Point (Desc)'!I239=\"\",\"\",INDEX([1]ROUTE_MH_TYPE!$A$2:$A$100,MATCH('Access Point (Desc)'!$I239,[1]!MASTER_ROUTE_MH_TYPE_DESC[#Data],0),0))","v":""},{"$f":"IF('Access Point (Desc)'!J239=\"\",\"\",INDEX([1]MANHOLE_MTL!$A$2:$A$100,MATCH('Access Point (Desc)'!$J239,[1]!MASTER_MANHOLE_MTL_DESC[#Data],0),0))","v":""},{"$f":"IF('Access Point (Desc)'!K239=\"\",\"\",INDEX([1]MANHOLE_SIZE!$A$2:$A$120,MATCH('Access Point (Desc)'!$K239,[1]!MASTER_MANHOLE_SIZE_DESC[#Data],0),0))","v":""},{"$f":"IF('Access Point (Desc)'!L239=\"\",\"\",INDEX([1]ROUTE_MH_LID_TYPE!$A$2:$A$100,MATCH('Access Point (Desc)'!$L239,[1]!MASTER_ROUTE_MH_LID_TYPE_DESC[#Data],0),0))","v":""},{"$f":"IF('Access Point (Desc)'!M239=\"\",\"\",INDEX([1]MANHOLE_MTL!$A$2:$A$100,MATCH('Access Point (Desc)'!$M239,[1]!MASTER_MANHOLE_MTL_DESC[#Data],0),0))","v":""},{"$f":"IF('Access Point (Desc)'!N239=\"\",\"\",INDEX([1]LID_BOLT_TYPE!$A$2:$A$100,MATCH('Access Point (Desc)'!$N239,[1]!MASTER_LID_BOLT_TYPE_DESC[#Data],0),0))","v":""},{"$f":"IF('Access Point (Desc)'!O239=\"\",\"\",INDEX([1]YES_NO!$A$2:$A$100,MATCH('Access Point (Desc)'!$O239,[1]!MASTER_YES_NO_DESC[#Data],0),0))","v":""},{"$f":"IF('Access Point (Desc)'!P239=\"\",\"\",'Access Point (Desc)'!P239)","v":""},{"$f":"IF('Access Point (Desc)'!Q239=\"\",\"\",INDEX([1]YES_NO!$A$2:$A$100,MATCH('Access Point (Desc)'!$Q239,[1]!MASTER_YES_NO_DESC[#Data],0),0))","v":""}]
[{"$f":"IF('Access Point (Desc)'!A240=\"\",\"\",'Access Point (Desc)'!A240)","v":""},{"$f":"IF('Access Point (Desc)'!B240=\"\",\"\",'Access Point (Desc)'!B240)","v":""},{"$f":"IF('Access Point (Desc)'!C240=\"\",\"\",'Access Point (Desc)'!C240)","v":""},{"$f":"IF('Access Point (Desc)'!D240=\"\",\"\",'Access Point (Desc)'!D240)","v":""},{"$f":"IF('Access Point (Desc)'!E240=\"\",\"\",INDEX([1]OWNER!$A$2:$A$100,MATCH('Access Point (Desc)'!$E240,[1]!MASTER_OWNER_DESC[#Data],0),0))","v":""},{"$f":"IF('Access Point (Desc)'!F240=\"\",\"\",INDEX([1]COUNTY!$A$2:$A$100,MATCH('Access Point (Desc)'!F240,[1]!MASTER_COUNTY_NAME[#Data],0),0))","v":""},{"$f":"IF('Access Point (Desc)'!G240=\"\",\"\",'Access Point (Desc)'!G240)","v":""},{"$f":"IF('Access Point (Desc)'!H240=\"\",\"\",'Access Point (Desc)'!H240)","v":""},{"$f":"IF('Access Point (Desc)'!I240=\"\",\"\",INDEX([1]ROUTE_MH_TYPE!$A$2:$A$100,MATCH('Access Point (Desc)'!$I240,[1]!MASTER_ROUTE_MH_TYPE_DESC[#Data],0),0))","v":""},{"$f":"IF('Access Point (Desc)'!J240=\"\",\"\",INDEX([1]MANHOLE_MTL!$A$2:$A$100,MATCH('Access Point (Desc)'!$J240,[1]!MASTER_MANHOLE_MTL_DESC[#Data],0),0))","v":""},{"$f":"IF('Access Point (Desc)'!K240=\"\",\"\",INDEX([1]MANHOLE_SIZE!$A$2:$A$120,MATCH('Access Point (Desc)'!$K240,[1]!MASTER_MANHOLE_SIZE_DESC[#Data],0),0))","v":""},{"$f":"IF('Access Point (Desc)'!L240=\"\",\"\",INDEX([1]ROUTE_MH_LID_TYPE!$A$2:$A$100,MATCH('Access Point (Desc)'!$L240,[1]!MASTER_ROUTE_MH_LID_TYPE_DESC[#Data],0),0))","v":""},{"$f":"IF('Access Point (Desc)'!M240=\"\",\"\",INDEX([1]MANHOLE_MTL!$A$2:$A$100,MATCH('Access Point (Desc)'!$M240,[1]!MASTER_MANHOLE_MTL_DESC[#Data],0),0))","v":""},{"$f":"IF('Access Point (Desc)'!N240=\"\",\"\",INDEX([1]LID_BOLT_TYPE!$A$2:$A$100,MATCH('Access Point (Desc)'!$N240,[1]!MASTER_LID_BOLT_TYPE_DESC[#Data],0),0))","v":""},{"$f":"IF('Access Point (Desc)'!O240=\"\",\"\",INDEX([1]YES_NO!$A$2:$A$100,MATCH('Access Point (Desc)'!$O240,[1]!MASTER_YES_NO_DESC[#Data],0),0))","v":""},{"$f":"IF('Access Point (Desc)'!P240=\"\",\"\",'Access Point (Desc)'!P240)","v":""},{"$f":"IF('Access Point (Desc)'!Q240=\"\",\"\",INDEX([1]YES_NO!$A$2:$A$100,MATCH('Access Point (Desc)'!$Q240,[1]!MASTER_YES_NO_DESC[#Data],0),0))","v":""}]
[{"$f":"IF('Access Point (Desc)'!A241=\"\",\"\",'Access Point (Desc)'!A241)","v":""},{"$f":"IF('Access Point (Desc)'!B241=\"\",\"\",'Access Point (Desc)'!B241)","v":""},{"$f":"IF('Access Point (Desc)'!C241=\"\",\"\",'Access Point (Desc)'!C241)","v":""},{"$f":"IF('Access Point (Desc)'!D241=\"\",\"\",'Access Point (Desc)'!D241)","v":""},{"$f":"IF('Access Point (Desc)'!E241=\"\",\"\",INDEX([1]OWNER!$A$2:$A$100,MATCH('Access Point (Desc)'!$E241,[1]!MASTER_OWNER_DESC[#Data],0),0))","v":""},{"$f":"IF('Access Point (Desc)'!F241=\"\",\"\",INDEX([1]COUNTY!$A$2:$A$100,MATCH('Access Point (Desc)'!F241,[1]!MASTER_COUNTY_NAME[#Data],0),0))","v":""},{"$f":"IF('Access Point (Desc)'!G241=\"\",\"\",'Access Point (Desc)'!G241)","v":""},{"$f":"IF('Access Point (Desc)'!H241=\"\",\"\",'Access Point (Desc)'!H241)","v":""},{"$f":"IF('Access Point (Desc)'!I241=\"\",\"\",INDEX([1]ROUTE_MH_TYPE!$A$2:$A$100,MATCH('Access Point (Desc)'!$I241,[1]!MASTER_ROUTE_MH_TYPE_DESC[#Data],0),0))","v":""},{"$f":"IF('Access Point (Desc)'!J241=\"\",\"\",INDEX([1]MANHOLE_MTL!$A$2:$A$100,MATCH('Access Point (Desc)'!$J241,[1]!MASTER_MANHOLE_MTL_DESC[#Data],0),0))","v":""},{"$f":"IF('Access Point (Desc)'!K241=\"\",\"\",INDEX([1]MANHOLE_SIZE!$A$2:$A$120,MATCH('Access Point (Desc)'!$K241,[1]!MASTER_MANHOLE_SIZE_DESC[#Data],0),0))","v":""},{"$f":"IF('Access Point (Desc)'!L241=\"\",\"\",INDEX([1]ROUTE_MH_LID_TYPE!$A$2:$A$100,MATCH('Access Point (Desc)'!$L241,[1]!MASTER_ROUTE_MH_LID_TYPE_DESC[#Data],0),0))","v":""},{"$f":"IF('Access Point (Desc)'!M241=\"\",\"\",INDEX([1]MANHOLE_MTL!$A$2:$A$100,MATCH('Access Point (Desc)'!$M241,[1]!MASTER_MANHOLE_MTL_DESC[#Data],0),0))","v":""},{"$f":"IF('Access Point (Desc)'!N241=\"\",\"\",INDEX([1]LID_BOLT_TYPE!$A$2:$A$100,MATCH('Access Point (Desc)'!$N241,[1]!MASTER_LID_BOLT_TYPE_DESC[#Data],0),0))","v":""},{"$f":"IF('Access Point (Desc)'!O241=\"\",\"\",INDEX([1]YES_NO!$A$2:$A$100,MATCH('Access Point (Desc)'!$O241,[1]!MASTER_YES_NO_DESC[#Data],0),0))","v":""},{"$f":"IF('Access Point (Desc)'!P241=\"\",\"\",'Access Point (Desc)'!P241)","v":""},{"$f":"IF('Access Point (Desc)'!Q241=\"\",\"\",INDEX([1]YES_NO!$A$2:$A$100,MATCH('Access Point (Desc)'!$Q241,[1]!MASTER_YES_NO_DESC[#Data],0),0))","v":""}]
[{"$f":"IF('Access Point (Desc)'!A242=\"\",\"\",'Access Point (Desc)'!A242)","v":""},{"$f":"IF('Access Point (Desc)'!B242=\"\",\"\",'Access Point (Desc)'!B242)","v":""},{"$f":"IF('Access Point (Desc)'!C242=\"\",\"\",'Access Point (Desc)'!C242)","v":""},{"$f":"IF('Access Point (Desc)'!D242=\"\",\"\",'Access Point (Desc)'!D242)","v":""},{"$f":"IF('Access Point (Desc)'!E242=\"\",\"\",INDEX([1]OWNER!$A$2:$A$100,MATCH('Access Point (Desc)'!$E242,[1]!MASTER_OWNER_DESC[#Data],0),0))","v":""},{"$f":"IF('Access Point (Desc)'!F242=\"\",\"\",INDEX([1]COUNTY!$A$2:$A$100,MATCH('Access Point (Desc)'!F242,[1]!MASTER_COUNTY_NAME[#Data],0),0))","v":""},{"$f":"IF('Access Point (Desc)'!G242=\"\",\"\",'Access Point (Desc)'!G242)","v":""},{"$f":"IF('Access Point (Desc)'!H242=\"\",\"\",'Access Point (Desc)'!H242)","v":""},{"$f":"IF('Access Point (Desc)'!I242=\"\",\"\",INDEX([1]ROUTE_MH_TYPE!$A$2:$A$100,MATCH('Access Point (Desc)'!$I242,[1]!MASTER_ROUTE_MH_TYPE_DESC[#Data],0),0))","v":""},{"$f":"IF('Access Point (Desc)'!J242=\"\",\"\",INDEX([1]MANHOLE_MTL!$A$2:$A$100,MATCH('Access Point (Desc)'!$J242,[1]!MASTER_MANHOLE_MTL_DESC[#Data],0),0))","v":""},{"$f":"IF('Access Point (Desc)'!K242=\"\",\"\",INDEX([1]MANHOLE_SIZE!$A$2:$A$120,MATCH('Access Point (Desc)'!$K242,[1]!MASTER_MANHOLE_SIZE_DESC[#Data],0),0))","v":""},{"$f":"IF('Access Point (Desc)'!L242=\"\",\"\",INDEX([1]ROUTE_MH_LID_TYPE!$A$2:$A$100,MATCH('Access Point (Desc)'!$L242,[1]!MASTER_ROUTE_MH_LID_TYPE_DESC[#Data],0),0))","v":""},{"$f":"IF('Access Point (Desc)'!M242=\"\",\"\",INDEX([1]MANHOLE_MTL!$A$2:$A$100,MATCH('Access Point (Desc)'!$M242,[1]!MASTER_MANHOLE_MTL_DESC[#Data],0),0))","v":""},{"$f":"IF('Access Point (Desc)'!N242=\"\",\"\",INDEX([1]LID_BOLT_TYPE!$A$2:$A$100,MATCH('Access Point (Desc)'!$N242,[1]!MASTER_LID_BOLT_TYPE_DESC[#Data],0),0))","v":""},{"$f":"IF('Access Point (Desc)'!O242=\"\",\"\",INDEX([1]YES_NO!$A$2:$A$100,MATCH('Access Point (Desc)'!$O242,[1]!MASTER_YES_NO_DESC[#Data],0),0))","v":""},{"$f":"IF('Access Point (Desc)'!P242=\"\",\"\",'Access Point (Desc)'!P242)","v":""},{"$f":"IF('Access Point (Desc)'!Q242=\"\",\"\",INDEX([1]YES_NO!$A$2:$A$100,MATCH('Access Point (Desc)'!$Q242,[1]!MASTER_YES_NO_DESC[#Data],0),0))","v":""}]
[{"$f":"IF('Access Point (Desc)'!A243=\"\",\"\",'Access Point (Desc)'!A243)","v":""},{"$f":"IF('Access Point (Desc)'!B243=\"\",\"\",'Access Point (Desc)'!B243)","v":""},{"$f":"IF('Access Point (Desc)'!C243=\"\",\"\",'Access Point (Desc)'!C243)","v":""},{"$f":"IF('Access Point (Desc)'!D243=\"\",\"\",'Access Point (Desc)'!D243)","v":""},{"$f":"IF('Access Point (Desc)'!E243=\"\",\"\",INDEX([1]OWNER!$A$2:$A$100,MATCH('Access Point (Desc)'!$E243,[1]!MASTER_OWNER_DESC[#Data],0),0))","v":""},{"$f":"IF('Access Point (Desc)'!F243=\"\",\"\",INDEX([1]COUNTY!$A$2:$A$100,MATCH('Access Point (Desc)'!F243,[1]!MASTER_COUNTY_NAME[#Data],0),0))","v":""},{"$f":"IF('Access Point (Desc)'!G243=\"\",\"\",'Access Point (Desc)'!G243)","v":""},{"$f":"IF('Access Point (Desc)'!H243=\"\",\"\",'Access Point (Desc)'!H243)","v":""},{"$f":"IF('Access Point (Desc)'!I243=\"\",\"\",INDEX([1]ROUTE_MH_TYPE!$A$2:$A$100,MATCH('Access Point (Desc)'!$I243,[1]!MASTER_ROUTE_MH_TYPE_DESC[#Data],0),0))","v":""},{"$f":"IF('Access Point (Desc)'!J243=\"\",\"\",INDEX([1]MANHOLE_MTL!$A$2:$A$100,MATCH('Access Point (Desc)'!$J243,[1]!MASTER_MANHOLE_MTL_DESC[#Data],0),0))","v":""},{"$f":"IF('Access Point (Desc)'!K243=\"\",\"\",INDEX([1]MANHOLE_SIZE!$A$2:$A$120,MATCH('Access Point (Desc)'!$K243,[1]!MASTER_MANHOLE_SIZE_DESC[#Data],0),0))","v":""},{"$f":"IF('Access Point (Desc)'!L243=\"\",\"\",INDEX([1]ROUTE_MH_LID_TYPE!$A$2:$A$100,MATCH('Access Point (Desc)'!$L243,[1]!MASTER_ROUTE_MH_LID_TYPE_DESC[#Data],0),0))","v":""},{"$f":"IF('Access Point (Desc)'!M243=\"\",\"\",INDEX([1]MANHOLE_MTL!$A$2:$A$100,MATCH('Access Point (Desc)'!$M243,[1]!MASTER_MANHOLE_MTL_DESC[#Data],0),0))","v":""},{"$f":"IF('Access Point (Desc)'!N243=\"\",\"\",INDEX([1]LID_BOLT_TYPE!$A$2:$A$100,MATCH('Access Point (Desc)'!$N243,[1]!MASTER_LID_BOLT_TYPE_DESC[#Data],0),0))","v":""},{"$f":"IF('Access Point (Desc)'!O243=\"\",\"\",INDEX([1]YES_NO!$A$2:$A$100,MATCH('Access Point (Desc)'!$O243,[1]!MASTER_YES_NO_DESC[#Data],0),0))","v":""},{"$f":"IF('Access Point (Desc)'!P243=\"\",\"\",'Access Point (Desc)'!P243)","v":""},{"$f":"IF('Access Point (Desc)'!Q243=\"\",\"\",INDEX([1]YES_NO!$A$2:$A$100,MATCH('Access Point (Desc)'!$Q243,[1]!MASTER_YES_NO_DESC[#Data],0),0))","v":""}]
[{"$f":"IF('Access Point (Desc)'!A244=\"\",\"\",'Access Point (Desc)'!A244)","v":""},{"$f":"IF('Access Point (Desc)'!B244=\"\",\"\",'Access Point (Desc)'!B244)","v":""},{"$f":"IF('Access Point (Desc)'!C244=\"\",\"\",'Access Point (Desc)'!C244)","v":""},{"$f":"IF('Access Point (Desc)'!D244=\"\",\"\",'Access Point (Desc)'!D244)","v":""},{"$f":"IF('Access Point (Desc)'!E244=\"\",\"\",INDEX([1]OWNER!$A$2:$A$100,MATCH('Access Point (Desc)'!$E244,[1]!MASTER_OWNER_DESC[#Data],0),0))","v":""},{"$f":"IF('Access Point (Desc)'!F244=\"\",\"\",INDEX([1]COUNTY!$A$2:$A$100,MATCH('Access Point (Desc)'!F244,[1]!MASTER_COUNTY_NAME[#Data],0),0))","v":""},{"$f":"IF('Access Point (Desc)'!G244=\"\",\"\",'Access Point (Desc)'!G244)","v":""},{"$f":"IF('Access Point (Desc)'!H244=\"\",\"\",'Access Point (Desc)'!H244)","v":""},{"$f":"IF('Access Point (Desc)'!I244=\"\",\"\",INDEX([1]ROUTE_MH_TYPE!$A$2:$A$100,MATCH('Access Point (Desc)'!$I244,[1]!MASTER_ROUTE_MH_TYPE_DESC[#Data],0),0))","v":""},{"$f":"IF('Access Point (Desc)'!J244=\"\",\"\",INDEX([1]MANHOLE_MTL!$A$2:$A$100,MATCH('Access Point (Desc)'!$J244,[1]!MASTER_MANHOLE_MTL_DESC[#Data],0),0))","v":""},{"$f":"IF('Access Point (Desc)'!K244=\"\",\"\",INDEX([1]MANHOLE_SIZE!$A$2:$A$120,MATCH('Access Point (Desc)'!$K244,[1]!MASTER_MANHOLE_SIZE_DESC[#Data],0),0))","v":""},{"$f":"IF('Access Point (Desc)'!L244=\"\",\"\",INDEX([1]ROUTE_MH_LID_TYPE!$A$2:$A$100,MATCH('Access Point (Desc)'!$L244,[1]!MASTER_ROUTE_MH_LID_TYPE_DESC[#Data],0),0))","v":""},{"$f":"IF('Access Point (Desc)'!M244=\"\",\"\",INDEX([1]MANHOLE_MTL!$A$2:$A$100,MATCH('Access Point (Desc)'!$M244,[1]!MASTER_MANHOLE_MTL_DESC[#Data],0),0))","v":""},{"$f":"IF('Access Point (Desc)'!N244=\"\",\"\",INDEX([1]LID_BOLT_TYPE!$A$2:$A$100,MATCH('Access Point (Desc)'!$N244,[1]!MASTER_LID_BOLT_TYPE_DESC[#Data],0),0))","v":""},{"$f":"IF('Access Point (Desc)'!O244=\"\",\"\",INDEX([1]YES_NO!$A$2:$A$100,MATCH('Access Point (Desc)'!$O244,[1]!MASTER_YES_NO_DESC[#Data],0),0))","v":""},{"$f":"IF('Access Point (Desc)'!P244=\"\",\"\",'Access Point (Desc)'!P244)","v":""},{"$f":"IF('Access Point (Desc)'!Q244=\"\",\"\",INDEX([1]YES_NO!$A$2:$A$100,MATCH('Access Point (Desc)'!$Q244,[1]!MASTER_YES_NO_DESC[#Data],0),0))","v":""}]
[{"$f":"IF('Access Point (Desc)'!A245=\"\",\"\",'Access Point (Desc)'!A245)","v":""},{"$f":"IF('Access Point (Desc)'!B245=\"\",\"\",'Access Point (Desc)'!B245)","v":""},{"$f":"IF('Access Point (Desc)'!C245=\"\",\"\",'Access Point (Desc)'!C245)","v":""},{"$f":"IF('Access Point (Desc)'!D245=\"\",\"\",'Access Point (Desc)'!D245)","v":""},{"$f":"IF('Access Point (Desc)'!E245=\"\",\"\",INDEX([1]OWNER!$A$2:$A$100,MATCH('Access Point (Desc)'!$E245,[1]!MASTER_OWNER_DESC[#Data],0),0))","v":""},{"$f":"IF('Access Point (Desc)'!F245=\"\",\"\",INDEX([1]COUNTY!$A$2:$A$100,MATCH('Access Point (Desc)'!F245,[1]!MASTER_COUNTY_NAME[#Data],0),0))","v":""},{"$f":"IF('Access Point (Desc)'!G245=\"\",\"\",'Access Point (Desc)'!G245)","v":""},{"$f":"IF('Access Point (Desc)'!H245=\"\",\"\",'Access Point (Desc)'!H245)","v":""},{"$f":"IF('Access Point (Desc)'!I245=\"\",\"\",INDEX([1]ROUTE_MH_TYPE!$A$2:$A$100,MATCH('Access Point (Desc)'!$I245,[1]!MASTER_ROUTE_MH_TYPE_DESC[#Data],0),0))","v":""},{"$f":"IF('Access Point (Desc)'!J245=\"\",\"\",INDEX([1]MANHOLE_MTL!$A$2:$A$100,MATCH('Access Point (Desc)'!$J245,[1]!MASTER_MANHOLE_MTL_DESC[#Data],0),0))","v":""},{"$f":"IF('Access Point (Desc)'!K245=\"\",\"\",INDEX([1]MANHOLE_SIZE!$A$2:$A$120,MATCH('Access Point (Desc)'!$K245,[1]!MASTER_MANHOLE_SIZE_DESC[#Data],0),0))","v":""},{"$f":"IF('Access Point (Desc)'!L245=\"\",\"\",INDEX([1]ROUTE_MH_LID_TYPE!$A$2:$A$100,MATCH('Access Point (Desc)'!$L245,[1]!MASTER_ROUTE_MH_LID_TYPE_DESC[#Data],0),0))","v":""},{"$f":"IF('Access Point (Desc)'!M245=\"\",\"\",INDEX([1]MANHOLE_MTL!$A$2:$A$100,MATCH('Access Point (Desc)'!$M245,[1]!MASTER_MANHOLE_MTL_DESC[#Data],0),0))","v":""},{"$f":"IF('Access Point (Desc)'!N245=\"\",\"\",INDEX([1]LID_BOLT_TYPE!$A$2:$A$100,MATCH('Access Point (Desc)'!$N245,[1]!MASTER_LID_BOLT_TYPE_DESC[#Data],0),0))","v":""},{"$f":"IF('Access Point (Desc)'!O245=\"\",\"\",INDEX([1]YES_NO!$A$2:$A$100,MATCH('Access Point (Desc)'!$O245,[1]!MASTER_YES_NO_DESC[#Data],0),0))","v":""},{"$f":"IF('Access Point (Desc)'!P245=\"\",\"\",'Access Point (Desc)'!P245)","v":""},{"$f":"IF('Access Point (Desc)'!Q245=\"\",\"\",INDEX([1]YES_NO!$A$2:$A$100,MATCH('Access Point (Desc)'!$Q245,[1]!MASTER_YES_NO_DESC[#Data],0),0))","v":""}]
[{"$f":"IF('Access Point (Desc)'!A246=\"\",\"\",'Access Point (Desc)'!A246)","v":""},{"$f":"IF('Access Point (Desc)'!B246=\"\",\"\",'Access Point (Desc)'!B246)","v":""},{"$f":"IF('Access Point (Desc)'!C246=\"\",\"\",'Access Point (Desc)'!C246)","v":""},{"$f":"IF('Access Point (Desc)'!D246=\"\",\"\",'Access Point (Desc)'!D246)","v":""},{"$f":"IF('Access Point (Desc)'!E246=\"\",\"\",INDEX([1]OWNER!$A$2:$A$100,MATCH('Access Point (Desc)'!$E246,[1]!MASTER_OWNER_DESC[#Data],0),0))","v":""},{"$f":"IF('Access Point (Desc)'!F246=\"\",\"\",INDEX([1]COUNTY!$A$2:$A$100,MATCH('Access Point (Desc)'!F246,[1]!MASTER_COUNTY_NAME[#Data],0),0))","v":""},{"$f":"IF('Access Point (Desc)'!G246=\"\",\"\",'Access Point (Desc)'!G246)","v":""},{"$f":"IF('Access Point (Desc)'!H246=\"\",\"\",'Access Point (Desc)'!H246)","v":""},{"$f":"IF('Access Point (Desc)'!I246=\"\",\"\",INDEX([1]ROUTE_MH_TYPE!$A$2:$A$100,MATCH('Access Point (Desc)'!$I246,[1]!MASTER_ROUTE_MH_TYPE_DESC[#Data],0),0))","v":""},{"$f":"IF('Access Point (Desc)'!J246=\"\",\"\",INDEX([1]MANHOLE_MTL!$A$2:$A$100,MATCH('Access Point (Desc)'!$J246,[1]!MASTER_MANHOLE_MTL_DESC[#Data],0),0))","v":""},{"$f":"IF('Access Point (Desc)'!K246=\"\",\"\",INDEX([1]MANHOLE_SIZE!$A$2:$A$120,MATCH('Access Point (Desc)'!$K246,[1]!MASTER_MANHOLE_SIZE_DESC[#Data],0),0))","v":""},{"$f":"IF('Access Point (Desc)'!L246=\"\",\"\",INDEX([1]ROUTE_MH_LID_TYPE!$A$2:$A$100,MATCH('Access Point (Desc)'!$L246,[1]!MASTER_ROUTE_MH_LID_TYPE_DESC[#Data],0),0))","v":""},{"$f":"IF('Access Point (Desc)'!M246=\"\",\"\",INDEX([1]MANHOLE_MTL!$A$2:$A$100,MATCH('Access Point (Desc)'!$M246,[1]!MASTER_MANHOLE_MTL_DESC[#Data],0),0))","v":""},{"$f":"IF('Access Point (Desc)'!N246=\"\",\"\",INDEX([1]LID_BOLT_TYPE!$A$2:$A$100,MATCH('Access Point (Desc)'!$N246,[1]!MASTER_LID_BOLT_TYPE_DESC[#Data],0),0))","v":""},{"$f":"IF('Access Point (Desc)'!O246=\"\",\"\",INDEX([1]YES_NO!$A$2:$A$100,MATCH('Access Point (Desc)'!$O246,[1]!MASTER_YES_NO_DESC[#Data],0),0))","v":""},{"$f":"IF('Access Point (Desc)'!P246=\"\",\"\",'Access Point (Desc)'!P246)","v":""},{"$f":"IF('Access Point (Desc)'!Q246=\"\",\"\",INDEX([1]YES_NO!$A$2:$A$100,MATCH('Access Point (Desc)'!$Q246,[1]!MASTER_YES_NO_DESC[#Data],0),0))","v":""}]
[{"$f":"IF('Access Point (Desc)'!A247=\"\",\"\",'Access Point (Desc)'!A247)","v":""},{"$f":"IF('Access Point (Desc)'!B247=\"\",\"\",'Access Point (Desc)'!B247)","v":""},{"$f":"IF('Access Point (Desc)'!C247=\"\",\"\",'Access Point (Desc)'!C247)","v":""},{"$f":"IF('Access Point (Desc)'!D247=\"\",\"\",'Access Point (Desc)'!D247)","v":""},{"$f":"IF('Access Point (Desc)'!E247=\"\",\"\",INDEX([1]OWNER!$A$2:$A$100,MATCH('Access Point (Desc)'!$E247,[1]!MASTER_OWNER_DESC[#Data],0),0))","v":""},{"$f":"IF('Access Point (Desc)'!F247=\"\",\"\",INDEX([1]COUNTY!$A$2:$A$100,MATCH('Access Point (Desc)'!F247,[1]!MASTER_COUNTY_NAME[#Data],0),0))","v":""},{"$f":"IF('Access Point (Desc)'!G247=\"\",\"\",'Access Point (Desc)'!G247)","v":""},{"$f":"IF('Access Point (Desc)'!H247=\"\",\"\",'Access Point (Desc)'!H247)","v":""},{"$f":"IF('Access Point (Desc)'!I247=\"\",\"\",INDEX([1]ROUTE_MH_TYPE!$A$2:$A$100,MATCH('Access Point (Desc)'!$I247,[1]!MASTER_ROUTE_MH_TYPE_DESC[#Data],0),0))","v":""},{"$f":"IF('Access Point (Desc)'!J247=\"\",\"\",INDEX([1]MANHOLE_MTL!$A$2:$A$100,MATCH('Access Point (Desc)'!$J247,[1]!MASTER_MANHOLE_MTL_DESC[#Data],0),0))","v":""},{"$f":"IF('Access Point (Desc)'!K247=\"\",\"\",INDEX([1]MANHOLE_SIZE!$A$2:$A$120,MATCH('Access Point (Desc)'!$K247,[1]!MASTER_MANHOLE_SIZE_DESC[#Data],0),0))","v":""},{"$f":"IF('Access Point (Desc)'!L247=\"\",\"\",INDEX([1]ROUTE_MH_LID_TYPE!$A$2:$A$100,MATCH('Access Point (Desc)'!$L247,[1]!MASTER_ROUTE_MH_LID_TYPE_DESC[#Data],0),0))","v":""},{"$f":"IF('Access Point (Desc)'!M247=\"\",\"\",INDEX([1]MANHOLE_MTL!$A$2:$A$100,MATCH('Access Point (Desc)'!$M247,[1]!MASTER_MANHOLE_MTL_DESC[#Data],0),0))","v":""},{"$f":"IF('Access Point (Desc)'!N247=\"\",\"\",INDEX([1]LID_BOLT_TYPE!$A$2:$A$100,MATCH('Access Point (Desc)'!$N247,[1]!MASTER_LID_BOLT_TYPE_DESC[#Data],0),0))","v":""},{"$f":"IF('Access Point (Desc)'!O247=\"\",\"\",INDEX([1]YES_NO!$A$2:$A$100,MATCH('Access Point (Desc)'!$O247,[1]!MASTER_YES_NO_DESC[#Data],0),0))","v":""},{"$f":"IF('Access Point (Desc)'!P247=\"\",\"\",'Access Point (Desc)'!P247)","v":""},{"$f":"IF('Access Point (Desc)'!Q247=\"\",\"\",INDEX([1]YES_NO!$A$2:$A$100,MATCH('Access Point (Desc)'!$Q247,[1]!MASTER_YES_NO_DESC[#Data],0),0))","v":""}]
[{"$f":"IF('Access Point (Desc)'!A248=\"\",\"\",'Access Point (Desc)'!A248)","v":""},{"$f":"IF('Access Point (Desc)'!B248=\"\",\"\",'Access Point (Desc)'!B248)","v":""},{"$f":"IF('Access Point (Desc)'!C248=\"\",\"\",'Access Point (Desc)'!C248)","v":""},{"$f":"IF('Access Point (Desc)'!D248=\"\",\"\",'Access Point (Desc)'!D248)","v":""},{"$f":"IF('Access Point (Desc)'!E248=\"\",\"\",INDEX([1]OWNER!$A$2:$A$100,MATCH('Access Point (Desc)'!$E248,[1]!MASTER_OWNER_DESC[#Data],0),0))","v":""},{"$f":"IF('Access Point (Desc)'!F248=\"\",\"\",INDEX([1]COUNTY!$A$2:$A$100,MATCH('Access Point (Desc)'!F248,[1]!MASTER_COUNTY_NAME[#Data],0),0))","v":""},{"$f":"IF('Access Point (Desc)'!G248=\"\",\"\",'Access Point (Desc)'!G248)","v":""},{"$f":"IF('Access Point (Desc)'!H248=\"\",\"\",'Access Point (Desc)'!H248)","v":""},{"$f":"IF('Access Point (Desc)'!I248=\"\",\"\",INDEX([1]ROUTE_MH_TYPE!$A$2:$A$100,MATCH('Access Point (Desc)'!$I248,[1]!MASTER_ROUTE_MH_TYPE_DESC[#Data],0),0))","v":""},{"$f":"IF('Access Point (Desc)'!J248=\"\",\"\",INDEX([1]MANHOLE_MTL!$A$2:$A$100,MATCH('Access Point (Desc)'!$J248,[1]!MASTER_MANHOLE_MTL_DESC[#Data],0),0))","v":""},{"$f":"IF('Access Point (Desc)'!K248=\"\",\"\",INDEX([1]MANHOLE_SIZE!$A$2:$A$120,MATCH('Access Point (Desc)'!$K248,[1]!MASTER_MANHOLE_SIZE_DESC[#Data],0),0))","v":""},{"$f":"IF('Access Point (Desc)'!L248=\"\",\"\",INDEX([1]ROUTE_MH_LID_TYPE!$A$2:$A$100,MATCH('Access Point (Desc)'!$L248,[1]!MASTER_ROUTE_MH_LID_TYPE_DESC[#Data],0),0))","v":""},{"$f":"IF('Access Point (Desc)'!M248=\"\",\"\",INDEX([1]MANHOLE_MTL!$A$2:$A$100,MATCH('Access Point (Desc)'!$M248,[1]!MASTER_MANHOLE_MTL_DESC[#Data],0),0))","v":""},{"$f":"IF('Access Point (Desc)'!N248=\"\",\"\",INDEX([1]LID_BOLT_TYPE!$A$2:$A$100,MATCH('Access Point (Desc)'!$N248,[1]!MASTER_LID_BOLT_TYPE_DESC[#Data],0),0))","v":""},{"$f":"IF('Access Point (Desc)'!O248=\"\",\"\",INDEX([1]YES_NO!$A$2:$A$100,MATCH('Access Point (Desc)'!$O248,[1]!MASTER_YES_NO_DESC[#Data],0),0))","v":""},{"$f":"IF('Access Point (Desc)'!P248=\"\",\"\",'Access Point (Desc)'!P248)","v":""},{"$f":"IF('Access Point (Desc)'!Q248=\"\",\"\",INDEX([1]YES_NO!$A$2:$A$100,MATCH('Access Point (Desc)'!$Q248,[1]!MASTER_YES_NO_DESC[#Data],0),0))","v":""}]
[{"$f":"IF('Access Point (Desc)'!A249=\"\",\"\",'Access Point (Desc)'!A249)","v":""},{"$f":"IF('Access Point (Desc)'!B249=\"\",\"\",'Access Point (Desc)'!B249)","v":""},{"$f":"IF('Access Point (Desc)'!C249=\"\",\"\",'Access Point (Desc)'!C249)","v":""},{"$f":"IF('Access Point (Desc)'!D249=\"\",\"\",'Access Point (Desc)'!D249)","v":""},{"$f":"IF('Access Point (Desc)'!E249=\"\",\"\",INDEX([1]OWNER!$A$2:$A$100,MATCH('Access Point (Desc)'!$E249,[1]!MASTER_OWNER_DESC[#Data],0),0))","v":""},{"$f":"IF('Access Point (Desc)'!F249=\"\",\"\",INDEX([1]COUNTY!$A$2:$A$100,MATCH('Access Point (Desc)'!F249,[1]!MASTER_COUNTY_NAME[#Data],0),0))","v":""},{"$f":"IF('Access Point (Desc)'!G249=\"\",\"\",'Access Point (Desc)'!G249)","v":""},{"$f":"IF('Access Point (Desc)'!H249=\"\",\"\",'Access Point (Desc)'!H249)","v":""},{"$f":"IF('Access Point (Desc)'!I249=\"\",\"\",INDEX([1]ROUTE_MH_TYPE!$A$2:$A$100,MATCH('Access Point (Desc)'!$I249,[1]!MASTER_ROUTE_MH_TYPE_DESC[#Data],0),0))","v":""},{"$f":"IF('Access Point (Desc)'!J249=\"\",\"\",INDEX([1]MANHOLE_MTL!$A$2:$A$100,MATCH('Access Point (Desc)'!$J249,[1]!MASTER_MANHOLE_MTL_DESC[#Data],0),0))","v":""},{"$f":"IF('Access Point (Desc)'!K249=\"\",\"\",INDEX([1]MANHOLE_SIZE!$A$2:$A$120,MATCH('Access Point (Desc)'!$K249,[1]!MASTER_MANHOLE_SIZE_DESC[#Data],0),0))","v":""},{"$f":"IF('Access Point (Desc)'!L249=\"\",\"\",INDEX([1]ROUTE_MH_LID_TYPE!$A$2:$A$100,MATCH('Access Point (Desc)'!$L249,[1]!MASTER_ROUTE_MH_LID_TYPE_DESC[#Data],0),0))","v":""},{"$f":"IF('Access Point (Desc)'!M249=\"\",\"\",INDEX([1]MANHOLE_MTL!$A$2:$A$100,MATCH('Access Point (Desc)'!$M249,[1]!MASTER_MANHOLE_MTL_DESC[#Data],0),0))","v":""},{"$f":"IF('Access Point (Desc)'!N249=\"\",\"\",INDEX([1]LID_BOLT_TYPE!$A$2:$A$100,MATCH('Access Point (Desc)'!$N249,[1]!MASTER_LID_BOLT_TYPE_DESC[#Data],0),0))","v":""},{"$f":"IF('Access Point (Desc)'!O249=\"\",\"\",INDEX([1]YES_NO!$A$2:$A$100,MATCH('Access Point (Desc)'!$O249,[1]!MASTER_YES_NO_DESC[#Data],0),0))","v":""},{"$f":"IF('Access Point (Desc)'!P249=\"\",\"\",'Access Point (Desc)'!P249)","v":""},{"$f":"IF('Access Point (Desc)'!Q249=\"\",\"\",INDEX([1]YES_NO!$A$2:$A$100,MATCH('Access Point (Desc)'!$Q249,[1]!MASTER_YES_NO_DESC[#Data],0),0))","v":""}]
[{"$f":"IF('Access Point (Desc)'!A250=\"\",\"\",'Access Point (Desc)'!A250)","v":""},{"$f":"IF('Access Point (Desc)'!B250=\"\",\"\",'Access Point (Desc)'!B250)","v":""},{"$f":"IF('Access Point (Desc)'!C250=\"\",\"\",'Access Point (Desc)'!C250)","v":""},{"$f":"IF('Access Point (Desc)'!D250=\"\",\"\",'Access Point (Desc)'!D250)","v":""},{"$f":"IF('Access Point (Desc)'!E250=\"\",\"\",INDEX([1]OWNER!$A$2:$A$100,MATCH('Access Point (Desc)'!$E250,[1]!MASTER_OWNER_DESC[#Data],0),0))","v":""},{"$f":"IF('Access Point (Desc)'!F250=\"\",\"\",INDEX([1]COUNTY!$A$2:$A$100,MATCH('Access Point (Desc)'!F250,[1]!MASTER_COUNTY_NAME[#Data],0),0))","v":""},{"$f":"IF('Access Point (Desc)'!G250=\"\",\"\",'Access Point (Desc)'!G250)","v":""},{"$f":"IF('Access Point (Desc)'!H250=\"\",\"\",'Access Point (Desc)'!H250)","v":""},{"$f":"IF('Access Point (Desc)'!I250=\"\",\"\",INDEX([1]ROUTE_MH_TYPE!$A$2:$A$100,MATCH('Access Point (Desc)'!$I250,[1]!MASTER_ROUTE_MH_TYPE_DESC[#Data],0),0))","v":""},{"$f":"IF('Access Point (Desc)'!J250=\"\",\"\",INDEX([1]MANHOLE_MTL!$A$2:$A$100,MATCH('Access Point (Desc)'!$J250,[1]!MASTER_MANHOLE_MTL_DESC[#Data],0),0))","v":""},{"$f":"IF('Access Point (Desc)'!K250=\"\",\"\",INDEX([1]MANHOLE_SIZE!$A$2:$A$120,MATCH('Access Point (Desc)'!$K250,[1]!MASTER_MANHOLE_SIZE_DESC[#Data],0),0))","v":""},{"$f":"IF('Access Point (Desc)'!L250=\"\",\"\",INDEX([1]ROUTE_MH_LID_TYPE!$A$2:$A$100,MATCH('Access Point (Desc)'!$L250,[1]!MASTER_ROUTE_MH_LID_TYPE_DESC[#Data],0),0))","v":""},{"$f":"IF('Access Point (Desc)'!M250=\"\",\"\",INDEX([1]MANHOLE_MTL!$A$2:$A$100,MATCH('Access Point (Desc)'!$M250,[1]!MASTER_MANHOLE_MTL_DESC[#Data],0),0))","v":""},{"$f":"IF('Access Point (Desc)'!N250=\"\",\"\",INDEX([1]LID_BOLT_TYPE!$A$2:$A$100,MATCH('Access Point (Desc)'!$N250,[1]!MASTER_LID_BOLT_TYPE_DESC[#Data],0),0))","v":""},{"$f":"IF('Access Point (Desc)'!O250=\"\",\"\",INDEX([1]YES_NO!$A$2:$A$100,MATCH('Access Point (Desc)'!$O250,[1]!MASTER_YES_NO_DESC[#Data],0),0))","v":""},{"$f":"IF('Access Point (Desc)'!P250=\"\",\"\",'Access Point (Desc)'!P250)","v":""},{"$f":"IF('Access Point (Desc)'!Q250=\"\",\"\",INDEX([1]YES_NO!$A$2:$A$100,MATCH('Access Point (Desc)'!$Q250,[1]!MASTER_YES_NO_DESC[#Data],0),0))","v":""}]
[{"$f":"IF('Access Point (Desc)'!A251=\"\",\"\",'Access Point (Desc)'!A251)","v":""},{"$f":"IF('Access Point (Desc)'!B251=\"\",\"\",'Access Point (Desc)'!B251)","v":""},{"$f":"IF('Access Point (Desc)'!C251=\"\",\"\",'Access Point (Desc)'!C251)","v":""},{"$f":"IF('Access Point (Desc)'!D251=\"\",\"\",'Access Point (Desc)'!D251)","v":""},{"$f":"IF('Access Point (Desc)'!E251=\"\",\"\",INDEX([1]OWNER!$A$2:$A$100,MATCH('Access Point (Desc)'!$E251,[1]!MASTER_OWNER_DESC[#Data],0),0))","v":""},{"$f":"IF('Access Point (Desc)'!F251=\"\",\"\",INDEX([1]COUNTY!$A$2:$A$100,MATCH('Access Point (Desc)'!F251,[1]!MASTER_COUNTY_NAME[#Data],0),0))","v":""},{"$f":"IF('Access Point (Desc)'!G251=\"\",\"\",'Access Point (Desc)'!G251)","v":""},{"$f":"IF('Access Point (Desc)'!H251=\"\",\"\",'Access Point (Desc)'!H251)","v":""},{"$f":"IF('Access Point (Desc)'!I251=\"\",\"\",INDEX([1]ROUTE_MH_TYPE!$A$2:$A$100,MATCH('Access Point (Desc)'!$I251,[1]!MASTER_ROUTE_MH_TYPE_DESC[#Data],0),0))","v":""},{"$f":"IF('Access Point (Desc)'!J251=\"\",\"\",INDEX([1]MANHOLE_MTL!$A$2:$A$100,MATCH('Access Point (Desc)'!$J251,[1]!MASTER_MANHOLE_MTL_DESC[#Data],0),0))","v":""},{"$f":"IF('Access Point (Desc)'!K251=\"\",\"\",INDEX([1]MANHOLE_SIZE!$A$2:$A$120,MATCH('Access Point (Desc)'!$K251,[1]!MASTER_MANHOLE_SIZE_DESC[#Data],0),0))","v":""},{"$f":"IF('Access Point (Desc)'!L251=\"\",\"\",INDEX([1]ROUTE_MH_LID_TYPE!$A$2:$A$100,MATCH('Access Point (Desc)'!$L251,[1]!MASTER_ROUTE_MH_LID_TYPE_DESC[#Data],0),0))","v":""},{"$f":"IF('Access Point (Desc)'!M251=\"\",\"\",INDEX([1]MANHOLE_MTL!$A$2:$A$100,MATCH('Access Point (Desc)'!$M251,[1]!MASTER_MANHOLE_MTL_DESC[#Data],0),0))","v":""},{"$f":"IF('Access Point (Desc)'!N251=\"\",\"\",INDEX([1]LID_BOLT_TYPE!$A$2:$A$100,MATCH('Access Point (Desc)'!$N251,[1]!MASTER_LID_BOLT_TYPE_DESC[#Data],0),0))","v":""},{"$f":"IF('Access Point (Desc)'!O251=\"\",\"\",INDEX([1]YES_NO!$A$2:$A$100,MATCH('Access Point (Desc)'!$O251,[1]!MASTER_YES_NO_DESC[#Data],0),0))","v":""},{"$f":"IF('Access Point (Desc)'!P251=\"\",\"\",'Access Point (Desc)'!P251)","v":""},{"$f":"IF('Access Point (Desc)'!Q251=\"\",\"\",INDEX([1]YES_NO!$A$2:$A$100,MATCH('Access Point (Desc)'!$Q251,[1]!MASTER_YES_NO_DESC[#Data],0),0))","v":""}]
[{"$f":"IF('Access Point (Desc)'!A252=\"\",\"\",'Access Point (Desc)'!A252)","v":""},{"$f":"IF('Access Point (Desc)'!B252=\"\",\"\",'Access Point (Desc)'!B252)","v":""},{"$f":"IF('Access Point (Desc)'!C252=\"\",\"\",'Access Point (Desc)'!C252)","v":""},{"$f":"IF('Access Point (Desc)'!D252=\"\",\"\",'Access Point (Desc)'!D252)","v":""},{"$f":"IF('Access Point (Desc)'!E252=\"\",\"\",INDEX([1]OWNER!$A$2:$A$100,MATCH('Access Point (Desc)'!$E252,[1]!MASTER_OWNER_DESC[#Data],0),0))","v":""},{"$f":"IF('Access Point (Desc)'!F252=\"\",\"\",INDEX([1]COUNTY!$A$2:$A$100,MATCH('Access Point (Desc)'!F252,[1]!MASTER_COUNTY_NAME[#Data],0),0))","v":""},{"$f":"IF('Access Point (Desc)'!G252=\"\",\"\",'Access Point (Desc)'!G252)","v":""},{"$f":"IF('Access Point (Desc)'!H252=\"\",\"\",'Access Point (Desc)'!H252)","v":""},{"$f":"IF('Access Point (Desc)'!I252=\"\",\"\",INDEX([1]ROUTE_MH_TYPE!$A$2:$A$100,MATCH('Access Point (Desc)'!$I252,[1]!MASTER_ROUTE_MH_TYPE_DESC[#Data],0),0))","v":""},{"$f":"IF('Access Point (Desc)'!J252=\"\",\"\",INDEX([1]MANHOLE_MTL!$A$2:$A$100,MATCH('Access Point (Desc)'!$J252,[1]!MASTER_MANHOLE_MTL_DESC[#Data],0),0))","v":""},{"$f":"IF('Access Point (Desc)'!K252=\"\",\"\",INDEX([1]MANHOLE_SIZE!$A$2:$A$120,MATCH('Access Point (Desc)'!$K252,[1]!MASTER_MANHOLE_SIZE_DESC[#Data],0),0))","v":""},{"$f":"IF('Access Point (Desc)'!L252=\"\",\"\",INDEX([1]ROUTE_MH_LID_TYPE!$A$2:$A$100,MATCH('Access Point (Desc)'!$L252,[1]!MASTER_ROUTE_MH_LID_TYPE_DESC[#Data],0),0))","v":""},{"$f":"IF('Access Point (Desc)'!M252=\"\",\"\",INDEX([1]MANHOLE_MTL!$A$2:$A$100,MATCH('Access Point (Desc)'!$M252,[1]!MASTER_MANHOLE_MTL_DESC[#Data],0),0))","v":""},{"$f":"IF('Access Point (Desc)'!N252=\"\",\"\",INDEX([1]LID_BOLT_TYPE!$A$2:$A$100,MATCH('Access Point (Desc)'!$N252,[1]!MASTER_LID_BOLT_TYPE_DESC[#Data],0),0))","v":""},{"$f":"IF('Access Point (Desc)'!O252=\"\",\"\",INDEX([1]YES_NO!$A$2:$A$100,MATCH('Access Point (Desc)'!$O252,[1]!MASTER_YES_NO_DESC[#Data],0),0))","v":""},{"$f":"IF('Access Point (Desc)'!P252=\"\",\"\",'Access Point (Desc)'!P252)","v":""},{"$f":"IF('Access Point (Desc)'!Q252=\"\",\"\",INDEX([1]YES_NO!$A$2:$A$100,MATCH('Access Point (Desc)'!$Q252,[1]!MASTER_YES_NO_DESC[#Data],0),0))","v":""}]
[{"$f":"IF('Access Point (Desc)'!A253=\"\",\"\",'Access Point (Desc)'!A253)","v":""},{"$f":"IF('Access Point (Desc)'!B253=\"\",\"\",'Access Point (Desc)'!B253)","v":""},{"$f":"IF('Access Point (Desc)'!C253=\"\",\"\",'Access Point (Desc)'!C253)","v":""},{"$f":"IF('Access Point (Desc)'!D253=\"\",\"\",'Access Point (Desc)'!D253)","v":""},{"$f":"IF('Access Point (Desc)'!E253=\"\",\"\",INDEX([1]OWNER!$A$2:$A$100,MATCH('Access Point (Desc)'!$E253,[1]!MASTER_OWNER_DESC[#Data],0),0))","v":""},{"$f":"IF('Access Point (Desc)'!F253=\"\",\"\",INDEX([1]COUNTY!$A$2:$A$100,MATCH('Access Point (Desc)'!F253,[1]!MASTER_COUNTY_NAME[#Data],0),0))","v":""},{"$f":"IF('Access Point (Desc)'!G253=\"\",\"\",'Access Point (Desc)'!G253)","v":""},{"$f":"IF('Access Point (Desc)'!H253=\"\",\"\",'Access Point (Desc)'!H253)","v":""},{"$f":"IF('Access Point (Desc)'!I253=\"\",\"\",INDEX([1]ROUTE_MH_TYPE!$A$2:$A$100,MATCH('Access Point (Desc)'!$I253,[1]!MASTER_ROUTE_MH_TYPE_DESC[#Data],0),0))","v":""},{"$f":"IF('Access Point (Desc)'!J253=\"\",\"\",INDEX([1]MANHOLE_MTL!$A$2:$A$100,MATCH('Access Point (Desc)'!$J253,[1]!MASTER_MANHOLE_MTL_DESC[#Data],0),0))","v":""},{"$f":"IF('Access Point (Desc)'!K253=\"\",\"\",INDEX([1]MANHOLE_SIZE!$A$2:$A$120,MATCH('Access Point (Desc)'!$K253,[1]!MASTER_MANHOLE_SIZE_DESC[#Data],0),0))","v":""},{"$f":"IF('Access Point (Desc)'!L253=\"\",\"\",INDEX([1]ROUTE_MH_LID_TYPE!$A$2:$A$100,MATCH('Access Point (Desc)'!$L253,[1]!MASTER_ROUTE_MH_LID_TYPE_DESC[#Data],0),0))","v":""},{"$f":"IF('Access Point (Desc)'!M253=\"\",\"\",INDEX([1]MANHOLE_MTL!$A$2:$A$100,MATCH('Access Point (Desc)'!$M253,[1]!MASTER_MANHOLE_MTL_DESC[#Data],0),0))","v":""},{"$f":"IF('Access Point (Desc)'!N253=\"\",\"\",INDEX([1]LID_BOLT_TYPE!$A$2:$A$100,MATCH('Access Point (Desc)'!$N253,[1]!MASTER_LID_BOLT_TYPE_DESC[#Data],0),0))","v":""},{"$f":"IF('Access Point (Desc)'!O253=\"\",\"\",INDEX([1]YES_NO!$A$2:$A$100,MATCH('Access Point (Desc)'!$O253,[1]!MASTER_YES_NO_DESC[#Data],0),0))","v":""},{"$f":"IF('Access Point (Desc)'!P253=\"\",\"\",'Access Point (Desc)'!P253)","v":""},{"$f":"IF('Access Point (Desc)'!Q253=\"\",\"\",INDEX([1]YES_NO!$A$2:$A$100,MATCH('Access Point (Desc)'!$Q253,[1]!MASTER_YES_NO_DESC[#Data],0),0))","v":""}]
[{"$f":"IF('Access Point (Desc)'!A254=\"\",\"\",'Access Point (Desc)'!A254)","v":""},{"$f":"IF('Access Point (Desc)'!B254=\"\",\"\",'Access Point (Desc)'!B254)","v":""},{"$f":"IF('Access Point (Desc)'!C254=\"\",\"\",'Access Point (Desc)'!C254)","v":""},{"$f":"IF('Access Point (Desc)'!D254=\"\",\"\",'Access Point (Desc)'!D254)","v":""},{"$f":"IF('Access Point (Desc)'!E254=\"\",\"\",INDEX([1]OWNER!$A$2:$A$100,MATCH('Access Point (Desc)'!$E254,[1]!MASTER_OWNER_DESC[#Data],0),0))","v":""},{"$f":"IF('Access Point (Desc)'!F254=\"\",\"\",INDEX([1]COUNTY!$A$2:$A$100,MATCH('Access Point (Desc)'!F254,[1]!MASTER_COUNTY_NAME[#Data],0),0))","v":""},{"$f":"IF('Access Point (Desc)'!G254=\"\",\"\",'Access Point (Desc)'!G254)","v":""},{"$f":"IF('Access Point (Desc)'!H254=\"\",\"\",'Access Point (Desc)'!H254)","v":""},{"$f":"IF('Access Point (Desc)'!I254=\"\",\"\",INDEX([1]ROUTE_MH_TYPE!$A$2:$A$100,MATCH('Access Point (Desc)'!$I254,[1]!MASTER_ROUTE_MH_TYPE_DESC[#Data],0),0))","v":""},{"$f":"IF('Access Point (Desc)'!J254=\"\",\"\",INDEX([1]MANHOLE_MTL!$A$2:$A$100,MATCH('Access Point (Desc)'!$J254,[1]!MASTER_MANHOLE_MTL_DESC[#Data],0),0))","v":""},{"$f":"IF('Access Point (Desc)'!K254=\"\",\"\",INDEX([1]MANHOLE_SIZE!$A$2:$A$120,MATCH('Access Point (Desc)'!$K254,[1]!MASTER_MANHOLE_SIZE_DESC[#Data],0),0))","v":""},{"$f":"IF('Access Point (Desc)'!L254=\"\",\"\",INDEX([1]ROUTE_MH_LID_TYPE!$A$2:$A$100,MATCH('Access Point (Desc)'!$L254,[1]!MASTER_ROUTE_MH_LID_TYPE_DESC[#Data],0),0))","v":""},{"$f":"IF('Access Point (Desc)'!M254=\"\",\"\",INDEX([1]MANHOLE_MTL!$A$2:$A$100,MATCH('Access Point (Desc)'!$M254,[1]!MASTER_MANHOLE_MTL_DESC[#Data],0),0))","v":""},{"$f":"IF('Access Point (Desc)'!N254=\"\",\"\",INDEX([1]LID_BOLT_TYPE!$A$2:$A$100,MATCH('Access Point (Desc)'!$N254,[1]!MASTER_LID_BOLT_TYPE_DESC[#Data],0),0))","v":""},{"$f":"IF('Access Point (Desc)'!O254=\"\",\"\",INDEX([1]YES_NO!$A$2:$A$100,MATCH('Access Point (Desc)'!$O254,[1]!MASTER_YES_NO_DESC[#Data],0),0))","v":""},{"$f":"IF('Access Point (Desc)'!P254=\"\",\"\",'Access Point (Desc)'!P254)","v":""},{"$f":"IF('Access Point (Desc)'!Q254=\"\",\"\",INDEX([1]YES_NO!$A$2:$A$100,MATCH('Access Point (Desc)'!$Q254,[1]!MASTER_YES_NO_DESC[#Data],0),0))","v":""}]
[{"$f":"IF('Access Point (Desc)'!A255=\"\",\"\",'Access Point (Desc)'!A255)","v":""},{"$f":"IF('Access Point (Desc)'!B255=\"\",\"\",'Access Point (Desc)'!B255)","v":""},{"$f":"IF('Access Point (Desc)'!C255=\"\",\"\",'Access Point (Desc)'!C255)","v":""},{"$f":"IF('Access Point (Desc)'!D255=\"\",\"\",'Access Point (Desc)'!D255)","v":""},{"$f":"IF('Access Point (Desc)'!E255=\"\",\"\",INDEX([1]OWNER!$A$2:$A$100,MATCH('Access Point (Desc)'!$E255,[1]!MASTER_OWNER_DESC[#Data],0),0))","v":""},{"$f":"IF('Access Point (Desc)'!F255=\"\",\"\",INDEX([1]COUNTY!$A$2:$A$100,MATCH('Access Point (Desc)'!F255,[1]!MASTER_COUNTY_NAME[#Data],0),0))","v":""},{"$f":"IF('Access Point (Desc)'!G255=\"\",\"\",'Access Point (Desc)'!G255)","v":""},{"$f":"IF('Access Point (Desc)'!H255=\"\",\"\",'Access Point (Desc)'!H255)","v":""},{"$f":"IF('Access Point (Desc)'!I255=\"\",\"\",INDEX([1]ROUTE_MH_TYPE!$A$2:$A$100,MATCH('Access Point (Desc)'!$I255,[1]!MASTER_ROUTE_MH_TYPE_DESC[#Data],0),0))","v":""},{"$f":"IF('Access Point (Desc)'!J255=\"\",\"\",INDEX([1]MANHOLE_MTL!$A$2:$A$100,MATCH('Access Point (Desc)'!$J255,[1]!MASTER_MANHOLE_MTL_DESC[#Data],0),0))","v":""},{"$f":"IF('Access Point (Desc)'!K255=\"\",\"\",INDEX([1]MANHOLE_SIZE!$A$2:$A$120,MATCH('Access Point (Desc)'!$K255,[1]!MASTER_MANHOLE_SIZE_DESC[#Data],0),0))","v":""},{"$f":"IF('Access Point (Desc)'!L255=\"\",\"\",INDEX([1]ROUTE_MH_LID_TYPE!$A$2:$A$100,MATCH('Access Point (Desc)'!$L255,[1]!MASTER_ROUTE_MH_LID_TYPE_DESC[#Data],0),0))","v":""},{"$f":"IF('Access Point (Desc)'!M255=\"\",\"\",INDEX([1]MANHOLE_MTL!$A$2:$A$100,MATCH('Access Point (Desc)'!$M255,[1]!MASTER_MANHOLE_MTL_DESC[#Data],0),0))","v":""},{"$f":"IF('Access Point (Desc)'!N255=\"\",\"\",INDEX([1]LID_BOLT_TYPE!$A$2:$A$100,MATCH('Access Point (Desc)'!$N255,[1]!MASTER_LID_BOLT_TYPE_DESC[#Data],0),0))","v":""},{"$f":"IF('Access Point (Desc)'!O255=\"\",\"\",INDEX([1]YES_NO!$A$2:$A$100,MATCH('Access Point (Desc)'!$O255,[1]!MASTER_YES_NO_DESC[#Data],0),0))","v":""},{"$f":"IF('Access Point (Desc)'!P255=\"\",\"\",'Access Point (Desc)'!P255)","v":""},{"$f":"IF('Access Point (Desc)'!Q255=\"\",\"\",INDEX([1]YES_NO!$A$2:$A$100,MATCH('Access Point (Desc)'!$Q255,[1]!MASTER_YES_NO_DESC[#Data],0),0))","v":""}]
[{"$f":"IF('Access Point (Desc)'!A256=\"\",\"\",'Access Point (Desc)'!A256)","v":""},{"$f":"IF('Access Point (Desc)'!B256=\"\",\"\",'Access Point (Desc)'!B256)","v":""},{"$f":"IF('Access Point (Desc)'!C256=\"\",\"\",'Access Point (Desc)'!C256)","v":""},{"$f":"IF('Access Point (Desc)'!D256=\"\",\"\",'Access Point (Desc)'!D256)","v":""},{"$f":"IF('Access Point (Desc)'!E256=\"\",\"\",INDEX([1]OWNER!$A$2:$A$100,MATCH('Access Point (Desc)'!$E256,[1]!MASTER_OWNER_DESC[#Data],0),0))","v":""},{"$f":"IF('Access Point (Desc)'!F256=\"\",\"\",INDEX([1]COUNTY!$A$2:$A$100,MATCH('Access Point (Desc)'!F256,[1]!MASTER_COUNTY_NAME[#Data],0),0))","v":""},{"$f":"IF('Access Point (Desc)'!G256=\"\",\"\",'Access Point (Desc)'!G256)","v":""},{"$f":"IF('Access Point (Desc)'!H256=\"\",\"\",'Access Point (Desc)'!H256)","v":""},{"$f":"IF('Access Point (Desc)'!I256=\"\",\"\",INDEX([1]ROUTE_MH_TYPE!$A$2:$A$100,MATCH('Access Point (Desc)'!$I256,[1]!MASTER_ROUTE_MH_TYPE_DESC[#Data],0),0))","v":""},{"$f":"IF('Access Point (Desc)'!J256=\"\",\"\",INDEX([1]MANHOLE_MTL!$A$2:$A$100,MATCH('Access Point (Desc)'!$J256,[1]!MASTER_MANHOLE_MTL_DESC[#Data],0),0))","v":""},{"$f":"IF('Access Point (Desc)'!K256=\"\",\"\",INDEX([1]MANHOLE_SIZE!$A$2:$A$120,MATCH('Access Point (Desc)'!$K256,[1]!MASTER_MANHOLE_SIZE_DESC[#Data],0),0))","v":""},{"$f":"IF('Access Point (Desc)'!L256=\"\",\"\",INDEX([1]ROUTE_MH_LID_TYPE!$A$2:$A$100,MATCH('Access Point (Desc)'!$L256,[1]!MASTER_ROUTE_MH_LID_TYPE_DESC[#Data],0),0))","v":""},{"$f":"IF('Access Point (Desc)'!M256=\"\",\"\",INDEX([1]MANHOLE_MTL!$A$2:$A$100,MATCH('Access Point (Desc)'!$M256,[1]!MASTER_MANHOLE_MTL_DESC[#Data],0),0))","v":""},{"$f":"IF('Access Point (Desc)'!N256=\"\",\"\",INDEX([1]LID_BOLT_TYPE!$A$2:$A$100,MATCH('Access Point (Desc)'!$N256,[1]!MASTER_LID_BOLT_TYPE_DESC[#Data],0),0))","v":""},{"$f":"IF('Access Point (Desc)'!O256=\"\",\"\",INDEX([1]YES_NO!$A$2:$A$100,MATCH('Access Point (Desc)'!$O256,[1]!MASTER_YES_NO_DESC[#Data],0),0))","v":""},{"$f":"IF('Access Point (Desc)'!P256=\"\",\"\",'Access Point (Desc)'!P256)","v":""},{"$f":"IF('Access Point (Desc)'!Q256=\"\",\"\",INDEX([1]YES_NO!$A$2:$A$100,MATCH('Access Point (Desc)'!$Q256,[1]!MASTER_YES_NO_DESC[#Data],0),0))","v":""}]
[{"$f":"IF('Access Point (Desc)'!A257=\"\",\"\",'Access Point (Desc)'!A257)","v":""},{"$f":"IF('Access Point (Desc)'!B257=\"\",\"\",'Access Point (Desc)'!B257)","v":""},{"$f":"IF('Access Point (Desc)'!C257=\"\",\"\",'Access Point (Desc)'!C257)","v":""},{"$f":"IF('Access Point (Desc)'!D257=\"\",\"\",'Access Point (Desc)'!D257)","v":""},{"$f":"IF('Access Point (Desc)'!E257=\"\",\"\",INDEX([1]OWNER!$A$2:$A$100,MATCH('Access Point (Desc)'!$E257,[1]!MASTER_OWNER_DESC[#Data],0),0))","v":""},{"$f":"IF('Access Point (Desc)'!F257=\"\",\"\",INDEX([1]COUNTY!$A$2:$A$100,MATCH('Access Point (Desc)'!F257,[1]!MASTER_COUNTY_NAME[#Data],0),0))","v":""},{"$f":"IF('Access Point (Desc)'!G257=\"\",\"\",'Access Point (Desc)'!G257)","v":""},{"$f":"IF('Access Point (Desc)'!H257=\"\",\"\",'Access Point (Desc)'!H257)","v":""},{"$f":"IF('Access Point (Desc)'!I257=\"\",\"\",INDEX([1]ROUTE_MH_TYPE!$A$2:$A$100,MATCH('Access Point (Desc)'!$I257,[1]!MASTER_ROUTE_MH_TYPE_DESC[#Data],0),0))","v":""},{"$f":"IF('Access Point (Desc)'!J257=\"\",\"\",INDEX([1]MANHOLE_MTL!$A$2:$A$100,MATCH('Access Point (Desc)'!$J257,[1]!MASTER_MANHOLE_MTL_DESC[#Data],0),0))","v":""},{"$f":"IF('Access Point (Desc)'!K257=\"\",\"\",INDEX([1]MANHOLE_SIZE!$A$2:$A$120,MATCH('Access Point (Desc)'!$K257,[1]!MASTER_MANHOLE_SIZE_DESC[#Data],0),0))","v":""},{"$f":"IF('Access Point (Desc)'!L257=\"\",\"\",INDEX([1]ROUTE_MH_LID_TYPE!$A$2:$A$100,MATCH('Access Point (Desc)'!$L257,[1]!MASTER_ROUTE_MH_LID_TYPE_DESC[#Data],0),0))","v":""},{"$f":"IF('Access Point (Desc)'!M257=\"\",\"\",INDEX([1]MANHOLE_MTL!$A$2:$A$100,MATCH('Access Point (Desc)'!$M257,[1]!MASTER_MANHOLE_MTL_DESC[#Data],0),0))","v":""},{"$f":"IF('Access Point (Desc)'!N257=\"\",\"\",INDEX([1]LID_BOLT_TYPE!$A$2:$A$100,MATCH('Access Point (Desc)'!$N257,[1]!MASTER_LID_BOLT_TYPE_DESC[#Data],0),0))","v":""},{"$f":"IF('Access Point (Desc)'!O257=\"\",\"\",INDEX([1]YES_NO!$A$2:$A$100,MATCH('Access Point (Desc)'!$O257,[1]!MASTER_YES_NO_DESC[#Data],0),0))","v":""},{"$f":"IF('Access Point (Desc)'!P257=\"\",\"\",'Access Point (Desc)'!P257)","v":""},{"$f":"IF('Access Point (Desc)'!Q257=\"\",\"\",INDEX([1]YES_NO!$A$2:$A$100,MATCH('Access Point (Desc)'!$Q257,[1]!MASTER_YES_NO_DESC[#Data],0),0))","v":""}]
[{"$f":"IF('Access Point (Desc)'!A258=\"\",\"\",'Access Point (Desc)'!A258)","v":""},{"$f":"IF('Access Point (Desc)'!B258=\"\",\"\",'Access Point (Desc)'!B258)","v":""},{"$f":"IF('Access Point (Desc)'!C258=\"\",\"\",'Access Point (Desc)'!C258)","v":""},{"$f":"IF('Access Point (Desc)'!D258=\"\",\"\",'Access Point (Desc)'!D258)","v":""},{"$f":"IF('Access Point (Desc)'!E258=\"\",\"\",INDEX([1]OWNER!$A$2:$A$100,MATCH('Access Point (Desc)'!$E258,[1]!MASTER_OWNER_DESC[#Data],0),0))","v":""},{"$f":"IF('Access Point (Desc)'!F258=\"\",\"\",INDEX([1]COUNTY!$A$2:$A$100,MATCH('Access Point (Desc)'!F258,[1]!MASTER_COUNTY_NAME[#Data],0),0))","v":""},{"$f":"IF('Access Point (Desc)'!G258=\"\",\"\",'Access Point (Desc)'!G258)","v":""},{"$f":"IF('Access Point (Desc)'!H258=\"\",\"\",'Access Point (Desc)'!H258)","v":""},{"$f":"IF('Access Point (Desc)'!I258=\"\",\"\",INDEX([1]ROUTE_MH_TYPE!$A$2:$A$100,MATCH('Access Point (Desc)'!$I258,[1]!MASTER_ROUTE_MH_TYPE_DESC[#Data],0),0))","v":""},{"$f":"IF('Access Point (Desc)'!J258=\"\",\"\",INDEX([1]MANHOLE_MTL!$A$2:$A$100,MATCH('Access Point (Desc)'!$J258,[1]!MASTER_MANHOLE_MTL_DESC[#Data],0),0))","v":""},{"$f":"IF('Access Point (Desc)'!K258=\"\",\"\",INDEX([1]MANHOLE_SIZE!$A$2:$A$120,MATCH('Access Point (Desc)'!$K258,[1]!MASTER_MANHOLE_SIZE_DESC[#Data],0),0))","v":""},{"$f":"IF('Access Point (Desc)'!L258=\"\",\"\",INDEX([1]ROUTE_MH_LID_TYPE!$A$2:$A$100,MATCH('Access Point (Desc)'!$L258,[1]!MASTER_ROUTE_MH_LID_TYPE_DESC[#Data],0),0))","v":""},{"$f":"IF('Access Point (Desc)'!M258=\"\",\"\",INDEX([1]MANHOLE_MTL!$A$2:$A$100,MATCH('Access Point (Desc)'!$M258,[1]!MASTER_MANHOLE_MTL_DESC[#Data],0),0))","v":""},{"$f":"IF('Access Point (Desc)'!N258=\"\",\"\",INDEX([1]LID_BOLT_TYPE!$A$2:$A$100,MATCH('Access Point (Desc)'!$N258,[1]!MASTER_LID_BOLT_TYPE_DESC[#Data],0),0))","v":""},{"$f":"IF('Access Point (Desc)'!O258=\"\",\"\",INDEX([1]YES_NO!$A$2:$A$100,MATCH('Access Point (Desc)'!$O258,[1]!MASTER_YES_NO_DESC[#Data],0),0))","v":""},{"$f":"IF('Access Point (Desc)'!P258=\"\",\"\",'Access Point (Desc)'!P258)","v":""},{"$f":"IF('Access Point (Desc)'!Q258=\"\",\"\",INDEX([1]YES_NO!$A$2:$A$100,MATCH('Access Point (Desc)'!$Q258,[1]!MASTER_YES_NO_DESC[#Data],0),0))","v":""}]
[{"$f":"IF('Access Point (Desc)'!A259=\"\",\"\",'Access Point (Desc)'!A259)","v":""},{"$f":"IF('Access Point (Desc)'!B259=\"\",\"\",'Access Point (Desc)'!B259)","v":""},{"$f":"IF('Access Point (Desc)'!C259=\"\",\"\",'Access Point (Desc)'!C259)","v":""},{"$f":"IF('Access Point (Desc)'!D259=\"\",\"\",'Access Point (Desc)'!D259)","v":""},{"$f":"IF('Access Point (Desc)'!E259=\"\",\"\",INDEX([1]OWNER!$A$2:$A$100,MATCH('Access Point (Desc)'!$E259,[1]!MASTER_OWNER_DESC[#Data],0),0))","v":""},{"$f":"IF('Access Point (Desc)'!F259=\"\",\"\",INDEX([1]COUNTY!$A$2:$A$100,MATCH('Access Point (Desc)'!F259,[1]!MASTER_COUNTY_NAME[#Data],0),0))","v":""},{"$f":"IF('Access Point (Desc)'!G259=\"\",\"\",'Access Point (Desc)'!G259)","v":""},{"$f":"IF('Access Point (Desc)'!H259=\"\",\"\",'Access Point (Desc)'!H259)","v":""},{"$f":"IF('Access Point (Desc)'!I259=\"\",\"\",INDEX([1]ROUTE_MH_TYPE!$A$2:$A$100,MATCH('Access Point (Desc)'!$I259,[1]!MASTER_ROUTE_MH_TYPE_DESC[#Data],0),0))","v":""},{"$f":"IF('Access Point (Desc)'!J259=\"\",\"\",INDEX([1]MANHOLE_MTL!$A$2:$A$100,MATCH('Access Point (Desc)'!$J259,[1]!MASTER_MANHOLE_MTL_DESC[#Data],0),0))","v":""},{"$f":"IF('Access Point (Desc)'!K259=\"\",\"\",INDEX([1]MANHOLE_SIZE!$A$2:$A$120,MATCH('Access Point (Desc)'!$K259,[1]!MASTER_MANHOLE_SIZE_DESC[#Data],0),0))","v":""},{"$f":"IF('Access Point (Desc)'!L259=\"\",\"\",INDEX([1]ROUTE_MH_LID_TYPE!$A$2:$A$100,MATCH('Access Point (Desc)'!$L259,[1]!MASTER_ROUTE_MH_LID_TYPE_DESC[#Data],0),0))","v":""},{"$f":"IF('Access Point (Desc)'!M259=\"\",\"\",INDEX([1]MANHOLE_MTL!$A$2:$A$100,MATCH('Access Point (Desc)'!$M259,[1]!MASTER_MANHOLE_MTL_DESC[#Data],0),0))","v":""},{"$f":"IF('Access Point (Desc)'!N259=\"\",\"\",INDEX([1]LID_BOLT_TYPE!$A$2:$A$100,MATCH('Access Point (Desc)'!$N259,[1]!MASTER_LID_BOLT_TYPE_DESC[#Data],0),0))","v":""},{"$f":"IF('Access Point (Desc)'!O259=\"\",\"\",INDEX([1]YES_NO!$A$2:$A$100,MATCH('Access Point (Desc)'!$O259,[1]!MASTER_YES_NO_DESC[#Data],0),0))","v":""},{"$f":"IF('Access Point (Desc)'!P259=\"\",\"\",'Access Point (Desc)'!P259)","v":""},{"$f":"IF('Access Point (Desc)'!Q259=\"\",\"\",INDEX([1]YES_NO!$A$2:$A$100,MATCH('Access Point (Desc)'!$Q259,[1]!MASTER_YES_NO_DESC[#Data],0),0))","v":""}]
[{"$f":"IF('Access Point (Desc)'!A260=\"\",\"\",'Access Point (Desc)'!A260)","v":""},{"$f":"IF('Access Point (Desc)'!B260=\"\",\"\",'Access Point (Desc)'!B260)","v":""},{"$f":"IF('Access Point (Desc)'!C260=\"\",\"\",'Access Point (Desc)'!C260)","v":""},{"$f":"IF('Access Point (Desc)'!D260=\"\",\"\",'Access Point (Desc)'!D260)","v":""},{"$f":"IF('Access Point (Desc)'!E260=\"\",\"\",INDEX([1]OWNER!$A$2:$A$100,MATCH('Access Point (Desc)'!$E260,[1]!MASTER_OWNER_DESC[#Data],0),0))","v":""},{"$f":"IF('Access Point (Desc)'!F260=\"\",\"\",INDEX([1]COUNTY!$A$2:$A$100,MATCH('Access Point (Desc)'!F260,[1]!MASTER_COUNTY_NAME[#Data],0),0))","v":""},{"$f":"IF('Access Point (Desc)'!G260=\"\",\"\",'Access Point (Desc)'!G260)","v":""},{"$f":"IF('Access Point (Desc)'!H260=\"\",\"\",'Access Point (Desc)'!H260)","v":""},{"$f":"IF('Access Point (Desc)'!I260=\"\",\"\",INDEX([1]ROUTE_MH_TYPE!$A$2:$A$100,MATCH('Access Point (Desc)'!$I260,[1]!MASTER_ROUTE_MH_TYPE_DESC[#Data],0),0))","v":""},{"$f":"IF('Access Point (Desc)'!J260=\"\",\"\",INDEX([1]MANHOLE_MTL!$A$2:$A$100,MATCH('Access Point (Desc)'!$J260,[1]!MASTER_MANHOLE_MTL_DESC[#Data],0),0))","v":""},{"$f":"IF('Access Point (Desc)'!K260=\"\",\"\",INDEX([1]MANHOLE_SIZE!$A$2:$A$120,MATCH('Access Point (Desc)'!$K260,[1]!MASTER_MANHOLE_SIZE_DESC[#Data],0),0))","v":""},{"$f":"IF('Access Point (Desc)'!L260=\"\",\"\",INDEX([1]ROUTE_MH_LID_TYPE!$A$2:$A$100,MATCH('Access Point (Desc)'!$L260,[1]!MASTER_ROUTE_MH_LID_TYPE_DESC[#Data],0),0))","v":""},{"$f":"IF('Access Point (Desc)'!M260=\"\",\"\",INDEX([1]MANHOLE_MTL!$A$2:$A$100,MATCH('Access Point (Desc)'!$M260,[1]!MASTER_MANHOLE_MTL_DESC[#Data],0),0))","v":""},{"$f":"IF('Access Point (Desc)'!N260=\"\",\"\",INDEX([1]LID_BOLT_TYPE!$A$2:$A$100,MATCH('Access Point (Desc)'!$N260,[1]!MASTER_LID_BOLT_TYPE_DESC[#Data],0),0))","v":""},{"$f":"IF('Access Point (Desc)'!O260=\"\",\"\",INDEX([1]YES_NO!$A$2:$A$100,MATCH('Access Point (Desc)'!$O260,[1]!MASTER_YES_NO_DESC[#Data],0),0))","v":""},{"$f":"IF('Access Point (Desc)'!P260=\"\",\"\",'Access Point (Desc)'!P260)","v":""},{"$f":"IF('Access Point (Desc)'!Q260=\"\",\"\",INDEX([1]YES_NO!$A$2:$A$100,MATCH('Access Point (Desc)'!$Q260,[1]!MASTER_YES_NO_DESC[#Data],0),0))","v":""}]
[{"$f":"IF('Access Point (Desc)'!A261=\"\",\"\",'Access Point (Desc)'!A261)","v":""},{"$f":"IF('Access Point (Desc)'!B261=\"\",\"\",'Access Point (Desc)'!B261)","v":""},{"$f":"IF('Access Point (Desc)'!C261=\"\",\"\",'Access Point (Desc)'!C261)","v":""},{"$f":"IF('Access Point (Desc)'!D261=\"\",\"\",'Access Point (Desc)'!D261)","v":""},{"$f":"IF('Access Point (Desc)'!E261=\"\",\"\",INDEX([1]OWNER!$A$2:$A$100,MATCH('Access Point (Desc)'!$E261,[1]!MASTER_OWNER_DESC[#Data],0),0))","v":""},{"$f":"IF('Access Point (Desc)'!F261=\"\",\"\",INDEX([1]COUNTY!$A$2:$A$100,MATCH('Access Point (Desc)'!F261,[1]!MASTER_COUNTY_NAME[#Data],0),0))","v":""},{"$f":"IF('Access Point (Desc)'!G261=\"\",\"\",'Access Point (Desc)'!G261)","v":""},{"$f":"IF('Access Point (Desc)'!H261=\"\",\"\",'Access Point (Desc)'!H261)","v":""},{"$f":"IF('Access Point (Desc)'!I261=\"\",\"\",INDEX([1]ROUTE_MH_TYPE!$A$2:$A$100,MATCH('Access Point (Desc)'!$I261,[1]!MASTER_ROUTE_MH_TYPE_DESC[#Data],0),0))","v":""},{"$f":"IF('Access Point (Desc)'!J261=\"\",\"\",INDEX([1]MANHOLE_MTL!$A$2:$A$100,MATCH('Access Point (Desc)'!$J261,[1]!MASTER_MANHOLE_MTL_DESC[#Data],0),0))","v":""},{"$f":"IF('Access Point (Desc)'!K261=\"\",\"\",INDEX([1]MANHOLE_SIZE!$A$2:$A$120,MATCH('Access Point (Desc)'!$K261,[1]!MASTER_MANHOLE_SIZE_DESC[#Data],0),0))","v":""},{"$f":"IF('Access Point (Desc)'!L261=\"\",\"\",INDEX([1]ROUTE_MH_LID_TYPE!$A$2:$A$100,MATCH('Access Point (Desc)'!$L261,[1]!MASTER_ROUTE_MH_LID_TYPE_DESC[#Data],0),0))","v":""},{"$f":"IF('Access Point (Desc)'!M261=\"\",\"\",INDEX([1]MANHOLE_MTL!$A$2:$A$100,MATCH('Access Point (Desc)'!$M261,[1]!MASTER_MANHOLE_MTL_DESC[#Data],0),0))","v":""},{"$f":"IF('Access Point (Desc)'!N261=\"\",\"\",INDEX([1]LID_BOLT_TYPE!$A$2:$A$100,MATCH('Access Point (Desc)'!$N261,[1]!MASTER_LID_BOLT_TYPE_DESC[#Data],0),0))","v":""},{"$f":"IF('Access Point (Desc)'!O261=\"\",\"\",INDEX([1]YES_NO!$A$2:$A$100,MATCH('Access Point (Desc)'!$O261,[1]!MASTER_YES_NO_DESC[#Data],0),0))","v":""},{"$f":"IF('Access Point (Desc)'!P261=\"\",\"\",'Access Point (Desc)'!P261)","v":""},{"$f":"IF('Access Point (Desc)'!Q261=\"\",\"\",INDEX([1]YES_NO!$A$2:$A$100,MATCH('Access Point (Desc)'!$Q261,[1]!MASTER_YES_NO_DESC[#Data],0),0))","v":""}]
[{"$f":"IF('Access Point (Desc)'!A262=\"\",\"\",'Access Point (Desc)'!A262)","v":""},{"$f":"IF('Access Point (Desc)'!B262=\"\",\"\",'Access Point (Desc)'!B262)","v":""},{"$f":"IF('Access Point (Desc)'!C262=\"\",\"\",'Access Point (Desc)'!C262)","v":""},{"$f":"IF('Access Point (Desc)'!D262=\"\",\"\",'Access Point (Desc)'!D262)","v":""},{"$f":"IF('Access Point (Desc)'!E262=\"\",\"\",INDEX([1]OWNER!$A$2:$A$100,MATCH('Access Point (Desc)'!$E262,[1]!MASTER_OWNER_DESC[#Data],0),0))","v":""},{"$f":"IF('Access Point (Desc)'!F262=\"\",\"\",INDEX([1]COUNTY!$A$2:$A$100,MATCH('Access Point (Desc)'!F262,[1]!MASTER_COUNTY_NAME[#Data],0),0))","v":""},{"$f":"IF('Access Point (Desc)'!G262=\"\",\"\",'Access Point (Desc)'!G262)","v":""},{"$f":"IF('Access Point (Desc)'!H262=\"\",\"\",'Access Point (Desc)'!H262)","v":""},{"$f":"IF('Access Point (Desc)'!I262=\"\",\"\",INDEX([1]ROUTE_MH_TYPE!$A$2:$A$100,MATCH('Access Point (Desc)'!$I262,[1]!MASTER_ROUTE_MH_TYPE_DESC[#Data],0),0))","v":""},{"$f":"IF('Access Point (Desc)'!J262=\"\",\"\",INDEX([1]MANHOLE_MTL!$A$2:$A$100,MATCH('Access Point (Desc)'!$J262,[1]!MASTER_MANHOLE_MTL_DESC[#Data],0),0))","v":""},{"$f":"IF('Access Point (Desc)'!K262=\"\",\"\",INDEX([1]MANHOLE_SIZE!$A$2:$A$120,MATCH('Access Point (Desc)'!$K262,[1]!MASTER_MANHOLE_SIZE_DESC[#Data],0),0))","v":""},{"$f":"IF('Access Point (Desc)'!L262=\"\",\"\",INDEX([1]ROUTE_MH_LID_TYPE!$A$2:$A$100,MATCH('Access Point (Desc)'!$L262,[1]!MASTER_ROUTE_MH_LID_TYPE_DESC[#Data],0),0))","v":""},{"$f":"IF('Access Point (Desc)'!M262=\"\",\"\",INDEX([1]MANHOLE_MTL!$A$2:$A$100,MATCH('Access Point (Desc)'!$M262,[1]!MASTER_MANHOLE_MTL_DESC[#Data],0),0))","v":""},{"$f":"IF('Access Point (Desc)'!N262=\"\",\"\",INDEX([1]LID_BOLT_TYPE!$A$2:$A$100,MATCH('Access Point (Desc)'!$N262,[1]!MASTER_LID_BOLT_TYPE_DESC[#Data],0),0))","v":""},{"$f":"IF('Access Point (Desc)'!O262=\"\",\"\",INDEX([1]YES_NO!$A$2:$A$100,MATCH('Access Point (Desc)'!$O262,[1]!MASTER_YES_NO_DESC[#Data],0),0))","v":""},{"$f":"IF('Access Point (Desc)'!P262=\"\",\"\",'Access Point (Desc)'!P262)","v":""},{"$f":"IF('Access Point (Desc)'!Q262=\"\",\"\",INDEX([1]YES_NO!$A$2:$A$100,MATCH('Access Point (Desc)'!$Q262,[1]!MASTER_YES_NO_DESC[#Data],0),0))","v":""}]
[{"$f":"IF('Access Point (Desc)'!A263=\"\",\"\",'Access Point (Desc)'!A263)","v":""},{"$f":"IF('Access Point (Desc)'!B263=\"\",\"\",'Access Point (Desc)'!B263)","v":""},{"$f":"IF('Access Point (Desc)'!C263=\"\",\"\",'Access Point (Desc)'!C263)","v":""},{"$f":"IF('Access Point (Desc)'!D263=\"\",\"\",'Access Point (Desc)'!D263)","v":""},{"$f":"IF('Access Point (Desc)'!E263=\"\",\"\",INDEX([1]OWNER!$A$2:$A$100,MATCH('Access Point (Desc)'!$E263,[1]!MASTER_OWNER_DESC[#Data],0),0))","v":""},{"$f":"IF('Access Point (Desc)'!F263=\"\",\"\",INDEX([1]COUNTY!$A$2:$A$100,MATCH('Access Point (Desc)'!F263,[1]!MASTER_COUNTY_NAME[#Data],0),0))","v":""},{"$f":"IF('Access Point (Desc)'!G263=\"\",\"\",'Access Point (Desc)'!G263)","v":""},{"$f":"IF('Access Point (Desc)'!H263=\"\",\"\",'Access Point (Desc)'!H263)","v":""},{"$f":"IF('Access Point (Desc)'!I263=\"\",\"\",INDEX([1]ROUTE_MH_TYPE!$A$2:$A$100,MATCH('Access Point (Desc)'!$I263,[1]!MASTER_ROUTE_MH_TYPE_DESC[#Data],0),0))","v":""},{"$f":"IF('Access Point (Desc)'!J263=\"\",\"\",INDEX([1]MANHOLE_MTL!$A$2:$A$100,MATCH('Access Point (Desc)'!$J263,[1]!MASTER_MANHOLE_MTL_DESC[#Data],0),0))","v":""},{"$f":"IF('Access Point (Desc)'!K263=\"\",\"\",INDEX([1]MANHOLE_SIZE!$A$2:$A$120,MATCH('Access Point (Desc)'!$K263,[1]!MASTER_MANHOLE_SIZE_DESC[#Data],0),0))","v":""},{"$f":"IF('Access Point (Desc)'!L263=\"\",\"\",INDEX([1]ROUTE_MH_LID_TYPE!$A$2:$A$100,MATCH('Access Point (Desc)'!$L263,[1]!MASTER_ROUTE_MH_LID_TYPE_DESC[#Data],0),0))","v":""},{"$f":"IF('Access Point (Desc)'!M263=\"\",\"\",INDEX([1]MANHOLE_MTL!$A$2:$A$100,MATCH('Access Point (Desc)'!$M263,[1]!MASTER_MANHOLE_MTL_DESC[#Data],0),0))","v":""},{"$f":"IF('Access Point (Desc)'!N263=\"\",\"\",INDEX([1]LID_BOLT_TYPE!$A$2:$A$100,MATCH('Access Point (Desc)'!$N263,[1]!MASTER_LID_BOLT_TYPE_DESC[#Data],0),0))","v":""},{"$f":"IF('Access Point (Desc)'!O263=\"\",\"\",INDEX([1]YES_NO!$A$2:$A$100,MATCH('Access Point (Desc)'!$O263,[1]!MASTER_YES_NO_DESC[#Data],0),0))","v":""},{"$f":"IF('Access Point (Desc)'!P263=\"\",\"\",'Access Point (Desc)'!P263)","v":""},{"$f":"IF('Access Point (Desc)'!Q263=\"\",\"\",INDEX([1]YES_NO!$A$2:$A$100,MATCH('Access Point (Desc)'!$Q263,[1]!MASTER_YES_NO_DESC[#Data],0),0))","v":""}]
[{"$f":"IF('Access Point (Desc)'!A264=\"\",\"\",'Access Point (Desc)'!A264)","v":""},{"$f":"IF('Access Point (Desc)'!B264=\"\",\"\",'Access Point (Desc)'!B264)","v":""},{"$f":"IF('Access Point (Desc)'!C264=\"\",\"\",'Access Point (Desc)'!C264)","v":""},{"$f":"IF('Access Point (Desc)'!D264=\"\",\"\",'Access Point (Desc)'!D264)","v":""},{"$f":"IF('Access Point (Desc)'!E264=\"\",\"\",INDEX([1]OWNER!$A$2:$A$100,MATCH('Access Point (Desc)'!$E264,[1]!MASTER_OWNER_DESC[#Data],0),0))","v":""},{"$f":"IF('Access Point (Desc)'!F264=\"\",\"\",INDEX([1]COUNTY!$A$2:$A$100,MATCH('Access Point (Desc)'!F264,[1]!MASTER_COUNTY_NAME[#Data],0),0))","v":""},{"$f":"IF('Access Point (Desc)'!G264=\"\",\"\",'Access Point (Desc)'!G264)","v":""},{"$f":"IF('Access Point (Desc)'!H264=\"\",\"\",'Access Point (Desc)'!H264)","v":""},{"$f":"IF('Access Point (Desc)'!I264=\"\",\"\",INDEX([1]ROUTE_MH_TYPE!$A$2:$A$100,MATCH('Access Point (Desc)'!$I264,[1]!MASTER_ROUTE_MH_TYPE_DESC[#Data],0),0))","v":""},{"$f":"IF('Access Point (Desc)'!J264=\"\",\"\",INDEX([1]MANHOLE_MTL!$A$2:$A$100,MATCH('Access Point (Desc)'!$J264,[1]!MASTER_MANHOLE_MTL_DESC[#Data],0),0))","v":""},{"$f":"IF('Access Point (Desc)'!K264=\"\",\"\",INDEX([1]MANHOLE_SIZE!$A$2:$A$120,MATCH('Access Point (Desc)'!$K264,[1]!MASTER_MANHOLE_SIZE_DESC[#Data],0),0))","v":""},{"$f":"IF('Access Point (Desc)'!L264=\"\",\"\",INDEX([1]ROUTE_MH_LID_TYPE!$A$2:$A$100,MATCH('Access Point (Desc)'!$L264,[1]!MASTER_ROUTE_MH_LID_TYPE_DESC[#Data],0),0))","v":""},{"$f":"IF('Access Point (Desc)'!M264=\"\",\"\",INDEX([1]MANHOLE_MTL!$A$2:$A$100,MATCH('Access Point (Desc)'!$M264,[1]!MASTER_MANHOLE_MTL_DESC[#Data],0),0))","v":""},{"$f":"IF('Access Point (Desc)'!N264=\"\",\"\",INDEX([1]LID_BOLT_TYPE!$A$2:$A$100,MATCH('Access Point (Desc)'!$N264,[1]!MASTER_LID_BOLT_TYPE_DESC[#Data],0),0))","v":""},{"$f":"IF('Access Point (Desc)'!O264=\"\",\"\",INDEX([1]YES_NO!$A$2:$A$100,MATCH('Access Point (Desc)'!$O264,[1]!MASTER_YES_NO_DESC[#Data],0),0))","v":""},{"$f":"IF('Access Point (Desc)'!P264=\"\",\"\",'Access Point (Desc)'!P264)","v":""},{"$f":"IF('Access Point (Desc)'!Q264=\"\",\"\",INDEX([1]YES_NO!$A$2:$A$100,MATCH('Access Point (Desc)'!$Q264,[1]!MASTER_YES_NO_DESC[#Data],0),0))","v":""}]
[{"$f":"IF('Access Point (Desc)'!A265=\"\",\"\",'Access Point (Desc)'!A265)","v":""},{"$f":"IF('Access Point (Desc)'!B265=\"\",\"\",'Access Point (Desc)'!B265)","v":""},{"$f":"IF('Access Point (Desc)'!C265=\"\",\"\",'Access Point (Desc)'!C265)","v":""},{"$f":"IF('Access Point (Desc)'!D265=\"\",\"\",'Access Point (Desc)'!D265)","v":""},{"$f":"IF('Access Point (Desc)'!E265=\"\",\"\",INDEX([1]OWNER!$A$2:$A$100,MATCH('Access Point (Desc)'!$E265,[1]!MASTER_OWNER_DESC[#Data],0),0))","v":""},{"$f":"IF('Access Point (Desc)'!F265=\"\",\"\",INDEX([1]COUNTY!$A$2:$A$100,MATCH('Access Point (Desc)'!F265,[1]!MASTER_COUNTY_NAME[#Data],0),0))","v":""},{"$f":"IF('Access Point (Desc)'!G265=\"\",\"\",'Access Point (Desc)'!G265)","v":""},{"$f":"IF('Access Point (Desc)'!H265=\"\",\"\",'Access Point (Desc)'!H265)","v":""},{"$f":"IF('Access Point (Desc)'!I265=\"\",\"\",INDEX([1]ROUTE_MH_TYPE!$A$2:$A$100,MATCH('Access Point (Desc)'!$I265,[1]!MASTER_ROUTE_MH_TYPE_DESC[#Data],0),0))","v":""},{"$f":"IF('Access Point (Desc)'!J265=\"\",\"\",INDEX([1]MANHOLE_MTL!$A$2:$A$100,MATCH('Access Point (Desc)'!$J265,[1]!MASTER_MANHOLE_MTL_DESC[#Data],0),0))","v":""},{"$f":"IF('Access Point (Desc)'!K265=\"\",\"\",INDEX([1]MANHOLE_SIZE!$A$2:$A$120,MATCH('Access Point (Desc)'!$K265,[1]!MASTER_MANHOLE_SIZE_DESC[#Data],0),0))","v":""},{"$f":"IF('Access Point (Desc)'!L265=\"\",\"\",INDEX([1]ROUTE_MH_LID_TYPE!$A$2:$A$100,MATCH('Access Point (Desc)'!$L265,[1]!MASTER_ROUTE_MH_LID_TYPE_DESC[#Data],0),0))","v":""},{"$f":"IF('Access Point (Desc)'!M265=\"\",\"\",INDEX([1]MANHOLE_MTL!$A$2:$A$100,MATCH('Access Point (Desc)'!$M265,[1]!MASTER_MANHOLE_MTL_DESC[#Data],0),0))","v":""},{"$f":"IF('Access Point (Desc)'!N265=\"\",\"\",INDEX([1]LID_BOLT_TYPE!$A$2:$A$100,MATCH('Access Point (Desc)'!$N265,[1]!MASTER_LID_BOLT_TYPE_DESC[#Data],0),0))","v":""},{"$f":"IF('Access Point (Desc)'!O265=\"\",\"\",INDEX([1]YES_NO!$A$2:$A$100,MATCH('Access Point (Desc)'!$O265,[1]!MASTER_YES_NO_DESC[#Data],0),0))","v":""},{"$f":"IF('Access Point (Desc)'!P265=\"\",\"\",'Access Point (Desc)'!P265)","v":""},{"$f":"IF('Access Point (Desc)'!Q265=\"\",\"\",INDEX([1]YES_NO!$A$2:$A$100,MATCH('Access Point (Desc)'!$Q265,[1]!MASTER_YES_NO_DESC[#Data],0),0))","v":""}]
[{"$f":"IF('Access Point (Desc)'!A266=\"\",\"\",'Access Point (Desc)'!A266)","v":""},{"$f":"IF('Access Point (Desc)'!B266=\"\",\"\",'Access Point (Desc)'!B266)","v":""},{"$f":"IF('Access Point (Desc)'!C266=\"\",\"\",'Access Point (Desc)'!C266)","v":""},{"$f":"IF('Access Point (Desc)'!D266=\"\",\"\",'Access Point (Desc)'!D266)","v":""},{"$f":"IF('Access Point (Desc)'!E266=\"\",\"\",INDEX([1]OWNER!$A$2:$A$100,MATCH('Access Point (Desc)'!$E266,[1]!MASTER_OWNER_DESC[#Data],0),0))","v":""},{"$f":"IF('Access Point (Desc)'!F266=\"\",\"\",INDEX([1]COUNTY!$A$2:$A$100,MATCH('Access Point (Desc)'!F266,[1]!MASTER_COUNTY_NAME[#Data],0),0))","v":""},{"$f":"IF('Access Point (Desc)'!G266=\"\",\"\",'Access Point (Desc)'!G266)","v":""},{"$f":"IF('Access Point (Desc)'!H266=\"\",\"\",'Access Point (Desc)'!H266)","v":""},{"$f":"IF('Access Point (Desc)'!I266=\"\",\"\",INDEX([1]ROUTE_MH_TYPE!$A$2:$A$100,MATCH('Access Point (Desc)'!$I266,[1]!MASTER_ROUTE_MH_TYPE_DESC[#Data],0),0))","v":""},{"$f":"IF('Access Point (Desc)'!J266=\"\",\"\",INDEX([1]MANHOLE_MTL!$A$2:$A$100,MATCH('Access Point (Desc)'!$J266,[1]!MASTER_MANHOLE_MTL_DESC[#Data],0),0))","v":""},{"$f":"IF('Access Point (Desc)'!K266=\"\",\"\",INDEX([1]MANHOLE_SIZE!$A$2:$A$120,MATCH('Access Point (Desc)'!$K266,[1]!MASTER_MANHOLE_SIZE_DESC[#Data],0),0))","v":""},{"$f":"IF('Access Point (Desc)'!L266=\"\",\"\",INDEX([1]ROUTE_MH_LID_TYPE!$A$2:$A$100,MATCH('Access Point (Desc)'!$L266,[1]!MASTER_ROUTE_MH_LID_TYPE_DESC[#Data],0),0))","v":""},{"$f":"IF('Access Point (Desc)'!M266=\"\",\"\",INDEX([1]MANHOLE_MTL!$A$2:$A$100,MATCH('Access Point (Desc)'!$M266,[1]!MASTER_MANHOLE_MTL_DESC[#Data],0),0))","v":""},{"$f":"IF('Access Point (Desc)'!N266=\"\",\"\",INDEX([1]LID_BOLT_TYPE!$A$2:$A$100,MATCH('Access Point (Desc)'!$N266,[1]!MASTER_LID_BOLT_TYPE_DESC[#Data],0),0))","v":""},{"$f":"IF('Access Point (Desc)'!O266=\"\",\"\",INDEX([1]YES_NO!$A$2:$A$100,MATCH('Access Point (Desc)'!$O266,[1]!MASTER_YES_NO_DESC[#Data],0),0))","v":""},{"$f":"IF('Access Point (Desc)'!P266=\"\",\"\",'Access Point (Desc)'!P266)","v":""},{"$f":"IF('Access Point (Desc)'!Q266=\"\",\"\",INDEX([1]YES_NO!$A$2:$A$100,MATCH('Access Point (Desc)'!$Q266,[1]!MASTER_YES_NO_DESC[#Data],0),0))","v":""}]
[{"$f":"IF('Access Point (Desc)'!A267=\"\",\"\",'Access Point (Desc)'!A267)","v":""},{"$f":"IF('Access Point (Desc)'!B267=\"\",\"\",'Access Point (Desc)'!B267)","v":""},{"$f":"IF('Access Point (Desc)'!C267=\"\",\"\",'Access Point (Desc)'!C267)","v":""},{"$f":"IF('Access Point (Desc)'!D267=\"\",\"\",'Access Point (Desc)'!D267)","v":""},{"$f":"IF('Access Point (Desc)'!E267=\"\",\"\",INDEX([1]OWNER!$A$2:$A$100,MATCH('Access Point (Desc)'!$E267,[1]!MASTER_OWNER_DESC[#Data],0),0))","v":""},{"$f":"IF('Access Point (Desc)'!F267=\"\",\"\",INDEX([1]COUNTY!$A$2:$A$100,MATCH('Access Point (Desc)'!F267,[1]!MASTER_COUNTY_NAME[#Data],0),0))","v":""},{"$f":"IF('Access Point (Desc)'!G267=\"\",\"\",'Access Point (Desc)'!G267)","v":""},{"$f":"IF('Access Point (Desc)'!H267=\"\",\"\",'Access Point (Desc)'!H267)","v":""},{"$f":"IF('Access Point (Desc)'!I267=\"\",\"\",INDEX([1]ROUTE_MH_TYPE!$A$2:$A$100,MATCH('Access Point (Desc)'!$I267,[1]!MASTER_ROUTE_MH_TYPE_DESC[#Data],0),0))","v":""},{"$f":"IF('Access Point (Desc)'!J267=\"\",\"\",INDEX([1]MANHOLE_MTL!$A$2:$A$100,MATCH('Access Point (Desc)'!$J267,[1]!MASTER_MANHOLE_MTL_DESC[#Data],0),0))","v":""},{"$f":"IF('Access Point (Desc)'!K267=\"\",\"\",INDEX([1]MANHOLE_SIZE!$A$2:$A$120,MATCH('Access Point (Desc)'!$K267,[1]!MASTER_MANHOLE_SIZE_DESC[#Data],0),0))","v":""},{"$f":"IF('Access Point (Desc)'!L267=\"\",\"\",INDEX([1]ROUTE_MH_LID_TYPE!$A$2:$A$100,MATCH('Access Point (Desc)'!$L267,[1]!MASTER_ROUTE_MH_LID_TYPE_DESC[#Data],0),0))","v":""},{"$f":"IF('Access Point (Desc)'!M267=\"\",\"\",INDEX([1]MANHOLE_MTL!$A$2:$A$100,MATCH('Access Point (Desc)'!$M267,[1]!MASTER_MANHOLE_MTL_DESC[#Data],0),0))","v":""},{"$f":"IF('Access Point (Desc)'!N267=\"\",\"\",INDEX([1]LID_BOLT_TYPE!$A$2:$A$100,MATCH('Access Point (Desc)'!$N267,[1]!MASTER_LID_BOLT_TYPE_DESC[#Data],0),0))","v":""},{"$f":"IF('Access Point (Desc)'!O267=\"\",\"\",INDEX([1]YES_NO!$A$2:$A$100,MATCH('Access Point (Desc)'!$O267,[1]!MASTER_YES_NO_DESC[#Data],0),0))","v":""},{"$f":"IF('Access Point (Desc)'!P267=\"\",\"\",'Access Point (Desc)'!P267)","v":""},{"$f":"IF('Access Point (Desc)'!Q267=\"\",\"\",INDEX([1]YES_NO!$A$2:$A$100,MATCH('Access Point (Desc)'!$Q267,[1]!MASTER_YES_NO_DESC[#Data],0),0))","v":""}]
[{"$f":"IF('Access Point (Desc)'!A268=\"\",\"\",'Access Point (Desc)'!A268)","v":""},{"$f":"IF('Access Point (Desc)'!B268=\"\",\"\",'Access Point (Desc)'!B268)","v":""},{"$f":"IF('Access Point (Desc)'!C268=\"\",\"\",'Access Point (Desc)'!C268)","v":""},{"$f":"IF('Access Point (Desc)'!D268=\"\",\"\",'Access Point (Desc)'!D268)","v":""},{"$f":"IF('Access Point (Desc)'!E268=\"\",\"\",INDEX([1]OWNER!$A$2:$A$100,MATCH('Access Point (Desc)'!$E268,[1]!MASTER_OWNER_DESC[#Data],0),0))","v":""},{"$f":"IF('Access Point (Desc)'!F268=\"\",\"\",INDEX([1]COUNTY!$A$2:$A$100,MATCH('Access Point (Desc)'!F268,[1]!MASTER_COUNTY_NAME[#Data],0),0))","v":""},{"$f":"IF('Access Point (Desc)'!G268=\"\",\"\",'Access Point (Desc)'!G268)","v":""},{"$f":"IF('Access Point (Desc)'!H268=\"\",\"\",'Access Point (Desc)'!H268)","v":""},{"$f":"IF('Access Point (Desc)'!I268=\"\",\"\",INDEX([1]ROUTE_MH_TYPE!$A$2:$A$100,MATCH('Access Point (Desc)'!$I268,[1]!MASTER_ROUTE_MH_TYPE_DESC[#Data],0),0))","v":""},{"$f":"IF('Access Point (Desc)'!J268=\"\",\"\",INDEX([1]MANHOLE_MTL!$A$2:$A$100,MATCH('Access Point (Desc)'!$J268,[1]!MASTER_MANHOLE_MTL_DESC[#Data],0),0))","v":""},{"$f":"IF('Access Point (Desc)'!K268=\"\",\"\",INDEX([1]MANHOLE_SIZE!$A$2:$A$120,MATCH('Access Point (Desc)'!$K268,[1]!MASTER_MANHOLE_SIZE_DESC[#Data],0),0))","v":""},{"$f":"IF('Access Point (Desc)'!L268=\"\",\"\",INDEX([1]ROUTE_MH_LID_TYPE!$A$2:$A$100,MATCH('Access Point (Desc)'!$L268,[1]!MASTER_ROUTE_MH_LID_TYPE_DESC[#Data],0),0))","v":""},{"$f":"IF('Access Point (Desc)'!M268=\"\",\"\",INDEX([1]MANHOLE_MTL!$A$2:$A$100,MATCH('Access Point (Desc)'!$M268,[1]!MASTER_MANHOLE_MTL_DESC[#Data],0),0))","v":""},{"$f":"IF('Access Point (Desc)'!N268=\"\",\"\",INDEX([1]LID_BOLT_TYPE!$A$2:$A$100,MATCH('Access Point (Desc)'!$N268,[1]!MASTER_LID_BOLT_TYPE_DESC[#Data],0),0))","v":""},{"$f":"IF('Access Point (Desc)'!O268=\"\",\"\",INDEX([1]YES_NO!$A$2:$A$100,MATCH('Access Point (Desc)'!$O268,[1]!MASTER_YES_NO_DESC[#Data],0),0))","v":""},{"$f":"IF('Access Point (Desc)'!P268=\"\",\"\",'Access Point (Desc)'!P268)","v":""},{"$f":"IF('Access Point (Desc)'!Q268=\"\",\"\",INDEX([1]YES_NO!$A$2:$A$100,MATCH('Access Point (Desc)'!$Q268,[1]!MASTER_YES_NO_DESC[#Data],0),0))","v":""}]
[{"$f":"IF('Access Point (Desc)'!A269=\"\",\"\",'Access Point (Desc)'!A269)","v":""},{"$f":"IF('Access Point (Desc)'!B269=\"\",\"\",'Access Point (Desc)'!B269)","v":""},{"$f":"IF('Access Point (Desc)'!C269=\"\",\"\",'Access Point (Desc)'!C269)","v":""},{"$f":"IF('Access Point (Desc)'!D269=\"\",\"\",'Access Point (Desc)'!D269)","v":""},{"$f":"IF('Access Point (Desc)'!E269=\"\",\"\",INDEX([1]OWNER!$A$2:$A$100,MATCH('Access Point (Desc)'!$E269,[1]!MASTER_OWNER_DESC[#Data],0),0))","v":""},{"$f":"IF('Access Point (Desc)'!F269=\"\",\"\",INDEX([1]COUNTY!$A$2:$A$100,MATCH('Access Point (Desc)'!F269,[1]!MASTER_COUNTY_NAME[#Data],0),0))","v":""},{"$f":"IF('Access Point (Desc)'!G269=\"\",\"\",'Access Point (Desc)'!G269)","v":""},{"$f":"IF('Access Point (Desc)'!H269=\"\",\"\",'Access Point (Desc)'!H269)","v":""},{"$f":"IF('Access Point (Desc)'!I269=\"\",\"\",INDEX([1]ROUTE_MH_TYPE!$A$2:$A$100,MATCH('Access Point (Desc)'!$I269,[1]!MASTER_ROUTE_MH_TYPE_DESC[#Data],0),0))","v":""},{"$f":"IF('Access Point (Desc)'!J269=\"\",\"\",INDEX([1]MANHOLE_MTL!$A$2:$A$100,MATCH('Access Point (Desc)'!$J269,[1]!MASTER_MANHOLE_MTL_DESC[#Data],0),0))","v":""},{"$f":"IF('Access Point (Desc)'!K269=\"\",\"\",INDEX([1]MANHOLE_SIZE!$A$2:$A$120,MATCH('Access Point (Desc)'!$K269,[1]!MASTER_MANHOLE_SIZE_DESC[#Data],0),0))","v":""},{"$f":"IF('Access Point (Desc)'!L269=\"\",\"\",INDEX([1]ROUTE_MH_LID_TYPE!$A$2:$A$100,MATCH('Access Point (Desc)'!$L269,[1]!MASTER_ROUTE_MH_LID_TYPE_DESC[#Data],0),0))","v":""},{"$f":"IF('Access Point (Desc)'!M269=\"\",\"\",INDEX([1]MANHOLE_MTL!$A$2:$A$100,MATCH('Access Point (Desc)'!$M269,[1]!MASTER_MANHOLE_MTL_DESC[#Data],0),0))","v":""},{"$f":"IF('Access Point (Desc)'!N269=\"\",\"\",INDEX([1]LID_BOLT_TYPE!$A$2:$A$100,MATCH('Access Point (Desc)'!$N269,[1]!MASTER_LID_BOLT_TYPE_DESC[#Data],0),0))","v":""},{"$f":"IF('Access Point (Desc)'!O269=\"\",\"\",INDEX([1]YES_NO!$A$2:$A$100,MATCH('Access Point (Desc)'!$O269,[1]!MASTER_YES_NO_DESC[#Data],0),0))","v":""},{"$f":"IF('Access Point (Desc)'!P269=\"\",\"\",'Access Point (Desc)'!P269)","v":""},{"$f":"IF('Access Point (Desc)'!Q269=\"\",\"\",INDEX([1]YES_NO!$A$2:$A$100,MATCH('Access Point (Desc)'!$Q269,[1]!MASTER_YES_NO_DESC[#Data],0),0))","v":""}]
[{"$f":"IF('Access Point (Desc)'!A270=\"\",\"\",'Access Point (Desc)'!A270)","v":""},{"$f":"IF('Access Point (Desc)'!B270=\"\",\"\",'Access Point (Desc)'!B270)","v":""},{"$f":"IF('Access Point (Desc)'!C270=\"\",\"\",'Access Point (Desc)'!C270)","v":""},{"$f":"IF('Access Point (Desc)'!D270=\"\",\"\",'Access Point (Desc)'!D270)","v":""},{"$f":"IF('Access Point (Desc)'!E270=\"\",\"\",INDEX([1]OWNER!$A$2:$A$100,MATCH('Access Point (Desc)'!$E270,[1]!MASTER_OWNER_DESC[#Data],0),0))","v":""},{"$f":"IF('Access Point (Desc)'!F270=\"\",\"\",INDEX([1]COUNTY!$A$2:$A$100,MATCH('Access Point (Desc)'!F270,[1]!MASTER_COUNTY_NAME[#Data],0),0))","v":""},{"$f":"IF('Access Point (Desc)'!G270=\"\",\"\",'Access Point (Desc)'!G270)","v":""},{"$f":"IF('Access Point (Desc)'!H270=\"\",\"\",'Access Point (Desc)'!H270)","v":""},{"$f":"IF('Access Point (Desc)'!I270=\"\",\"\",INDEX([1]ROUTE_MH_TYPE!$A$2:$A$100,MATCH('Access Point (Desc)'!$I270,[1]!MASTER_ROUTE_MH_TYPE_DESC[#Data],0),0))","v":""},{"$f":"IF('Access Point (Desc)'!J270=\"\",\"\",INDEX([1]MANHOLE_MTL!$A$2:$A$100,MATCH('Access Point (Desc)'!$J270,[1]!MASTER_MANHOLE_MTL_DESC[#Data],0),0))","v":""},{"$f":"IF('Access Point (Desc)'!K270=\"\",\"\",INDEX([1]MANHOLE_SIZE!$A$2:$A$120,MATCH('Access Point (Desc)'!$K270,[1]!MASTER_MANHOLE_SIZE_DESC[#Data],0),0))","v":""},{"$f":"IF('Access Point (Desc)'!L270=\"\",\"\",INDEX([1]ROUTE_MH_LID_TYPE!$A$2:$A$100,MATCH('Access Point (Desc)'!$L270,[1]!MASTER_ROUTE_MH_LID_TYPE_DESC[#Data],0),0))","v":""},{"$f":"IF('Access Point (Desc)'!M270=\"\",\"\",INDEX([1]MANHOLE_MTL!$A$2:$A$100,MATCH('Access Point (Desc)'!$M270,[1]!MASTER_MANHOLE_MTL_DESC[#Data],0),0))","v":""},{"$f":"IF('Access Point (Desc)'!N270=\"\",\"\",INDEX([1]LID_BOLT_TYPE!$A$2:$A$100,MATCH('Access Point (Desc)'!$N270,[1]!MASTER_LID_BOLT_TYPE_DESC[#Data],0),0))","v":""},{"$f":"IF('Access Point (Desc)'!O270=\"\",\"\",INDEX([1]YES_NO!$A$2:$A$100,MATCH('Access Point (Desc)'!$O270,[1]!MASTER_YES_NO_DESC[#Data],0),0))","v":""},{"$f":"IF('Access Point (Desc)'!P270=\"\",\"\",'Access Point (Desc)'!P270)","v":""},{"$f":"IF('Access Point (Desc)'!Q270=\"\",\"\",INDEX([1]YES_NO!$A$2:$A$100,MATCH('Access Point (Desc)'!$Q270,[1]!MASTER_YES_NO_DESC[#Data],0),0))","v":""}]
[{"$f":"IF('Access Point (Desc)'!A271=\"\",\"\",'Access Point (Desc)'!A271)","v":""},{"$f":"IF('Access Point (Desc)'!B271=\"\",\"\",'Access Point (Desc)'!B271)","v":""},{"$f":"IF('Access Point (Desc)'!C271=\"\",\"\",'Access Point (Desc)'!C271)","v":""},{"$f":"IF('Access Point (Desc)'!D271=\"\",\"\",'Access Point (Desc)'!D271)","v":""},{"$f":"IF('Access Point (Desc)'!E271=\"\",\"\",INDEX([1]OWNER!$A$2:$A$100,MATCH('Access Point (Desc)'!$E271,[1]!MASTER_OWNER_DESC[#Data],0),0))","v":""},{"$f":"IF('Access Point (Desc)'!F271=\"\",\"\",INDEX([1]COUNTY!$A$2:$A$100,MATCH('Access Point (Desc)'!F271,[1]!MASTER_COUNTY_NAME[#Data],0),0))","v":""},{"$f":"IF('Access Point (Desc)'!G271=\"\",\"\",'Access Point (Desc)'!G271)","v":""},{"$f":"IF('Access Point (Desc)'!H271=\"\",\"\",'Access Point (Desc)'!H271)","v":""},{"$f":"IF('Access Point (Desc)'!I271=\"\",\"\",INDEX([1]ROUTE_MH_TYPE!$A$2:$A$100,MATCH('Access Point (Desc)'!$I271,[1]!MASTER_ROUTE_MH_TYPE_DESC[#Data],0),0))","v":""},{"$f":"IF('Access Point (Desc)'!J271=\"\",\"\",INDEX([1]MANHOLE_MTL!$A$2:$A$100,MATCH('Access Point (Desc)'!$J271,[1]!MASTER_MANHOLE_MTL_DESC[#Data],0),0))","v":""},{"$f":"IF('Access Point (Desc)'!K271=\"\",\"\",INDEX([1]MANHOLE_SIZE!$A$2:$A$120,MATCH('Access Point (Desc)'!$K271,[1]!MASTER_MANHOLE_SIZE_DESC[#Data],0),0))","v":""},{"$f":"IF('Access Point (Desc)'!L271=\"\",\"\",INDEX([1]ROUTE_MH_LID_TYPE!$A$2:$A$100,MATCH('Access Point (Desc)'!$L271,[1]!MASTER_ROUTE_MH_LID_TYPE_DESC[#Data],0),0))","v":""},{"$f":"IF('Access Point (Desc)'!M271=\"\",\"\",INDEX([1]MANHOLE_MTL!$A$2:$A$100,MATCH('Access Point (Desc)'!$M271,[1]!MASTER_MANHOLE_MTL_DESC[#Data],0),0))","v":""},{"$f":"IF('Access Point (Desc)'!N271=\"\",\"\",INDEX([1]LID_BOLT_TYPE!$A$2:$A$100,MATCH('Access Point (Desc)'!$N271,[1]!MASTER_LID_BOLT_TYPE_DESC[#Data],0),0))","v":""},{"$f":"IF('Access Point (Desc)'!O271=\"\",\"\",INDEX([1]YES_NO!$A$2:$A$100,MATCH('Access Point (Desc)'!$O271,[1]!MASTER_YES_NO_DESC[#Data],0),0))","v":""},{"$f":"IF('Access Point (Desc)'!P271=\"\",\"\",'Access Point (Desc)'!P271)","v":""},{"$f":"IF('Access Point (Desc)'!Q271=\"\",\"\",INDEX([1]YES_NO!$A$2:$A$100,MATCH('Access Point (Desc)'!$Q271,[1]!MASTER_YES_NO_DESC[#Data],0),0))","v":""}]
[{"$f":"IF('Access Point (Desc)'!A272=\"\",\"\",'Access Point (Desc)'!A272)","v":""},{"$f":"IF('Access Point (Desc)'!B272=\"\",\"\",'Access Point (Desc)'!B272)","v":""},{"$f":"IF('Access Point (Desc)'!C272=\"\",\"\",'Access Point (Desc)'!C272)","v":""},{"$f":"IF('Access Point (Desc)'!D272=\"\",\"\",'Access Point (Desc)'!D272)","v":""},{"$f":"IF('Access Point (Desc)'!E272=\"\",\"\",INDEX([1]OWNER!$A$2:$A$100,MATCH('Access Point (Desc)'!$E272,[1]!MASTER_OWNER_DESC[#Data],0),0))","v":""},{"$f":"IF('Access Point (Desc)'!F272=\"\",\"\",INDEX([1]COUNTY!$A$2:$A$100,MATCH('Access Point (Desc)'!F272,[1]!MASTER_COUNTY_NAME[#Data],0),0))","v":""},{"$f":"IF('Access Point (Desc)'!G272=\"\",\"\",'Access Point (Desc)'!G272)","v":""},{"$f":"IF('Access Point (Desc)'!H272=\"\",\"\",'Access Point (Desc)'!H272)","v":""},{"$f":"IF('Access Point (Desc)'!I272=\"\",\"\",INDEX([1]ROUTE_MH_TYPE!$A$2:$A$100,MATCH('Access Point (Desc)'!$I272,[1]!MASTER_ROUTE_MH_TYPE_DESC[#Data],0),0))","v":""},{"$f":"IF('Access Point (Desc)'!J272=\"\",\"\",INDEX([1]MANHOLE_MTL!$A$2:$A$100,MATCH('Access Point (Desc)'!$J272,[1]!MASTER_MANHOLE_MTL_DESC[#Data],0),0))","v":""},{"$f":"IF('Access Point (Desc)'!K272=\"\",\"\",INDEX([1]MANHOLE_SIZE!$A$2:$A$120,MATCH('Access Point (Desc)'!$K272,[1]!MASTER_MANHOLE_SIZE_DESC[#Data],0),0))","v":""},{"$f":"IF('Access Point (Desc)'!L272=\"\",\"\",INDEX([1]ROUTE_MH_LID_TYPE!$A$2:$A$100,MATCH('Access Point (Desc)'!$L272,[1]!MASTER_ROUTE_MH_LID_TYPE_DESC[#Data],0),0))","v":""},{"$f":"IF('Access Point (Desc)'!M272=\"\",\"\",INDEX([1]MANHOLE_MTL!$A$2:$A$100,MATCH('Access Point (Desc)'!$M272,[1]!MASTER_MANHOLE_MTL_DESC[#Data],0),0))","v":""},{"$f":"IF('Access Point (Desc)'!N272=\"\",\"\",INDEX([1]LID_BOLT_TYPE!$A$2:$A$100,MATCH('Access Point (Desc)'!$N272,[1]!MASTER_LID_BOLT_TYPE_DESC[#Data],0),0))","v":""},{"$f":"IF('Access Point (Desc)'!O272=\"\",\"\",INDEX([1]YES_NO!$A$2:$A$100,MATCH('Access Point (Desc)'!$O272,[1]!MASTER_YES_NO_DESC[#Data],0),0))","v":""},{"$f":"IF('Access Point (Desc)'!P272=\"\",\"\",'Access Point (Desc)'!P272)","v":""},{"$f":"IF('Access Point (Desc)'!Q272=\"\",\"\",INDEX([1]YES_NO!$A$2:$A$100,MATCH('Access Point (Desc)'!$Q272,[1]!MASTER_YES_NO_DESC[#Data],0),0))","v":""}]
[{"$f":"IF('Access Point (Desc)'!A273=\"\",\"\",'Access Point (Desc)'!A273)","v":""},{"$f":"IF('Access Point (Desc)'!B273=\"\",\"\",'Access Point (Desc)'!B273)","v":""},{"$f":"IF('Access Point (Desc)'!C273=\"\",\"\",'Access Point (Desc)'!C273)","v":""},{"$f":"IF('Access Point (Desc)'!D273=\"\",\"\",'Access Point (Desc)'!D273)","v":""},{"$f":"IF('Access Point (Desc)'!E273=\"\",\"\",INDEX([1]OWNER!$A$2:$A$100,MATCH('Access Point (Desc)'!$E273,[1]!MASTER_OWNER_DESC[#Data],0),0))","v":""},{"$f":"IF('Access Point (Desc)'!F273=\"\",\"\",INDEX([1]COUNTY!$A$2:$A$100,MATCH('Access Point (Desc)'!F273,[1]!MASTER_COUNTY_NAME[#Data],0),0))","v":""},{"$f":"IF('Access Point (Desc)'!G273=\"\",\"\",'Access Point (Desc)'!G273)","v":""},{"$f":"IF('Access Point (Desc)'!H273=\"\",\"\",'Access Point (Desc)'!H273)","v":""},{"$f":"IF('Access Point (Desc)'!I273=\"\",\"\",INDEX([1]ROUTE_MH_TYPE!$A$2:$A$100,MATCH('Access Point (Desc)'!$I273,[1]!MASTER_ROUTE_MH_TYPE_DESC[#Data],0),0))","v":""},{"$f":"IF('Access Point (Desc)'!J273=\"\",\"\",INDEX([1]MANHOLE_MTL!$A$2:$A$100,MATCH('Access Point (Desc)'!$J273,[1]!MASTER_MANHOLE_MTL_DESC[#Data],0),0))","v":""},{"$f":"IF('Access Point (Desc)'!K273=\"\",\"\",INDEX([1]MANHOLE_SIZE!$A$2:$A$120,MATCH('Access Point (Desc)'!$K273,[1]!MASTER_MANHOLE_SIZE_DESC[#Data],0),0))","v":""},{"$f":"IF('Access Point (Desc)'!L273=\"\",\"\",INDEX([1]ROUTE_MH_LID_TYPE!$A$2:$A$100,MATCH('Access Point (Desc)'!$L273,[1]!MASTER_ROUTE_MH_LID_TYPE_DESC[#Data],0),0))","v":""},{"$f":"IF('Access Point (Desc)'!M273=\"\",\"\",INDEX([1]MANHOLE_MTL!$A$2:$A$100,MATCH('Access Point (Desc)'!$M273,[1]!MASTER_MANHOLE_MTL_DESC[#Data],0),0))","v":""},{"$f":"IF('Access Point (Desc)'!N273=\"\",\"\",INDEX([1]LID_BOLT_TYPE!$A$2:$A$100,MATCH('Access Point (Desc)'!$N273,[1]!MASTER_LID_BOLT_TYPE_DESC[#Data],0),0))","v":""},{"$f":"IF('Access Point (Desc)'!O273=\"\",\"\",INDEX([1]YES_NO!$A$2:$A$100,MATCH('Access Point (Desc)'!$O273,[1]!MASTER_YES_NO_DESC[#Data],0),0))","v":""},{"$f":"IF('Access Point (Desc)'!P273=\"\",\"\",'Access Point (Desc)'!P273)","v":""},{"$f":"IF('Access Point (Desc)'!Q273=\"\",\"\",INDEX([1]YES_NO!$A$2:$A$100,MATCH('Access Point (Desc)'!$Q273,[1]!MASTER_YES_NO_DESC[#Data],0),0))","v":""}]
[{"$f":"IF('Access Point (Desc)'!A274=\"\",\"\",'Access Point (Desc)'!A274)","v":""},{"$f":"IF('Access Point (Desc)'!B274=\"\",\"\",'Access Point (Desc)'!B274)","v":""},{"$f":"IF('Access Point (Desc)'!C274=\"\",\"\",'Access Point (Desc)'!C274)","v":""},{"$f":"IF('Access Point (Desc)'!D274=\"\",\"\",'Access Point (Desc)'!D274)","v":""},{"$f":"IF('Access Point (Desc)'!E274=\"\",\"\",INDEX([1]OWNER!$A$2:$A$100,MATCH('Access Point (Desc)'!$E274,[1]!MASTER_OWNER_DESC[#Data],0),0))","v":""},{"$f":"IF('Access Point (Desc)'!F274=\"\",\"\",INDEX([1]COUNTY!$A$2:$A$100,MATCH('Access Point (Desc)'!F274,[1]!MASTER_COUNTY_NAME[#Data],0),0))","v":""},{"$f":"IF('Access Point (Desc)'!G274=\"\",\"\",'Access Point (Desc)'!G274)","v":""},{"$f":"IF('Access Point (Desc)'!H274=\"\",\"\",'Access Point (Desc)'!H274)","v":""},{"$f":"IF('Access Point (Desc)'!I274=\"\",\"\",INDEX([1]ROUTE_MH_TYPE!$A$2:$A$100,MATCH('Access Point (Desc)'!$I274,[1]!MASTER_ROUTE_MH_TYPE_DESC[#Data],0),0))","v":""},{"$f":"IF('Access Point (Desc)'!J274=\"\",\"\",INDEX([1]MANHOLE_MTL!$A$2:$A$100,MATCH('Access Point (Desc)'!$J274,[1]!MASTER_MANHOLE_MTL_DESC[#Data],0),0))","v":""},{"$f":"IF('Access Point (Desc)'!K274=\"\",\"\",INDEX([1]MANHOLE_SIZE!$A$2:$A$120,MATCH('Access Point (Desc)'!$K274,[1]!MASTER_MANHOLE_SIZE_DESC[#Data],0),0))","v":""},{"$f":"IF('Access Point (Desc)'!L274=\"\",\"\",INDEX([1]ROUTE_MH_LID_TYPE!$A$2:$A$100,MATCH('Access Point (Desc)'!$L274,[1]!MASTER_ROUTE_MH_LID_TYPE_DESC[#Data],0),0))","v":""},{"$f":"IF('Access Point (Desc)'!M274=\"\",\"\",INDEX([1]MANHOLE_MTL!$A$2:$A$100,MATCH('Access Point (Desc)'!$M274,[1]!MASTER_MANHOLE_MTL_DESC[#Data],0),0))","v":""},{"$f":"IF('Access Point (Desc)'!N274=\"\",\"\",INDEX([1]LID_BOLT_TYPE!$A$2:$A$100,MATCH('Access Point (Desc)'!$N274,[1]!MASTER_LID_BOLT_TYPE_DESC[#Data],0),0))","v":""},{"$f":"IF('Access Point (Desc)'!O274=\"\",\"\",INDEX([1]YES_NO!$A$2:$A$100,MATCH('Access Point (Desc)'!$O274,[1]!MASTER_YES_NO_DESC[#Data],0),0))","v":""},{"$f":"IF('Access Point (Desc)'!P274=\"\",\"\",'Access Point (Desc)'!P274)","v":""},{"$f":"IF('Access Point (Desc)'!Q274=\"\",\"\",INDEX([1]YES_NO!$A$2:$A$100,MATCH('Access Point (Desc)'!$Q274,[1]!MASTER_YES_NO_DESC[#Data],0),0))","v":""}]
[{"$f":"IF('Access Point (Desc)'!A275=\"\",\"\",'Access Point (Desc)'!A275)","v":""},{"$f":"IF('Access Point (Desc)'!B275=\"\",\"\",'Access Point (Desc)'!B275)","v":""},{"$f":"IF('Access Point (Desc)'!C275=\"\",\"\",'Access Point (Desc)'!C275)","v":""},{"$f":"IF('Access Point (Desc)'!D275=\"\",\"\",'Access Point (Desc)'!D275)","v":""},{"$f":"IF('Access Point (Desc)'!E275=\"\",\"\",INDEX([1]OWNER!$A$2:$A$100,MATCH('Access Point (Desc)'!$E275,[1]!MASTER_OWNER_DESC[#Data],0),0))","v":""},{"$f":"IF('Access Point (Desc)'!F275=\"\",\"\",INDEX([1]COUNTY!$A$2:$A$100,MATCH('Access Point (Desc)'!F275,[1]!MASTER_COUNTY_NAME[#Data],0),0))","v":""},{"$f":"IF('Access Point (Desc)'!G275=\"\",\"\",'Access Point (Desc)'!G275)","v":""},{"$f":"IF('Access Point (Desc)'!H275=\"\",\"\",'Access Point (Desc)'!H275)","v":""},{"$f":"IF('Access Point (Desc)'!I275=\"\",\"\",INDEX([1]ROUTE_MH_TYPE!$A$2:$A$100,MATCH('Access Point (Desc)'!$I275,[1]!MASTER_ROUTE_MH_TYPE_DESC[#Data],0),0))","v":""},{"$f":"IF('Access Point (Desc)'!J275=\"\",\"\",INDEX([1]MANHOLE_MTL!$A$2:$A$100,MATCH('Access Point (Desc)'!$J275,[1]!MASTER_MANHOLE_MTL_DESC[#Data],0),0))","v":""},{"$f":"IF('Access Point (Desc)'!K275=\"\",\"\",INDEX([1]MANHOLE_SIZE!$A$2:$A$120,MATCH('Access Point (Desc)'!$K275,[1]!MASTER_MANHOLE_SIZE_DESC[#Data],0),0))","v":""},{"$f":"IF('Access Point (Desc)'!L275=\"\",\"\",INDEX([1]ROUTE_MH_LID_TYPE!$A$2:$A$100,MATCH('Access Point (Desc)'!$L275,[1]!MASTER_ROUTE_MH_LID_TYPE_DESC[#Data],0),0))","v":""},{"$f":"IF('Access Point (Desc)'!M275=\"\",\"\",INDEX([1]MANHOLE_MTL!$A$2:$A$100,MATCH('Access Point (Desc)'!$M275,[1]!MASTER_MANHOLE_MTL_DESC[#Data],0),0))","v":""},{"$f":"IF('Access Point (Desc)'!N275=\"\",\"\",INDEX([1]LID_BOLT_TYPE!$A$2:$A$100,MATCH('Access Point (Desc)'!$N275,[1]!MASTER_LID_BOLT_TYPE_DESC[#Data],0),0))","v":""},{"$f":"IF('Access Point (Desc)'!O275=\"\",\"\",INDEX([1]YES_NO!$A$2:$A$100,MATCH('Access Point (Desc)'!$O275,[1]!MASTER_YES_NO_DESC[#Data],0),0))","v":""},{"$f":"IF('Access Point (Desc)'!P275=\"\",\"\",'Access Point (Desc)'!P275)","v":""},{"$f":"IF('Access Point (Desc)'!Q275=\"\",\"\",INDEX([1]YES_NO!$A$2:$A$100,MATCH('Access Point (Desc)'!$Q275,[1]!MASTER_YES_NO_DESC[#Data],0),0))","v":""}]
[{"$f":"IF('Access Point (Desc)'!A276=\"\",\"\",'Access Point (Desc)'!A276)","v":""},{"$f":"IF('Access Point (Desc)'!B276=\"\",\"\",'Access Point (Desc)'!B276)","v":""},{"$f":"IF('Access Point (Desc)'!C276=\"\",\"\",'Access Point (Desc)'!C276)","v":""},{"$f":"IF('Access Point (Desc)'!D276=\"\",\"\",'Access Point (Desc)'!D276)","v":""},{"$f":"IF('Access Point (Desc)'!E276=\"\",\"\",INDEX([1]OWNER!$A$2:$A$100,MATCH('Access Point (Desc)'!$E276,[1]!MASTER_OWNER_DESC[#Data],0),0))","v":""},{"$f":"IF('Access Point (Desc)'!F276=\"\",\"\",INDEX([1]COUNTY!$A$2:$A$100,MATCH('Access Point (Desc)'!F276,[1]!MASTER_COUNTY_NAME[#Data],0),0))","v":""},{"$f":"IF('Access Point (Desc)'!G276=\"\",\"\",'Access Point (Desc)'!G276)","v":""},{"$f":"IF('Access Point (Desc)'!H276=\"\",\"\",'Access Point (Desc)'!H276)","v":""},{"$f":"IF('Access Point (Desc)'!I276=\"\",\"\",INDEX([1]ROUTE_MH_TYPE!$A$2:$A$100,MATCH('Access Point (Desc)'!$I276,[1]!MASTER_ROUTE_MH_TYPE_DESC[#Data],0),0))","v":""},{"$f":"IF('Access Point (Desc)'!J276=\"\",\"\",INDEX([1]MANHOLE_MTL!$A$2:$A$100,MATCH('Access Point (Desc)'!$J276,[1]!MASTER_MANHOLE_MTL_DESC[#Data],0),0))","v":""},{"$f":"IF('Access Point (Desc)'!K276=\"\",\"\",INDEX([1]MANHOLE_SIZE!$A$2:$A$120,MATCH('Access Point (Desc)'!$K276,[1]!MASTER_MANHOLE_SIZE_DESC[#Data],0),0))","v":""},{"$f":"IF('Access Point (Desc)'!L276=\"\",\"\",INDEX([1]ROUTE_MH_LID_TYPE!$A$2:$A$100,MATCH('Access Point (Desc)'!$L276,[1]!MASTER_ROUTE_MH_LID_TYPE_DESC[#Data],0),0))","v":""},{"$f":"IF('Access Point (Desc)'!M276=\"\",\"\",INDEX([1]MANHOLE_MTL!$A$2:$A$100,MATCH('Access Point (Desc)'!$M276,[1]!MASTER_MANHOLE_MTL_DESC[#Data],0),0))","v":""},{"$f":"IF('Access Point (Desc)'!N276=\"\",\"\",INDEX([1]LID_BOLT_TYPE!$A$2:$A$100,MATCH('Access Point (Desc)'!$N276,[1]!MASTER_LID_BOLT_TYPE_DESC[#Data],0),0))","v":""},{"$f":"IF('Access Point (Desc)'!O276=\"\",\"\",INDEX([1]YES_NO!$A$2:$A$100,MATCH('Access Point (Desc)'!$O276,[1]!MASTER_YES_NO_DESC[#Data],0),0))","v":""},{"$f":"IF('Access Point (Desc)'!P276=\"\",\"\",'Access Point (Desc)'!P276)","v":""},{"$f":"IF('Access Point (Desc)'!Q276=\"\",\"\",INDEX([1]YES_NO!$A$2:$A$100,MATCH('Access Point (Desc)'!$Q276,[1]!MASTER_YES_NO_DESC[#Data],0),0))","v":""}]
[{"$f":"IF('Access Point (Desc)'!A277=\"\",\"\",'Access Point (Desc)'!A277)","v":""},{"$f":"IF('Access Point (Desc)'!B277=\"\",\"\",'Access Point (Desc)'!B277)","v":""},{"$f":"IF('Access Point (Desc)'!C277=\"\",\"\",'Access Point (Desc)'!C277)","v":""},{"$f":"IF('Access Point (Desc)'!D277=\"\",\"\",'Access Point (Desc)'!D277)","v":""},{"$f":"IF('Access Point (Desc)'!E277=\"\",\"\",INDEX([1]OWNER!$A$2:$A$100,MATCH('Access Point (Desc)'!$E277,[1]!MASTER_OWNER_DESC[#Data],0),0))","v":""},{"$f":"IF('Access Point (Desc)'!F277=\"\",\"\",INDEX([1]COUNTY!$A$2:$A$100,MATCH('Access Point (Desc)'!F277,[1]!MASTER_COUNTY_NAME[#Data],0),0))","v":""},{"$f":"IF('Access Point (Desc)'!G277=\"\",\"\",'Access Point (Desc)'!G277)","v":""},{"$f":"IF('Access Point (Desc)'!H277=\"\",\"\",'Access Point (Desc)'!H277)","v":""},{"$f":"IF('Access Point (Desc)'!I277=\"\",\"\",INDEX([1]ROUTE_MH_TYPE!$A$2:$A$100,MATCH('Access Point (Desc)'!$I277,[1]!MASTER_ROUTE_MH_TYPE_DESC[#Data],0),0))","v":""},{"$f":"IF('Access Point (Desc)'!J277=\"\",\"\",INDEX([1]MANHOLE_MTL!$A$2:$A$100,MATCH('Access Point (Desc)'!$J277,[1]!MASTER_MANHOLE_MTL_DESC[#Data],0),0))","v":""},{"$f":"IF('Access Point (Desc)'!K277=\"\",\"\",INDEX([1]MANHOLE_SIZE!$A$2:$A$120,MATCH('Access Point (Desc)'!$K277,[1]!MASTER_MANHOLE_SIZE_DESC[#Data],0),0))","v":""},{"$f":"IF('Access Point (Desc)'!L277=\"\",\"\",INDEX([1]ROUTE_MH_LID_TYPE!$A$2:$A$100,MATCH('Access Point (Desc)'!$L277,[1]!MASTER_ROUTE_MH_LID_TYPE_DESC[#Data],0),0))","v":""},{"$f":"IF('Access Point (Desc)'!M277=\"\",\"\",INDEX([1]MANHOLE_MTL!$A$2:$A$100,MATCH('Access Point (Desc)'!$M277,[1]!MASTER_MANHOLE_MTL_DESC[#Data],0),0))","v":""},{"$f":"IF('Access Point (Desc)'!N277=\"\",\"\",INDEX([1]LID_BOLT_TYPE!$A$2:$A$100,MATCH('Access Point (Desc)'!$N277,[1]!MASTER_LID_BOLT_TYPE_DESC[#Data],0),0))","v":""},{"$f":"IF('Access Point (Desc)'!O277=\"\",\"\",INDEX([1]YES_NO!$A$2:$A$100,MATCH('Access Point (Desc)'!$O277,[1]!MASTER_YES_NO_DESC[#Data],0),0))","v":""},{"$f":"IF('Access Point (Desc)'!P277=\"\",\"\",'Access Point (Desc)'!P277)","v":""},{"$f":"IF('Access Point (Desc)'!Q277=\"\",\"\",INDEX([1]YES_NO!$A$2:$A$100,MATCH('Access Point (Desc)'!$Q277,[1]!MASTER_YES_NO_DESC[#Data],0),0))","v":""}]
[{"$f":"IF('Access Point (Desc)'!A278=\"\",\"\",'Access Point (Desc)'!A278)","v":""},{"$f":"IF('Access Point (Desc)'!B278=\"\",\"\",'Access Point (Desc)'!B278)","v":""},{"$f":"IF('Access Point (Desc)'!C278=\"\",\"\",'Access Point (Desc)'!C278)","v":""},{"$f":"IF('Access Point (Desc)'!D278=\"\",\"\",'Access Point (Desc)'!D278)","v":""},{"$f":"IF('Access Point (Desc)'!E278=\"\",\"\",INDEX([1]OWNER!$A$2:$A$100,MATCH('Access Point (Desc)'!$E278,[1]!MASTER_OWNER_DESC[#Data],0),0))","v":""},{"$f":"IF('Access Point (Desc)'!F278=\"\",\"\",INDEX([1]COUNTY!$A$2:$A$100,MATCH('Access Point (Desc)'!F278,[1]!MASTER_COUNTY_NAME[#Data],0),0))","v":""},{"$f":"IF('Access Point (Desc)'!G278=\"\",\"\",'Access Point (Desc)'!G278)","v":""},{"$f":"IF('Access Point (Desc)'!H278=\"\",\"\",'Access Point (Desc)'!H278)","v":""},{"$f":"IF('Access Point (Desc)'!I278=\"\",\"\",INDEX([1]ROUTE_MH_TYPE!$A$2:$A$100,MATCH('Access Point (Desc)'!$I278,[1]!MASTER_ROUTE_MH_TYPE_DESC[#Data],0),0))","v":""},{"$f":"IF('Access Point (Desc)'!J278=\"\",\"\",INDEX([1]MANHOLE_MTL!$A$2:$A$100,MATCH('Access Point (Desc)'!$J278,[1]!MASTER_MANHOLE_MTL_DESC[#Data],0),0))","v":""},{"$f":"IF('Access Point (Desc)'!K278=\"\",\"\",INDEX([1]MANHOLE_SIZE!$A$2:$A$120,MATCH('Access Point (Desc)'!$K278,[1]!MASTER_MANHOLE_SIZE_DESC[#Data],0),0))","v":""},{"$f":"IF('Access Point (Desc)'!L278=\"\",\"\",INDEX([1]ROUTE_MH_LID_TYPE!$A$2:$A$100,MATCH('Access Point (Desc)'!$L278,[1]!MASTER_ROUTE_MH_LID_TYPE_DESC[#Data],0),0))","v":""},{"$f":"IF('Access Point (Desc)'!M278=\"\",\"\",INDEX([1]MANHOLE_MTL!$A$2:$A$100,MATCH('Access Point (Desc)'!$M278,[1]!MASTER_MANHOLE_MTL_DESC[#Data],0),0))","v":""},{"$f":"IF('Access Point (Desc)'!N278=\"\",\"\",INDEX([1]LID_BOLT_TYPE!$A$2:$A$100,MATCH('Access Point (Desc)'!$N278,[1]!MASTER_LID_BOLT_TYPE_DESC[#Data],0),0))","v":""},{"$f":"IF('Access Point (Desc)'!O278=\"\",\"\",INDEX([1]YES_NO!$A$2:$A$100,MATCH('Access Point (Desc)'!$O278,[1]!MASTER_YES_NO_DESC[#Data],0),0))","v":""},{"$f":"IF('Access Point (Desc)'!P278=\"\",\"\",'Access Point (Desc)'!P278)","v":""},{"$f":"IF('Access Point (Desc)'!Q278=\"\",\"\",INDEX([1]YES_NO!$A$2:$A$100,MATCH('Access Point (Desc)'!$Q278,[1]!MASTER_YES_NO_DESC[#Data],0),0))","v":""}]
[{"$f":"IF('Access Point (Desc)'!A279=\"\",\"\",'Access Point (Desc)'!A279)","v":""},{"$f":"IF('Access Point (Desc)'!B279=\"\",\"\",'Access Point (Desc)'!B279)","v":""},{"$f":"IF('Access Point (Desc)'!C279=\"\",\"\",'Access Point (Desc)'!C279)","v":""},{"$f":"IF('Access Point (Desc)'!D279=\"\",\"\",'Access Point (Desc)'!D279)","v":""},{"$f":"IF('Access Point (Desc)'!E279=\"\",\"\",INDEX([1]OWNER!$A$2:$A$100,MATCH('Access Point (Desc)'!$E279,[1]!MASTER_OWNER_DESC[#Data],0),0))","v":""},{"$f":"IF('Access Point (Desc)'!F279=\"\",\"\",INDEX([1]COUNTY!$A$2:$A$100,MATCH('Access Point (Desc)'!F279,[1]!MASTER_COUNTY_NAME[#Data],0),0))","v":""},{"$f":"IF('Access Point (Desc)'!G279=\"\",\"\",'Access Point (Desc)'!G279)","v":""},{"$f":"IF('Access Point (Desc)'!H279=\"\",\"\",'Access Point (Desc)'!H279)","v":""},{"$f":"IF('Access Point (Desc)'!I279=\"\",\"\",INDEX([1]ROUTE_MH_TYPE!$A$2:$A$100,MATCH('Access Point (Desc)'!$I279,[1]!MASTER_ROUTE_MH_TYPE_DESC[#Data],0),0))","v":""},{"$f":"IF('Access Point (Desc)'!J279=\"\",\"\",INDEX([1]MANHOLE_MTL!$A$2:$A$100,MATCH('Access Point (Desc)'!$J279,[1]!MASTER_MANHOLE_MTL_DESC[#Data],0),0))","v":""},{"$f":"IF('Access Point (Desc)'!K279=\"\",\"\",INDEX([1]MANHOLE_SIZE!$A$2:$A$120,MATCH('Access Point (Desc)'!$K279,[1]!MASTER_MANHOLE_SIZE_DESC[#Data],0),0))","v":""},{"$f":"IF('Access Point (Desc)'!L279=\"\",\"\",INDEX([1]ROUTE_MH_LID_TYPE!$A$2:$A$100,MATCH('Access Point (Desc)'!$L279,[1]!MASTER_ROUTE_MH_LID_TYPE_DESC[#Data],0),0))","v":""},{"$f":"IF('Access Point (Desc)'!M279=\"\",\"\",INDEX([1]MANHOLE_MTL!$A$2:$A$100,MATCH('Access Point (Desc)'!$M279,[1]!MASTER_MANHOLE_MTL_DESC[#Data],0),0))","v":""},{"$f":"IF('Access Point (Desc)'!N279=\"\",\"\",INDEX([1]LID_BOLT_TYPE!$A$2:$A$100,MATCH('Access Point (Desc)'!$N279,[1]!MASTER_LID_BOLT_TYPE_DESC[#Data],0),0))","v":""},{"$f":"IF('Access Point (Desc)'!O279=\"\",\"\",INDEX([1]YES_NO!$A$2:$A$100,MATCH('Access Point (Desc)'!$O279,[1]!MASTER_YES_NO_DESC[#Data],0),0))","v":""},{"$f":"IF('Access Point (Desc)'!P279=\"\",\"\",'Access Point (Desc)'!P279)","v":""},{"$f":"IF('Access Point (Desc)'!Q279=\"\",\"\",INDEX([1]YES_NO!$A$2:$A$100,MATCH('Access Point (Desc)'!$Q279,[1]!MASTER_YES_NO_DESC[#Data],0),0))","v":""}]
[{"$f":"IF('Access Point (Desc)'!A280=\"\",\"\",'Access Point (Desc)'!A280)","v":""},{"$f":"IF('Access Point (Desc)'!B280=\"\",\"\",'Access Point (Desc)'!B280)","v":""},{"$f":"IF('Access Point (Desc)'!C280=\"\",\"\",'Access Point (Desc)'!C280)","v":""},{"$f":"IF('Access Point (Desc)'!D280=\"\",\"\",'Access Point (Desc)'!D280)","v":""},{"$f":"IF('Access Point (Desc)'!E280=\"\",\"\",INDEX([1]OWNER!$A$2:$A$100,MATCH('Access Point (Desc)'!$E280,[1]!MASTER_OWNER_DESC[#Data],0),0))","v":""},{"$f":"IF('Access Point (Desc)'!F280=\"\",\"\",INDEX([1]COUNTY!$A$2:$A$100,MATCH('Access Point (Desc)'!F280,[1]!MASTER_COUNTY_NAME[#Data],0),0))","v":""},{"$f":"IF('Access Point (Desc)'!G280=\"\",\"\",'Access Point (Desc)'!G280)","v":""},{"$f":"IF('Access Point (Desc)'!H280=\"\",\"\",'Access Point (Desc)'!H280)","v":""},{"$f":"IF('Access Point (Desc)'!I280=\"\",\"\",INDEX([1]ROUTE_MH_TYPE!$A$2:$A$100,MATCH('Access Point (Desc)'!$I280,[1]!MASTER_ROUTE_MH_TYPE_DESC[#Data],0),0))","v":""},{"$f":"IF('Access Point (Desc)'!J280=\"\",\"\",INDEX([1]MANHOLE_MTL!$A$2:$A$100,MATCH('Access Point (Desc)'!$J280,[1]!MASTER_MANHOLE_MTL_DESC[#Data],0),0))","v":""},{"$f":"IF('Access Point (Desc)'!K280=\"\",\"\",INDEX([1]MANHOLE_SIZE!$A$2:$A$120,MATCH('Access Point (Desc)'!$K280,[1]!MASTER_MANHOLE_SIZE_DESC[#Data],0),0))","v":""},{"$f":"IF('Access Point (Desc)'!L280=\"\",\"\",INDEX([1]ROUTE_MH_LID_TYPE!$A$2:$A$100,MATCH('Access Point (Desc)'!$L280,[1]!MASTER_ROUTE_MH_LID_TYPE_DESC[#Data],0),0))","v":""},{"$f":"IF('Access Point (Desc)'!M280=\"\",\"\",INDEX([1]MANHOLE_MTL!$A$2:$A$100,MATCH('Access Point (Desc)'!$M280,[1]!MASTER_MANHOLE_MTL_DESC[#Data],0),0))","v":""},{"$f":"IF('Access Point (Desc)'!N280=\"\",\"\",INDEX([1]LID_BOLT_TYPE!$A$2:$A$100,MATCH('Access Point (Desc)'!$N280,[1]!MASTER_LID_BOLT_TYPE_DESC[#Data],0),0))","v":""},{"$f":"IF('Access Point (Desc)'!O280=\"\",\"\",INDEX([1]YES_NO!$A$2:$A$100,MATCH('Access Point (Desc)'!$O280,[1]!MASTER_YES_NO_DESC[#Data],0),0))","v":""},{"$f":"IF('Access Point (Desc)'!P280=\"\",\"\",'Access Point (Desc)'!P280)","v":""},{"$f":"IF('Access Point (Desc)'!Q280=\"\",\"\",INDEX([1]YES_NO!$A$2:$A$100,MATCH('Access Point (Desc)'!$Q280,[1]!MASTER_YES_NO_DESC[#Data],0),0))","v":""}]
[{"$f":"IF('Access Point (Desc)'!A281=\"\",\"\",'Access Point (Desc)'!A281)","v":""},{"$f":"IF('Access Point (Desc)'!B281=\"\",\"\",'Access Point (Desc)'!B281)","v":""},{"$f":"IF('Access Point (Desc)'!C281=\"\",\"\",'Access Point (Desc)'!C281)","v":""},{"$f":"IF('Access Point (Desc)'!D281=\"\",\"\",'Access Point (Desc)'!D281)","v":""},{"$f":"IF('Access Point (Desc)'!E281=\"\",\"\",INDEX([1]OWNER!$A$2:$A$100,MATCH('Access Point (Desc)'!$E281,[1]!MASTER_OWNER_DESC[#Data],0),0))","v":""},{"$f":"IF('Access Point (Desc)'!F281=\"\",\"\",INDEX([1]COUNTY!$A$2:$A$100,MATCH('Access Point (Desc)'!F281,[1]!MASTER_COUNTY_NAME[#Data],0),0))","v":""},{"$f":"IF('Access Point (Desc)'!G281=\"\",\"\",'Access Point (Desc)'!G281)","v":""},{"$f":"IF('Access Point (Desc)'!H281=\"\",\"\",'Access Point (Desc)'!H281)","v":""},{"$f":"IF('Access Point (Desc)'!I281=\"\",\"\",INDEX([1]ROUTE_MH_TYPE!$A$2:$A$100,MATCH('Access Point (Desc)'!$I281,[1]!MASTER_ROUTE_MH_TYPE_DESC[#Data],0),0))","v":""},{"$f":"IF('Access Point (Desc)'!J281=\"\",\"\",INDEX([1]MANHOLE_MTL!$A$2:$A$100,MATCH('Access Point (Desc)'!$J281,[1]!MASTER_MANHOLE_MTL_DESC[#Data],0),0))","v":""},{"$f":"IF('Access Point (Desc)'!K281=\"\",\"\",INDEX([1]MANHOLE_SIZE!$A$2:$A$120,MATCH('Access Point (Desc)'!$K281,[1]!MASTER_MANHOLE_SIZE_DESC[#Data],0),0))","v":""},{"$f":"IF('Access Point (Desc)'!L281=\"\",\"\",INDEX([1]ROUTE_MH_LID_TYPE!$A$2:$A$100,MATCH('Access Point (Desc)'!$L281,[1]!MASTER_ROUTE_MH_LID_TYPE_DESC[#Data],0),0))","v":""},{"$f":"IF('Access Point (Desc)'!M281=\"\",\"\",INDEX([1]MANHOLE_MTL!$A$2:$A$100,MATCH('Access Point (Desc)'!$M281,[1]!MASTER_MANHOLE_MTL_DESC[#Data],0),0))","v":""},{"$f":"IF('Access Point (Desc)'!N281=\"\",\"\",INDEX([1]LID_BOLT_TYPE!$A$2:$A$100,MATCH('Access Point (Desc)'!$N281,[1]!MASTER_LID_BOLT_TYPE_DESC[#Data],0),0))","v":""},{"$f":"IF('Access Point (Desc)'!O281=\"\",\"\",INDEX([1]YES_NO!$A$2:$A$100,MATCH('Access Point (Desc)'!$O281,[1]!MASTER_YES_NO_DESC[#Data],0),0))","v":""},{"$f":"IF('Access Point (Desc)'!P281=\"\",\"\",'Access Point (Desc)'!P281)","v":""},{"$f":"IF('Access Point (Desc)'!Q281=\"\",\"\",INDEX([1]YES_NO!$A$2:$A$100,MATCH('Access Point (Desc)'!$Q281,[1]!MASTER_YES_NO_DESC[#Data],0),0))","v":""}]
[{"$f":"IF('Access Point (Desc)'!A282=\"\",\"\",'Access Point (Desc)'!A282)","v":""},{"$f":"IF('Access Point (Desc)'!B282=\"\",\"\",'Access Point (Desc)'!B282)","v":""},{"$f":"IF('Access Point (Desc)'!C282=\"\",\"\",'Access Point (Desc)'!C282)","v":""},{"$f":"IF('Access Point (Desc)'!D282=\"\",\"\",'Access Point (Desc)'!D282)","v":""},{"$f":"IF('Access Point (Desc)'!E282=\"\",\"\",INDEX([1]OWNER!$A$2:$A$100,MATCH('Access Point (Desc)'!$E282,[1]!MASTER_OWNER_DESC[#Data],0),0))","v":""},{"$f":"IF('Access Point (Desc)'!F282=\"\",\"\",INDEX([1]COUNTY!$A$2:$A$100,MATCH('Access Point (Desc)'!F282,[1]!MASTER_COUNTY_NAME[#Data],0),0))","v":""},{"$f":"IF('Access Point (Desc)'!G282=\"\",\"\",'Access Point (Desc)'!G282)","v":""},{"$f":"IF('Access Point (Desc)'!H282=\"\",\"\",'Access Point (Desc)'!H282)","v":""},{"$f":"IF('Access Point (Desc)'!I282=\"\",\"\",INDEX([1]ROUTE_MH_TYPE!$A$2:$A$100,MATCH('Access Point (Desc)'!$I282,[1]!MASTER_ROUTE_MH_TYPE_DESC[#Data],0),0))","v":""},{"$f":"IF('Access Point (Desc)'!J282=\"\",\"\",INDEX([1]MANHOLE_MTL!$A$2:$A$100,MATCH('Access Point (Desc)'!$J282,[1]!MASTER_MANHOLE_MTL_DESC[#Data],0),0))","v":""},{"$f":"IF('Access Point (Desc)'!K282=\"\",\"\",INDEX([1]MANHOLE_SIZE!$A$2:$A$120,MATCH('Access Point (Desc)'!$K282,[1]!MASTER_MANHOLE_SIZE_DESC[#Data],0),0))","v":""},{"$f":"IF('Access Point (Desc)'!L282=\"\",\"\",INDEX([1]ROUTE_MH_LID_TYPE!$A$2:$A$100,MATCH('Access Point (Desc)'!$L282,[1]!MASTER_ROUTE_MH_LID_TYPE_DESC[#Data],0),0))","v":""},{"$f":"IF('Access Point (Desc)'!M282=\"\",\"\",INDEX([1]MANHOLE_MTL!$A$2:$A$100,MATCH('Access Point (Desc)'!$M282,[1]!MASTER_MANHOLE_MTL_DESC[#Data],0),0))","v":""},{"$f":"IF('Access Point (Desc)'!N282=\"\",\"\",INDEX([1]LID_BOLT_TYPE!$A$2:$A$100,MATCH('Access Point (Desc)'!$N282,[1]!MASTER_LID_BOLT_TYPE_DESC[#Data],0),0))","v":""},{"$f":"IF('Access Point (Desc)'!O282=\"\",\"\",INDEX([1]YES_NO!$A$2:$A$100,MATCH('Access Point (Desc)'!$O282,[1]!MASTER_YES_NO_DESC[#Data],0),0))","v":""},{"$f":"IF('Access Point (Desc)'!P282=\"\",\"\",'Access Point (Desc)'!P282)","v":""},{"$f":"IF('Access Point (Desc)'!Q282=\"\",\"\",INDEX([1]YES_NO!$A$2:$A$100,MATCH('Access Point (Desc)'!$Q282,[1]!MASTER_YES_NO_DESC[#Data],0),0))","v":""}]
[{"$f":"IF('Access Point (Desc)'!A283=\"\",\"\",'Access Point (Desc)'!A283)","v":""},{"$f":"IF('Access Point (Desc)'!B283=\"\",\"\",'Access Point (Desc)'!B283)","v":""},{"$f":"IF('Access Point (Desc)'!C283=\"\",\"\",'Access Point (Desc)'!C283)","v":""},{"$f":"IF('Access Point (Desc)'!D283=\"\",\"\",'Access Point (Desc)'!D283)","v":""},{"$f":"IF('Access Point (Desc)'!E283=\"\",\"\",INDEX([1]OWNER!$A$2:$A$100,MATCH('Access Point (Desc)'!$E283,[1]!MASTER_OWNER_DESC[#Data],0),0))","v":""},{"$f":"IF('Access Point (Desc)'!F283=\"\",\"\",INDEX([1]COUNTY!$A$2:$A$100,MATCH('Access Point (Desc)'!F283,[1]!MASTER_COUNTY_NAME[#Data],0),0))","v":""},{"$f":"IF('Access Point (Desc)'!G283=\"\",\"\",'Access Point (Desc)'!G283)","v":""},{"$f":"IF('Access Point (Desc)'!H283=\"\",\"\",'Access Point (Desc)'!H283)","v":""},{"$f":"IF('Access Point (Desc)'!I283=\"\",\"\",INDEX([1]ROUTE_MH_TYPE!$A$2:$A$100,MATCH('Access Point (Desc)'!$I283,[1]!MASTER_ROUTE_MH_TYPE_DESC[#Data],0),0))","v":""},{"$f":"IF('Access Point (Desc)'!J283=\"\",\"\",INDEX([1]MANHOLE_MTL!$A$2:$A$100,MATCH('Access Point (Desc)'!$J283,[1]!MASTER_MANHOLE_MTL_DESC[#Data],0),0))","v":""},{"$f":"IF('Access Point (Desc)'!K283=\"\",\"\",INDEX([1]MANHOLE_SIZE!$A$2:$A$120,MATCH('Access Point (Desc)'!$K283,[1]!MASTER_MANHOLE_SIZE_DESC[#Data],0),0))","v":""},{"$f":"IF('Access Point (Desc)'!L283=\"\",\"\",INDEX([1]ROUTE_MH_LID_TYPE!$A$2:$A$100,MATCH('Access Point (Desc)'!$L283,[1]!MASTER_ROUTE_MH_LID_TYPE_DESC[#Data],0),0))","v":""},{"$f":"IF('Access Point (Desc)'!M283=\"\",\"\",INDEX([1]MANHOLE_MTL!$A$2:$A$100,MATCH('Access Point (Desc)'!$M283,[1]!MASTER_MANHOLE_MTL_DESC[#Data],0),0))","v":""},{"$f":"IF('Access Point (Desc)'!N283=\"\",\"\",INDEX([1]LID_BOLT_TYPE!$A$2:$A$100,MATCH('Access Point (Desc)'!$N283,[1]!MASTER_LID_BOLT_TYPE_DESC[#Data],0),0))","v":""},{"$f":"IF('Access Point (Desc)'!O283=\"\",\"\",INDEX([1]YES_NO!$A$2:$A$100,MATCH('Access Point (Desc)'!$O283,[1]!MASTER_YES_NO_DESC[#Data],0),0))","v":""},{"$f":"IF('Access Point (Desc)'!P283=\"\",\"\",'Access Point (Desc)'!P283)","v":""},{"$f":"IF('Access Point (Desc)'!Q283=\"\",\"\",INDEX([1]YES_NO!$A$2:$A$100,MATCH('Access Point (Desc)'!$Q283,[1]!MASTER_YES_NO_DESC[#Data],0),0))","v":""}]
[{"$f":"IF('Access Point (Desc)'!A284=\"\",\"\",'Access Point (Desc)'!A284)","v":""},{"$f":"IF('Access Point (Desc)'!B284=\"\",\"\",'Access Point (Desc)'!B284)","v":""},{"$f":"IF('Access Point (Desc)'!C284=\"\",\"\",'Access Point (Desc)'!C284)","v":""},{"$f":"IF('Access Point (Desc)'!D284=\"\",\"\",'Access Point (Desc)'!D284)","v":""},{"$f":"IF('Access Point (Desc)'!E284=\"\",\"\",INDEX([1]OWNER!$A$2:$A$100,MATCH('Access Point (Desc)'!$E284,[1]!MASTER_OWNER_DESC[#Data],0),0))","v":""},{"$f":"IF('Access Point (Desc)'!F284=\"\",\"\",INDEX([1]COUNTY!$A$2:$A$100,MATCH('Access Point (Desc)'!F284,[1]!MASTER_COUNTY_NAME[#Data],0),0))","v":""},{"$f":"IF('Access Point (Desc)'!G284=\"\",\"\",'Access Point (Desc)'!G284)","v":""},{"$f":"IF('Access Point (Desc)'!H284=\"\",\"\",'Access Point (Desc)'!H284)","v":""},{"$f":"IF('Access Point (Desc)'!I284=\"\",\"\",INDEX([1]ROUTE_MH_TYPE!$A$2:$A$100,MATCH('Access Point (Desc)'!$I284,[1]!MASTER_ROUTE_MH_TYPE_DESC[#Data],0),0))","v":""},{"$f":"IF('Access Point (Desc)'!J284=\"\",\"\",INDEX([1]MANHOLE_MTL!$A$2:$A$100,MATCH('Access Point (Desc)'!$J284,[1]!MASTER_MANHOLE_MTL_DESC[#Data],0),0))","v":""},{"$f":"IF('Access Point (Desc)'!K284=\"\",\"\",INDEX([1]MANHOLE_SIZE!$A$2:$A$120,MATCH('Access Point (Desc)'!$K284,[1]!MASTER_MANHOLE_SIZE_DESC[#Data],0),0))","v":""},{"$f":"IF('Access Point (Desc)'!L284=\"\",\"\",INDEX([1]ROUTE_MH_LID_TYPE!$A$2:$A$100,MATCH('Access Point (Desc)'!$L284,[1]!MASTER_ROUTE_MH_LID_TYPE_DESC[#Data],0),0))","v":""},{"$f":"IF('Access Point (Desc)'!M284=\"\",\"\",INDEX([1]MANHOLE_MTL!$A$2:$A$100,MATCH('Access Point (Desc)'!$M284,[1]!MASTER_MANHOLE_MTL_DESC[#Data],0),0))","v":""},{"$f":"IF('Access Point (Desc)'!N284=\"\",\"\",INDEX([1]LID_BOLT_TYPE!$A$2:$A$100,MATCH('Access Point (Desc)'!$N284,[1]!MASTER_LID_BOLT_TYPE_DESC[#Data],0),0))","v":""},{"$f":"IF('Access Point (Desc)'!O284=\"\",\"\",INDEX([1]YES_NO!$A$2:$A$100,MATCH('Access Point (Desc)'!$O284,[1]!MASTER_YES_NO_DESC[#Data],0),0))","v":""},{"$f":"IF('Access Point (Desc)'!P284=\"\",\"\",'Access Point (Desc)'!P284)","v":""},{"$f":"IF('Access Point (Desc)'!Q284=\"\",\"\",INDEX([1]YES_NO!$A$2:$A$100,MATCH('Access Point (Desc)'!$Q284,[1]!MASTER_YES_NO_DESC[#Data],0),0))","v":""}]
[{"$f":"IF('Access Point (Desc)'!A285=\"\",\"\",'Access Point (Desc)'!A285)","v":""},{"$f":"IF('Access Point (Desc)'!B285=\"\",\"\",'Access Point (Desc)'!B285)","v":""},{"$f":"IF('Access Point (Desc)'!C285=\"\",\"\",'Access Point (Desc)'!C285)","v":""},{"$f":"IF('Access Point (Desc)'!D285=\"\",\"\",'Access Point (Desc)'!D285)","v":""},{"$f":"IF('Access Point (Desc)'!E285=\"\",\"\",INDEX([1]OWNER!$A$2:$A$100,MATCH('Access Point (Desc)'!$E285,[1]!MASTER_OWNER_DESC[#Data],0),0))","v":""},{"$f":"IF('Access Point (Desc)'!F285=\"\",\"\",INDEX([1]COUNTY!$A$2:$A$100,MATCH('Access Point (Desc)'!F285,[1]!MASTER_COUNTY_NAME[#Data],0),0))","v":""},{"$f":"IF('Access Point (Desc)'!G285=\"\",\"\",'Access Point (Desc)'!G285)","v":""},{"$f":"IF('Access Point (Desc)'!H285=\"\",\"\",'Access Point (Desc)'!H285)","v":""},{"$f":"IF('Access Point (Desc)'!I285=\"\",\"\",INDEX([1]ROUTE_MH_TYPE!$A$2:$A$100,MATCH('Access Point (Desc)'!$I285,[1]!MASTER_ROUTE_MH_TYPE_DESC[#Data],0),0))","v":""},{"$f":"IF('Access Point (Desc)'!J285=\"\",\"\",INDEX([1]MANHOLE_MTL!$A$2:$A$100,MATCH('Access Point (Desc)'!$J285,[1]!MASTER_MANHOLE_MTL_DESC[#Data],0),0))","v":""},{"$f":"IF('Access Point (Desc)'!K285=\"\",\"\",INDEX([1]MANHOLE_SIZE!$A$2:$A$120,MATCH('Access Point (Desc)'!$K285,[1]!MASTER_MANHOLE_SIZE_DESC[#Data],0),0))","v":""},{"$f":"IF('Access Point (Desc)'!L285=\"\",\"\",INDEX([1]ROUTE_MH_LID_TYPE!$A$2:$A$100,MATCH('Access Point (Desc)'!$L285,[1]!MASTER_ROUTE_MH_LID_TYPE_DESC[#Data],0),0))","v":""},{"$f":"IF('Access Point (Desc)'!M285=\"\",\"\",INDEX([1]MANHOLE_MTL!$A$2:$A$100,MATCH('Access Point (Desc)'!$M285,[1]!MASTER_MANHOLE_MTL_DESC[#Data],0),0))","v":""},{"$f":"IF('Access Point (Desc)'!N285=\"\",\"\",INDEX([1]LID_BOLT_TYPE!$A$2:$A$100,MATCH('Access Point (Desc)'!$N285,[1]!MASTER_LID_BOLT_TYPE_DESC[#Data],0),0))","v":""},{"$f":"IF('Access Point (Desc)'!O285=\"\",\"\",INDEX([1]YES_NO!$A$2:$A$100,MATCH('Access Point (Desc)'!$O285,[1]!MASTER_YES_NO_DESC[#Data],0),0))","v":""},{"$f":"IF('Access Point (Desc)'!P285=\"\",\"\",'Access Point (Desc)'!P285)","v":""},{"$f":"IF('Access Point (Desc)'!Q285=\"\",\"\",INDEX([1]YES_NO!$A$2:$A$100,MATCH('Access Point (Desc)'!$Q285,[1]!MASTER_YES_NO_DESC[#Data],0),0))","v":""}]
[{"$f":"IF('Access Point (Desc)'!A286=\"\",\"\",'Access Point (Desc)'!A286)","v":""},{"$f":"IF('Access Point (Desc)'!B286=\"\",\"\",'Access Point (Desc)'!B286)","v":""},{"$f":"IF('Access Point (Desc)'!C286=\"\",\"\",'Access Point (Desc)'!C286)","v":""},{"$f":"IF('Access Point (Desc)'!D286=\"\",\"\",'Access Point (Desc)'!D286)","v":""},{"$f":"IF('Access Point (Desc)'!E286=\"\",\"\",INDEX([1]OWNER!$A$2:$A$100,MATCH('Access Point (Desc)'!$E286,[1]!MASTER_OWNER_DESC[#Data],0),0))","v":""},{"$f":"IF('Access Point (Desc)'!F286=\"\",\"\",INDEX([1]COUNTY!$A$2:$A$100,MATCH('Access Point (Desc)'!F286,[1]!MASTER_COUNTY_NAME[#Data],0),0))","v":""},{"$f":"IF('Access Point (Desc)'!G286=\"\",\"\",'Access Point (Desc)'!G286)","v":""},{"$f":"IF('Access Point (Desc)'!H286=\"\",\"\",'Access Point (Desc)'!H286)","v":""},{"$f":"IF('Access Point (Desc)'!I286=\"\",\"\",INDEX([1]ROUTE_MH_TYPE!$A$2:$A$100,MATCH('Access Point (Desc)'!$I286,[1]!MASTER_ROUTE_MH_TYPE_DESC[#Data],0),0))","v":""},{"$f":"IF('Access Point (Desc)'!J286=\"\",\"\",INDEX([1]MANHOLE_MTL!$A$2:$A$100,MATCH('Access Point (Desc)'!$J286,[1]!MASTER_MANHOLE_MTL_DESC[#Data],0),0))","v":""},{"$f":"IF('Access Point (Desc)'!K286=\"\",\"\",INDEX([1]MANHOLE_SIZE!$A$2:$A$120,MATCH('Access Point (Desc)'!$K286,[1]!MASTER_MANHOLE_SIZE_DESC[#Data],0),0))","v":""},{"$f":"IF('Access Point (Desc)'!L286=\"\",\"\",INDEX([1]ROUTE_MH_LID_TYPE!$A$2:$A$100,MATCH('Access Point (Desc)'!$L286,[1]!MASTER_ROUTE_MH_LID_TYPE_DESC[#Data],0),0))","v":""},{"$f":"IF('Access Point (Desc)'!M286=\"\",\"\",INDEX([1]MANHOLE_MTL!$A$2:$A$100,MATCH('Access Point (Desc)'!$M286,[1]!MASTER_MANHOLE_MTL_DESC[#Data],0),0))","v":""},{"$f":"IF('Access Point (Desc)'!N286=\"\",\"\",INDEX([1]LID_BOLT_TYPE!$A$2:$A$100,MATCH('Access Point (Desc)'!$N286,[1]!MASTER_LID_BOLT_TYPE_DESC[#Data],0),0))","v":""},{"$f":"IF('Access Point (Desc)'!O286=\"\",\"\",INDEX([1]YES_NO!$A$2:$A$100,MATCH('Access Point (Desc)'!$O286,[1]!MASTER_YES_NO_DESC[#Data],0),0))","v":""},{"$f":"IF('Access Point (Desc)'!P286=\"\",\"\",'Access Point (Desc)'!P286)","v":""},{"$f":"IF('Access Point (Desc)'!Q286=\"\",\"\",INDEX([1]YES_NO!$A$2:$A$100,MATCH('Access Point (Desc)'!$Q286,[1]!MASTER_YES_NO_DESC[#Data],0),0))","v":""}]
[{"$f":"IF('Access Point (Desc)'!A287=\"\",\"\",'Access Point (Desc)'!A287)","v":""},{"$f":"IF('Access Point (Desc)'!B287=\"\",\"\",'Access Point (Desc)'!B287)","v":""},{"$f":"IF('Access Point (Desc)'!C287=\"\",\"\",'Access Point (Desc)'!C287)","v":""},{"$f":"IF('Access Point (Desc)'!D287=\"\",\"\",'Access Point (Desc)'!D287)","v":""},{"$f":"IF('Access Point (Desc)'!E287=\"\",\"\",INDEX([1]OWNER!$A$2:$A$100,MATCH('Access Point (Desc)'!$E287,[1]!MASTER_OWNER_DESC[#Data],0),0))","v":""},{"$f":"IF('Access Point (Desc)'!F287=\"\",\"\",INDEX([1]COUNTY!$A$2:$A$100,MATCH('Access Point (Desc)'!F287,[1]!MASTER_COUNTY_NAME[#Data],0),0))","v":""},{"$f":"IF('Access Point (Desc)'!G287=\"\",\"\",'Access Point (Desc)'!G287)","v":""},{"$f":"IF('Access Point (Desc)'!H287=\"\",\"\",'Access Point (Desc)'!H287)","v":""},{"$f":"IF('Access Point (Desc)'!I287=\"\",\"\",INDEX([1]ROUTE_MH_TYPE!$A$2:$A$100,MATCH('Access Point (Desc)'!$I287,[1]!MASTER_ROUTE_MH_TYPE_DESC[#Data],0),0))","v":""},{"$f":"IF('Access Point (Desc)'!J287=\"\",\"\",INDEX([1]MANHOLE_MTL!$A$2:$A$100,MATCH('Access Point (Desc)'!$J287,[1]!MASTER_MANHOLE_MTL_DESC[#Data],0),0))","v":""},{"$f":"IF('Access Point (Desc)'!K287=\"\",\"\",INDEX([1]MANHOLE_SIZE!$A$2:$A$120,MATCH('Access Point (Desc)'!$K287,[1]!MASTER_MANHOLE_SIZE_DESC[#Data],0),0))","v":""},{"$f":"IF('Access Point (Desc)'!L287=\"\",\"\",INDEX([1]ROUTE_MH_LID_TYPE!$A$2:$A$100,MATCH('Access Point (Desc)'!$L287,[1]!MASTER_ROUTE_MH_LID_TYPE_DESC[#Data],0),0))","v":""},{"$f":"IF('Access Point (Desc)'!M287=\"\",\"\",INDEX([1]MANHOLE_MTL!$A$2:$A$100,MATCH('Access Point (Desc)'!$M287,[1]!MASTER_MANHOLE_MTL_DESC[#Data],0),0))","v":""},{"$f":"IF('Access Point (Desc)'!N287=\"\",\"\",INDEX([1]LID_BOLT_TYPE!$A$2:$A$100,MATCH('Access Point (Desc)'!$N287,[1]!MASTER_LID_BOLT_TYPE_DESC[#Data],0),0))","v":""},{"$f":"IF('Access Point (Desc)'!O287=\"\",\"\",INDEX([1]YES_NO!$A$2:$A$100,MATCH('Access Point (Desc)'!$O287,[1]!MASTER_YES_NO_DESC[#Data],0),0))","v":""},{"$f":"IF('Access Point (Desc)'!P287=\"\",\"\",'Access Point (Desc)'!P287)","v":""},{"$f":"IF('Access Point (Desc)'!Q287=\"\",\"\",INDEX([1]YES_NO!$A$2:$A$100,MATCH('Access Point (Desc)'!$Q287,[1]!MASTER_YES_NO_DESC[#Data],0),0))","v":""}]
[{"$f":"IF('Access Point (Desc)'!A288=\"\",\"\",'Access Point (Desc)'!A288)","v":""},{"$f":"IF('Access Point (Desc)'!B288=\"\",\"\",'Access Point (Desc)'!B288)","v":""},{"$f":"IF('Access Point (Desc)'!C288=\"\",\"\",'Access Point (Desc)'!C288)","v":""},{"$f":"IF('Access Point (Desc)'!D288=\"\",\"\",'Access Point (Desc)'!D288)","v":""},{"$f":"IF('Access Point (Desc)'!E288=\"\",\"\",INDEX([1]OWNER!$A$2:$A$100,MATCH('Access Point (Desc)'!$E288,[1]!MASTER_OWNER_DESC[#Data],0),0))","v":""},{"$f":"IF('Access Point (Desc)'!F288=\"\",\"\",INDEX([1]COUNTY!$A$2:$A$100,MATCH('Access Point (Desc)'!F288,[1]!MASTER_COUNTY_NAME[#Data],0),0))","v":""},{"$f":"IF('Access Point (Desc)'!G288=\"\",\"\",'Access Point (Desc)'!G288)","v":""},{"$f":"IF('Access Point (Desc)'!H288=\"\",\"\",'Access Point (Desc)'!H288)","v":""},{"$f":"IF('Access Point (Desc)'!I288=\"\",\"\",INDEX([1]ROUTE_MH_TYPE!$A$2:$A$100,MATCH('Access Point (Desc)'!$I288,[1]!MASTER_ROUTE_MH_TYPE_DESC[#Data],0),0))","v":""},{"$f":"IF('Access Point (Desc)'!J288=\"\",\"\",INDEX([1]MANHOLE_MTL!$A$2:$A$100,MATCH('Access Point (Desc)'!$J288,[1]!MASTER_MANHOLE_MTL_DESC[#Data],0),0))","v":""},{"$f":"IF('Access Point (Desc)'!K288=\"\",\"\",INDEX([1]MANHOLE_SIZE!$A$2:$A$120,MATCH('Access Point (Desc)'!$K288,[1]!MASTER_MANHOLE_SIZE_DESC[#Data],0),0))","v":""},{"$f":"IF('Access Point (Desc)'!L288=\"\",\"\",INDEX([1]ROUTE_MH_LID_TYPE!$A$2:$A$100,MATCH('Access Point (Desc)'!$L288,[1]!MASTER_ROUTE_MH_LID_TYPE_DESC[#Data],0),0))","v":""},{"$f":"IF('Access Point (Desc)'!M288=\"\",\"\",INDEX([1]MANHOLE_MTL!$A$2:$A$100,MATCH('Access Point (Desc)'!$M288,[1]!MASTER_MANHOLE_MTL_DESC[#Data],0),0))","v":""},{"$f":"IF('Access Point (Desc)'!N288=\"\",\"\",INDEX([1]LID_BOLT_TYPE!$A$2:$A$100,MATCH('Access Point (Desc)'!$N288,[1]!MASTER_LID_BOLT_TYPE_DESC[#Data],0),0))","v":""},{"$f":"IF('Access Point (Desc)'!O288=\"\",\"\",INDEX([1]YES_NO!$A$2:$A$100,MATCH('Access Point (Desc)'!$O288,[1]!MASTER_YES_NO_DESC[#Data],0),0))","v":""},{"$f":"IF('Access Point (Desc)'!P288=\"\",\"\",'Access Point (Desc)'!P288)","v":""},{"$f":"IF('Access Point (Desc)'!Q288=\"\",\"\",INDEX([1]YES_NO!$A$2:$A$100,MATCH('Access Point (Desc)'!$Q288,[1]!MASTER_YES_NO_DESC[#Data],0),0))","v":""}]
[{"$f":"IF('Access Point (Desc)'!A289=\"\",\"\",'Access Point (Desc)'!A289)","v":""},{"$f":"IF('Access Point (Desc)'!B289=\"\",\"\",'Access Point (Desc)'!B289)","v":""},{"$f":"IF('Access Point (Desc)'!C289=\"\",\"\",'Access Point (Desc)'!C289)","v":""},{"$f":"IF('Access Point (Desc)'!D289=\"\",\"\",'Access Point (Desc)'!D289)","v":""},{"$f":"IF('Access Point (Desc)'!E289=\"\",\"\",INDEX([1]OWNER!$A$2:$A$100,MATCH('Access Point (Desc)'!$E289,[1]!MASTER_OWNER_DESC[#Data],0),0))","v":""},{"$f":"IF('Access Point (Desc)'!F289=\"\",\"\",INDEX([1]COUNTY!$A$2:$A$100,MATCH('Access Point (Desc)'!F289,[1]!MASTER_COUNTY_NAME[#Data],0),0))","v":""},{"$f":"IF('Access Point (Desc)'!G289=\"\",\"\",'Access Point (Desc)'!G289)","v":""},{"$f":"IF('Access Point (Desc)'!H289=\"\",\"\",'Access Point (Desc)'!H289)","v":""},{"$f":"IF('Access Point (Desc)'!I289=\"\",\"\",INDEX([1]ROUTE_MH_TYPE!$A$2:$A$100,MATCH('Access Point (Desc)'!$I289,[1]!MASTER_ROUTE_MH_TYPE_DESC[#Data],0),0))","v":""},{"$f":"IF('Access Point (Desc)'!J289=\"\",\"\",INDEX([1]MANHOLE_MTL!$A$2:$A$100,MATCH('Access Point (Desc)'!$J289,[1]!MASTER_MANHOLE_MTL_DESC[#Data],0),0))","v":""},{"$f":"IF('Access Point (Desc)'!K289=\"\",\"\",INDEX([1]MANHOLE_SIZE!$A$2:$A$120,MATCH('Access Point (Desc)'!$K289,[1]!MASTER_MANHOLE_SIZE_DESC[#Data],0),0))","v":""},{"$f":"IF('Access Point (Desc)'!L289=\"\",\"\",INDEX([1]ROUTE_MH_LID_TYPE!$A$2:$A$100,MATCH('Access Point (Desc)'!$L289,[1]!MASTER_ROUTE_MH_LID_TYPE_DESC[#Data],0),0))","v":""},{"$f":"IF('Access Point (Desc)'!M289=\"\",\"\",INDEX([1]MANHOLE_MTL!$A$2:$A$100,MATCH('Access Point (Desc)'!$M289,[1]!MASTER_MANHOLE_MTL_DESC[#Data],0),0))","v":""},{"$f":"IF('Access Point (Desc)'!N289=\"\",\"\",INDEX([1]LID_BOLT_TYPE!$A$2:$A$100,MATCH('Access Point (Desc)'!$N289,[1]!MASTER_LID_BOLT_TYPE_DESC[#Data],0),0))","v":""},{"$f":"IF('Access Point (Desc)'!O289=\"\",\"\",INDEX([1]YES_NO!$A$2:$A$100,MATCH('Access Point (Desc)'!$O289,[1]!MASTER_YES_NO_DESC[#Data],0),0))","v":""},{"$f":"IF('Access Point (Desc)'!P289=\"\",\"\",'Access Point (Desc)'!P289)","v":""},{"$f":"IF('Access Point (Desc)'!Q289=\"\",\"\",INDEX([1]YES_NO!$A$2:$A$100,MATCH('Access Point (Desc)'!$Q289,[1]!MASTER_YES_NO_DESC[#Data],0),0))","v":""}]
[{"$f":"IF('Access Point (Desc)'!A290=\"\",\"\",'Access Point (Desc)'!A290)","v":""},{"$f":"IF('Access Point (Desc)'!B290=\"\",\"\",'Access Point (Desc)'!B290)","v":""},{"$f":"IF('Access Point (Desc)'!C290=\"\",\"\",'Access Point (Desc)'!C290)","v":""},{"$f":"IF('Access Point (Desc)'!D290=\"\",\"\",'Access Point (Desc)'!D290)","v":""},{"$f":"IF('Access Point (Desc)'!E290=\"\",\"\",INDEX([1]OWNER!$A$2:$A$100,MATCH('Access Point (Desc)'!$E290,[1]!MASTER_OWNER_DESC[#Data],0),0))","v":""},{"$f":"IF('Access Point (Desc)'!F290=\"\",\"\",INDEX([1]COUNTY!$A$2:$A$100,MATCH('Access Point (Desc)'!F290,[1]!MASTER_COUNTY_NAME[#Data],0),0))","v":""},{"$f":"IF('Access Point (Desc)'!G290=\"\",\"\",'Access Point (Desc)'!G290)","v":""},{"$f":"IF('Access Point (Desc)'!H290=\"\",\"\",'Access Point (Desc)'!H290)","v":""},{"$f":"IF('Access Point (Desc)'!I290=\"\",\"\",INDEX([1]ROUTE_MH_TYPE!$A$2:$A$100,MATCH('Access Point (Desc)'!$I290,[1]!MASTER_ROUTE_MH_TYPE_DESC[#Data],0),0))","v":""},{"$f":"IF('Access Point (Desc)'!J290=\"\",\"\",INDEX([1]MANHOLE_MTL!$A$2:$A$100,MATCH('Access Point (Desc)'!$J290,[1]!MASTER_MANHOLE_MTL_DESC[#Data],0),0))","v":""},{"$f":"IF('Access Point (Desc)'!K290=\"\",\"\",INDEX([1]MANHOLE_SIZE!$A$2:$A$120,MATCH('Access Point (Desc)'!$K290,[1]!MASTER_MANHOLE_SIZE_DESC[#Data],0),0))","v":""},{"$f":"IF('Access Point (Desc)'!L290=\"\",\"\",INDEX([1]ROUTE_MH_LID_TYPE!$A$2:$A$100,MATCH('Access Point (Desc)'!$L290,[1]!MASTER_ROUTE_MH_LID_TYPE_DESC[#Data],0),0))","v":""},{"$f":"IF('Access Point (Desc)'!M290=\"\",\"\",INDEX([1]MANHOLE_MTL!$A$2:$A$100,MATCH('Access Point (Desc)'!$M290,[1]!MASTER_MANHOLE_MTL_DESC[#Data],0),0))","v":""},{"$f":"IF('Access Point (Desc)'!N290=\"\",\"\",INDEX([1]LID_BOLT_TYPE!$A$2:$A$100,MATCH('Access Point (Desc)'!$N290,[1]!MASTER_LID_BOLT_TYPE_DESC[#Data],0),0))","v":""},{"$f":"IF('Access Point (Desc)'!O290=\"\",\"\",INDEX([1]YES_NO!$A$2:$A$100,MATCH('Access Point (Desc)'!$O290,[1]!MASTER_YES_NO_DESC[#Data],0),0))","v":""},{"$f":"IF('Access Point (Desc)'!P290=\"\",\"\",'Access Point (Desc)'!P290)","v":""},{"$f":"IF('Access Point (Desc)'!Q290=\"\",\"\",INDEX([1]YES_NO!$A$2:$A$100,MATCH('Access Point (Desc)'!$Q290,[1]!MASTER_YES_NO_DESC[#Data],0),0))","v":""}]
[{"$f":"IF('Access Point (Desc)'!A291=\"\",\"\",'Access Point (Desc)'!A291)","v":""},{"$f":"IF('Access Point (Desc)'!B291=\"\",\"\",'Access Point (Desc)'!B291)","v":""},{"$f":"IF('Access Point (Desc)'!C291=\"\",\"\",'Access Point (Desc)'!C291)","v":""},{"$f":"IF('Access Point (Desc)'!D291=\"\",\"\",'Access Point (Desc)'!D291)","v":""},{"$f":"IF('Access Point (Desc)'!E291=\"\",\"\",INDEX([1]OWNER!$A$2:$A$100,MATCH('Access Point (Desc)'!$E291,[1]!MASTER_OWNER_DESC[#Data],0),0))","v":""},{"$f":"IF('Access Point (Desc)'!F291=\"\",\"\",INDEX([1]COUNTY!$A$2:$A$100,MATCH('Access Point (Desc)'!F291,[1]!MASTER_COUNTY_NAME[#Data],0),0))","v":""},{"$f":"IF('Access Point (Desc)'!G291=\"\",\"\",'Access Point (Desc)'!G291)","v":""},{"$f":"IF('Access Point (Desc)'!H291=\"\",\"\",'Access Point (Desc)'!H291)","v":""},{"$f":"IF('Access Point (Desc)'!I291=\"\",\"\",INDEX([1]ROUTE_MH_TYPE!$A$2:$A$100,MATCH('Access Point (Desc)'!$I291,[1]!MASTER_ROUTE_MH_TYPE_DESC[#Data],0),0))","v":""},{"$f":"IF('Access Point (Desc)'!J291=\"\",\"\",INDEX([1]MANHOLE_MTL!$A$2:$A$100,MATCH('Access Point (Desc)'!$J291,[1]!MASTER_MANHOLE_MTL_DESC[#Data],0),0))","v":""},{"$f":"IF('Access Point (Desc)'!K291=\"\",\"\",INDEX([1]MANHOLE_SIZE!$A$2:$A$120,MATCH('Access Point (Desc)'!$K291,[1]!MASTER_MANHOLE_SIZE_DESC[#Data],0),0))","v":""},{"$f":"IF('Access Point (Desc)'!L291=\"\",\"\",INDEX([1]ROUTE_MH_LID_TYPE!$A$2:$A$100,MATCH('Access Point (Desc)'!$L291,[1]!MASTER_ROUTE_MH_LID_TYPE_DESC[#Data],0),0))","v":""},{"$f":"IF('Access Point (Desc)'!M291=\"\",\"\",INDEX([1]MANHOLE_MTL!$A$2:$A$100,MATCH('Access Point (Desc)'!$M291,[1]!MASTER_MANHOLE_MTL_DESC[#Data],0),0))","v":""},{"$f":"IF('Access Point (Desc)'!N291=\"\",\"\",INDEX([1]LID_BOLT_TYPE!$A$2:$A$100,MATCH('Access Point (Desc)'!$N291,[1]!MASTER_LID_BOLT_TYPE_DESC[#Data],0),0))","v":""},{"$f":"IF('Access Point (Desc)'!O291=\"\",\"\",INDEX([1]YES_NO!$A$2:$A$100,MATCH('Access Point (Desc)'!$O291,[1]!MASTER_YES_NO_DESC[#Data],0),0))","v":""},{"$f":"IF('Access Point (Desc)'!P291=\"\",\"\",'Access Point (Desc)'!P291)","v":""},{"$f":"IF('Access Point (Desc)'!Q291=\"\",\"\",INDEX([1]YES_NO!$A$2:$A$100,MATCH('Access Point (Desc)'!$Q291,[1]!MASTER_YES_NO_DESC[#Data],0),0))","v":""}]
[{"$f":"IF('Access Point (Desc)'!A292=\"\",\"\",'Access Point (Desc)'!A292)","v":""},{"$f":"IF('Access Point (Desc)'!B292=\"\",\"\",'Access Point (Desc)'!B292)","v":""},{"$f":"IF('Access Point (Desc)'!C292=\"\",\"\",'Access Point (Desc)'!C292)","v":""},{"$f":"IF('Access Point (Desc)'!D292=\"\",\"\",'Access Point (Desc)'!D292)","v":""},{"$f":"IF('Access Point (Desc)'!E292=\"\",\"\",INDEX([1]OWNER!$A$2:$A$100,MATCH('Access Point (Desc)'!$E292,[1]!MASTER_OWNER_DESC[#Data],0),0))","v":""},{"$f":"IF('Access Point (Desc)'!F292=\"\",\"\",INDEX([1]COUNTY!$A$2:$A$100,MATCH('Access Point (Desc)'!F292,[1]!MASTER_COUNTY_NAME[#Data],0),0))","v":""},{"$f":"IF('Access Point (Desc)'!G292=\"\",\"\",'Access Point (Desc)'!G292)","v":""},{"$f":"IF('Access Point (Desc)'!H292=\"\",\"\",'Access Point (Desc)'!H292)","v":""},{"$f":"IF('Access Point (Desc)'!I292=\"\",\"\",INDEX([1]ROUTE_MH_TYPE!$A$2:$A$100,MATCH('Access Point (Desc)'!$I292,[1]!MASTER_ROUTE_MH_TYPE_DESC[#Data],0),0))","v":""},{"$f":"IF('Access Point (Desc)'!J292=\"\",\"\",INDEX([1]MANHOLE_MTL!$A$2:$A$100,MATCH('Access Point (Desc)'!$J292,[1]!MASTER_MANHOLE_MTL_DESC[#Data],0),0))","v":""},{"$f":"IF('Access Point (Desc)'!K292=\"\",\"\",INDEX([1]MANHOLE_SIZE!$A$2:$A$120,MATCH('Access Point (Desc)'!$K292,[1]!MASTER_MANHOLE_SIZE_DESC[#Data],0),0))","v":""},{"$f":"IF('Access Point (Desc)'!L292=\"\",\"\",INDEX([1]ROUTE_MH_LID_TYPE!$A$2:$A$100,MATCH('Access Point (Desc)'!$L292,[1]!MASTER_ROUTE_MH_LID_TYPE_DESC[#Data],0),0))","v":""},{"$f":"IF('Access Point (Desc)'!M292=\"\",\"\",INDEX([1]MANHOLE_MTL!$A$2:$A$100,MATCH('Access Point (Desc)'!$M292,[1]!MASTER_MANHOLE_MTL_DESC[#Data],0),0))","v":""},{"$f":"IF('Access Point (Desc)'!N292=\"\",\"\",INDEX([1]LID_BOLT_TYPE!$A$2:$A$100,MATCH('Access Point (Desc)'!$N292,[1]!MASTER_LID_BOLT_TYPE_DESC[#Data],0),0))","v":""},{"$f":"IF('Access Point (Desc)'!O292=\"\",\"\",INDEX([1]YES_NO!$A$2:$A$100,MATCH('Access Point (Desc)'!$O292,[1]!MASTER_YES_NO_DESC[#Data],0),0))","v":""},{"$f":"IF('Access Point (Desc)'!P292=\"\",\"\",'Access Point (Desc)'!P292)","v":""},{"$f":"IF('Access Point (Desc)'!Q292=\"\",\"\",INDEX([1]YES_NO!$A$2:$A$100,MATCH('Access Point (Desc)'!$Q292,[1]!MASTER_YES_NO_DESC[#Data],0),0))","v":""}]
[{"$f":"IF('Access Point (Desc)'!A293=\"\",\"\",'Access Point (Desc)'!A293)","v":""},{"$f":"IF('Access Point (Desc)'!B293=\"\",\"\",'Access Point (Desc)'!B293)","v":""},{"$f":"IF('Access Point (Desc)'!C293=\"\",\"\",'Access Point (Desc)'!C293)","v":""},{"$f":"IF('Access Point (Desc)'!D293=\"\",\"\",'Access Point (Desc)'!D293)","v":""},{"$f":"IF('Access Point (Desc)'!E293=\"\",\"\",INDEX([1]OWNER!$A$2:$A$100,MATCH('Access Point (Desc)'!$E293,[1]!MASTER_OWNER_DESC[#Data],0),0))","v":""},{"$f":"IF('Access Point (Desc)'!F293=\"\",\"\",INDEX([1]COUNTY!$A$2:$A$100,MATCH('Access Point (Desc)'!F293,[1]!MASTER_COUNTY_NAME[#Data],0),0))","v":""},{"$f":"IF('Access Point (Desc)'!G293=\"\",\"\",'Access Point (Desc)'!G293)","v":""},{"$f":"IF('Access Point (Desc)'!H293=\"\",\"\",'Access Point (Desc)'!H293)","v":""},{"$f":"IF('Access Point (Desc)'!I293=\"\",\"\",INDEX([1]ROUTE_MH_TYPE!$A$2:$A$100,MATCH('Access Point (Desc)'!$I293,[1]!MASTER_ROUTE_MH_TYPE_DESC[#Data],0),0))","v":""},{"$f":"IF('Access Point (Desc)'!J293=\"\",\"\",INDEX([1]MANHOLE_MTL!$A$2:$A$100,MATCH('Access Point (Desc)'!$J293,[1]!MASTER_MANHOLE_MTL_DESC[#Data],0),0))","v":""},{"$f":"IF('Access Point (Desc)'!K293=\"\",\"\",INDEX([1]MANHOLE_SIZE!$A$2:$A$120,MATCH('Access Point (Desc)'!$K293,[1]!MASTER_MANHOLE_SIZE_DESC[#Data],0),0))","v":""},{"$f":"IF('Access Point (Desc)'!L293=\"\",\"\",INDEX([1]ROUTE_MH_LID_TYPE!$A$2:$A$100,MATCH('Access Point (Desc)'!$L293,[1]!MASTER_ROUTE_MH_LID_TYPE_DESC[#Data],0),0))","v":""},{"$f":"IF('Access Point (Desc)'!M293=\"\",\"\",INDEX([1]MANHOLE_MTL!$A$2:$A$100,MATCH('Access Point (Desc)'!$M293,[1]!MASTER_MANHOLE_MTL_DESC[#Data],0),0))","v":""},{"$f":"IF('Access Point (Desc)'!N293=\"\",\"\",INDEX([1]LID_BOLT_TYPE!$A$2:$A$100,MATCH('Access Point (Desc)'!$N293,[1]!MASTER_LID_BOLT_TYPE_DESC[#Data],0),0))","v":""},{"$f":"IF('Access Point (Desc)'!O293=\"\",\"\",INDEX([1]YES_NO!$A$2:$A$100,MATCH('Access Point (Desc)'!$O293,[1]!MASTER_YES_NO_DESC[#Data],0),0))","v":""},{"$f":"IF('Access Point (Desc)'!P293=\"\",\"\",'Access Point (Desc)'!P293)","v":""},{"$f":"IF('Access Point (Desc)'!Q293=\"\",\"\",INDEX([1]YES_NO!$A$2:$A$100,MATCH('Access Point (Desc)'!$Q293,[1]!MASTER_YES_NO_DESC[#Data],0),0))","v":""}]
[{"$f":"IF('Access Point (Desc)'!A294=\"\",\"\",'Access Point (Desc)'!A294)","v":""},{"$f":"IF('Access Point (Desc)'!B294=\"\",\"\",'Access Point (Desc)'!B294)","v":""},{"$f":"IF('Access Point (Desc)'!C294=\"\",\"\",'Access Point (Desc)'!C294)","v":""},{"$f":"IF('Access Point (Desc)'!D294=\"\",\"\",'Access Point (Desc)'!D294)","v":""},{"$f":"IF('Access Point (Desc)'!E294=\"\",\"\",INDEX([1]OWNER!$A$2:$A$100,MATCH('Access Point (Desc)'!$E294,[1]!MASTER_OWNER_DESC[#Data],0),0))","v":""},{"$f":"IF('Access Point (Desc)'!F294=\"\",\"\",INDEX([1]COUNTY!$A$2:$A$100,MATCH('Access Point (Desc)'!F294,[1]!MASTER_COUNTY_NAME[#Data],0),0))","v":""},{"$f":"IF('Access Point (Desc)'!G294=\"\",\"\",'Access Point (Desc)'!G294)","v":""},{"$f":"IF('Access Point (Desc)'!H294=\"\",\"\",'Access Point (Desc)'!H294)","v":""},{"$f":"IF('Access Point (Desc)'!I294=\"\",\"\",INDEX([1]ROUTE_MH_TYPE!$A$2:$A$100,MATCH('Access Point (Desc)'!$I294,[1]!MASTER_ROUTE_MH_TYPE_DESC[#Data],0),0))","v":""},{"$f":"IF('Access Point (Desc)'!J294=\"\",\"\",INDEX([1]MANHOLE_MTL!$A$2:$A$100,MATCH('Access Point (Desc)'!$J294,[1]!MASTER_MANHOLE_MTL_DESC[#Data],0),0))","v":""},{"$f":"IF('Access Point (Desc)'!K294=\"\",\"\",INDEX([1]MANHOLE_SIZE!$A$2:$A$120,MATCH('Access Point (Desc)'!$K294,[1]!MASTER_MANHOLE_SIZE_DESC[#Data],0),0))","v":""},{"$f":"IF('Access Point (Desc)'!L294=\"\",\"\",INDEX([1]ROUTE_MH_LID_TYPE!$A$2:$A$100,MATCH('Access Point (Desc)'!$L294,[1]!MASTER_ROUTE_MH_LID_TYPE_DESC[#Data],0),0))","v":""},{"$f":"IF('Access Point (Desc)'!M294=\"\",\"\",INDEX([1]MANHOLE_MTL!$A$2:$A$100,MATCH('Access Point (Desc)'!$M294,[1]!MASTER_MANHOLE_MTL_DESC[#Data],0),0))","v":""},{"$f":"IF('Access Point (Desc)'!N294=\"\",\"\",INDEX([1]LID_BOLT_TYPE!$A$2:$A$100,MATCH('Access Point (Desc)'!$N294,[1]!MASTER_LID_BOLT_TYPE_DESC[#Data],0),0))","v":""},{"$f":"IF('Access Point (Desc)'!O294=\"\",\"\",INDEX([1]YES_NO!$A$2:$A$100,MATCH('Access Point (Desc)'!$O294,[1]!MASTER_YES_NO_DESC[#Data],0),0))","v":""},{"$f":"IF('Access Point (Desc)'!P294=\"\",\"\",'Access Point (Desc)'!P294)","v":""},{"$f":"IF('Access Point (Desc)'!Q294=\"\",\"\",INDEX([1]YES_NO!$A$2:$A$100,MATCH('Access Point (Desc)'!$Q294,[1]!MASTER_YES_NO_DESC[#Data],0),0))","v":""}]
[{"$f":"IF('Access Point (Desc)'!A295=\"\",\"\",'Access Point (Desc)'!A295)","v":""},{"$f":"IF('Access Point (Desc)'!B295=\"\",\"\",'Access Point (Desc)'!B295)","v":""},{"$f":"IF('Access Point (Desc)'!C295=\"\",\"\",'Access Point (Desc)'!C295)","v":""},{"$f":"IF('Access Point (Desc)'!D295=\"\",\"\",'Access Point (Desc)'!D295)","v":""},{"$f":"IF('Access Point (Desc)'!E295=\"\",\"\",INDEX([1]OWNER!$A$2:$A$100,MATCH('Access Point (Desc)'!$E295,[1]!MASTER_OWNER_DESC[#Data],0),0))","v":""},{"$f":"IF('Access Point (Desc)'!F295=\"\",\"\",INDEX([1]COUNTY!$A$2:$A$100,MATCH('Access Point (Desc)'!F295,[1]!MASTER_COUNTY_NAME[#Data],0),0))","v":""},{"$f":"IF('Access Point (Desc)'!G295=\"\",\"\",'Access Point (Desc)'!G295)","v":""},{"$f":"IF('Access Point (Desc)'!H295=\"\",\"\",'Access Point (Desc)'!H295)","v":""},{"$f":"IF('Access Point (Desc)'!I295=\"\",\"\",INDEX([1]ROUTE_MH_TYPE!$A$2:$A$100,MATCH('Access Point (Desc)'!$I295,[1]!MASTER_ROUTE_MH_TYPE_DESC[#Data],0),0))","v":""},{"$f":"IF('Access Point (Desc)'!J295=\"\",\"\",INDEX([1]MANHOLE_MTL!$A$2:$A$100,MATCH('Access Point (Desc)'!$J295,[1]!MASTER_MANHOLE_MTL_DESC[#Data],0),0))","v":""},{"$f":"IF('Access Point (Desc)'!K295=\"\",\"\",INDEX([1]MANHOLE_SIZE!$A$2:$A$120,MATCH('Access Point (Desc)'!$K295,[1]!MASTER_MANHOLE_SIZE_DESC[#Data],0),0))","v":""},{"$f":"IF('Access Point (Desc)'!L295=\"\",\"\",INDEX([1]ROUTE_MH_LID_TYPE!$A$2:$A$100,MATCH('Access Point (Desc)'!$L295,[1]!MASTER_ROUTE_MH_LID_TYPE_DESC[#Data],0),0))","v":""},{"$f":"IF('Access Point (Desc)'!M295=\"\",\"\",INDEX([1]MANHOLE_MTL!$A$2:$A$100,MATCH('Access Point (Desc)'!$M295,[1]!MASTER_MANHOLE_MTL_DESC[#Data],0),0))","v":""},{"$f":"IF('Access Point (Desc)'!N295=\"\",\"\",INDEX([1]LID_BOLT_TYPE!$A$2:$A$100,MATCH('Access Point (Desc)'!$N295,[1]!MASTER_LID_BOLT_TYPE_DESC[#Data],0),0))","v":""},{"$f":"IF('Access Point (Desc)'!O295=\"\",\"\",INDEX([1]YES_NO!$A$2:$A$100,MATCH('Access Point (Desc)'!$O295,[1]!MASTER_YES_NO_DESC[#Data],0),0))","v":""},{"$f":"IF('Access Point (Desc)'!P295=\"\",\"\",'Access Point (Desc)'!P295)","v":""},{"$f":"IF('Access Point (Desc)'!Q295=\"\",\"\",INDEX([1]YES_NO!$A$2:$A$100,MATCH('Access Point (Desc)'!$Q295,[1]!MASTER_YES_NO_DESC[#Data],0),0))","v":""}]
[{"$f":"IF('Access Point (Desc)'!A296=\"\",\"\",'Access Point (Desc)'!A296)","v":""},{"$f":"IF('Access Point (Desc)'!B296=\"\",\"\",'Access Point (Desc)'!B296)","v":""},{"$f":"IF('Access Point (Desc)'!C296=\"\",\"\",'Access Point (Desc)'!C296)","v":""},{"$f":"IF('Access Point (Desc)'!D296=\"\",\"\",'Access Point (Desc)'!D296)","v":""},{"$f":"IF('Access Point (Desc)'!E296=\"\",\"\",INDEX([1]OWNER!$A$2:$A$100,MATCH('Access Point (Desc)'!$E296,[1]!MASTER_OWNER_DESC[#Data],0),0))","v":""},{"$f":"IF('Access Point (Desc)'!F296=\"\",\"\",INDEX([1]COUNTY!$A$2:$A$100,MATCH('Access Point (Desc)'!F296,[1]!MASTER_COUNTY_NAME[#Data],0),0))","v":""},{"$f":"IF('Access Point (Desc)'!G296=\"\",\"\",'Access Point (Desc)'!G296)","v":""},{"$f":"IF('Access Point (Desc)'!H296=\"\",\"\",'Access Point (Desc)'!H296)","v":""},{"$f":"IF('Access Point (Desc)'!I296=\"\",\"\",INDEX([1]ROUTE_MH_TYPE!$A$2:$A$100,MATCH('Access Point (Desc)'!$I296,[1]!MASTER_ROUTE_MH_TYPE_DESC[#Data],0),0))","v":""},{"$f":"IF('Access Point (Desc)'!J296=\"\",\"\",INDEX([1]MANHOLE_MTL!$A$2:$A$100,MATCH('Access Point (Desc)'!$J296,[1]!MASTER_MANHOLE_MTL_DESC[#Data],0),0))","v":""},{"$f":"IF('Access Point (Desc)'!K296=\"\",\"\",INDEX([1]MANHOLE_SIZE!$A$2:$A$120,MATCH('Access Point (Desc)'!$K296,[1]!MASTER_MANHOLE_SIZE_DESC[#Data],0),0))","v":""},{"$f":"IF('Access Point (Desc)'!L296=\"\",\"\",INDEX([1]ROUTE_MH_LID_TYPE!$A$2:$A$100,MATCH('Access Point (Desc)'!$L296,[1]!MASTER_ROUTE_MH_LID_TYPE_DESC[#Data],0),0))","v":""},{"$f":"IF('Access Point (Desc)'!M296=\"\",\"\",INDEX([1]MANHOLE_MTL!$A$2:$A$100,MATCH('Access Point (Desc)'!$M296,[1]!MASTER_MANHOLE_MTL_DESC[#Data],0),0))","v":""},{"$f":"IF('Access Point (Desc)'!N296=\"\",\"\",INDEX([1]LID_BOLT_TYPE!$A$2:$A$100,MATCH('Access Point (Desc)'!$N296,[1]!MASTER_LID_BOLT_TYPE_DESC[#Data],0),0))","v":""},{"$f":"IF('Access Point (Desc)'!O296=\"\",\"\",INDEX([1]YES_NO!$A$2:$A$100,MATCH('Access Point (Desc)'!$O296,[1]!MASTER_YES_NO_DESC[#Data],0),0))","v":""},{"$f":"IF('Access Point (Desc)'!P296=\"\",\"\",'Access Point (Desc)'!P296)","v":""},{"$f":"IF('Access Point (Desc)'!Q296=\"\",\"\",INDEX([1]YES_NO!$A$2:$A$100,MATCH('Access Point (Desc)'!$Q296,[1]!MASTER_YES_NO_DESC[#Data],0),0))","v":""}]
[{"$f":"IF('Access Point (Desc)'!A297=\"\",\"\",'Access Point (Desc)'!A297)","v":""},{"$f":"IF('Access Point (Desc)'!B297=\"\",\"\",'Access Point (Desc)'!B297)","v":""},{"$f":"IF('Access Point (Desc)'!C297=\"\",\"\",'Access Point (Desc)'!C297)","v":""},{"$f":"IF('Access Point (Desc)'!D297=\"\",\"\",'Access Point (Desc)'!D297)","v":""},{"$f":"IF('Access Point (Desc)'!E297=\"\",\"\",INDEX([1]OWNER!$A$2:$A$100,MATCH('Access Point (Desc)'!$E297,[1]!MASTER_OWNER_DESC[#Data],0),0))","v":""},{"$f":"IF('Access Point (Desc)'!F297=\"\",\"\",INDEX([1]COUNTY!$A$2:$A$100,MATCH('Access Point (Desc)'!F297,[1]!MASTER_COUNTY_NAME[#Data],0),0))","v":""},{"$f":"IF('Access Point (Desc)'!G297=\"\",\"\",'Access Point (Desc)'!G297)","v":""},{"$f":"IF('Access Point (Desc)'!H297=\"\",\"\",'Access Point (Desc)'!H297)","v":""},{"$f":"IF('Access Point (Desc)'!I297=\"\",\"\",INDEX([1]ROUTE_MH_TYPE!$A$2:$A$100,MATCH('Access Point (Desc)'!$I297,[1]!MASTER_ROUTE_MH_TYPE_DESC[#Data],0),0))","v":""},{"$f":"IF('Access Point (Desc)'!J297=\"\",\"\",INDEX([1]MANHOLE_MTL!$A$2:$A$100,MATCH('Access Point (Desc)'!$J297,[1]!MASTER_MANHOLE_MTL_DESC[#Data],0),0))","v":""},{"$f":"IF('Access Point (Desc)'!K297=\"\",\"\",INDEX([1]MANHOLE_SIZE!$A$2:$A$120,MATCH('Access Point (Desc)'!$K297,[1]!MASTER_MANHOLE_SIZE_DESC[#Data],0),0))","v":""},{"$f":"IF('Access Point (Desc)'!L297=\"\",\"\",INDEX([1]ROUTE_MH_LID_TYPE!$A$2:$A$100,MATCH('Access Point (Desc)'!$L297,[1]!MASTER_ROUTE_MH_LID_TYPE_DESC[#Data],0),0))","v":""},{"$f":"IF('Access Point (Desc)'!M297=\"\",\"\",INDEX([1]MANHOLE_MTL!$A$2:$A$100,MATCH('Access Point (Desc)'!$M297,[1]!MASTER_MANHOLE_MTL_DESC[#Data],0),0))","v":""},{"$f":"IF('Access Point (Desc)'!N297=\"\",\"\",INDEX([1]LID_BOLT_TYPE!$A$2:$A$100,MATCH('Access Point (Desc)'!$N297,[1]!MASTER_LID_BOLT_TYPE_DESC[#Data],0),0))","v":""},{"$f":"IF('Access Point (Desc)'!O297=\"\",\"\",INDEX([1]YES_NO!$A$2:$A$100,MATCH('Access Point (Desc)'!$O297,[1]!MASTER_YES_NO_DESC[#Data],0),0))","v":""},{"$f":"IF('Access Point (Desc)'!P297=\"\",\"\",'Access Point (Desc)'!P297)","v":""},{"$f":"IF('Access Point (Desc)'!Q297=\"\",\"\",INDEX([1]YES_NO!$A$2:$A$100,MATCH('Access Point (Desc)'!$Q297,[1]!MASTER_YES_NO_DESC[#Data],0),0))","v":""}]
[{"$f":"IF('Access Point (Desc)'!A298=\"\",\"\",'Access Point (Desc)'!A298)","v":""},{"$f":"IF('Access Point (Desc)'!B298=\"\",\"\",'Access Point (Desc)'!B298)","v":""},{"$f":"IF('Access Point (Desc)'!C298=\"\",\"\",'Access Point (Desc)'!C298)","v":""},{"$f":"IF('Access Point (Desc)'!D298=\"\",\"\",'Access Point (Desc)'!D298)","v":""},{"$f":"IF('Access Point (Desc)'!E298=\"\",\"\",INDEX([1]OWNER!$A$2:$A$100,MATCH('Access Point (Desc)'!$E298,[1]!MASTER_OWNER_DESC[#Data],0),0))","v":""},{"$f":"IF('Access Point (Desc)'!F298=\"\",\"\",INDEX([1]COUNTY!$A$2:$A$100,MATCH('Access Point (Desc)'!F298,[1]!MASTER_COUNTY_NAME[#Data],0),0))","v":""},{"$f":"IF('Access Point (Desc)'!G298=\"\",\"\",'Access Point (Desc)'!G298)","v":""},{"$f":"IF('Access Point (Desc)'!H298=\"\",\"\",'Access Point (Desc)'!H298)","v":""},{"$f":"IF('Access Point (Desc)'!I298=\"\",\"\",INDEX([1]ROUTE_MH_TYPE!$A$2:$A$100,MATCH('Access Point (Desc)'!$I298,[1]!MASTER_ROUTE_MH_TYPE_DESC[#Data],0),0))","v":""},{"$f":"IF('Access Point (Desc)'!J298=\"\",\"\",INDEX([1]MANHOLE_MTL!$A$2:$A$100,MATCH('Access Point (Desc)'!$J298,[1]!MASTER_MANHOLE_MTL_DESC[#Data],0),0))","v":""},{"$f":"IF('Access Point (Desc)'!K298=\"\",\"\",INDEX([1]MANHOLE_SIZE!$A$2:$A$120,MATCH('Access Point (Desc)'!$K298,[1]!MASTER_MANHOLE_SIZE_DESC[#Data],0),0))","v":""},{"$f":"IF('Access Point (Desc)'!L298=\"\",\"\",INDEX([1]ROUTE_MH_LID_TYPE!$A$2:$A$100,MATCH('Access Point (Desc)'!$L298,[1]!MASTER_ROUTE_MH_LID_TYPE_DESC[#Data],0),0))","v":""},{"$f":"IF('Access Point (Desc)'!M298=\"\",\"\",INDEX([1]MANHOLE_MTL!$A$2:$A$100,MATCH('Access Point (Desc)'!$M298,[1]!MASTER_MANHOLE_MTL_DESC[#Data],0),0))","v":""},{"$f":"IF('Access Point (Desc)'!N298=\"\",\"\",INDEX([1]LID_BOLT_TYPE!$A$2:$A$100,MATCH('Access Point (Desc)'!$N298,[1]!MASTER_LID_BOLT_TYPE_DESC[#Data],0),0))","v":""},{"$f":"IF('Access Point (Desc)'!O298=\"\",\"\",INDEX([1]YES_NO!$A$2:$A$100,MATCH('Access Point (Desc)'!$O298,[1]!MASTER_YES_NO_DESC[#Data],0),0))","v":""},{"$f":"IF('Access Point (Desc)'!P298=\"\",\"\",'Access Point (Desc)'!P298)","v":""},{"$f":"IF('Access Point (Desc)'!Q298=\"\",\"\",INDEX([1]YES_NO!$A$2:$A$100,MATCH('Access Point (Desc)'!$Q298,[1]!MASTER_YES_NO_DESC[#Data],0),0))","v":""}]
[{"$f":"IF('Access Point (Desc)'!A299=\"\",\"\",'Access Point (Desc)'!A299)","v":""},{"$f":"IF('Access Point (Desc)'!B299=\"\",\"\",'Access Point (Desc)'!B299)","v":""},{"$f":"IF('Access Point (Desc)'!C299=\"\",\"\",'Access Point (Desc)'!C299)","v":""},{"$f":"IF('Access Point (Desc)'!D299=\"\",\"\",'Access Point (Desc)'!D299)","v":""},{"$f":"IF('Access Point (Desc)'!E299=\"\",\"\",INDEX([1]OWNER!$A$2:$A$100,MATCH('Access Point (Desc)'!$E299,[1]!MASTER_OWNER_DESC[#Data],0),0))","v":""},{"$f":"IF('Access Point (Desc)'!F299=\"\",\"\",INDEX([1]COUNTY!$A$2:$A$100,MATCH('Access Point (Desc)'!F299,[1]!MASTER_COUNTY_NAME[#Data],0),0))","v":""},{"$f":"IF('Access Point (Desc)'!G299=\"\",\"\",'Access Point (Desc)'!G299)","v":""},{"$f":"IF('Access Point (Desc)'!H299=\"\",\"\",'Access Point (Desc)'!H299)","v":""},{"$f":"IF('Access Point (Desc)'!I299=\"\",\"\",INDEX([1]ROUTE_MH_TYPE!$A$2:$A$100,MATCH('Access Point (Desc)'!$I299,[1]!MASTER_ROUTE_MH_TYPE_DESC[#Data],0),0))","v":""},{"$f":"IF('Access Point (Desc)'!J299=\"\",\"\",INDEX([1]MANHOLE_MTL!$A$2:$A$100,MATCH('Access Point (Desc)'!$J299,[1]!MASTER_MANHOLE_MTL_DESC[#Data],0),0))","v":""},{"$f":"IF('Access Point (Desc)'!K299=\"\",\"\",INDEX([1]MANHOLE_SIZE!$A$2:$A$120,MATCH('Access Point (Desc)'!$K299,[1]!MASTER_MANHOLE_SIZE_DESC[#Data],0),0))","v":""},{"$f":"IF('Access Point (Desc)'!L299=\"\",\"\",INDEX([1]ROUTE_MH_LID_TYPE!$A$2:$A$100,MATCH('Access Point (Desc)'!$L299,[1]!MASTER_ROUTE_MH_LID_TYPE_DESC[#Data],0),0))","v":""},{"$f":"IF('Access Point (Desc)'!M299=\"\",\"\",INDEX([1]MANHOLE_MTL!$A$2:$A$100,MATCH('Access Point (Desc)'!$M299,[1]!MASTER_MANHOLE_MTL_DESC[#Data],0),0))","v":""},{"$f":"IF('Access Point (Desc)'!N299=\"\",\"\",INDEX([1]LID_BOLT_TYPE!$A$2:$A$100,MATCH('Access Point (Desc)'!$N299,[1]!MASTER_LID_BOLT_TYPE_DESC[#Data],0),0))","v":""},{"$f":"IF('Access Point (Desc)'!O299=\"\",\"\",INDEX([1]YES_NO!$A$2:$A$100,MATCH('Access Point (Desc)'!$O299,[1]!MASTER_YES_NO_DESC[#Data],0),0))","v":""},{"$f":"IF('Access Point (Desc)'!P299=\"\",\"\",'Access Point (Desc)'!P299)","v":""},{"$f":"IF('Access Point (Desc)'!Q299=\"\",\"\",INDEX([1]YES_NO!$A$2:$A$100,MATCH('Access Point (Desc)'!$Q299,[1]!MASTER_YES_NO_DESC[#Data],0),0))","v":""}]
[{"$f":"IF('Access Point (Desc)'!A300=\"\",\"\",'Access Point (Desc)'!A300)","v":""},{"$f":"IF('Access Point (Desc)'!B300=\"\",\"\",'Access Point (Desc)'!B300)","v":""},{"$f":"IF('Access Point (Desc)'!C300=\"\",\"\",'Access Point (Desc)'!C300)","v":""},{"$f":"IF('Access Point (Desc)'!D300=\"\",\"\",'Access Point (Desc)'!D300)","v":""},{"$f":"IF('Access Point (Desc)'!E300=\"\",\"\",INDEX([1]OWNER!$A$2:$A$100,MATCH('Access Point (Desc)'!$E300,[1]!MASTER_OWNER_DESC[#Data],0),0))","v":""},{"$f":"IF('Access Point (Desc)'!F300=\"\",\"\",INDEX([1]COUNTY!$A$2:$A$100,MATCH('Access Point (Desc)'!F300,[1]!MASTER_COUNTY_NAME[#Data],0),0))","v":""},{"$f":"IF('Access Point (Desc)'!G300=\"\",\"\",'Access Point (Desc)'!G300)","v":""},{"$f":"IF('Access Point (Desc)'!H300=\"\",\"\",'Access Point (Desc)'!H300)","v":""},{"$f":"IF('Access Point (Desc)'!I300=\"\",\"\",INDEX([1]ROUTE_MH_TYPE!$A$2:$A$100,MATCH('Access Point (Desc)'!$I300,[1]!MASTER_ROUTE_MH_TYPE_DESC[#Data],0),0))","v":""},{"$f":"IF('Access Point (Desc)'!J300=\"\",\"\",INDEX([1]MANHOLE_MTL!$A$2:$A$100,MATCH('Access Point (Desc)'!$J300,[1]!MASTER_MANHOLE_MTL_DESC[#Data],0),0))","v":""},{"$f":"IF('Access Point (Desc)'!K300=\"\",\"\",INDEX([1]MANHOLE_SIZE!$A$2:$A$120,MATCH('Access Point (Desc)'!$K300,[1]!MASTER_MANHOLE_SIZE_DESC[#Data],0),0))","v":""},{"$f":"IF('Access Point (Desc)'!L300=\"\",\"\",INDEX([1]ROUTE_MH_LID_TYPE!$A$2:$A$100,MATCH('Access Point (Desc)'!$L300,[1]!MASTER_ROUTE_MH_LID_TYPE_DESC[#Data],0),0))","v":""},{"$f":"IF('Access Point (Desc)'!M300=\"\",\"\",INDEX([1]MANHOLE_MTL!$A$2:$A$100,MATCH('Access Point (Desc)'!$M300,[1]!MASTER_MANHOLE_MTL_DESC[#Data],0),0))","v":""},{"$f":"IF('Access Point (Desc)'!N300=\"\",\"\",INDEX([1]LID_BOLT_TYPE!$A$2:$A$100,MATCH('Access Point (Desc)'!$N300,[1]!MASTER_LID_BOLT_TYPE_DESC[#Data],0),0))","v":""},{"$f":"IF('Access Point (Desc)'!O300=\"\",\"\",INDEX([1]YES_NO!$A$2:$A$100,MATCH('Access Point (Desc)'!$O300,[1]!MASTER_YES_NO_DESC[#Data],0),0))","v":""},{"$f":"IF('Access Point (Desc)'!P300=\"\",\"\",'Access Point (Desc)'!P300)","v":""},{"$f":"IF('Access Point (Desc)'!Q300=\"\",\"\",INDEX([1]YES_NO!$A$2:$A$100,MATCH('Access Point (Desc)'!$Q300,[1]!MASTER_YES_NO_DESC[#Data],0),0))","v":""}]
[{"$f":"IF('Access Point (Desc)'!A301=\"\",\"\",'Access Point (Desc)'!A301)","v":""},{"$f":"IF('Access Point (Desc)'!B301=\"\",\"\",'Access Point (Desc)'!B301)","v":""},{"$f":"IF('Access Point (Desc)'!C301=\"\",\"\",'Access Point (Desc)'!C301)","v":""},{"$f":"IF('Access Point (Desc)'!D301=\"\",\"\",'Access Point (Desc)'!D301)","v":""},{"$f":"IF('Access Point (Desc)'!E301=\"\",\"\",INDEX([1]OWNER!$A$2:$A$100,MATCH('Access Point (Desc)'!$E301,[1]!MASTER_OWNER_DESC[#Data],0),0))","v":""},{"$f":"IF('Access Point (Desc)'!F301=\"\",\"\",INDEX([1]COUNTY!$A$2:$A$100,MATCH('Access Point (Desc)'!F301,[1]!MASTER_COUNTY_NAME[#Data],0),0))","v":""},{"$f":"IF('Access Point (Desc)'!G301=\"\",\"\",'Access Point (Desc)'!G301)","v":""},{"$f":"IF('Access Point (Desc)'!H301=\"\",\"\",'Access Point (Desc)'!H301)","v":""},{"$f":"IF('Access Point (Desc)'!I301=\"\",\"\",INDEX([1]ROUTE_MH_TYPE!$A$2:$A$100,MATCH('Access Point (Desc)'!$I301,[1]!MASTER_ROUTE_MH_TYPE_DESC[#Data],0),0))","v":""},{"$f":"IF('Access Point (Desc)'!J301=\"\",\"\",INDEX([1]MANHOLE_MTL!$A$2:$A$100,MATCH('Access Point (Desc)'!$J301,[1]!MASTER_MANHOLE_MTL_DESC[#Data],0),0))","v":""},{"$f":"IF('Access Point (Desc)'!K301=\"\",\"\",INDEX([1]MANHOLE_SIZE!$A$2:$A$120,MATCH('Access Point (Desc)'!$K301,[1]!MASTER_MANHOLE_SIZE_DESC[#Data],0),0))","v":""},{"$f":"IF('Access Point (Desc)'!L301=\"\",\"\",INDEX([1]ROUTE_MH_LID_TYPE!$A$2:$A$100,MATCH('Access Point (Desc)'!$L301,[1]!MASTER_ROUTE_MH_LID_TYPE_DESC[#Data],0),0))","v":""},{"$f":"IF('Access Point (Desc)'!M301=\"\",\"\",INDEX([1]MANHOLE_MTL!$A$2:$A$100,MATCH('Access Point (Desc)'!$M301,[1]!MASTER_MANHOLE_MTL_DESC[#Data],0),0))","v":""},{"$f":"IF('Access Point (Desc)'!N301=\"\",\"\",INDEX([1]LID_BOLT_TYPE!$A$2:$A$100,MATCH('Access Point (Desc)'!$N301,[1]!MASTER_LID_BOLT_TYPE_DESC[#Data],0),0))","v":""},{"$f":"IF('Access Point (Desc)'!O301=\"\",\"\",INDEX([1]YES_NO!$A$2:$A$100,MATCH('Access Point (Desc)'!$O301,[1]!MASTER_YES_NO_DESC[#Data],0),0))","v":""},{"$f":"IF('Access Point (Desc)'!P301=\"\",\"\",'Access Point (Desc)'!P301)","v":""},{"$f":"IF('Access Point (Desc)'!Q301=\"\",\"\",INDEX([1]YES_NO!$A$2:$A$100,MATCH('Access Point (Desc)'!$Q301,[1]!MASTER_YES_NO_DESC[#Data],0),0))","v":""}]
[{"$f":"IF('Access Point (Desc)'!A302=\"\",\"\",'Access Point (Desc)'!A302)","v":""},{"$f":"IF('Access Point (Desc)'!B302=\"\",\"\",'Access Point (Desc)'!B302)","v":""},{"$f":"IF('Access Point (Desc)'!C302=\"\",\"\",'Access Point (Desc)'!C302)","v":""},{"$f":"IF('Access Point (Desc)'!D302=\"\",\"\",'Access Point (Desc)'!D302)","v":""},{"$f":"IF('Access Point (Desc)'!E302=\"\",\"\",INDEX([1]OWNER!$A$2:$A$100,MATCH('Access Point (Desc)'!$E302,[1]!MASTER_OWNER_DESC[#Data],0),0))","v":""},{"$f":"IF('Access Point (Desc)'!F302=\"\",\"\",INDEX([1]COUNTY!$A$2:$A$100,MATCH('Access Point (Desc)'!F302,[1]!MASTER_COUNTY_NAME[#Data],0),0))","v":""},{"$f":"IF('Access Point (Desc)'!G302=\"\",\"\",'Access Point (Desc)'!G302)","v":""},{"$f":"IF('Access Point (Desc)'!H302=\"\",\"\",'Access Point (Desc)'!H302)","v":""},{"$f":"IF('Access Point (Desc)'!I302=\"\",\"\",INDEX([1]ROUTE_MH_TYPE!$A$2:$A$100,MATCH('Access Point (Desc)'!$I302,[1]!MASTER_ROUTE_MH_TYPE_DESC[#Data],0),0))","v":""},{"$f":"IF('Access Point (Desc)'!J302=\"\",\"\",INDEX([1]MANHOLE_MTL!$A$2:$A$100,MATCH('Access Point (Desc)'!$J302,[1]!MASTER_MANHOLE_MTL_DESC[#Data],0),0))","v":""},{"$f":"IF('Access Point (Desc)'!K302=\"\",\"\",INDEX([1]MANHOLE_SIZE!$A$2:$A$120,MATCH('Access Point (Desc)'!$K302,[1]!MASTER_MANHOLE_SIZE_DESC[#Data],0),0))","v":""},{"$f":"IF('Access Point (Desc)'!L302=\"\",\"\",INDEX([1]ROUTE_MH_LID_TYPE!$A$2:$A$100,MATCH('Access Point (Desc)'!$L302,[1]!MASTER_ROUTE_MH_LID_TYPE_DESC[#Data],0),0))","v":""},{"$f":"IF('Access Point (Desc)'!M302=\"\",\"\",INDEX([1]MANHOLE_MTL!$A$2:$A$100,MATCH('Access Point (Desc)'!$M302,[1]!MASTER_MANHOLE_MTL_DESC[#Data],0),0))","v":""},{"$f":"IF('Access Point (Desc)'!N302=\"\",\"\",INDEX([1]LID_BOLT_TYPE!$A$2:$A$100,MATCH('Access Point (Desc)'!$N302,[1]!MASTER_LID_BOLT_TYPE_DESC[#Data],0),0))","v":""},{"$f":"IF('Access Point (Desc)'!O302=\"\",\"\",INDEX([1]YES_NO!$A$2:$A$100,MATCH('Access Point (Desc)'!$O302,[1]!MASTER_YES_NO_DESC[#Data],0),0))","v":""},{"$f":"IF('Access Point (Desc)'!P302=\"\",\"\",'Access Point (Desc)'!P302)","v":""},{"$f":"IF('Access Point (Desc)'!Q302=\"\",\"\",INDEX([1]YES_NO!$A$2:$A$100,MATCH('Access Point (Desc)'!$Q302,[1]!MASTER_YES_NO_DESC[#Data],0),0))","v":""}]
[{"$f":"IF('Access Point (Desc)'!A303=\"\",\"\",'Access Point (Desc)'!A303)","v":""},{"$f":"IF('Access Point (Desc)'!B303=\"\",\"\",'Access Point (Desc)'!B303)","v":""},{"$f":"IF('Access Point (Desc)'!C303=\"\",\"\",'Access Point (Desc)'!C303)","v":""},{"$f":"IF('Access Point (Desc)'!D303=\"\",\"\",'Access Point (Desc)'!D303)","v":""},{"$f":"IF('Access Point (Desc)'!E303=\"\",\"\",INDEX([1]OWNER!$A$2:$A$100,MATCH('Access Point (Desc)'!$E303,[1]!MASTER_OWNER_DESC[#Data],0),0))","v":""},{"$f":"IF('Access Point (Desc)'!F303=\"\",\"\",INDEX([1]COUNTY!$A$2:$A$100,MATCH('Access Point (Desc)'!F303,[1]!MASTER_COUNTY_NAME[#Data],0),0))","v":""},{"$f":"IF('Access Point (Desc)'!G303=\"\",\"\",'Access Point (Desc)'!G303)","v":""},{"$f":"IF('Access Point (Desc)'!H303=\"\",\"\",'Access Point (Desc)'!H303)","v":""},{"$f":"IF('Access Point (Desc)'!I303=\"\",\"\",INDEX([1]ROUTE_MH_TYPE!$A$2:$A$100,MATCH('Access Point (Desc)'!$I303,[1]!MASTER_ROUTE_MH_TYPE_DESC[#Data],0),0))","v":""},{"$f":"IF('Access Point (Desc)'!J303=\"\",\"\",INDEX([1]MANHOLE_MTL!$A$2:$A$100,MATCH('Access Point (Desc)'!$J303,[1]!MASTER_MANHOLE_MTL_DESC[#Data],0),0))","v":""},{"$f":"IF('Access Point (Desc)'!K303=\"\",\"\",INDEX([1]MANHOLE_SIZE!$A$2:$A$120,MATCH('Access Point (Desc)'!$K303,[1]!MASTER_MANHOLE_SIZE_DESC[#Data],0),0))","v":""},{"$f":"IF('Access Point (Desc)'!L303=\"\",\"\",INDEX([1]ROUTE_MH_LID_TYPE!$A$2:$A$100,MATCH('Access Point (Desc)'!$L303,[1]!MASTER_ROUTE_MH_LID_TYPE_DESC[#Data],0),0))","v":""},{"$f":"IF('Access Point (Desc)'!M303=\"\",\"\",INDEX([1]MANHOLE_MTL!$A$2:$A$100,MATCH('Access Point (Desc)'!$M303,[1]!MASTER_MANHOLE_MTL_DESC[#Data],0),0))","v":""},{"$f":"IF('Access Point (Desc)'!N303=\"\",\"\",INDEX([1]LID_BOLT_TYPE!$A$2:$A$100,MATCH('Access Point (Desc)'!$N303,[1]!MASTER_LID_BOLT_TYPE_DESC[#Data],0),0))","v":""},{"$f":"IF('Access Point (Desc)'!O303=\"\",\"\",INDEX([1]YES_NO!$A$2:$A$100,MATCH('Access Point (Desc)'!$O303,[1]!MASTER_YES_NO_DESC[#Data],0),0))","v":""},{"$f":"IF('Access Point (Desc)'!P303=\"\",\"\",'Access Point (Desc)'!P303)","v":""},{"$f":"IF('Access Point (Desc)'!Q303=\"\",\"\",INDEX([1]YES_NO!$A$2:$A$100,MATCH('Access Point (Desc)'!$Q303,[1]!MASTER_YES_NO_DESC[#Data],0),0))","v":""}]
[{"$f":"IF('Access Point (Desc)'!A304=\"\",\"\",'Access Point (Desc)'!A304)","v":""},{"$f":"IF('Access Point (Desc)'!B304=\"\",\"\",'Access Point (Desc)'!B304)","v":""},{"$f":"IF('Access Point (Desc)'!C304=\"\",\"\",'Access Point (Desc)'!C304)","v":""},{"$f":"IF('Access Point (Desc)'!D304=\"\",\"\",'Access Point (Desc)'!D304)","v":""},{"$f":"IF('Access Point (Desc)'!E304=\"\",\"\",INDEX([1]OWNER!$A$2:$A$100,MATCH('Access Point (Desc)'!$E304,[1]!MASTER_OWNER_DESC[#Data],0),0))","v":""},{"$f":"IF('Access Point (Desc)'!F304=\"\",\"\",INDEX([1]COUNTY!$A$2:$A$100,MATCH('Access Point (Desc)'!F304,[1]!MASTER_COUNTY_NAME[#Data],0),0))","v":""},{"$f":"IF('Access Point (Desc)'!G304=\"\",\"\",'Access Point (Desc)'!G304)","v":""},{"$f":"IF('Access Point (Desc)'!H304=\"\",\"\",'Access Point (Desc)'!H304)","v":""},{"$f":"IF('Access Point (Desc)'!I304=\"\",\"\",INDEX([1]ROUTE_MH_TYPE!$A$2:$A$100,MATCH('Access Point (Desc)'!$I304,[1]!MASTER_ROUTE_MH_TYPE_DESC[#Data],0),0))","v":""},{"$f":"IF('Access Point (Desc)'!J304=\"\",\"\",INDEX([1]MANHOLE_MTL!$A$2:$A$100,MATCH('Access Point (Desc)'!$J304,[1]!MASTER_MANHOLE_MTL_DESC[#Data],0),0))","v":""},{"$f":"IF('Access Point (Desc)'!K304=\"\",\"\",INDEX([1]MANHOLE_SIZE!$A$2:$A$120,MATCH('Access Point (Desc)'!$K304,[1]!MASTER_MANHOLE_SIZE_DESC[#Data],0),0))","v":""},{"$f":"IF('Access Point (Desc)'!L304=\"\",\"\",INDEX([1]ROUTE_MH_LID_TYPE!$A$2:$A$100,MATCH('Access Point (Desc)'!$L304,[1]!MASTER_ROUTE_MH_LID_TYPE_DESC[#Data],0),0))","v":""},{"$f":"IF('Access Point (Desc)'!M304=\"\",\"\",INDEX([1]MANHOLE_MTL!$A$2:$A$100,MATCH('Access Point (Desc)'!$M304,[1]!MASTER_MANHOLE_MTL_DESC[#Data],0),0))","v":""},{"$f":"IF('Access Point (Desc)'!N304=\"\",\"\",INDEX([1]LID_BOLT_TYPE!$A$2:$A$100,MATCH('Access Point (Desc)'!$N304,[1]!MASTER_LID_BOLT_TYPE_DESC[#Data],0),0))","v":""},{"$f":"IF('Access Point (Desc)'!O304=\"\",\"\",INDEX([1]YES_NO!$A$2:$A$100,MATCH('Access Point (Desc)'!$O304,[1]!MASTER_YES_NO_DESC[#Data],0),0))","v":""},{"$f":"IF('Access Point (Desc)'!P304=\"\",\"\",'Access Point (Desc)'!P304)","v":""},{"$f":"IF('Access Point (Desc)'!Q304=\"\",\"\",INDEX([1]YES_NO!$A$2:$A$100,MATCH('Access Point (Desc)'!$Q304,[1]!MASTER_YES_NO_DESC[#Data],0),0))","v":""}]
[{"$f":"IF('Access Point (Desc)'!A305=\"\",\"\",'Access Point (Desc)'!A305)","v":""},{"$f":"IF('Access Point (Desc)'!B305=\"\",\"\",'Access Point (Desc)'!B305)","v":""},{"$f":"IF('Access Point (Desc)'!C305=\"\",\"\",'Access Point (Desc)'!C305)","v":""},{"$f":"IF('Access Point (Desc)'!D305=\"\",\"\",'Access Point (Desc)'!D305)","v":""},{"$f":"IF('Access Point (Desc)'!E305=\"\",\"\",INDEX([1]OWNER!$A$2:$A$100,MATCH('Access Point (Desc)'!$E305,[1]!MASTER_OWNER_DESC[#Data],0),0))","v":""},{"$f":"IF('Access Point (Desc)'!F305=\"\",\"\",INDEX([1]COUNTY!$A$2:$A$100,MATCH('Access Point (Desc)'!F305,[1]!MASTER_COUNTY_NAME[#Data],0),0))","v":""},{"$f":"IF('Access Point (Desc)'!G305=\"\",\"\",'Access Point (Desc)'!G305)","v":""},{"$f":"IF('Access Point (Desc)'!H305=\"\",\"\",'Access Point (Desc)'!H305)","v":""},{"$f":"IF('Access Point (Desc)'!I305=\"\",\"\",INDEX([1]ROUTE_MH_TYPE!$A$2:$A$100,MATCH('Access Point (Desc)'!$I305,[1]!MASTER_ROUTE_MH_TYPE_DESC[#Data],0),0))","v":""},{"$f":"IF('Access Point (Desc)'!J305=\"\",\"\",INDEX([1]MANHOLE_MTL!$A$2:$A$100,MATCH('Access Point (Desc)'!$J305,[1]!MASTER_MANHOLE_MTL_DESC[#Data],0),0))","v":""},{"$f":"IF('Access Point (Desc)'!K305=\"\",\"\",INDEX([1]MANHOLE_SIZE!$A$2:$A$120,MATCH('Access Point (Desc)'!$K305,[1]!MASTER_MANHOLE_SIZE_DESC[#Data],0),0))","v":""},{"$f":"IF('Access Point (Desc)'!L305=\"\",\"\",INDEX([1]ROUTE_MH_LID_TYPE!$A$2:$A$100,MATCH('Access Point (Desc)'!$L305,[1]!MASTER_ROUTE_MH_LID_TYPE_DESC[#Data],0),0))","v":""},{"$f":"IF('Access Point (Desc)'!M305=\"\",\"\",INDEX([1]MANHOLE_MTL!$A$2:$A$100,MATCH('Access Point (Desc)'!$M305,[1]!MASTER_MANHOLE_MTL_DESC[#Data],0),0))","v":""},{"$f":"IF('Access Point (Desc)'!N305=\"\",\"\",INDEX([1]LID_BOLT_TYPE!$A$2:$A$100,MATCH('Access Point (Desc)'!$N305,[1]!MASTER_LID_BOLT_TYPE_DESC[#Data],0),0))","v":""},{"$f":"IF('Access Point (Desc)'!O305=\"\",\"\",INDEX([1]YES_NO!$A$2:$A$100,MATCH('Access Point (Desc)'!$O305,[1]!MASTER_YES_NO_DESC[#Data],0),0))","v":""},{"$f":"IF('Access Point (Desc)'!P305=\"\",\"\",'Access Point (Desc)'!P305)","v":""},{"$f":"IF('Access Point (Desc)'!Q305=\"\",\"\",INDEX([1]YES_NO!$A$2:$A$100,MATCH('Access Point (Desc)'!$Q305,[1]!MASTER_YES_NO_DESC[#Data],0),0))","v":""}]
[{"$f":"IF('Access Point (Desc)'!A306=\"\",\"\",'Access Point (Desc)'!A306)","v":""},{"$f":"IF('Access Point (Desc)'!B306=\"\",\"\",'Access Point (Desc)'!B306)","v":""},{"$f":"IF('Access Point (Desc)'!C306=\"\",\"\",'Access Point (Desc)'!C306)","v":""},{"$f":"IF('Access Point (Desc)'!D306=\"\",\"\",'Access Point (Desc)'!D306)","v":""},{"$f":"IF('Access Point (Desc)'!E306=\"\",\"\",INDEX([1]OWNER!$A$2:$A$100,MATCH('Access Point (Desc)'!$E306,[1]!MASTER_OWNER_DESC[#Data],0),0))","v":""},{"$f":"IF('Access Point (Desc)'!F306=\"\",\"\",INDEX([1]COUNTY!$A$2:$A$100,MATCH('Access Point (Desc)'!F306,[1]!MASTER_COUNTY_NAME[#Data],0),0))","v":""},{"$f":"IF('Access Point (Desc)'!G306=\"\",\"\",'Access Point (Desc)'!G306)","v":""},{"$f":"IF('Access Point (Desc)'!H306=\"\",\"\",'Access Point (Desc)'!H306)","v":""},{"$f":"IF('Access Point (Desc)'!I306=\"\",\"\",INDEX([1]ROUTE_MH_TYPE!$A$2:$A$100,MATCH('Access Point (Desc)'!$I306,[1]!MASTER_ROUTE_MH_TYPE_DESC[#Data],0),0))","v":""},{"$f":"IF('Access Point (Desc)'!J306=\"\",\"\",INDEX([1]MANHOLE_MTL!$A$2:$A$100,MATCH('Access Point (Desc)'!$J306,[1]!MASTER_MANHOLE_MTL_DESC[#Data],0),0))","v":""},{"$f":"IF('Access Point (Desc)'!K306=\"\",\"\",INDEX([1]MANHOLE_SIZE!$A$2:$A$120,MATCH('Access Point (Desc)'!$K306,[1]!MASTER_MANHOLE_SIZE_DESC[#Data],0),0))","v":""},{"$f":"IF('Access Point (Desc)'!L306=\"\",\"\",INDEX([1]ROUTE_MH_LID_TYPE!$A$2:$A$100,MATCH('Access Point (Desc)'!$L306,[1]!MASTER_ROUTE_MH_LID_TYPE_DESC[#Data],0),0))","v":""},{"$f":"IF('Access Point (Desc)'!M306=\"\",\"\",INDEX([1]MANHOLE_MTL!$A$2:$A$100,MATCH('Access Point (Desc)'!$M306,[1]!MASTER_MANHOLE_MTL_DESC[#Data],0),0))","v":""},{"$f":"IF('Access Point (Desc)'!N306=\"\",\"\",INDEX([1]LID_BOLT_TYPE!$A$2:$A$100,MATCH('Access Point (Desc)'!$N306,[1]!MASTER_LID_BOLT_TYPE_DESC[#Data],0),0))","v":""},{"$f":"IF('Access Point (Desc)'!O306=\"\",\"\",INDEX([1]YES_NO!$A$2:$A$100,MATCH('Access Point (Desc)'!$O306,[1]!MASTER_YES_NO_DESC[#Data],0),0))","v":""},{"$f":"IF('Access Point (Desc)'!P306=\"\",\"\",'Access Point (Desc)'!P306)","v":""},{"$f":"IF('Access Point (Desc)'!Q306=\"\",\"\",INDEX([1]YES_NO!$A$2:$A$100,MATCH('Access Point (Desc)'!$Q306,[1]!MASTER_YES_NO_DESC[#Data],0),0))","v":""}]
[{"$f":"IF('Access Point (Desc)'!A307=\"\",\"\",'Access Point (Desc)'!A307)","v":""},{"$f":"IF('Access Point (Desc)'!B307=\"\",\"\",'Access Point (Desc)'!B307)","v":""},{"$f":"IF('Access Point (Desc)'!C307=\"\",\"\",'Access Point (Desc)'!C307)","v":""},{"$f":"IF('Access Point (Desc)'!D307=\"\",\"\",'Access Point (Desc)'!D307)","v":""},{"$f":"IF('Access Point (Desc)'!E307=\"\",\"\",INDEX([1]OWNER!$A$2:$A$100,MATCH('Access Point (Desc)'!$E307,[1]!MASTER_OWNER_DESC[#Data],0),0))","v":""},{"$f":"IF('Access Point (Desc)'!F307=\"\",\"\",INDEX([1]COUNTY!$A$2:$A$100,MATCH('Access Point (Desc)'!F307,[1]!MASTER_COUNTY_NAME[#Data],0),0))","v":""},{"$f":"IF('Access Point (Desc)'!G307=\"\",\"\",'Access Point (Desc)'!G307)","v":""},{"$f":"IF('Access Point (Desc)'!H307=\"\",\"\",'Access Point (Desc)'!H307)","v":""},{"$f":"IF('Access Point (Desc)'!I307=\"\",\"\",INDEX([1]ROUTE_MH_TYPE!$A$2:$A$100,MATCH('Access Point (Desc)'!$I307,[1]!MASTER_ROUTE_MH_TYPE_DESC[#Data],0),0))","v":""},{"$f":"IF('Access Point (Desc)'!J307=\"\",\"\",INDEX([1]MANHOLE_MTL!$A$2:$A$100,MATCH('Access Point (Desc)'!$J307,[1]!MASTER_MANHOLE_MTL_DESC[#Data],0),0))","v":""},{"$f":"IF('Access Point (Desc)'!K307=\"\",\"\",INDEX([1]MANHOLE_SIZE!$A$2:$A$120,MATCH('Access Point (Desc)'!$K307,[1]!MASTER_MANHOLE_SIZE_DESC[#Data],0),0))","v":""},{"$f":"IF('Access Point (Desc)'!L307=\"\",\"\",INDEX([1]ROUTE_MH_LID_TYPE!$A$2:$A$100,MATCH('Access Point (Desc)'!$L307,[1]!MASTER_ROUTE_MH_LID_TYPE_DESC[#Data],0),0))","v":""},{"$f":"IF('Access Point (Desc)'!M307=\"\",\"\",INDEX([1]MANHOLE_MTL!$A$2:$A$100,MATCH('Access Point (Desc)'!$M307,[1]!MASTER_MANHOLE_MTL_DESC[#Data],0),0))","v":""},{"$f":"IF('Access Point (Desc)'!N307=\"\",\"\",INDEX([1]LID_BOLT_TYPE!$A$2:$A$100,MATCH('Access Point (Desc)'!$N307,[1]!MASTER_LID_BOLT_TYPE_DESC[#Data],0),0))","v":""},{"$f":"IF('Access Point (Desc)'!O307=\"\",\"\",INDEX([1]YES_NO!$A$2:$A$100,MATCH('Access Point (Desc)'!$O307,[1]!MASTER_YES_NO_DESC[#Data],0),0))","v":""},{"$f":"IF('Access Point (Desc)'!P307=\"\",\"\",'Access Point (Desc)'!P307)","v":""},{"$f":"IF('Access Point (Desc)'!Q307=\"\",\"\",INDEX([1]YES_NO!$A$2:$A$100,MATCH('Access Point (Desc)'!$Q307,[1]!MASTER_YES_NO_DESC[#Data],0),0))","v":""}]
[{"$f":"IF('Access Point (Desc)'!A308=\"\",\"\",'Access Point (Desc)'!A308)","v":""},{"$f":"IF('Access Point (Desc)'!B308=\"\",\"\",'Access Point (Desc)'!B308)","v":""},{"$f":"IF('Access Point (Desc)'!C308=\"\",\"\",'Access Point (Desc)'!C308)","v":""},{"$f":"IF('Access Point (Desc)'!D308=\"\",\"\",'Access Point (Desc)'!D308)","v":""},{"$f":"IF('Access Point (Desc)'!E308=\"\",\"\",INDEX([1]OWNER!$A$2:$A$100,MATCH('Access Point (Desc)'!$E308,[1]!MASTER_OWNER_DESC[#Data],0),0))","v":""},{"$f":"IF('Access Point (Desc)'!F308=\"\",\"\",INDEX([1]COUNTY!$A$2:$A$100,MATCH('Access Point (Desc)'!F308,[1]!MASTER_COUNTY_NAME[#Data],0),0))","v":""},{"$f":"IF('Access Point (Desc)'!G308=\"\",\"\",'Access Point (Desc)'!G308)","v":""},{"$f":"IF('Access Point (Desc)'!H308=\"\",\"\",'Access Point (Desc)'!H308)","v":""},{"$f":"IF('Access Point (Desc)'!I308=\"\",\"\",INDEX([1]ROUTE_MH_TYPE!$A$2:$A$100,MATCH('Access Point (Desc)'!$I308,[1]!MASTER_ROUTE_MH_TYPE_DESC[#Data],0),0))","v":""},{"$f":"IF('Access Point (Desc)'!J308=\"\",\"\",INDEX([1]MANHOLE_MTL!$A$2:$A$100,MATCH('Access Point (Desc)'!$J308,[1]!MASTER_MANHOLE_MTL_DESC[#Data],0),0))","v":""},{"$f":"IF('Access Point (Desc)'!K308=\"\",\"\",INDEX([1]MANHOLE_SIZE!$A$2:$A$120,MATCH('Access Point (Desc)'!$K308,[1]!MASTER_MANHOLE_SIZE_DESC[#Data],0),0))","v":""},{"$f":"IF('Access Point (Desc)'!L308=\"\",\"\",INDEX([1]ROUTE_MH_LID_TYPE!$A$2:$A$100,MATCH('Access Point (Desc)'!$L308,[1]!MASTER_ROUTE_MH_LID_TYPE_DESC[#Data],0),0))","v":""},{"$f":"IF('Access Point (Desc)'!M308=\"\",\"\",INDEX([1]MANHOLE_MTL!$A$2:$A$100,MATCH('Access Point (Desc)'!$M308,[1]!MASTER_MANHOLE_MTL_DESC[#Data],0),0))","v":""},{"$f":"IF('Access Point (Desc)'!N308=\"\",\"\",INDEX([1]LID_BOLT_TYPE!$A$2:$A$100,MATCH('Access Point (Desc)'!$N308,[1]!MASTER_LID_BOLT_TYPE_DESC[#Data],0),0))","v":""},{"$f":"IF('Access Point (Desc)'!O308=\"\",\"\",INDEX([1]YES_NO!$A$2:$A$100,MATCH('Access Point (Desc)'!$O308,[1]!MASTER_YES_NO_DESC[#Data],0),0))","v":""},{"$f":"IF('Access Point (Desc)'!P308=\"\",\"\",'Access Point (Desc)'!P308)","v":""},{"$f":"IF('Access Point (Desc)'!Q308=\"\",\"\",INDEX([1]YES_NO!$A$2:$A$100,MATCH('Access Point (Desc)'!$Q308,[1]!MASTER_YES_NO_DESC[#Data],0),0))","v":""}]
[{"$f":"IF('Access Point (Desc)'!A309=\"\",\"\",'Access Point (Desc)'!A309)","v":""},{"$f":"IF('Access Point (Desc)'!B309=\"\",\"\",'Access Point (Desc)'!B309)","v":""},{"$f":"IF('Access Point (Desc)'!C309=\"\",\"\",'Access Point (Desc)'!C309)","v":""},{"$f":"IF('Access Point (Desc)'!D309=\"\",\"\",'Access Point (Desc)'!D309)","v":""},{"$f":"IF('Access Point (Desc)'!E309=\"\",\"\",INDEX([1]OWNER!$A$2:$A$100,MATCH('Access Point (Desc)'!$E309,[1]!MASTER_OWNER_DESC[#Data],0),0))","v":""},{"$f":"IF('Access Point (Desc)'!F309=\"\",\"\",INDEX([1]COUNTY!$A$2:$A$100,MATCH('Access Point (Desc)'!F309,[1]!MASTER_COUNTY_NAME[#Data],0),0))","v":""},{"$f":"IF('Access Point (Desc)'!G309=\"\",\"\",'Access Point (Desc)'!G309)","v":""},{"$f":"IF('Access Point (Desc)'!H309=\"\",\"\",'Access Point (Desc)'!H309)","v":""},{"$f":"IF('Access Point (Desc)'!I309=\"\",\"\",INDEX([1]ROUTE_MH_TYPE!$A$2:$A$100,MATCH('Access Point (Desc)'!$I309,[1]!MASTER_ROUTE_MH_TYPE_DESC[#Data],0),0))","v":""},{"$f":"IF('Access Point (Desc)'!J309=\"\",\"\",INDEX([1]MANHOLE_MTL!$A$2:$A$100,MATCH('Access Point (Desc)'!$J309,[1]!MASTER_MANHOLE_MTL_DESC[#Data],0),0))","v":""},{"$f":"IF('Access Point (Desc)'!K309=\"\",\"\",INDEX([1]MANHOLE_SIZE!$A$2:$A$120,MATCH('Access Point (Desc)'!$K309,[1]!MASTER_MANHOLE_SIZE_DESC[#Data],0),0))","v":""},{"$f":"IF('Access Point (Desc)'!L309=\"\",\"\",INDEX([1]ROUTE_MH_LID_TYPE!$A$2:$A$100,MATCH('Access Point (Desc)'!$L309,[1]!MASTER_ROUTE_MH_LID_TYPE_DESC[#Data],0),0))","v":""},{"$f":"IF('Access Point (Desc)'!M309=\"\",\"\",INDEX([1]MANHOLE_MTL!$A$2:$A$100,MATCH('Access Point (Desc)'!$M309,[1]!MASTER_MANHOLE_MTL_DESC[#Data],0),0))","v":""},{"$f":"IF('Access Point (Desc)'!N309=\"\",\"\",INDEX([1]LID_BOLT_TYPE!$A$2:$A$100,MATCH('Access Point (Desc)'!$N309,[1]!MASTER_LID_BOLT_TYPE_DESC[#Data],0),0))","v":""},{"$f":"IF('Access Point (Desc)'!O309=\"\",\"\",INDEX([1]YES_NO!$A$2:$A$100,MATCH('Access Point (Desc)'!$O309,[1]!MASTER_YES_NO_DESC[#Data],0),0))","v":""},{"$f":"IF('Access Point (Desc)'!P309=\"\",\"\",'Access Point (Desc)'!P309)","v":""},{"$f":"IF('Access Point (Desc)'!Q309=\"\",\"\",INDEX([1]YES_NO!$A$2:$A$100,MATCH('Access Point (Desc)'!$Q309,[1]!MASTER_YES_NO_DESC[#Data],0),0))","v":""}]
[{"$f":"IF('Access Point (Desc)'!A310=\"\",\"\",'Access Point (Desc)'!A310)","v":""},{"$f":"IF('Access Point (Desc)'!B310=\"\",\"\",'Access Point (Desc)'!B310)","v":""},{"$f":"IF('Access Point (Desc)'!C310=\"\",\"\",'Access Point (Desc)'!C310)","v":""},{"$f":"IF('Access Point (Desc)'!D310=\"\",\"\",'Access Point (Desc)'!D310)","v":""},{"$f":"IF('Access Point (Desc)'!E310=\"\",\"\",INDEX([1]OWNER!$A$2:$A$100,MATCH('Access Point (Desc)'!$E310,[1]!MASTER_OWNER_DESC[#Data],0),0))","v":""},{"$f":"IF('Access Point (Desc)'!F310=\"\",\"\",INDEX([1]COUNTY!$A$2:$A$100,MATCH('Access Point (Desc)'!F310,[1]!MASTER_COUNTY_NAME[#Data],0),0))","v":""},{"$f":"IF('Access Point (Desc)'!G310=\"\",\"\",'Access Point (Desc)'!G310)","v":""},{"$f":"IF('Access Point (Desc)'!H310=\"\",\"\",'Access Point (Desc)'!H310)","v":""},{"$f":"IF('Access Point (Desc)'!I310=\"\",\"\",INDEX([1]ROUTE_MH_TYPE!$A$2:$A$100,MATCH('Access Point (Desc)'!$I310,[1]!MASTER_ROUTE_MH_TYPE_DESC[#Data],0),0))","v":""},{"$f":"IF('Access Point (Desc)'!J310=\"\",\"\",INDEX([1]MANHOLE_MTL!$A$2:$A$100,MATCH('Access Point (Desc)'!$J310,[1]!MASTER_MANHOLE_MTL_DESC[#Data],0),0))","v":""},{"$f":"IF('Access Point (Desc)'!K310=\"\",\"\",INDEX([1]MANHOLE_SIZE!$A$2:$A$120,MATCH('Access Point (Desc)'!$K310,[1]!MASTER_MANHOLE_SIZE_DESC[#Data],0),0))","v":""},{"$f":"IF('Access Point (Desc)'!L310=\"\",\"\",INDEX([1]ROUTE_MH_LID_TYPE!$A$2:$A$100,MATCH('Access Point (Desc)'!$L310,[1]!MASTER_ROUTE_MH_LID_TYPE_DESC[#Data],0),0))","v":""},{"$f":"IF('Access Point (Desc)'!M310=\"\",\"\",INDEX([1]MANHOLE_MTL!$A$2:$A$100,MATCH('Access Point (Desc)'!$M310,[1]!MASTER_MANHOLE_MTL_DESC[#Data],0),0))","v":""},{"$f":"IF('Access Point (Desc)'!N310=\"\",\"\",INDEX([1]LID_BOLT_TYPE!$A$2:$A$100,MATCH('Access Point (Desc)'!$N310,[1]!MASTER_LID_BOLT_TYPE_DESC[#Data],0),0))","v":""},{"$f":"IF('Access Point (Desc)'!O310=\"\",\"\",INDEX([1]YES_NO!$A$2:$A$100,MATCH('Access Point (Desc)'!$O310,[1]!MASTER_YES_NO_DESC[#Data],0),0))","v":""},{"$f":"IF('Access Point (Desc)'!P310=\"\",\"\",'Access Point (Desc)'!P310)","v":""},{"$f":"IF('Access Point (Desc)'!Q310=\"\",\"\",INDEX([1]YES_NO!$A$2:$A$100,MATCH('Access Point (Desc)'!$Q310,[1]!MASTER_YES_NO_DESC[#Data],0),0))","v":""}]
[{"$f":"IF('Access Point (Desc)'!A311=\"\",\"\",'Access Point (Desc)'!A311)","v":""},{"$f":"IF('Access Point (Desc)'!B311=\"\",\"\",'Access Point (Desc)'!B311)","v":""},{"$f":"IF('Access Point (Desc)'!C311=\"\",\"\",'Access Point (Desc)'!C311)","v":""},{"$f":"IF('Access Point (Desc)'!D311=\"\",\"\",'Access Point (Desc)'!D311)","v":""},{"$f":"IF('Access Point (Desc)'!E311=\"\",\"\",INDEX([1]OWNER!$A$2:$A$100,MATCH('Access Point (Desc)'!$E311,[1]!MASTER_OWNER_DESC[#Data],0),0))","v":""},{"$f":"IF('Access Point (Desc)'!F311=\"\",\"\",INDEX([1]COUNTY!$A$2:$A$100,MATCH('Access Point (Desc)'!F311,[1]!MASTER_COUNTY_NAME[#Data],0),0))","v":""},{"$f":"IF('Access Point (Desc)'!G311=\"\",\"\",'Access Point (Desc)'!G311)","v":""},{"$f":"IF('Access Point (Desc)'!H311=\"\",\"\",'Access Point (Desc)'!H311)","v":""},{"$f":"IF('Access Point (Desc)'!I311=\"\",\"\",INDEX([1]ROUTE_MH_TYPE!$A$2:$A$100,MATCH('Access Point (Desc)'!$I311,[1]!MASTER_ROUTE_MH_TYPE_DESC[#Data],0),0))","v":""},{"$f":"IF('Access Point (Desc)'!J311=\"\",\"\",INDEX([1]MANHOLE_MTL!$A$2:$A$100,MATCH('Access Point (Desc)'!$J311,[1]!MASTER_MANHOLE_MTL_DESC[#Data],0),0))","v":""},{"$f":"IF('Access Point (Desc)'!K311=\"\",\"\",INDEX([1]MANHOLE_SIZE!$A$2:$A$120,MATCH('Access Point (Desc)'!$K311,[1]!MASTER_MANHOLE_SIZE_DESC[#Data],0),0))","v":""},{"$f":"IF('Access Point (Desc)'!L311=\"\",\"\",INDEX([1]ROUTE_MH_LID_TYPE!$A$2:$A$100,MATCH('Access Point (Desc)'!$L311,[1]!MASTER_ROUTE_MH_LID_TYPE_DESC[#Data],0),0))","v":""},{"$f":"IF('Access Point (Desc)'!M311=\"\",\"\",INDEX([1]MANHOLE_MTL!$A$2:$A$100,MATCH('Access Point (Desc)'!$M311,[1]!MASTER_MANHOLE_MTL_DESC[#Data],0),0))","v":""},{"$f":"IF('Access Point (Desc)'!N311=\"\",\"\",INDEX([1]LID_BOLT_TYPE!$A$2:$A$100,MATCH('Access Point (Desc)'!$N311,[1]!MASTER_LID_BOLT_TYPE_DESC[#Data],0),0))","v":""},{"$f":"IF('Access Point (Desc)'!O311=\"\",\"\",INDEX([1]YES_NO!$A$2:$A$100,MATCH('Access Point (Desc)'!$O311,[1]!MASTER_YES_NO_DESC[#Data],0),0))","v":""},{"$f":"IF('Access Point (Desc)'!P311=\"\",\"\",'Access Point (Desc)'!P311)","v":""},{"$f":"IF('Access Point (Desc)'!Q311=\"\",\"\",INDEX([1]YES_NO!$A$2:$A$100,MATCH('Access Point (Desc)'!$Q311,[1]!MASTER_YES_NO_DESC[#Data],0),0))","v":""}]
[{"$f":"IF('Access Point (Desc)'!A312=\"\",\"\",'Access Point (Desc)'!A312)","v":""},{"$f":"IF('Access Point (Desc)'!B312=\"\",\"\",'Access Point (Desc)'!B312)","v":""},{"$f":"IF('Access Point (Desc)'!C312=\"\",\"\",'Access Point (Desc)'!C312)","v":""},{"$f":"IF('Access Point (Desc)'!D312=\"\",\"\",'Access Point (Desc)'!D312)","v":""},{"$f":"IF('Access Point (Desc)'!E312=\"\",\"\",INDEX([1]OWNER!$A$2:$A$100,MATCH('Access Point (Desc)'!$E312,[1]!MASTER_OWNER_DESC[#Data],0),0))","v":""},{"$f":"IF('Access Point (Desc)'!F312=\"\",\"\",INDEX([1]COUNTY!$A$2:$A$100,MATCH('Access Point (Desc)'!F312,[1]!MASTER_COUNTY_NAME[#Data],0),0))","v":""},{"$f":"IF('Access Point (Desc)'!G312=\"\",\"\",'Access Point (Desc)'!G312)","v":""},{"$f":"IF('Access Point (Desc)'!H312=\"\",\"\",'Access Point (Desc)'!H312)","v":""},{"$f":"IF('Access Point (Desc)'!I312=\"\",\"\",INDEX([1]ROUTE_MH_TYPE!$A$2:$A$100,MATCH('Access Point (Desc)'!$I312,[1]!MASTER_ROUTE_MH_TYPE_DESC[#Data],0),0))","v":""},{"$f":"IF('Access Point (Desc)'!J312=\"\",\"\",INDEX([1]MANHOLE_MTL!$A$2:$A$100,MATCH('Access Point (Desc)'!$J312,[1]!MASTER_MANHOLE_MTL_DESC[#Data],0),0))","v":""},{"$f":"IF('Access Point (Desc)'!K312=\"\",\"\",INDEX([1]MANHOLE_SIZE!$A$2:$A$120,MATCH('Access Point (Desc)'!$K312,[1]!MASTER_MANHOLE_SIZE_DESC[#Data],0),0))","v":""},{"$f":"IF('Access Point (Desc)'!L312=\"\",\"\",INDEX([1]ROUTE_MH_LID_TYPE!$A$2:$A$100,MATCH('Access Point (Desc)'!$L312,[1]!MASTER_ROUTE_MH_LID_TYPE_DESC[#Data],0),0))","v":""},{"$f":"IF('Access Point (Desc)'!M312=\"\",\"\",INDEX([1]MANHOLE_MTL!$A$2:$A$100,MATCH('Access Point (Desc)'!$M312,[1]!MASTER_MANHOLE_MTL_DESC[#Data],0),0))","v":""},{"$f":"IF('Access Point (Desc)'!N312=\"\",\"\",INDEX([1]LID_BOLT_TYPE!$A$2:$A$100,MATCH('Access Point (Desc)'!$N312,[1]!MASTER_LID_BOLT_TYPE_DESC[#Data],0),0))","v":""},{"$f":"IF('Access Point (Desc)'!O312=\"\",\"\",INDEX([1]YES_NO!$A$2:$A$100,MATCH('Access Point (Desc)'!$O312,[1]!MASTER_YES_NO_DESC[#Data],0),0))","v":""},{"$f":"IF('Access Point (Desc)'!P312=\"\",\"\",'Access Point (Desc)'!P312)","v":""},{"$f":"IF('Access Point (Desc)'!Q312=\"\",\"\",INDEX([1]YES_NO!$A$2:$A$100,MATCH('Access Point (Desc)'!$Q312,[1]!MASTER_YES_NO_DESC[#Data],0),0))","v":""}]
[{"$f":"IF('Access Point (Desc)'!A313=\"\",\"\",'Access Point (Desc)'!A313)","v":""},{"$f":"IF('Access Point (Desc)'!B313=\"\",\"\",'Access Point (Desc)'!B313)","v":""},{"$f":"IF('Access Point (Desc)'!C313=\"\",\"\",'Access Point (Desc)'!C313)","v":""},{"$f":"IF('Access Point (Desc)'!D313=\"\",\"\",'Access Point (Desc)'!D313)","v":""},{"$f":"IF('Access Point (Desc)'!E313=\"\",\"\",INDEX([1]OWNER!$A$2:$A$100,MATCH('Access Point (Desc)'!$E313,[1]!MASTER_OWNER_DESC[#Data],0),0))","v":""},{"$f":"IF('Access Point (Desc)'!F313=\"\",\"\",INDEX([1]COUNTY!$A$2:$A$100,MATCH('Access Point (Desc)'!F313,[1]!MASTER_COUNTY_NAME[#Data],0),0))","v":""},{"$f":"IF('Access Point (Desc)'!G313=\"\",\"\",'Access Point (Desc)'!G313)","v":""},{"$f":"IF('Access Point (Desc)'!H313=\"\",\"\",'Access Point (Desc)'!H313)","v":""},{"$f":"IF('Access Point (Desc)'!I313=\"\",\"\",INDEX([1]ROUTE_MH_TYPE!$A$2:$A$100,MATCH('Access Point (Desc)'!$I313,[1]!MASTER_ROUTE_MH_TYPE_DESC[#Data],0),0))","v":""},{"$f":"IF('Access Point (Desc)'!J313=\"\",\"\",INDEX([1]MANHOLE_MTL!$A$2:$A$100,MATCH('Access Point (Desc)'!$J313,[1]!MASTER_MANHOLE_MTL_DESC[#Data],0),0))","v":""},{"$f":"IF('Access Point (Desc)'!K313=\"\",\"\",INDEX([1]MANHOLE_SIZE!$A$2:$A$120,MATCH('Access Point (Desc)'!$K313,[1]!MASTER_MANHOLE_SIZE_DESC[#Data],0),0))","v":""},{"$f":"IF('Access Point (Desc)'!L313=\"\",\"\",INDEX([1]ROUTE_MH_LID_TYPE!$A$2:$A$100,MATCH('Access Point (Desc)'!$L313,[1]!MASTER_ROUTE_MH_LID_TYPE_DESC[#Data],0),0))","v":""},{"$f":"IF('Access Point (Desc)'!M313=\"\",\"\",INDEX([1]MANHOLE_MTL!$A$2:$A$100,MATCH('Access Point (Desc)'!$M313,[1]!MASTER_MANHOLE_MTL_DESC[#Data],0),0))","v":""},{"$f":"IF('Access Point (Desc)'!N313=\"\",\"\",INDEX([1]LID_BOLT_TYPE!$A$2:$A$100,MATCH('Access Point (Desc)'!$N313,[1]!MASTER_LID_BOLT_TYPE_DESC[#Data],0),0))","v":""},{"$f":"IF('Access Point (Desc)'!O313=\"\",\"\",INDEX([1]YES_NO!$A$2:$A$100,MATCH('Access Point (Desc)'!$O313,[1]!MASTER_YES_NO_DESC[#Data],0),0))","v":""},{"$f":"IF('Access Point (Desc)'!P313=\"\",\"\",'Access Point (Desc)'!P313)","v":""},{"$f":"IF('Access Point (Desc)'!Q313=\"\",\"\",INDEX([1]YES_NO!$A$2:$A$100,MATCH('Access Point (Desc)'!$Q313,[1]!MASTER_YES_NO_DESC[#Data],0),0))","v":""}]
[{"$f":"IF('Access Point (Desc)'!A314=\"\",\"\",'Access Point (Desc)'!A314)","v":""},{"$f":"IF('Access Point (Desc)'!B314=\"\",\"\",'Access Point (Desc)'!B314)","v":""},{"$f":"IF('Access Point (Desc)'!C314=\"\",\"\",'Access Point (Desc)'!C314)","v":""},{"$f":"IF('Access Point (Desc)'!D314=\"\",\"\",'Access Point (Desc)'!D314)","v":""},{"$f":"IF('Access Point (Desc)'!E314=\"\",\"\",INDEX([1]OWNER!$A$2:$A$100,MATCH('Access Point (Desc)'!$E314,[1]!MASTER_OWNER_DESC[#Data],0),0))","v":""},{"$f":"IF('Access Point (Desc)'!F314=\"\",\"\",INDEX([1]COUNTY!$A$2:$A$100,MATCH('Access Point (Desc)'!F314,[1]!MASTER_COUNTY_NAME[#Data],0),0))","v":""},{"$f":"IF('Access Point (Desc)'!G314=\"\",\"\",'Access Point (Desc)'!G314)","v":""},{"$f":"IF('Access Point (Desc)'!H314=\"\",\"\",'Access Point (Desc)'!H314)","v":""},{"$f":"IF('Access Point (Desc)'!I314=\"\",\"\",INDEX([1]ROUTE_MH_TYPE!$A$2:$A$100,MATCH('Access Point (Desc)'!$I314,[1]!MASTER_ROUTE_MH_TYPE_DESC[#Data],0),0))","v":""},{"$f":"IF('Access Point (Desc)'!J314=\"\",\"\",INDEX([1]MANHOLE_MTL!$A$2:$A$100,MATCH('Access Point (Desc)'!$J314,[1]!MASTER_MANHOLE_MTL_DESC[#Data],0),0))","v":""},{"$f":"IF('Access Point (Desc)'!K314=\"\",\"\",INDEX([1]MANHOLE_SIZE!$A$2:$A$120,MATCH('Access Point (Desc)'!$K314,[1]!MASTER_MANHOLE_SIZE_DESC[#Data],0),0))","v":""},{"$f":"IF('Access Point (Desc)'!L314=\"\",\"\",INDEX([1]ROUTE_MH_LID_TYPE!$A$2:$A$100,MATCH('Access Point (Desc)'!$L314,[1]!MASTER_ROUTE_MH_LID_TYPE_DESC[#Data],0),0))","v":""},{"$f":"IF('Access Point (Desc)'!M314=\"\",\"\",INDEX([1]MANHOLE_MTL!$A$2:$A$100,MATCH('Access Point (Desc)'!$M314,[1]!MASTER_MANHOLE_MTL_DESC[#Data],0),0))","v":""},{"$f":"IF('Access Point (Desc)'!N314=\"\",\"\",INDEX([1]LID_BOLT_TYPE!$A$2:$A$100,MATCH('Access Point (Desc)'!$N314,[1]!MASTER_LID_BOLT_TYPE_DESC[#Data],0),0))","v":""},{"$f":"IF('Access Point (Desc)'!O314=\"\",\"\",INDEX([1]YES_NO!$A$2:$A$100,MATCH('Access Point (Desc)'!$O314,[1]!MASTER_YES_NO_DESC[#Data],0),0))","v":""},{"$f":"IF('Access Point (Desc)'!P314=\"\",\"\",'Access Point (Desc)'!P314)","v":""},{"$f":"IF('Access Point (Desc)'!Q314=\"\",\"\",INDEX([1]YES_NO!$A$2:$A$100,MATCH('Access Point (Desc)'!$Q314,[1]!MASTER_YES_NO_DESC[#Data],0),0))","v":""}]
[{"$f":"IF('Access Point (Desc)'!A315=\"\",\"\",'Access Point (Desc)'!A315)","v":""},{"$f":"IF('Access Point (Desc)'!B315=\"\",\"\",'Access Point (Desc)'!B315)","v":""},{"$f":"IF('Access Point (Desc)'!C315=\"\",\"\",'Access Point (Desc)'!C315)","v":""},{"$f":"IF('Access Point (Desc)'!D315=\"\",\"\",'Access Point (Desc)'!D315)","v":""},{"$f":"IF('Access Point (Desc)'!E315=\"\",\"\",INDEX([1]OWNER!$A$2:$A$100,MATCH('Access Point (Desc)'!$E315,[1]!MASTER_OWNER_DESC[#Data],0),0))","v":""},{"$f":"IF('Access Point (Desc)'!F315=\"\",\"\",INDEX([1]COUNTY!$A$2:$A$100,MATCH('Access Point (Desc)'!F315,[1]!MASTER_COUNTY_NAME[#Data],0),0))","v":""},{"$f":"IF('Access Point (Desc)'!G315=\"\",\"\",'Access Point (Desc)'!G315)","v":""},{"$f":"IF('Access Point (Desc)'!H315=\"\",\"\",'Access Point (Desc)'!H315)","v":""},{"$f":"IF('Access Point (Desc)'!I315=\"\",\"\",INDEX([1]ROUTE_MH_TYPE!$A$2:$A$100,MATCH('Access Point (Desc)'!$I315,[1]!MASTER_ROUTE_MH_TYPE_DESC[#Data],0),0))","v":""},{"$f":"IF('Access Point (Desc)'!J315=\"\",\"\",INDEX([1]MANHOLE_MTL!$A$2:$A$100,MATCH('Access Point (Desc)'!$J315,[1]!MASTER_MANHOLE_MTL_DESC[#Data],0),0))","v":""},{"$f":"IF('Access Point (Desc)'!K315=\"\",\"\",INDEX([1]MANHOLE_SIZE!$A$2:$A$120,MATCH('Access Point (Desc)'!$K315,[1]!MASTER_MANHOLE_SIZE_DESC[#Data],0),0))","v":""},{"$f":"IF('Access Point (Desc)'!L315=\"\",\"\",INDEX([1]ROUTE_MH_LID_TYPE!$A$2:$A$100,MATCH('Access Point (Desc)'!$L315,[1]!MASTER_ROUTE_MH_LID_TYPE_DESC[#Data],0),0))","v":""},{"$f":"IF('Access Point (Desc)'!M315=\"\",\"\",INDEX([1]MANHOLE_MTL!$A$2:$A$100,MATCH('Access Point (Desc)'!$M315,[1]!MASTER_MANHOLE_MTL_DESC[#Data],0),0))","v":""},{"$f":"IF('Access Point (Desc)'!N315=\"\",\"\",INDEX([1]LID_BOLT_TYPE!$A$2:$A$100,MATCH('Access Point (Desc)'!$N315,[1]!MASTER_LID_BOLT_TYPE_DESC[#Data],0),0))","v":""},{"$f":"IF('Access Point (Desc)'!O315=\"\",\"\",INDEX([1]YES_NO!$A$2:$A$100,MATCH('Access Point (Desc)'!$O315,[1]!MASTER_YES_NO_DESC[#Data],0),0))","v":""},{"$f":"IF('Access Point (Desc)'!P315=\"\",\"\",'Access Point (Desc)'!P315)","v":""},{"$f":"IF('Access Point (Desc)'!Q315=\"\",\"\",INDEX([1]YES_NO!$A$2:$A$100,MATCH('Access Point (Desc)'!$Q315,[1]!MASTER_YES_NO_DESC[#Data],0),0))","v":""}]
[{"$f":"IF('Access Point (Desc)'!A316=\"\",\"\",'Access Point (Desc)'!A316)","v":""},{"$f":"IF('Access Point (Desc)'!B316=\"\",\"\",'Access Point (Desc)'!B316)","v":""},{"$f":"IF('Access Point (Desc)'!C316=\"\",\"\",'Access Point (Desc)'!C316)","v":""},{"$f":"IF('Access Point (Desc)'!D316=\"\",\"\",'Access Point (Desc)'!D316)","v":""},{"$f":"IF('Access Point (Desc)'!E316=\"\",\"\",INDEX([1]OWNER!$A$2:$A$100,MATCH('Access Point (Desc)'!$E316,[1]!MASTER_OWNER_DESC[#Data],0),0))","v":""},{"$f":"IF('Access Point (Desc)'!F316=\"\",\"\",INDEX([1]COUNTY!$A$2:$A$100,MATCH('Access Point (Desc)'!F316,[1]!MASTER_COUNTY_NAME[#Data],0),0))","v":""},{"$f":"IF('Access Point (Desc)'!G316=\"\",\"\",'Access Point (Desc)'!G316)","v":""},{"$f":"IF('Access Point (Desc)'!H316=\"\",\"\",'Access Point (Desc)'!H316)","v":""},{"$f":"IF('Access Point (Desc)'!I316=\"\",\"\",INDEX([1]ROUTE_MH_TYPE!$A$2:$A$100,MATCH('Access Point (Desc)'!$I316,[1]!MASTER_ROUTE_MH_TYPE_DESC[#Data],0),0))","v":""},{"$f":"IF('Access Point (Desc)'!J316=\"\",\"\",INDEX([1]MANHOLE_MTL!$A$2:$A$100,MATCH('Access Point (Desc)'!$J316,[1]!MASTER_MANHOLE_MTL_DESC[#Data],0),0))","v":""},{"$f":"IF('Access Point (Desc)'!K316=\"\",\"\",INDEX([1]MANHOLE_SIZE!$A$2:$A$120,MATCH('Access Point (Desc)'!$K316,[1]!MASTER_MANHOLE_SIZE_DESC[#Data],0),0))","v":""},{"$f":"IF('Access Point (Desc)'!L316=\"\",\"\",INDEX([1]ROUTE_MH_LID_TYPE!$A$2:$A$100,MATCH('Access Point (Desc)'!$L316,[1]!MASTER_ROUTE_MH_LID_TYPE_DESC[#Data],0),0))","v":""},{"$f":"IF('Access Point (Desc)'!M316=\"\",\"\",INDEX([1]MANHOLE_MTL!$A$2:$A$100,MATCH('Access Point (Desc)'!$M316,[1]!MASTER_MANHOLE_MTL_DESC[#Data],0),0))","v":""},{"$f":"IF('Access Point (Desc)'!N316=\"\",\"\",INDEX([1]LID_BOLT_TYPE!$A$2:$A$100,MATCH('Access Point (Desc)'!$N316,[1]!MASTER_LID_BOLT_TYPE_DESC[#Data],0),0))","v":""},{"$f":"IF('Access Point (Desc)'!O316=\"\",\"\",INDEX([1]YES_NO!$A$2:$A$100,MATCH('Access Point (Desc)'!$O316,[1]!MASTER_YES_NO_DESC[#Data],0),0))","v":""},{"$f":"IF('Access Point (Desc)'!P316=\"\",\"\",'Access Point (Desc)'!P316)","v":""},{"$f":"IF('Access Point (Desc)'!Q316=\"\",\"\",INDEX([1]YES_NO!$A$2:$A$100,MATCH('Access Point (Desc)'!$Q316,[1]!MASTER_YES_NO_DESC[#Data],0),0))","v":""}]
[{"$f":"IF('Access Point (Desc)'!A317=\"\",\"\",'Access Point (Desc)'!A317)","v":""},{"$f":"IF('Access Point (Desc)'!B317=\"\",\"\",'Access Point (Desc)'!B317)","v":""},{"$f":"IF('Access Point (Desc)'!C317=\"\",\"\",'Access Point (Desc)'!C317)","v":""},{"$f":"IF('Access Point (Desc)'!D317=\"\",\"\",'Access Point (Desc)'!D317)","v":""},{"$f":"IF('Access Point (Desc)'!E317=\"\",\"\",INDEX([1]OWNER!$A$2:$A$100,MATCH('Access Point (Desc)'!$E317,[1]!MASTER_OWNER_DESC[#Data],0),0))","v":""},{"$f":"IF('Access Point (Desc)'!F317=\"\",\"\",INDEX([1]COUNTY!$A$2:$A$100,MATCH('Access Point (Desc)'!F317,[1]!MASTER_COUNTY_NAME[#Data],0),0))","v":""},{"$f":"IF('Access Point (Desc)'!G317=\"\",\"\",'Access Point (Desc)'!G317)","v":""},{"$f":"IF('Access Point (Desc)'!H317=\"\",\"\",'Access Point (Desc)'!H317)","v":""},{"$f":"IF('Access Point (Desc)'!I317=\"\",\"\",INDEX([1]ROUTE_MH_TYPE!$A$2:$A$100,MATCH('Access Point (Desc)'!$I317,[1]!MASTER_ROUTE_MH_TYPE_DESC[#Data],0),0))","v":""},{"$f":"IF('Access Point (Desc)'!J317=\"\",\"\",INDEX([1]MANHOLE_MTL!$A$2:$A$100,MATCH('Access Point (Desc)'!$J317,[1]!MASTER_MANHOLE_MTL_DESC[#Data],0),0))","v":""},{"$f":"IF('Access Point (Desc)'!K317=\"\",\"\",INDEX([1]MANHOLE_SIZE!$A$2:$A$120,MATCH('Access Point (Desc)'!$K317,[1]!MASTER_MANHOLE_SIZE_DESC[#Data],0),0))","v":""},{"$f":"IF('Access Point (Desc)'!L317=\"\",\"\",INDEX([1]ROUTE_MH_LID_TYPE!$A$2:$A$100,MATCH('Access Point (Desc)'!$L317,[1]!MASTER_ROUTE_MH_LID_TYPE_DESC[#Data],0),0))","v":""},{"$f":"IF('Access Point (Desc)'!M317=\"\",\"\",INDEX([1]MANHOLE_MTL!$A$2:$A$100,MATCH('Access Point (Desc)'!$M317,[1]!MASTER_MANHOLE_MTL_DESC[#Data],0),0))","v":""},{"$f":"IF('Access Point (Desc)'!N317=\"\",\"\",INDEX([1]LID_BOLT_TYPE!$A$2:$A$100,MATCH('Access Point (Desc)'!$N317,[1]!MASTER_LID_BOLT_TYPE_DESC[#Data],0),0))","v":""},{"$f":"IF('Access Point (Desc)'!O317=\"\",\"\",INDEX([1]YES_NO!$A$2:$A$100,MATCH('Access Point (Desc)'!$O317,[1]!MASTER_YES_NO_DESC[#Data],0),0))","v":""},{"$f":"IF('Access Point (Desc)'!P317=\"\",\"\",'Access Point (Desc)'!P317)","v":""},{"$f":"IF('Access Point (Desc)'!Q317=\"\",\"\",INDEX([1]YES_NO!$A$2:$A$100,MATCH('Access Point (Desc)'!$Q317,[1]!MASTER_YES_NO_DESC[#Data],0),0))","v":""}]
[{"$f":"IF('Access Point (Desc)'!A318=\"\",\"\",'Access Point (Desc)'!A318)","v":""},{"$f":"IF('Access Point (Desc)'!B318=\"\",\"\",'Access Point (Desc)'!B318)","v":""},{"$f":"IF('Access Point (Desc)'!C318=\"\",\"\",'Access Point (Desc)'!C318)","v":""},{"$f":"IF('Access Point (Desc)'!D318=\"\",\"\",'Access Point (Desc)'!D318)","v":""},{"$f":"IF('Access Point (Desc)'!E318=\"\",\"\",INDEX([1]OWNER!$A$2:$A$100,MATCH('Access Point (Desc)'!$E318,[1]!MASTER_OWNER_DESC[#Data],0),0))","v":""},{"$f":"IF('Access Point (Desc)'!F318=\"\",\"\",INDEX([1]COUNTY!$A$2:$A$100,MATCH('Access Point (Desc)'!F318,[1]!MASTER_COUNTY_NAME[#Data],0),0))","v":""},{"$f":"IF('Access Point (Desc)'!G318=\"\",\"\",'Access Point (Desc)'!G318)","v":""},{"$f":"IF('Access Point (Desc)'!H318=\"\",\"\",'Access Point (Desc)'!H318)","v":""},{"$f":"IF('Access Point (Desc)'!I318=\"\",\"\",INDEX([1]ROUTE_MH_TYPE!$A$2:$A$100,MATCH('Access Point (Desc)'!$I318,[1]!MASTER_ROUTE_MH_TYPE_DESC[#Data],0),0))","v":""},{"$f":"IF('Access Point (Desc)'!J318=\"\",\"\",INDEX([1]MANHOLE_MTL!$A$2:$A$100,MATCH('Access Point (Desc)'!$J318,[1]!MASTER_MANHOLE_MTL_DESC[#Data],0),0))","v":""},{"$f":"IF('Access Point (Desc)'!K318=\"\",\"\",INDEX([1]MANHOLE_SIZE!$A$2:$A$120,MATCH('Access Point (Desc)'!$K318,[1]!MASTER_MANHOLE_SIZE_DESC[#Data],0),0))","v":""},{"$f":"IF('Access Point (Desc)'!L318=\"\",\"\",INDEX([1]ROUTE_MH_LID_TYPE!$A$2:$A$100,MATCH('Access Point (Desc)'!$L318,[1]!MASTER_ROUTE_MH_LID_TYPE_DESC[#Data],0),0))","v":""},{"$f":"IF('Access Point (Desc)'!M318=\"\",\"\",INDEX([1]MANHOLE_MTL!$A$2:$A$100,MATCH('Access Point (Desc)'!$M318,[1]!MASTER_MANHOLE_MTL_DESC[#Data],0),0))","v":""},{"$f":"IF('Access Point (Desc)'!N318=\"\",\"\",INDEX([1]LID_BOLT_TYPE!$A$2:$A$100,MATCH('Access Point (Desc)'!$N318,[1]!MASTER_LID_BOLT_TYPE_DESC[#Data],0),0))","v":""},{"$f":"IF('Access Point (Desc)'!O318=\"\",\"\",INDEX([1]YES_NO!$A$2:$A$100,MATCH('Access Point (Desc)'!$O318,[1]!MASTER_YES_NO_DESC[#Data],0),0))","v":""},{"$f":"IF('Access Point (Desc)'!P318=\"\",\"\",'Access Point (Desc)'!P318)","v":""},{"$f":"IF('Access Point (Desc)'!Q318=\"\",\"\",INDEX([1]YES_NO!$A$2:$A$100,MATCH('Access Point (Desc)'!$Q318,[1]!MASTER_YES_NO_DESC[#Data],0),0))","v":""}]
[{"$f":"IF('Access Point (Desc)'!A319=\"\",\"\",'Access Point (Desc)'!A319)","v":""},{"$f":"IF('Access Point (Desc)'!B319=\"\",\"\",'Access Point (Desc)'!B319)","v":""},{"$f":"IF('Access Point (Desc)'!C319=\"\",\"\",'Access Point (Desc)'!C319)","v":""},{"$f":"IF('Access Point (Desc)'!D319=\"\",\"\",'Access Point (Desc)'!D319)","v":""},{"$f":"IF('Access Point (Desc)'!E319=\"\",\"\",INDEX([1]OWNER!$A$2:$A$100,MATCH('Access Point (Desc)'!$E319,[1]!MASTER_OWNER_DESC[#Data],0),0))","v":""},{"$f":"IF('Access Point (Desc)'!F319=\"\",\"\",INDEX([1]COUNTY!$A$2:$A$100,MATCH('Access Point (Desc)'!F319,[1]!MASTER_COUNTY_NAME[#Data],0),0))","v":""},{"$f":"IF('Access Point (Desc)'!G319=\"\",\"\",'Access Point (Desc)'!G319)","v":""},{"$f":"IF('Access Point (Desc)'!H319=\"\",\"\",'Access Point (Desc)'!H319)","v":""},{"$f":"IF('Access Point (Desc)'!I319=\"\",\"\",INDEX([1]ROUTE_MH_TYPE!$A$2:$A$100,MATCH('Access Point (Desc)'!$I319,[1]!MASTER_ROUTE_MH_TYPE_DESC[#Data],0),0))","v":""},{"$f":"IF('Access Point (Desc)'!J319=\"\",\"\",INDEX([1]MANHOLE_MTL!$A$2:$A$100,MATCH('Access Point (Desc)'!$J319,[1]!MASTER_MANHOLE_MTL_DESC[#Data],0),0))","v":""},{"$f":"IF('Access Point (Desc)'!K319=\"\",\"\",INDEX([1]MANHOLE_SIZE!$A$2:$A$120,MATCH('Access Point (Desc)'!$K319,[1]!MASTER_MANHOLE_SIZE_DESC[#Data],0),0))","v":""},{"$f":"IF('Access Point (Desc)'!L319=\"\",\"\",INDEX([1]ROUTE_MH_LID_TYPE!$A$2:$A$100,MATCH('Access Point (Desc)'!$L319,[1]!MASTER_ROUTE_MH_LID_TYPE_DESC[#Data],0),0))","v":""},{"$f":"IF('Access Point (Desc)'!M319=\"\",\"\",INDEX([1]MANHOLE_MTL!$A$2:$A$100,MATCH('Access Point (Desc)'!$M319,[1]!MASTER_MANHOLE_MTL_DESC[#Data],0),0))","v":""},{"$f":"IF('Access Point (Desc)'!N319=\"\",\"\",INDEX([1]LID_BOLT_TYPE!$A$2:$A$100,MATCH('Access Point (Desc)'!$N319,[1]!MASTER_LID_BOLT_TYPE_DESC[#Data],0),0))","v":""},{"$f":"IF('Access Point (Desc)'!O319=\"\",\"\",INDEX([1]YES_NO!$A$2:$A$100,MATCH('Access Point (Desc)'!$O319,[1]!MASTER_YES_NO_DESC[#Data],0),0))","v":""},{"$f":"IF('Access Point (Desc)'!P319=\"\",\"\",'Access Point (Desc)'!P319)","v":""},{"$f":"IF('Access Point (Desc)'!Q319=\"\",\"\",INDEX([1]YES_NO!$A$2:$A$100,MATCH('Access Point (Desc)'!$Q319,[1]!MASTER_YES_NO_DESC[#Data],0),0))","v":""}]
[{"$f":"IF('Access Point (Desc)'!A320=\"\",\"\",'Access Point (Desc)'!A320)","v":""},{"$f":"IF('Access Point (Desc)'!B320=\"\",\"\",'Access Point (Desc)'!B320)","v":""},{"$f":"IF('Access Point (Desc)'!C320=\"\",\"\",'Access Point (Desc)'!C320)","v":""},{"$f":"IF('Access Point (Desc)'!D320=\"\",\"\",'Access Point (Desc)'!D320)","v":""},{"$f":"IF('Access Point (Desc)'!E320=\"\",\"\",INDEX([1]OWNER!$A$2:$A$100,MATCH('Access Point (Desc)'!$E320,[1]!MASTER_OWNER_DESC[#Data],0),0))","v":""},{"$f":"IF('Access Point (Desc)'!F320=\"\",\"\",INDEX([1]COUNTY!$A$2:$A$100,MATCH('Access Point (Desc)'!F320,[1]!MASTER_COUNTY_NAME[#Data],0),0))","v":""},{"$f":"IF('Access Point (Desc)'!G320=\"\",\"\",'Access Point (Desc)'!G320)","v":""},{"$f":"IF('Access Point (Desc)'!H320=\"\",\"\",'Access Point (Desc)'!H320)","v":""},{"$f":"IF('Access Point (Desc)'!I320=\"\",\"\",INDEX([1]ROUTE_MH_TYPE!$A$2:$A$100,MATCH('Access Point (Desc)'!$I320,[1]!MASTER_ROUTE_MH_TYPE_DESC[#Data],0),0))","v":""},{"$f":"IF('Access Point (Desc)'!J320=\"\",\"\",INDEX([1]MANHOLE_MTL!$A$2:$A$100,MATCH('Access Point (Desc)'!$J320,[1]!MASTER_MANHOLE_MTL_DESC[#Data],0),0))","v":""},{"$f":"IF('Access Point (Desc)'!K320=\"\",\"\",INDEX([1]MANHOLE_SIZE!$A$2:$A$120,MATCH('Access Point (Desc)'!$K320,[1]!MASTER_MANHOLE_SIZE_DESC[#Data],0),0))","v":""},{"$f":"IF('Access Point (Desc)'!L320=\"\",\"\",INDEX([1]ROUTE_MH_LID_TYPE!$A$2:$A$100,MATCH('Access Point (Desc)'!$L320,[1]!MASTER_ROUTE_MH_LID_TYPE_DESC[#Data],0),0))","v":""},{"$f":"IF('Access Point (Desc)'!M320=\"\",\"\",INDEX([1]MANHOLE_MTL!$A$2:$A$100,MATCH('Access Point (Desc)'!$M320,[1]!MASTER_MANHOLE_MTL_DESC[#Data],0),0))","v":""},{"$f":"IF('Access Point (Desc)'!N320=\"\",\"\",INDEX([1]LID_BOLT_TYPE!$A$2:$A$100,MATCH('Access Point (Desc)'!$N320,[1]!MASTER_LID_BOLT_TYPE_DESC[#Data],0),0))","v":""},{"$f":"IF('Access Point (Desc)'!O320=\"\",\"\",INDEX([1]YES_NO!$A$2:$A$100,MATCH('Access Point (Desc)'!$O320,[1]!MASTER_YES_NO_DESC[#Data],0),0))","v":""},{"$f":"IF('Access Point (Desc)'!P320=\"\",\"\",'Access Point (Desc)'!P320)","v":""},{"$f":"IF('Access Point (Desc)'!Q320=\"\",\"\",INDEX([1]YES_NO!$A$2:$A$100,MATCH('Access Point (Desc)'!$Q320,[1]!MASTER_YES_NO_DESC[#Data],0),0))","v":""}]
[{"$f":"IF('Access Point (Desc)'!A321=\"\",\"\",'Access Point (Desc)'!A321)","v":""},{"$f":"IF('Access Point (Desc)'!B321=\"\",\"\",'Access Point (Desc)'!B321)","v":""},{"$f":"IF('Access Point (Desc)'!C321=\"\",\"\",'Access Point (Desc)'!C321)","v":""},{"$f":"IF('Access Point (Desc)'!D321=\"\",\"\",'Access Point (Desc)'!D321)","v":""},{"$f":"IF('Access Point (Desc)'!E321=\"\",\"\",INDEX([1]OWNER!$A$2:$A$100,MATCH('Access Point (Desc)'!$E321,[1]!MASTER_OWNER_DESC[#Data],0),0))","v":""},{"$f":"IF('Access Point (Desc)'!F321=\"\",\"\",INDEX([1]COUNTY!$A$2:$A$100,MATCH('Access Point (Desc)'!F321,[1]!MASTER_COUNTY_NAME[#Data],0),0))","v":""},{"$f":"IF('Access Point (Desc)'!G321=\"\",\"\",'Access Point (Desc)'!G321)","v":""},{"$f":"IF('Access Point (Desc)'!H321=\"\",\"\",'Access Point (Desc)'!H321)","v":""},{"$f":"IF('Access Point (Desc)'!I321=\"\",\"\",INDEX([1]ROUTE_MH_TYPE!$A$2:$A$100,MATCH('Access Point (Desc)'!$I321,[1]!MASTER_ROUTE_MH_TYPE_DESC[#Data],0),0))","v":""},{"$f":"IF('Access Point (Desc)'!J321=\"\",\"\",INDEX([1]MANHOLE_MTL!$A$2:$A$100,MATCH('Access Point (Desc)'!$J321,[1]!MASTER_MANHOLE_MTL_DESC[#Data],0),0))","v":""},{"$f":"IF('Access Point (Desc)'!K321=\"\",\"\",INDEX([1]MANHOLE_SIZE!$A$2:$A$120,MATCH('Access Point (Desc)'!$K321,[1]!MASTER_MANHOLE_SIZE_DESC[#Data],0),0))","v":""},{"$f":"IF('Access Point (Desc)'!L321=\"\",\"\",INDEX([1]ROUTE_MH_LID_TYPE!$A$2:$A$100,MATCH('Access Point (Desc)'!$L321,[1]!MASTER_ROUTE_MH_LID_TYPE_DESC[#Data],0),0))","v":""},{"$f":"IF('Access Point (Desc)'!M321=\"\",\"\",INDEX([1]MANHOLE_MTL!$A$2:$A$100,MATCH('Access Point (Desc)'!$M321,[1]!MASTER_MANHOLE_MTL_DESC[#Data],0),0))","v":""},{"$f":"IF('Access Point (Desc)'!N321=\"\",\"\",INDEX([1]LID_BOLT_TYPE!$A$2:$A$100,MATCH('Access Point (Desc)'!$N321,[1]!MASTER_LID_BOLT_TYPE_DESC[#Data],0),0))","v":""},{"$f":"IF('Access Point (Desc)'!O321=\"\",\"\",INDEX([1]YES_NO!$A$2:$A$100,MATCH('Access Point (Desc)'!$O321,[1]!MASTER_YES_NO_DESC[#Data],0),0))","v":""},{"$f":"IF('Access Point (Desc)'!P321=\"\",\"\",'Access Point (Desc)'!P321)","v":""},{"$f":"IF('Access Point (Desc)'!Q321=\"\",\"\",INDEX([1]YES_NO!$A$2:$A$100,MATCH('Access Point (Desc)'!$Q321,[1]!MASTER_YES_NO_DESC[#Data],0),0))","v":""}]
[{"$f":"IF('Access Point (Desc)'!A322=\"\",\"\",'Access Point (Desc)'!A322)","v":""},{"$f":"IF('Access Point (Desc)'!B322=\"\",\"\",'Access Point (Desc)'!B322)","v":""},{"$f":"IF('Access Point (Desc)'!C322=\"\",\"\",'Access Point (Desc)'!C322)","v":""},{"$f":"IF('Access Point (Desc)'!D322=\"\",\"\",'Access Point (Desc)'!D322)","v":""},{"$f":"IF('Access Point (Desc)'!E322=\"\",\"\",INDEX([1]OWNER!$A$2:$A$100,MATCH('Access Point (Desc)'!$E322,[1]!MASTER_OWNER_DESC[#Data],0),0))","v":""},{"$f":"IF('Access Point (Desc)'!F322=\"\",\"\",INDEX([1]COUNTY!$A$2:$A$100,MATCH('Access Point (Desc)'!F322,[1]!MASTER_COUNTY_NAME[#Data],0),0))","v":""},{"$f":"IF('Access Point (Desc)'!G322=\"\",\"\",'Access Point (Desc)'!G322)","v":""},{"$f":"IF('Access Point (Desc)'!H322=\"\",\"\",'Access Point (Desc)'!H322)","v":""},{"$f":"IF('Access Point (Desc)'!I322=\"\",\"\",INDEX([1]ROUTE_MH_TYPE!$A$2:$A$100,MATCH('Access Point (Desc)'!$I322,[1]!MASTER_ROUTE_MH_TYPE_DESC[#Data],0),0))","v":""},{"$f":"IF('Access Point (Desc)'!J322=\"\",\"\",INDEX([1]MANHOLE_MTL!$A$2:$A$100,MATCH('Access Point (Desc)'!$J322,[1]!MASTER_MANHOLE_MTL_DESC[#Data],0),0))","v":""},{"$f":"IF('Access Point (Desc)'!K322=\"\",\"\",INDEX([1]MANHOLE_SIZE!$A$2:$A$120,MATCH('Access Point (Desc)'!$K322,[1]!MASTER_MANHOLE_SIZE_DESC[#Data],0),0))","v":""},{"$f":"IF('Access Point (Desc)'!L322=\"\",\"\",INDEX([1]ROUTE_MH_LID_TYPE!$A$2:$A$100,MATCH('Access Point (Desc)'!$L322,[1]!MASTER_ROUTE_MH_LID_TYPE_DESC[#Data],0),0))","v":""},{"$f":"IF('Access Point (Desc)'!M322=\"\",\"\",INDEX([1]MANHOLE_MTL!$A$2:$A$100,MATCH('Access Point (Desc)'!$M322,[1]!MASTER_MANHOLE_MTL_DESC[#Data],0),0))","v":""},{"$f":"IF('Access Point (Desc)'!N322=\"\",\"\",INDEX([1]LID_BOLT_TYPE!$A$2:$A$100,MATCH('Access Point (Desc)'!$N322,[1]!MASTER_LID_BOLT_TYPE_DESC[#Data],0),0))","v":""},{"$f":"IF('Access Point (Desc)'!O322=\"\",\"\",INDEX([1]YES_NO!$A$2:$A$100,MATCH('Access Point (Desc)'!$O322,[1]!MASTER_YES_NO_DESC[#Data],0),0))","v":""},{"$f":"IF('Access Point (Desc)'!P322=\"\",\"\",'Access Point (Desc)'!P322)","v":""},{"$f":"IF('Access Point (Desc)'!Q322=\"\",\"\",INDEX([1]YES_NO!$A$2:$A$100,MATCH('Access Point (Desc)'!$Q322,[1]!MASTER_YES_NO_DESC[#Data],0),0))","v":""}]
[{"$f":"IF('Access Point (Desc)'!A323=\"\",\"\",'Access Point (Desc)'!A323)","v":""},{"$f":"IF('Access Point (Desc)'!B323=\"\",\"\",'Access Point (Desc)'!B323)","v":""},{"$f":"IF('Access Point (Desc)'!C323=\"\",\"\",'Access Point (Desc)'!C323)","v":""},{"$f":"IF('Access Point (Desc)'!D323=\"\",\"\",'Access Point (Desc)'!D323)","v":""},{"$f":"IF('Access Point (Desc)'!E323=\"\",\"\",INDEX([1]OWNER!$A$2:$A$100,MATCH('Access Point (Desc)'!$E323,[1]!MASTER_OWNER_DESC[#Data],0),0))","v":""},{"$f":"IF('Access Point (Desc)'!F323=\"\",\"\",INDEX([1]COUNTY!$A$2:$A$100,MATCH('Access Point (Desc)'!F323,[1]!MASTER_COUNTY_NAME[#Data],0),0))","v":""},{"$f":"IF('Access Point (Desc)'!G323=\"\",\"\",'Access Point (Desc)'!G323)","v":""},{"$f":"IF('Access Point (Desc)'!H323=\"\",\"\",'Access Point (Desc)'!H323)","v":""},{"$f":"IF('Access Point (Desc)'!I323=\"\",\"\",INDEX([1]ROUTE_MH_TYPE!$A$2:$A$100,MATCH('Access Point (Desc)'!$I323,[1]!MASTER_ROUTE_MH_TYPE_DESC[#Data],0),0))","v":""},{"$f":"IF('Access Point (Desc)'!J323=\"\",\"\",INDEX([1]MANHOLE_MTL!$A$2:$A$100,MATCH('Access Point (Desc)'!$J323,[1]!MASTER_MANHOLE_MTL_DESC[#Data],0),0))","v":""},{"$f":"IF('Access Point (Desc)'!K323=\"\",\"\",INDEX([1]MANHOLE_SIZE!$A$2:$A$120,MATCH('Access Point (Desc)'!$K323,[1]!MASTER_MANHOLE_SIZE_DESC[#Data],0),0))","v":""},{"$f":"IF('Access Point (Desc)'!L323=\"\",\"\",INDEX([1]ROUTE_MH_LID_TYPE!$A$2:$A$100,MATCH('Access Point (Desc)'!$L323,[1]!MASTER_ROUTE_MH_LID_TYPE_DESC[#Data],0),0))","v":""},{"$f":"IF('Access Point (Desc)'!M323=\"\",\"\",INDEX([1]MANHOLE_MTL!$A$2:$A$100,MATCH('Access Point (Desc)'!$M323,[1]!MASTER_MANHOLE_MTL_DESC[#Data],0),0))","v":""},{"$f":"IF('Access Point (Desc)'!N323=\"\",\"\",INDEX([1]LID_BOLT_TYPE!$A$2:$A$100,MATCH('Access Point (Desc)'!$N323,[1]!MASTER_LID_BOLT_TYPE_DESC[#Data],0),0))","v":""},{"$f":"IF('Access Point (Desc)'!O323=\"\",\"\",INDEX([1]YES_NO!$A$2:$A$100,MATCH('Access Point (Desc)'!$O323,[1]!MASTER_YES_NO_DESC[#Data],0),0))","v":""},{"$f":"IF('Access Point (Desc)'!P323=\"\",\"\",'Access Point (Desc)'!P323)","v":""},{"$f":"IF('Access Point (Desc)'!Q323=\"\",\"\",INDEX([1]YES_NO!$A$2:$A$100,MATCH('Access Point (Desc)'!$Q323,[1]!MASTER_YES_NO_DESC[#Data],0),0))","v":""}]
[{"$f":"IF('Access Point (Desc)'!A324=\"\",\"\",'Access Point (Desc)'!A324)","v":""},{"$f":"IF('Access Point (Desc)'!B324=\"\",\"\",'Access Point (Desc)'!B324)","v":""},{"$f":"IF('Access Point (Desc)'!C324=\"\",\"\",'Access Point (Desc)'!C324)","v":""},{"$f":"IF('Access Point (Desc)'!D324=\"\",\"\",'Access Point (Desc)'!D324)","v":""},{"$f":"IF('Access Point (Desc)'!E324=\"\",\"\",INDEX([1]OWNER!$A$2:$A$100,MATCH('Access Point (Desc)'!$E324,[1]!MASTER_OWNER_DESC[#Data],0),0))","v":""},{"$f":"IF('Access Point (Desc)'!F324=\"\",\"\",INDEX([1]COUNTY!$A$2:$A$100,MATCH('Access Point (Desc)'!F324,[1]!MASTER_COUNTY_NAME[#Data],0),0))","v":""},{"$f":"IF('Access Point (Desc)'!G324=\"\",\"\",'Access Point (Desc)'!G324)","v":""},{"$f":"IF('Access Point (Desc)'!H324=\"\",\"\",'Access Point (Desc)'!H324)","v":""},{"$f":"IF('Access Point (Desc)'!I324=\"\",\"\",INDEX([1]ROUTE_MH_TYPE!$A$2:$A$100,MATCH('Access Point (Desc)'!$I324,[1]!MASTER_ROUTE_MH_TYPE_DESC[#Data],0),0))","v":""},{"$f":"IF('Access Point (Desc)'!J324=\"\",\"\",INDEX([1]MANHOLE_MTL!$A$2:$A$100,MATCH('Access Point (Desc)'!$J324,[1]!MASTER_MANHOLE_MTL_DESC[#Data],0),0))","v":""},{"$f":"IF('Access Point (Desc)'!K324=\"\",\"\",INDEX([1]MANHOLE_SIZE!$A$2:$A$120,MATCH('Access Point (Desc)'!$K324,[1]!MASTER_MANHOLE_SIZE_DESC[#Data],0),0))","v":""},{"$f":"IF('Access Point (Desc)'!L324=\"\",\"\",INDEX([1]ROUTE_MH_LID_TYPE!$A$2:$A$100,MATCH('Access Point (Desc)'!$L324,[1]!MASTER_ROUTE_MH_LID_TYPE_DESC[#Data],0),0))","v":""},{"$f":"IF('Access Point (Desc)'!M324=\"\",\"\",INDEX([1]MANHOLE_MTL!$A$2:$A$100,MATCH('Access Point (Desc)'!$M324,[1]!MASTER_MANHOLE_MTL_DESC[#Data],0),0))","v":""},{"$f":"IF('Access Point (Desc)'!N324=\"\",\"\",INDEX([1]LID_BOLT_TYPE!$A$2:$A$100,MATCH('Access Point (Desc)'!$N324,[1]!MASTER_LID_BOLT_TYPE_DESC[#Data],0),0))","v":""},{"$f":"IF('Access Point (Desc)'!O324=\"\",\"\",INDEX([1]YES_NO!$A$2:$A$100,MATCH('Access Point (Desc)'!$O324,[1]!MASTER_YES_NO_DESC[#Data],0),0))","v":""},{"$f":"IF('Access Point (Desc)'!P324=\"\",\"\",'Access Point (Desc)'!P324)","v":""},{"$f":"IF('Access Point (Desc)'!Q324=\"\",\"\",INDEX([1]YES_NO!$A$2:$A$100,MATCH('Access Point (Desc)'!$Q324,[1]!MASTER_YES_NO_DESC[#Data],0),0))","v":""}]
[{"$f":"IF('Access Point (Desc)'!A325=\"\",\"\",'Access Point (Desc)'!A325)","v":""},{"$f":"IF('Access Point (Desc)'!B325=\"\",\"\",'Access Point (Desc)'!B325)","v":""},{"$f":"IF('Access Point (Desc)'!C325=\"\",\"\",'Access Point (Desc)'!C325)","v":""},{"$f":"IF('Access Point (Desc)'!D325=\"\",\"\",'Access Point (Desc)'!D325)","v":""},{"$f":"IF('Access Point (Desc)'!E325=\"\",\"\",INDEX([1]OWNER!$A$2:$A$100,MATCH('Access Point (Desc)'!$E325,[1]!MASTER_OWNER_DESC[#Data],0),0))","v":""},{"$f":"IF('Access Point (Desc)'!F325=\"\",\"\",INDEX([1]COUNTY!$A$2:$A$100,MATCH('Access Point (Desc)'!F325,[1]!MASTER_COUNTY_NAME[#Data],0),0))","v":""},{"$f":"IF('Access Point (Desc)'!G325=\"\",\"\",'Access Point (Desc)'!G325)","v":""},{"$f":"IF('Access Point (Desc)'!H325=\"\",\"\",'Access Point (Desc)'!H325)","v":""},{"$f":"IF('Access Point (Desc)'!I325=\"\",\"\",INDEX([1]ROUTE_MH_TYPE!$A$2:$A$100,MATCH('Access Point (Desc)'!$I325,[1]!MASTER_ROUTE_MH_TYPE_DESC[#Data],0),0))","v":""},{"$f":"IF('Access Point (Desc)'!J325=\"\",\"\",INDEX([1]MANHOLE_MTL!$A$2:$A$100,MATCH('Access Point (Desc)'!$J325,[1]!MASTER_MANHOLE_MTL_DESC[#Data],0),0))","v":""},{"$f":"IF('Access Point (Desc)'!K325=\"\",\"\",INDEX([1]MANHOLE_SIZE!$A$2:$A$120,MATCH('Access Point (Desc)'!$K325,[1]!MASTER_MANHOLE_SIZE_DESC[#Data],0),0))","v":""},{"$f":"IF('Access Point (Desc)'!L325=\"\",\"\",INDEX([1]ROUTE_MH_LID_TYPE!$A$2:$A$100,MATCH('Access Point (Desc)'!$L325,[1]!MASTER_ROUTE_MH_LID_TYPE_DESC[#Data],0),0))","v":""},{"$f":"IF('Access Point (Desc)'!M325=\"\",\"\",INDEX([1]MANHOLE_MTL!$A$2:$A$100,MATCH('Access Point (Desc)'!$M325,[1]!MASTER_MANHOLE_MTL_DESC[#Data],0),0))","v":""},{"$f":"IF('Access Point (Desc)'!N325=\"\",\"\",INDEX([1]LID_BOLT_TYPE!$A$2:$A$100,MATCH('Access Point (Desc)'!$N325,[1]!MASTER_LID_BOLT_TYPE_DESC[#Data],0),0))","v":""},{"$f":"IF('Access Point (Desc)'!O325=\"\",\"\",INDEX([1]YES_NO!$A$2:$A$100,MATCH('Access Point (Desc)'!$O325,[1]!MASTER_YES_NO_DESC[#Data],0),0))","v":""},{"$f":"IF('Access Point (Desc)'!P325=\"\",\"\",'Access Point (Desc)'!P325)","v":""},{"$f":"IF('Access Point (Desc)'!Q325=\"\",\"\",INDEX([1]YES_NO!$A$2:$A$100,MATCH('Access Point (Desc)'!$Q325,[1]!MASTER_YES_NO_DESC[#Data],0),0))","v":""}]
[{"$f":"IF('Access Point (Desc)'!A326=\"\",\"\",'Access Point (Desc)'!A326)","v":""},{"$f":"IF('Access Point (Desc)'!B326=\"\",\"\",'Access Point (Desc)'!B326)","v":""},{"$f":"IF('Access Point (Desc)'!C326=\"\",\"\",'Access Point (Desc)'!C326)","v":""},{"$f":"IF('Access Point (Desc)'!D326=\"\",\"\",'Access Point (Desc)'!D326)","v":""},{"$f":"IF('Access Point (Desc)'!E326=\"\",\"\",INDEX([1]OWNER!$A$2:$A$100,MATCH('Access Point (Desc)'!$E326,[1]!MASTER_OWNER_DESC[#Data],0),0))","v":""},{"$f":"IF('Access Point (Desc)'!F326=\"\",\"\",INDEX([1]COUNTY!$A$2:$A$100,MATCH('Access Point (Desc)'!F326,[1]!MASTER_COUNTY_NAME[#Data],0),0))","v":""},{"$f":"IF('Access Point (Desc)'!G326=\"\",\"\",'Access Point (Desc)'!G326)","v":""},{"$f":"IF('Access Point (Desc)'!H326=\"\",\"\",'Access Point (Desc)'!H326)","v":""},{"$f":"IF('Access Point (Desc)'!I326=\"\",\"\",INDEX([1]ROUTE_MH_TYPE!$A$2:$A$100,MATCH('Access Point (Desc)'!$I326,[1]!MASTER_ROUTE_MH_TYPE_DESC[#Data],0),0))","v":""},{"$f":"IF('Access Point (Desc)'!J326=\"\",\"\",INDEX([1]MANHOLE_MTL!$A$2:$A$100,MATCH('Access Point (Desc)'!$J326,[1]!MASTER_MANHOLE_MTL_DESC[#Data],0),0))","v":""},{"$f":"IF('Access Point (Desc)'!K326=\"\",\"\",INDEX([1]MANHOLE_SIZE!$A$2:$A$120,MATCH('Access Point (Desc)'!$K326,[1]!MASTER_MANHOLE_SIZE_DESC[#Data],0),0))","v":""},{"$f":"IF('Access Point (Desc)'!L326=\"\",\"\",INDEX([1]ROUTE_MH_LID_TYPE!$A$2:$A$100,MATCH('Access Point (Desc)'!$L326,[1]!MASTER_ROUTE_MH_LID_TYPE_DESC[#Data],0),0))","v":""},{"$f":"IF('Access Point (Desc)'!M326=\"\",\"\",INDEX([1]MANHOLE_MTL!$A$2:$A$100,MATCH('Access Point (Desc)'!$M326,[1]!MASTER_MANHOLE_MTL_DESC[#Data],0),0))","v":""},{"$f":"IF('Access Point (Desc)'!N326=\"\",\"\",INDEX([1]LID_BOLT_TYPE!$A$2:$A$100,MATCH('Access Point (Desc)'!$N326,[1]!MASTER_LID_BOLT_TYPE_DESC[#Data],0),0))","v":""},{"$f":"IF('Access Point (Desc)'!O326=\"\",\"\",INDEX([1]YES_NO!$A$2:$A$100,MATCH('Access Point (Desc)'!$O326,[1]!MASTER_YES_NO_DESC[#Data],0),0))","v":""},{"$f":"IF('Access Point (Desc)'!P326=\"\",\"\",'Access Point (Desc)'!P326)","v":""},{"$f":"IF('Access Point (Desc)'!Q326=\"\",\"\",INDEX([1]YES_NO!$A$2:$A$100,MATCH('Access Point (Desc)'!$Q326,[1]!MASTER_YES_NO_DESC[#Data],0),0))","v":""}]
[{"$f":"IF('Access Point (Desc)'!A327=\"\",\"\",'Access Point (Desc)'!A327)","v":""},{"$f":"IF('Access Point (Desc)'!B327=\"\",\"\",'Access Point (Desc)'!B327)","v":""},{"$f":"IF('Access Point (Desc)'!C327=\"\",\"\",'Access Point (Desc)'!C327)","v":""},{"$f":"IF('Access Point (Desc)'!D327=\"\",\"\",'Access Point (Desc)'!D327)","v":""},{"$f":"IF('Access Point (Desc)'!E327=\"\",\"\",INDEX([1]OWNER!$A$2:$A$100,MATCH('Access Point (Desc)'!$E327,[1]!MASTER_OWNER_DESC[#Data],0),0))","v":""},{"$f":"IF('Access Point (Desc)'!F327=\"\",\"\",INDEX([1]COUNTY!$A$2:$A$100,MATCH('Access Point (Desc)'!F327,[1]!MASTER_COUNTY_NAME[#Data],0),0))","v":""},{"$f":"IF('Access Point (Desc)'!G327=\"\",\"\",'Access Point (Desc)'!G327)","v":""},{"$f":"IF('Access Point (Desc)'!H327=\"\",\"\",'Access Point (Desc)'!H327)","v":""},{"$f":"IF('Access Point (Desc)'!I327=\"\",\"\",INDEX([1]ROUTE_MH_TYPE!$A$2:$A$100,MATCH('Access Point (Desc)'!$I327,[1]!MASTER_ROUTE_MH_TYPE_DESC[#Data],0),0))","v":""},{"$f":"IF('Access Point (Desc)'!J327=\"\",\"\",INDEX([1]MANHOLE_MTL!$A$2:$A$100,MATCH('Access Point (Desc)'!$J327,[1]!MASTER_MANHOLE_MTL_DESC[#Data],0),0))","v":""},{"$f":"IF('Access Point (Desc)'!K327=\"\",\"\",INDEX([1]MANHOLE_SIZE!$A$2:$A$120,MATCH('Access Point (Desc)'!$K327,[1]!MASTER_MANHOLE_SIZE_DESC[#Data],0),0))","v":""},{"$f":"IF('Access Point (Desc)'!L327=\"\",\"\",INDEX([1]ROUTE_MH_LID_TYPE!$A$2:$A$100,MATCH('Access Point (Desc)'!$L327,[1]!MASTER_ROUTE_MH_LID_TYPE_DESC[#Data],0),0))","v":""},{"$f":"IF('Access Point (Desc)'!M327=\"\",\"\",INDEX([1]MANHOLE_MTL!$A$2:$A$100,MATCH('Access Point (Desc)'!$M327,[1]!MASTER_MANHOLE_MTL_DESC[#Data],0),0))","v":""},{"$f":"IF('Access Point (Desc)'!N327=\"\",\"\",INDEX([1]LID_BOLT_TYPE!$A$2:$A$100,MATCH('Access Point (Desc)'!$N327,[1]!MASTER_LID_BOLT_TYPE_DESC[#Data],0),0))","v":""},{"$f":"IF('Access Point (Desc)'!O327=\"\",\"\",INDEX([1]YES_NO!$A$2:$A$100,MATCH('Access Point (Desc)'!$O327,[1]!MASTER_YES_NO_DESC[#Data],0),0))","v":""},{"$f":"IF('Access Point (Desc)'!P327=\"\",\"\",'Access Point (Desc)'!P327)","v":""},{"$f":"IF('Access Point (Desc)'!Q327=\"\",\"\",INDEX([1]YES_NO!$A$2:$A$100,MATCH('Access Point (Desc)'!$Q327,[1]!MASTER_YES_NO_DESC[#Data],0),0))","v":""}]
[{"$f":"IF('Access Point (Desc)'!A328=\"\",\"\",'Access Point (Desc)'!A328)","v":""},{"$f":"IF('Access Point (Desc)'!B328=\"\",\"\",'Access Point (Desc)'!B328)","v":""},{"$f":"IF('Access Point (Desc)'!C328=\"\",\"\",'Access Point (Desc)'!C328)","v":""},{"$f":"IF('Access Point (Desc)'!D328=\"\",\"\",'Access Point (Desc)'!D328)","v":""},{"$f":"IF('Access Point (Desc)'!E328=\"\",\"\",INDEX([1]OWNER!$A$2:$A$100,MATCH('Access Point (Desc)'!$E328,[1]!MASTER_OWNER_DESC[#Data],0),0))","v":""},{"$f":"IF('Access Point (Desc)'!F328=\"\",\"\",INDEX([1]COUNTY!$A$2:$A$100,MATCH('Access Point (Desc)'!F328,[1]!MASTER_COUNTY_NAME[#Data],0),0))","v":""},{"$f":"IF('Access Point (Desc)'!G328=\"\",\"\",'Access Point (Desc)'!G328)","v":""},{"$f":"IF('Access Point (Desc)'!H328=\"\",\"\",'Access Point (Desc)'!H328)","v":""},{"$f":"IF('Access Point (Desc)'!I328=\"\",\"\",INDEX([1]ROUTE_MH_TYPE!$A$2:$A$100,MATCH('Access Point (Desc)'!$I328,[1]!MASTER_ROUTE_MH_TYPE_DESC[#Data],0),0))","v":""},{"$f":"IF('Access Point (Desc)'!J328=\"\",\"\",INDEX([1]MANHOLE_MTL!$A$2:$A$100,MATCH('Access Point (Desc)'!$J328,[1]!MASTER_MANHOLE_MTL_DESC[#Data],0),0))","v":""},{"$f":"IF('Access Point (Desc)'!K328=\"\",\"\",INDEX([1]MANHOLE_SIZE!$A$2:$A$120,MATCH('Access Point (Desc)'!$K328,[1]!MASTER_MANHOLE_SIZE_DESC[#Data],0),0))","v":""},{"$f":"IF('Access Point (Desc)'!L328=\"\",\"\",INDEX([1]ROUTE_MH_LID_TYPE!$A$2:$A$100,MATCH('Access Point (Desc)'!$L328,[1]!MASTER_ROUTE_MH_LID_TYPE_DESC[#Data],0),0))","v":""},{"$f":"IF('Access Point (Desc)'!M328=\"\",\"\",INDEX([1]MANHOLE_MTL!$A$2:$A$100,MATCH('Access Point (Desc)'!$M328,[1]!MASTER_MANHOLE_MTL_DESC[#Data],0),0))","v":""},{"$f":"IF('Access Point (Desc)'!N328=\"\",\"\",INDEX([1]LID_BOLT_TYPE!$A$2:$A$100,MATCH('Access Point (Desc)'!$N328,[1]!MASTER_LID_BOLT_TYPE_DESC[#Data],0),0))","v":""},{"$f":"IF('Access Point (Desc)'!O328=\"\",\"\",INDEX([1]YES_NO!$A$2:$A$100,MATCH('Access Point (Desc)'!$O328,[1]!MASTER_YES_NO_DESC[#Data],0),0))","v":""},{"$f":"IF('Access Point (Desc)'!P328=\"\",\"\",'Access Point (Desc)'!P328)","v":""},{"$f":"IF('Access Point (Desc)'!Q328=\"\",\"\",INDEX([1]YES_NO!$A$2:$A$100,MATCH('Access Point (Desc)'!$Q328,[1]!MASTER_YES_NO_DESC[#Data],0),0))","v":""}]
[{"$f":"IF('Access Point (Desc)'!A329=\"\",\"\",'Access Point (Desc)'!A329)","v":""},{"$f":"IF('Access Point (Desc)'!B329=\"\",\"\",'Access Point (Desc)'!B329)","v":""},{"$f":"IF('Access Point (Desc)'!C329=\"\",\"\",'Access Point (Desc)'!C329)","v":""},{"$f":"IF('Access Point (Desc)'!D329=\"\",\"\",'Access Point (Desc)'!D329)","v":""},{"$f":"IF('Access Point (Desc)'!E329=\"\",\"\",INDEX([1]OWNER!$A$2:$A$100,MATCH('Access Point (Desc)'!$E329,[1]!MASTER_OWNER_DESC[#Data],0),0))","v":""},{"$f":"IF('Access Point (Desc)'!F329=\"\",\"\",INDEX([1]COUNTY!$A$2:$A$100,MATCH('Access Point (Desc)'!F329,[1]!MASTER_COUNTY_NAME[#Data],0),0))","v":""},{"$f":"IF('Access Point (Desc)'!G329=\"\",\"\",'Access Point (Desc)'!G329)","v":""},{"$f":"IF('Access Point (Desc)'!H329=\"\",\"\",'Access Point (Desc)'!H329)","v":""},{"$f":"IF('Access Point (Desc)'!I329=\"\",\"\",INDEX([1]ROUTE_MH_TYPE!$A$2:$A$100,MATCH('Access Point (Desc)'!$I329,[1]!MASTER_ROUTE_MH_TYPE_DESC[#Data],0),0))","v":""},{"$f":"IF('Access Point (Desc)'!J329=\"\",\"\",INDEX([1]MANHOLE_MTL!$A$2:$A$100,MATCH('Access Point (Desc)'!$J329,[1]!MASTER_MANHOLE_MTL_DESC[#Data],0),0))","v":""},{"$f":"IF('Access Point (Desc)'!K329=\"\",\"\",INDEX([1]MANHOLE_SIZE!$A$2:$A$120,MATCH('Access Point (Desc)'!$K329,[1]!MASTER_MANHOLE_SIZE_DESC[#Data],0),0))","v":""},{"$f":"IF('Access Point (Desc)'!L329=\"\",\"\",INDEX([1]ROUTE_MH_LID_TYPE!$A$2:$A$100,MATCH('Access Point (Desc)'!$L329,[1]!MASTER_ROUTE_MH_LID_TYPE_DESC[#Data],0),0))","v":""},{"$f":"IF('Access Point (Desc)'!M329=\"\",\"\",INDEX([1]MANHOLE_MTL!$A$2:$A$100,MATCH('Access Point (Desc)'!$M329,[1]!MASTER_MANHOLE_MTL_DESC[#Data],0),0))","v":""},{"$f":"IF('Access Point (Desc)'!N329=\"\",\"\",INDEX([1]LID_BOLT_TYPE!$A$2:$A$100,MATCH('Access Point (Desc)'!$N329,[1]!MASTER_LID_BOLT_TYPE_DESC[#Data],0),0))","v":""},{"$f":"IF('Access Point (Desc)'!O329=\"\",\"\",INDEX([1]YES_NO!$A$2:$A$100,MATCH('Access Point (Desc)'!$O329,[1]!MASTER_YES_NO_DESC[#Data],0),0))","v":""},{"$f":"IF('Access Point (Desc)'!P329=\"\",\"\",'Access Point (Desc)'!P329)","v":""},{"$f":"IF('Access Point (Desc)'!Q329=\"\",\"\",INDEX([1]YES_NO!$A$2:$A$100,MATCH('Access Point (Desc)'!$Q329,[1]!MASTER_YES_NO_DESC[#Data],0),0))","v":""}]
[{"$f":"IF('Access Point (Desc)'!A330=\"\",\"\",'Access Point (Desc)'!A330)","v":""},{"$f":"IF('Access Point (Desc)'!B330=\"\",\"\",'Access Point (Desc)'!B330)","v":""},{"$f":"IF('Access Point (Desc)'!C330=\"\",\"\",'Access Point (Desc)'!C330)","v":""},{"$f":"IF('Access Point (Desc)'!D330=\"\",\"\",'Access Point (Desc)'!D330)","v":""},{"$f":"IF('Access Point (Desc)'!E330=\"\",\"\",INDEX([1]OWNER!$A$2:$A$100,MATCH('Access Point (Desc)'!$E330,[1]!MASTER_OWNER_DESC[#Data],0),0))","v":""},{"$f":"IF('Access Point (Desc)'!F330=\"\",\"\",INDEX([1]COUNTY!$A$2:$A$100,MATCH('Access Point (Desc)'!F330,[1]!MASTER_COUNTY_NAME[#Data],0),0))","v":""},{"$f":"IF('Access Point (Desc)'!G330=\"\",\"\",'Access Point (Desc)'!G330)","v":""},{"$f":"IF('Access Point (Desc)'!H330=\"\",\"\",'Access Point (Desc)'!H330)","v":""},{"$f":"IF('Access Point (Desc)'!I330=\"\",\"\",INDEX([1]ROUTE_MH_TYPE!$A$2:$A$100,MATCH('Access Point (Desc)'!$I330,[1]!MASTER_ROUTE_MH_TYPE_DESC[#Data],0),0))","v":""},{"$f":"IF('Access Point (Desc)'!J330=\"\",\"\",INDEX([1]MANHOLE_MTL!$A$2:$A$100,MATCH('Access Point (Desc)'!$J330,[1]!MASTER_MANHOLE_MTL_DESC[#Data],0),0))","v":""},{"$f":"IF('Access Point (Desc)'!K330=\"\",\"\",INDEX([1]MANHOLE_SIZE!$A$2:$A$120,MATCH('Access Point (Desc)'!$K330,[1]!MASTER_MANHOLE_SIZE_DESC[#Data],0),0))","v":""},{"$f":"IF('Access Point (Desc)'!L330=\"\",\"\",INDEX([1]ROUTE_MH_LID_TYPE!$A$2:$A$100,MATCH('Access Point (Desc)'!$L330,[1]!MASTER_ROUTE_MH_LID_TYPE_DESC[#Data],0),0))","v":""},{"$f":"IF('Access Point (Desc)'!M330=\"\",\"\",INDEX([1]MANHOLE_MTL!$A$2:$A$100,MATCH('Access Point (Desc)'!$M330,[1]!MASTER_MANHOLE_MTL_DESC[#Data],0),0))","v":""},{"$f":"IF('Access Point (Desc)'!N330=\"\",\"\",INDEX([1]LID_BOLT_TYPE!$A$2:$A$100,MATCH('Access Point (Desc)'!$N330,[1]!MASTER_LID_BOLT_TYPE_DESC[#Data],0),0))","v":""},{"$f":"IF('Access Point (Desc)'!O330=\"\",\"\",INDEX([1]YES_NO!$A$2:$A$100,MATCH('Access Point (Desc)'!$O330,[1]!MASTER_YES_NO_DESC[#Data],0),0))","v":""},{"$f":"IF('Access Point (Desc)'!P330=\"\",\"\",'Access Point (Desc)'!P330)","v":""},{"$f":"IF('Access Point (Desc)'!Q330=\"\",\"\",INDEX([1]YES_NO!$A$2:$A$100,MATCH('Access Point (Desc)'!$Q330,[1]!MASTER_YES_NO_DESC[#Data],0),0))","v":""}]
[{"$f":"IF('Access Point (Desc)'!A331=\"\",\"\",'Access Point (Desc)'!A331)","v":""},{"$f":"IF('Access Point (Desc)'!B331=\"\",\"\",'Access Point (Desc)'!B331)","v":""},{"$f":"IF('Access Point (Desc)'!C331=\"\",\"\",'Access Point (Desc)'!C331)","v":""},{"$f":"IF('Access Point (Desc)'!D331=\"\",\"\",'Access Point (Desc)'!D331)","v":""},{"$f":"IF('Access Point (Desc)'!E331=\"\",\"\",INDEX([1]OWNER!$A$2:$A$100,MATCH('Access Point (Desc)'!$E331,[1]!MASTER_OWNER_DESC[#Data],0),0))","v":""},{"$f":"IF('Access Point (Desc)'!F331=\"\",\"\",INDEX([1]COUNTY!$A$2:$A$100,MATCH('Access Point (Desc)'!F331,[1]!MASTER_COUNTY_NAME[#Data],0),0))","v":""},{"$f":"IF('Access Point (Desc)'!G331=\"\",\"\",'Access Point (Desc)'!G331)","v":""},{"$f":"IF('Access Point (Desc)'!H331=\"\",\"\",'Access Point (Desc)'!H331)","v":""},{"$f":"IF('Access Point (Desc)'!I331=\"\",\"\",INDEX([1]ROUTE_MH_TYPE!$A$2:$A$100,MATCH('Access Point (Desc)'!$I331,[1]!MASTER_ROUTE_MH_TYPE_DESC[#Data],0),0))","v":""},{"$f":"IF('Access Point (Desc)'!J331=\"\",\"\",INDEX([1]MANHOLE_MTL!$A$2:$A$100,MATCH('Access Point (Desc)'!$J331,[1]!MASTER_MANHOLE_MTL_DESC[#Data],0),0))","v":""},{"$f":"IF('Access Point (Desc)'!K331=\"\",\"\",INDEX([1]MANHOLE_SIZE!$A$2:$A$120,MATCH('Access Point (Desc)'!$K331,[1]!MASTER_MANHOLE_SIZE_DESC[#Data],0),0))","v":""},{"$f":"IF('Access Point (Desc)'!L331=\"\",\"\",INDEX([1]ROUTE_MH_LID_TYPE!$A$2:$A$100,MATCH('Access Point (Desc)'!$L331,[1]!MASTER_ROUTE_MH_LID_TYPE_DESC[#Data],0),0))","v":""},{"$f":"IF('Access Point (Desc)'!M331=\"\",\"\",INDEX([1]MANHOLE_MTL!$A$2:$A$100,MATCH('Access Point (Desc)'!$M331,[1]!MASTER_MANHOLE_MTL_DESC[#Data],0),0))","v":""},{"$f":"IF('Access Point (Desc)'!N331=\"\",\"\",INDEX([1]LID_BOLT_TYPE!$A$2:$A$100,MATCH('Access Point (Desc)'!$N331,[1]!MASTER_LID_BOLT_TYPE_DESC[#Data],0),0))","v":""},{"$f":"IF('Access Point (Desc)'!O331=\"\",\"\",INDEX([1]YES_NO!$A$2:$A$100,MATCH('Access Point (Desc)'!$O331,[1]!MASTER_YES_NO_DESC[#Data],0),0))","v":""},{"$f":"IF('Access Point (Desc)'!P331=\"\",\"\",'Access Point (Desc)'!P331)","v":""},{"$f":"IF('Access Point (Desc)'!Q331=\"\",\"\",INDEX([1]YES_NO!$A$2:$A$100,MATCH('Access Point (Desc)'!$Q331,[1]!MASTER_YES_NO_DESC[#Data],0),0))","v":""}]
[{"$f":"IF('Access Point (Desc)'!A332=\"\",\"\",'Access Point (Desc)'!A332)","v":""},{"$f":"IF('Access Point (Desc)'!B332=\"\",\"\",'Access Point (Desc)'!B332)","v":""},{"$f":"IF('Access Point (Desc)'!C332=\"\",\"\",'Access Point (Desc)'!C332)","v":""},{"$f":"IF('Access Point (Desc)'!D332=\"\",\"\",'Access Point (Desc)'!D332)","v":""},{"$f":"IF('Access Point (Desc)'!E332=\"\",\"\",INDEX([1]OWNER!$A$2:$A$100,MATCH('Access Point (Desc)'!$E332,[1]!MASTER_OWNER_DESC[#Data],0),0))","v":""},{"$f":"IF('Access Point (Desc)'!F332=\"\",\"\",INDEX([1]COUNTY!$A$2:$A$100,MATCH('Access Point (Desc)'!F332,[1]!MASTER_COUNTY_NAME[#Data],0),0))","v":""},{"$f":"IF('Access Point (Desc)'!G332=\"\",\"\",'Access Point (Desc)'!G332)","v":""},{"$f":"IF('Access Point (Desc)'!H332=\"\",\"\",'Access Point (Desc)'!H332)","v":""},{"$f":"IF('Access Point (Desc)'!I332=\"\",\"\",INDEX([1]ROUTE_MH_TYPE!$A$2:$A$100,MATCH('Access Point (Desc)'!$I332,[1]!MASTER_ROUTE_MH_TYPE_DESC[#Data],0),0))","v":""},{"$f":"IF('Access Point (Desc)'!J332=\"\",\"\",INDEX([1]MANHOLE_MTL!$A$2:$A$100,MATCH('Access Point (Desc)'!$J332,[1]!MASTER_MANHOLE_MTL_DESC[#Data],0),0))","v":""},{"$f":"IF('Access Point (Desc)'!K332=\"\",\"\",INDEX([1]MANHOLE_SIZE!$A$2:$A$120,MATCH('Access Point (Desc)'!$K332,[1]!MASTER_MANHOLE_SIZE_DESC[#Data],0),0))","v":""},{"$f":"IF('Access Point (Desc)'!L332=\"\",\"\",INDEX([1]ROUTE_MH_LID_TYPE!$A$2:$A$100,MATCH('Access Point (Desc)'!$L332,[1]!MASTER_ROUTE_MH_LID_TYPE_DESC[#Data],0),0))","v":""},{"$f":"IF('Access Point (Desc)'!M332=\"\",\"\",INDEX([1]MANHOLE_MTL!$A$2:$A$100,MATCH('Access Point (Desc)'!$M332,[1]!MASTER_MANHOLE_MTL_DESC[#Data],0),0))","v":""},{"$f":"IF('Access Point (Desc)'!N332=\"\",\"\",INDEX([1]LID_BOLT_TYPE!$A$2:$A$100,MATCH('Access Point (Desc)'!$N332,[1]!MASTER_LID_BOLT_TYPE_DESC[#Data],0),0))","v":""},{"$f":"IF('Access Point (Desc)'!O332=\"\",\"\",INDEX([1]YES_NO!$A$2:$A$100,MATCH('Access Point (Desc)'!$O332,[1]!MASTER_YES_NO_DESC[#Data],0),0))","v":""},{"$f":"IF('Access Point (Desc)'!P332=\"\",\"\",'Access Point (Desc)'!P332)","v":""},{"$f":"IF('Access Point (Desc)'!Q332=\"\",\"\",INDEX([1]YES_NO!$A$2:$A$100,MATCH('Access Point (Desc)'!$Q332,[1]!MASTER_YES_NO_DESC[#Data],0),0))","v":""}]
[{"$f":"IF('Access Point (Desc)'!A333=\"\",\"\",'Access Point (Desc)'!A333)","v":""},{"$f":"IF('Access Point (Desc)'!B333=\"\",\"\",'Access Point (Desc)'!B333)","v":""},{"$f":"IF('Access Point (Desc)'!C333=\"\",\"\",'Access Point (Desc)'!C333)","v":""},{"$f":"IF('Access Point (Desc)'!D333=\"\",\"\",'Access Point (Desc)'!D333)","v":""},{"$f":"IF('Access Point (Desc)'!E333=\"\",\"\",INDEX([1]OWNER!$A$2:$A$100,MATCH('Access Point (Desc)'!$E333,[1]!MASTER_OWNER_DESC[#Data],0),0))","v":""},{"$f":"IF('Access Point (Desc)'!F333=\"\",\"\",INDEX([1]COUNTY!$A$2:$A$100,MATCH('Access Point (Desc)'!F333,[1]!MASTER_COUNTY_NAME[#Data],0),0))","v":""},{"$f":"IF('Access Point (Desc)'!G333=\"\",\"\",'Access Point (Desc)'!G333)","v":""},{"$f":"IF('Access Point (Desc)'!H333=\"\",\"\",'Access Point (Desc)'!H333)","v":""},{"$f":"IF('Access Point (Desc)'!I333=\"\",\"\",INDEX([1]ROUTE_MH_TYPE!$A$2:$A$100,MATCH('Access Point (Desc)'!$I333,[1]!MASTER_ROUTE_MH_TYPE_DESC[#Data],0),0))","v":""},{"$f":"IF('Access Point (Desc)'!J333=\"\",\"\",INDEX([1]MANHOLE_MTL!$A$2:$A$100,MATCH('Access Point (Desc)'!$J333,[1]!MASTER_MANHOLE_MTL_DESC[#Data],0),0))","v":""},{"$f":"IF('Access Point (Desc)'!K333=\"\",\"\",INDEX([1]MANHOLE_SIZE!$A$2:$A$120,MATCH('Access Point (Desc)'!$K333,[1]!MASTER_MANHOLE_SIZE_DESC[#Data],0),0))","v":""},{"$f":"IF('Access Point (Desc)'!L333=\"\",\"\",INDEX([1]ROUTE_MH_LID_TYPE!$A$2:$A$100,MATCH('Access Point (Desc)'!$L333,[1]!MASTER_ROUTE_MH_LID_TYPE_DESC[#Data],0),0))","v":""},{"$f":"IF('Access Point (Desc)'!M333=\"\",\"\",INDEX([1]MANHOLE_MTL!$A$2:$A$100,MATCH('Access Point (Desc)'!$M333,[1]!MASTER_MANHOLE_MTL_DESC[#Data],0),0))","v":""},{"$f":"IF('Access Point (Desc)'!N333=\"\",\"\",INDEX([1]LID_BOLT_TYPE!$A$2:$A$100,MATCH('Access Point (Desc)'!$N333,[1]!MASTER_LID_BOLT_TYPE_DESC[#Data],0),0))","v":""},{"$f":"IF('Access Point (Desc)'!O333=\"\",\"\",INDEX([1]YES_NO!$A$2:$A$100,MATCH('Access Point (Desc)'!$O333,[1]!MASTER_YES_NO_DESC[#Data],0),0))","v":""},{"$f":"IF('Access Point (Desc)'!P333=\"\",\"\",'Access Point (Desc)'!P333)","v":""},{"$f":"IF('Access Point (Desc)'!Q333=\"\",\"\",INDEX([1]YES_NO!$A$2:$A$100,MATCH('Access Point (Desc)'!$Q333,[1]!MASTER_YES_NO_DESC[#Data],0),0))","v":""}]
[{"$f":"IF('Access Point (Desc)'!A334=\"\",\"\",'Access Point (Desc)'!A334)","v":""},{"$f":"IF('Access Point (Desc)'!B334=\"\",\"\",'Access Point (Desc)'!B334)","v":""},{"$f":"IF('Access Point (Desc)'!C334=\"\",\"\",'Access Point (Desc)'!C334)","v":""},{"$f":"IF('Access Point (Desc)'!D334=\"\",\"\",'Access Point (Desc)'!D334)","v":""},{"$f":"IF('Access Point (Desc)'!E334=\"\",\"\",INDEX([1]OWNER!$A$2:$A$100,MATCH('Access Point (Desc)'!$E334,[1]!MASTER_OWNER_DESC[#Data],0),0))","v":""},{"$f":"IF('Access Point (Desc)'!F334=\"\",\"\",INDEX([1]COUNTY!$A$2:$A$100,MATCH('Access Point (Desc)'!F334,[1]!MASTER_COUNTY_NAME[#Data],0),0))","v":""},{"$f":"IF('Access Point (Desc)'!G334=\"\",\"\",'Access Point (Desc)'!G334)","v":""},{"$f":"IF('Access Point (Desc)'!H334=\"\",\"\",'Access Point (Desc)'!H334)","v":""},{"$f":"IF('Access Point (Desc)'!I334=\"\",\"\",INDEX([1]ROUTE_MH_TYPE!$A$2:$A$100,MATCH('Access Point (Desc)'!$I334,[1]!MASTER_ROUTE_MH_TYPE_DESC[#Data],0),0))","v":""},{"$f":"IF('Access Point (Desc)'!J334=\"\",\"\",INDEX([1]MANHOLE_MTL!$A$2:$A$100,MATCH('Access Point (Desc)'!$J334,[1]!MASTER_MANHOLE_MTL_DESC[#Data],0),0))","v":""},{"$f":"IF('Access Point (Desc)'!K334=\"\",\"\",INDEX([1]MANHOLE_SIZE!$A$2:$A$120,MATCH('Access Point (Desc)'!$K334,[1]!MASTER_MANHOLE_SIZE_DESC[#Data],0),0))","v":""},{"$f":"IF('Access Point (Desc)'!L334=\"\",\"\",INDEX([1]ROUTE_MH_LID_TYPE!$A$2:$A$100,MATCH('Access Point (Desc)'!$L334,[1]!MASTER_ROUTE_MH_LID_TYPE_DESC[#Data],0),0))","v":""},{"$f":"IF('Access Point (Desc)'!M334=\"\",\"\",INDEX([1]MANHOLE_MTL!$A$2:$A$100,MATCH('Access Point (Desc)'!$M334,[1]!MASTER_MANHOLE_MTL_DESC[#Data],0),0))","v":""},{"$f":"IF('Access Point (Desc)'!N334=\"\",\"\",INDEX([1]LID_BOLT_TYPE!$A$2:$A$100,MATCH('Access Point (Desc)'!$N334,[1]!MASTER_LID_BOLT_TYPE_DESC[#Data],0),0))","v":""},{"$f":"IF('Access Point (Desc)'!O334=\"\",\"\",INDEX([1]YES_NO!$A$2:$A$100,MATCH('Access Point (Desc)'!$O334,[1]!MASTER_YES_NO_DESC[#Data],0),0))","v":""},{"$f":"IF('Access Point (Desc)'!P334=\"\",\"\",'Access Point (Desc)'!P334)","v":""},{"$f":"IF('Access Point (Desc)'!Q334=\"\",\"\",INDEX([1]YES_NO!$A$2:$A$100,MATCH('Access Point (Desc)'!$Q334,[1]!MASTER_YES_NO_DESC[#Data],0),0))","v":""}]
[{"$f":"IF('Access Point (Desc)'!A335=\"\",\"\",'Access Point (Desc)'!A335)","v":""},{"$f":"IF('Access Point (Desc)'!B335=\"\",\"\",'Access Point (Desc)'!B335)","v":""},{"$f":"IF('Access Point (Desc)'!C335=\"\",\"\",'Access Point (Desc)'!C335)","v":""},{"$f":"IF('Access Point (Desc)'!D335=\"\",\"\",'Access Point (Desc)'!D335)","v":""},{"$f":"IF('Access Point (Desc)'!E335=\"\",\"\",INDEX([1]OWNER!$A$2:$A$100,MATCH('Access Point (Desc)'!$E335,[1]!MASTER_OWNER_DESC[#Data],0),0))","v":""},{"$f":"IF('Access Point (Desc)'!F335=\"\",\"\",INDEX([1]COUNTY!$A$2:$A$100,MATCH('Access Point (Desc)'!F335,[1]!MASTER_COUNTY_NAME[#Data],0),0))","v":""},{"$f":"IF('Access Point (Desc)'!G335=\"\",\"\",'Access Point (Desc)'!G335)","v":""},{"$f":"IF('Access Point (Desc)'!H335=\"\",\"\",'Access Point (Desc)'!H335)","v":""},{"$f":"IF('Access Point (Desc)'!I335=\"\",\"\",INDEX([1]ROUTE_MH_TYPE!$A$2:$A$100,MATCH('Access Point (Desc)'!$I335,[1]!MASTER_ROUTE_MH_TYPE_DESC[#Data],0),0))","v":""},{"$f":"IF('Access Point (Desc)'!J335=\"\",\"\",INDEX([1]MANHOLE_MTL!$A$2:$A$100,MATCH('Access Point (Desc)'!$J335,[1]!MASTER_MANHOLE_MTL_DESC[#Data],0),0))","v":""},{"$f":"IF('Access Point (Desc)'!K335=\"\",\"\",INDEX([1]MANHOLE_SIZE!$A$2:$A$120,MATCH('Access Point (Desc)'!$K335,[1]!MASTER_MANHOLE_SIZE_DESC[#Data],0),0))","v":""},{"$f":"IF('Access Point (Desc)'!L335=\"\",\"\",INDEX([1]ROUTE_MH_LID_TYPE!$A$2:$A$100,MATCH('Access Point (Desc)'!$L335,[1]!MASTER_ROUTE_MH_LID_TYPE_DESC[#Data],0),0))","v":""},{"$f":"IF('Access Point (Desc)'!M335=\"\",\"\",INDEX([1]MANHOLE_MTL!$A$2:$A$100,MATCH('Access Point (Desc)'!$M335,[1]!MASTER_MANHOLE_MTL_DESC[#Data],0),0))","v":""},{"$f":"IF('Access Point (Desc)'!N335=\"\",\"\",INDEX([1]LID_BOLT_TYPE!$A$2:$A$100,MATCH('Access Point (Desc)'!$N335,[1]!MASTER_LID_BOLT_TYPE_DESC[#Data],0),0))","v":""},{"$f":"IF('Access Point (Desc)'!O335=\"\",\"\",INDEX([1]YES_NO!$A$2:$A$100,MATCH('Access Point (Desc)'!$O335,[1]!MASTER_YES_NO_DESC[#Data],0),0))","v":""},{"$f":"IF('Access Point (Desc)'!P335=\"\",\"\",'Access Point (Desc)'!P335)","v":""},{"$f":"IF('Access Point (Desc)'!Q335=\"\",\"\",INDEX([1]YES_NO!$A$2:$A$100,MATCH('Access Point (Desc)'!$Q335,[1]!MASTER_YES_NO_DESC[#Data],0),0))","v":""}]
[{"$f":"IF('Access Point (Desc)'!A336=\"\",\"\",'Access Point (Desc)'!A336)","v":""},{"$f":"IF('Access Point (Desc)'!B336=\"\",\"\",'Access Point (Desc)'!B336)","v":""},{"$f":"IF('Access Point (Desc)'!C336=\"\",\"\",'Access Point (Desc)'!C336)","v":""},{"$f":"IF('Access Point (Desc)'!D336=\"\",\"\",'Access Point (Desc)'!D336)","v":""},{"$f":"IF('Access Point (Desc)'!E336=\"\",\"\",INDEX([1]OWNER!$A$2:$A$100,MATCH('Access Point (Desc)'!$E336,[1]!MASTER_OWNER_DESC[#Data],0),0))","v":""},{"$f":"IF('Access Point (Desc)'!F336=\"\",\"\",INDEX([1]COUNTY!$A$2:$A$100,MATCH('Access Point (Desc)'!F336,[1]!MASTER_COUNTY_NAME[#Data],0),0))","v":""},{"$f":"IF('Access Point (Desc)'!G336=\"\",\"\",'Access Point (Desc)'!G336)","v":""},{"$f":"IF('Access Point (Desc)'!H336=\"\",\"\",'Access Point (Desc)'!H336)","v":""},{"$f":"IF('Access Point (Desc)'!I336=\"\",\"\",INDEX([1]ROUTE_MH_TYPE!$A$2:$A$100,MATCH('Access Point (Desc)'!$I336,[1]!MASTER_ROUTE_MH_TYPE_DESC[#Data],0),0))","v":""},{"$f":"IF('Access Point (Desc)'!J336=\"\",\"\",INDEX([1]MANHOLE_MTL!$A$2:$A$100,MATCH('Access Point (Desc)'!$J336,[1]!MASTER_MANHOLE_MTL_DESC[#Data],0),0))","v":""},{"$f":"IF('Access Point (Desc)'!K336=\"\",\"\",INDEX([1]MANHOLE_SIZE!$A$2:$A$120,MATCH('Access Point (Desc)'!$K336,[1]!MASTER_MANHOLE_SIZE_DESC[#Data],0),0))","v":""},{"$f":"IF('Access Point (Desc)'!L336=\"\",\"\",INDEX([1]ROUTE_MH_LID_TYPE!$A$2:$A$100,MATCH('Access Point (Desc)'!$L336,[1]!MASTER_ROUTE_MH_LID_TYPE_DESC[#Data],0),0))","v":""},{"$f":"IF('Access Point (Desc)'!M336=\"\",\"\",INDEX([1]MANHOLE_MTL!$A$2:$A$100,MATCH('Access Point (Desc)'!$M336,[1]!MASTER_MANHOLE_MTL_DESC[#Data],0),0))","v":""},{"$f":"IF('Access Point (Desc)'!N336=\"\",\"\",INDEX([1]LID_BOLT_TYPE!$A$2:$A$100,MATCH('Access Point (Desc)'!$N336,[1]!MASTER_LID_BOLT_TYPE_DESC[#Data],0),0))","v":""},{"$f":"IF('Access Point (Desc)'!O336=\"\",\"\",INDEX([1]YES_NO!$A$2:$A$100,MATCH('Access Point (Desc)'!$O336,[1]!MASTER_YES_NO_DESC[#Data],0),0))","v":""},{"$f":"IF('Access Point (Desc)'!P336=\"\",\"\",'Access Point (Desc)'!P336)","v":""},{"$f":"IF('Access Point (Desc)'!Q336=\"\",\"\",INDEX([1]YES_NO!$A$2:$A$100,MATCH('Access Point (Desc)'!$Q336,[1]!MASTER_YES_NO_DESC[#Data],0),0))","v":""}]
[{"$f":"IF('Access Point (Desc)'!A337=\"\",\"\",'Access Point (Desc)'!A337)","v":""},{"$f":"IF('Access Point (Desc)'!B337=\"\",\"\",'Access Point (Desc)'!B337)","v":""},{"$f":"IF('Access Point (Desc)'!C337=\"\",\"\",'Access Point (Desc)'!C337)","v":""},{"$f":"IF('Access Point (Desc)'!D337=\"\",\"\",'Access Point (Desc)'!D337)","v":""},{"$f":"IF('Access Point (Desc)'!E337=\"\",\"\",INDEX([1]OWNER!$A$2:$A$100,MATCH('Access Point (Desc)'!$E337,[1]!MASTER_OWNER_DESC[#Data],0),0))","v":""},{"$f":"IF('Access Point (Desc)'!F337=\"\",\"\",INDEX([1]COUNTY!$A$2:$A$100,MATCH('Access Point (Desc)'!F337,[1]!MASTER_COUNTY_NAME[#Data],0),0))","v":""},{"$f":"IF('Access Point (Desc)'!G337=\"\",\"\",'Access Point (Desc)'!G337)","v":""},{"$f":"IF('Access Point (Desc)'!H337=\"\",\"\",'Access Point (Desc)'!H337)","v":""},{"$f":"IF('Access Point (Desc)'!I337=\"\",\"\",INDEX([1]ROUTE_MH_TYPE!$A$2:$A$100,MATCH('Access Point (Desc)'!$I337,[1]!MASTER_ROUTE_MH_TYPE_DESC[#Data],0),0))","v":""},{"$f":"IF('Access Point (Desc)'!J337=\"\",\"\",INDEX([1]MANHOLE_MTL!$A$2:$A$100,MATCH('Access Point (Desc)'!$J337,[1]!MASTER_MANHOLE_MTL_DESC[#Data],0),0))","v":""},{"$f":"IF('Access Point (Desc)'!K337=\"\",\"\",INDEX([1]MANHOLE_SIZE!$A$2:$A$120,MATCH('Access Point (Desc)'!$K337,[1]!MASTER_MANHOLE_SIZE_DESC[#Data],0),0))","v":""},{"$f":"IF('Access Point (Desc)'!L337=\"\",\"\",INDEX([1]ROUTE_MH_LID_TYPE!$A$2:$A$100,MATCH('Access Point (Desc)'!$L337,[1]!MASTER_ROUTE_MH_LID_TYPE_DESC[#Data],0),0))","v":""},{"$f":"IF('Access Point (Desc)'!M337=\"\",\"\",INDEX([1]MANHOLE_MTL!$A$2:$A$100,MATCH('Access Point (Desc)'!$M337,[1]!MASTER_MANHOLE_MTL_DESC[#Data],0),0))","v":""},{"$f":"IF('Access Point (Desc)'!N337=\"\",\"\",INDEX([1]LID_BOLT_TYPE!$A$2:$A$100,MATCH('Access Point (Desc)'!$N337,[1]!MASTER_LID_BOLT_TYPE_DESC[#Data],0),0))","v":""},{"$f":"IF('Access Point (Desc)'!O337=\"\",\"\",INDEX([1]YES_NO!$A$2:$A$100,MATCH('Access Point (Desc)'!$O337,[1]!MASTER_YES_NO_DESC[#Data],0),0))","v":""},{"$f":"IF('Access Point (Desc)'!P337=\"\",\"\",'Access Point (Desc)'!P337)","v":""},{"$f":"IF('Access Point (Desc)'!Q337=\"\",\"\",INDEX([1]YES_NO!$A$2:$A$100,MATCH('Access Point (Desc)'!$Q337,[1]!MASTER_YES_NO_DESC[#Data],0),0))","v":""}]
[{"$f":"IF('Access Point (Desc)'!A338=\"\",\"\",'Access Point (Desc)'!A338)","v":""},{"$f":"IF('Access Point (Desc)'!B338=\"\",\"\",'Access Point (Desc)'!B338)","v":""},{"$f":"IF('Access Point (Desc)'!C338=\"\",\"\",'Access Point (Desc)'!C338)","v":""},{"$f":"IF('Access Point (Desc)'!D338=\"\",\"\",'Access Point (Desc)'!D338)","v":""},{"$f":"IF('Access Point (Desc)'!E338=\"\",\"\",INDEX([1]OWNER!$A$2:$A$100,MATCH('Access Point (Desc)'!$E338,[1]!MASTER_OWNER_DESC[#Data],0),0))","v":""},{"$f":"IF('Access Point (Desc)'!F338=\"\",\"\",INDEX([1]COUNTY!$A$2:$A$100,MATCH('Access Point (Desc)'!F338,[1]!MASTER_COUNTY_NAME[#Data],0),0))","v":""},{"$f":"IF('Access Point (Desc)'!G338=\"\",\"\",'Access Point (Desc)'!G338)","v":""},{"$f":"IF('Access Point (Desc)'!H338=\"\",\"\",'Access Point (Desc)'!H338)","v":""},{"$f":"IF('Access Point (Desc)'!I338=\"\",\"\",INDEX([1]ROUTE_MH_TYPE!$A$2:$A$100,MATCH('Access Point (Desc)'!$I338,[1]!MASTER_ROUTE_MH_TYPE_DESC[#Data],0),0))","v":""},{"$f":"IF('Access Point (Desc)'!J338=\"\",\"\",INDEX([1]MANHOLE_MTL!$A$2:$A$100,MATCH('Access Point (Desc)'!$J338,[1]!MASTER_MANHOLE_MTL_DESC[#Data],0),0))","v":""},{"$f":"IF('Access Point (Desc)'!K338=\"\",\"\",INDEX([1]MANHOLE_SIZE!$A$2:$A$120,MATCH('Access Point (Desc)'!$K338,[1]!MASTER_MANHOLE_SIZE_DESC[#Data],0),0))","v":""},{"$f":"IF('Access Point (Desc)'!L338=\"\",\"\",INDEX([1]ROUTE_MH_LID_TYPE!$A$2:$A$100,MATCH('Access Point (Desc)'!$L338,[1]!MASTER_ROUTE_MH_LID_TYPE_DESC[#Data],0),0))","v":""},{"$f":"IF('Access Point (Desc)'!M338=\"\",\"\",INDEX([1]MANHOLE_MTL!$A$2:$A$100,MATCH('Access Point (Desc)'!$M338,[1]!MASTER_MANHOLE_MTL_DESC[#Data],0),0))","v":""},{"$f":"IF('Access Point (Desc)'!N338=\"\",\"\",INDEX([1]LID_BOLT_TYPE!$A$2:$A$100,MATCH('Access Point (Desc)'!$N338,[1]!MASTER_LID_BOLT_TYPE_DESC[#Data],0),0))","v":""},{"$f":"IF('Access Point (Desc)'!O338=\"\",\"\",INDEX([1]YES_NO!$A$2:$A$100,MATCH('Access Point (Desc)'!$O338,[1]!MASTER_YES_NO_DESC[#Data],0),0))","v":""},{"$f":"IF('Access Point (Desc)'!P338=\"\",\"\",'Access Point (Desc)'!P338)","v":""},{"$f":"IF('Access Point (Desc)'!Q338=\"\",\"\",INDEX([1]YES_NO!$A$2:$A$100,MATCH('Access Point (Desc)'!$Q338,[1]!MASTER_YES_NO_DESC[#Data],0),0))","v":""}]
[{"$f":"IF('Access Point (Desc)'!A339=\"\",\"\",'Access Point (Desc)'!A339)","v":""},{"$f":"IF('Access Point (Desc)'!B339=\"\",\"\",'Access Point (Desc)'!B339)","v":""},{"$f":"IF('Access Point (Desc)'!C339=\"\",\"\",'Access Point (Desc)'!C339)","v":""},{"$f":"IF('Access Point (Desc)'!D339=\"\",\"\",'Access Point (Desc)'!D339)","v":""},{"$f":"IF('Access Point (Desc)'!E339=\"\",\"\",INDEX([1]OWNER!$A$2:$A$100,MATCH('Access Point (Desc)'!$E339,[1]!MASTER_OWNER_DESC[#Data],0),0))","v":""},{"$f":"IF('Access Point (Desc)'!F339=\"\",\"\",INDEX([1]COUNTY!$A$2:$A$100,MATCH('Access Point (Desc)'!F339,[1]!MASTER_COUNTY_NAME[#Data],0),0))","v":""},{"$f":"IF('Access Point (Desc)'!G339=\"\",\"\",'Access Point (Desc)'!G339)","v":""},{"$f":"IF('Access Point (Desc)'!H339=\"\",\"\",'Access Point (Desc)'!H339)","v":""},{"$f":"IF('Access Point (Desc)'!I339=\"\",\"\",INDEX([1]ROUTE_MH_TYPE!$A$2:$A$100,MATCH('Access Point (Desc)'!$I339,[1]!MASTER_ROUTE_MH_TYPE_DESC[#Data],0),0))","v":""},{"$f":"IF('Access Point (Desc)'!J339=\"\",\"\",INDEX([1]MANHOLE_MTL!$A$2:$A$100,MATCH('Access Point (Desc)'!$J339,[1]!MASTER_MANHOLE_MTL_DESC[#Data],0),0))","v":""},{"$f":"IF('Access Point (Desc)'!K339=\"\",\"\",INDEX([1]MANHOLE_SIZE!$A$2:$A$120,MATCH('Access Point (Desc)'!$K339,[1]!MASTER_MANHOLE_SIZE_DESC[#Data],0),0))","v":""},{"$f":"IF('Access Point (Desc)'!L339=\"\",\"\",INDEX([1]ROUTE_MH_LID_TYPE!$A$2:$A$100,MATCH('Access Point (Desc)'!$L339,[1]!MASTER_ROUTE_MH_LID_TYPE_DESC[#Data],0),0))","v":""},{"$f":"IF('Access Point (Desc)'!M339=\"\",\"\",INDEX([1]MANHOLE_MTL!$A$2:$A$100,MATCH('Access Point (Desc)'!$M339,[1]!MASTER_MANHOLE_MTL_DESC[#Data],0),0))","v":""},{"$f":"IF('Access Point (Desc)'!N339=\"\",\"\",INDEX([1]LID_BOLT_TYPE!$A$2:$A$100,MATCH('Access Point (Desc)'!$N339,[1]!MASTER_LID_BOLT_TYPE_DESC[#Data],0),0))","v":""},{"$f":"IF('Access Point (Desc)'!O339=\"\",\"\",INDEX([1]YES_NO!$A$2:$A$100,MATCH('Access Point (Desc)'!$O339,[1]!MASTER_YES_NO_DESC[#Data],0),0))","v":""},{"$f":"IF('Access Point (Desc)'!P339=\"\",\"\",'Access Point (Desc)'!P339)","v":""},{"$f":"IF('Access Point (Desc)'!Q339=\"\",\"\",INDEX([1]YES_NO!$A$2:$A$100,MATCH('Access Point (Desc)'!$Q339,[1]!MASTER_YES_NO_DESC[#Data],0),0))","v":""}]
[{"$f":"IF('Access Point (Desc)'!A340=\"\",\"\",'Access Point (Desc)'!A340)","v":""},{"$f":"IF('Access Point (Desc)'!B340=\"\",\"\",'Access Point (Desc)'!B340)","v":""},{"$f":"IF('Access Point (Desc)'!C340=\"\",\"\",'Access Point (Desc)'!C340)","v":""},{"$f":"IF('Access Point (Desc)'!D340=\"\",\"\",'Access Point (Desc)'!D340)","v":""},{"$f":"IF('Access Point (Desc)'!E340=\"\",\"\",INDEX([1]OWNER!$A$2:$A$100,MATCH('Access Point (Desc)'!$E340,[1]!MASTER_OWNER_DESC[#Data],0),0))","v":""},{"$f":"IF('Access Point (Desc)'!F340=\"\",\"\",INDEX([1]COUNTY!$A$2:$A$100,MATCH('Access Point (Desc)'!F340,[1]!MASTER_COUNTY_NAME[#Data],0),0))","v":""},{"$f":"IF('Access Point (Desc)'!G340=\"\",\"\",'Access Point (Desc)'!G340)","v":""},{"$f":"IF('Access Point (Desc)'!H340=\"\",\"\",'Access Point (Desc)'!H340)","v":""},{"$f":"IF('Access Point (Desc)'!I340=\"\",\"\",INDEX([1]ROUTE_MH_TYPE!$A$2:$A$100,MATCH('Access Point (Desc)'!$I340,[1]!MASTER_ROUTE_MH_TYPE_DESC[#Data],0),0))","v":""},{"$f":"IF('Access Point (Desc)'!J340=\"\",\"\",INDEX([1]MANHOLE_MTL!$A$2:$A$100,MATCH('Access Point (Desc)'!$J340,[1]!MASTER_MANHOLE_MTL_DESC[#Data],0),0))","v":""},{"$f":"IF('Access Point (Desc)'!K340=\"\",\"\",INDEX([1]MANHOLE_SIZE!$A$2:$A$120,MATCH('Access Point (Desc)'!$K340,[1]!MASTER_MANHOLE_SIZE_DESC[#Data],0),0))","v":""},{"$f":"IF('Access Point (Desc)'!L340=\"\",\"\",INDEX([1]ROUTE_MH_LID_TYPE!$A$2:$A$100,MATCH('Access Point (Desc)'!$L340,[1]!MASTER_ROUTE_MH_LID_TYPE_DESC[#Data],0),0))","v":""},{"$f":"IF('Access Point (Desc)'!M340=\"\",\"\",INDEX([1]MANHOLE_MTL!$A$2:$A$100,MATCH('Access Point (Desc)'!$M340,[1]!MASTER_MANHOLE_MTL_DESC[#Data],0),0))","v":""},{"$f":"IF('Access Point (Desc)'!N340=\"\",\"\",INDEX([1]LID_BOLT_TYPE!$A$2:$A$100,MATCH('Access Point (Desc)'!$N340,[1]!MASTER_LID_BOLT_TYPE_DESC[#Data],0),0))","v":""},{"$f":"IF('Access Point (Desc)'!O340=\"\",\"\",INDEX([1]YES_NO!$A$2:$A$100,MATCH('Access Point (Desc)'!$O340,[1]!MASTER_YES_NO_DESC[#Data],0),0))","v":""},{"$f":"IF('Access Point (Desc)'!P340=\"\",\"\",'Access Point (Desc)'!P340)","v":""},{"$f":"IF('Access Point (Desc)'!Q340=\"\",\"\",INDEX([1]YES_NO!$A$2:$A$100,MATCH('Access Point (Desc)'!$Q340,[1]!MASTER_YES_NO_DESC[#Data],0),0))","v":""}]
[{"$f":"IF('Access Point (Desc)'!A341=\"\",\"\",'Access Point (Desc)'!A341)","v":""},{"$f":"IF('Access Point (Desc)'!B341=\"\",\"\",'Access Point (Desc)'!B341)","v":""},{"$f":"IF('Access Point (Desc)'!C341=\"\",\"\",'Access Point (Desc)'!C341)","v":""},{"$f":"IF('Access Point (Desc)'!D341=\"\",\"\",'Access Point (Desc)'!D341)","v":""},{"$f":"IF('Access Point (Desc)'!E341=\"\",\"\",INDEX([1]OWNER!$A$2:$A$100,MATCH('Access Point (Desc)'!$E341,[1]!MASTER_OWNER_DESC[#Data],0),0))","v":""},{"$f":"IF('Access Point (Desc)'!F341=\"\",\"\",INDEX([1]COUNTY!$A$2:$A$100,MATCH('Access Point (Desc)'!F341,[1]!MASTER_COUNTY_NAME[#Data],0),0))","v":""},{"$f":"IF('Access Point (Desc)'!G341=\"\",\"\",'Access Point (Desc)'!G341)","v":""},{"$f":"IF('Access Point (Desc)'!H341=\"\",\"\",'Access Point (Desc)'!H341)","v":""},{"$f":"IF('Access Point (Desc)'!I341=\"\",\"\",INDEX([1]ROUTE_MH_TYPE!$A$2:$A$100,MATCH('Access Point (Desc)'!$I341,[1]!MASTER_ROUTE_MH_TYPE_DESC[#Data],0),0))","v":""},{"$f":"IF('Access Point (Desc)'!J341=\"\",\"\",INDEX([1]MANHOLE_MTL!$A$2:$A$100,MATCH('Access Point (Desc)'!$J341,[1]!MASTER_MANHOLE_MTL_DESC[#Data],0),0))","v":""},{"$f":"IF('Access Point (Desc)'!K341=\"\",\"\",INDEX([1]MANHOLE_SIZE!$A$2:$A$120,MATCH('Access Point (Desc)'!$K341,[1]!MASTER_MANHOLE_SIZE_DESC[#Data],0),0))","v":""},{"$f":"IF('Access Point (Desc)'!L341=\"\",\"\",INDEX([1]ROUTE_MH_LID_TYPE!$A$2:$A$100,MATCH('Access Point (Desc)'!$L341,[1]!MASTER_ROUTE_MH_LID_TYPE_DESC[#Data],0),0))","v":""},{"$f":"IF('Access Point (Desc)'!M341=\"\",\"\",INDEX([1]MANHOLE_MTL!$A$2:$A$100,MATCH('Access Point (Desc)'!$M341,[1]!MASTER_MANHOLE_MTL_DESC[#Data],0),0))","v":""},{"$f":"IF('Access Point (Desc)'!N341=\"\",\"\",INDEX([1]LID_BOLT_TYPE!$A$2:$A$100,MATCH('Access Point (Desc)'!$N341,[1]!MASTER_LID_BOLT_TYPE_DESC[#Data],0),0))","v":""},{"$f":"IF('Access Point (Desc)'!O341=\"\",\"\",INDEX([1]YES_NO!$A$2:$A$100,MATCH('Access Point (Desc)'!$O341,[1]!MASTER_YES_NO_DESC[#Data],0),0))","v":""},{"$f":"IF('Access Point (Desc)'!P341=\"\",\"\",'Access Point (Desc)'!P341)","v":""},{"$f":"IF('Access Point (Desc)'!Q341=\"\",\"\",INDEX([1]YES_NO!$A$2:$A$100,MATCH('Access Point (Desc)'!$Q341,[1]!MASTER_YES_NO_DESC[#Data],0),0))","v":""}]
[{"$f":"IF('Access Point (Desc)'!A342=\"\",\"\",'Access Point (Desc)'!A342)","v":""},{"$f":"IF('Access Point (Desc)'!B342=\"\",\"\",'Access Point (Desc)'!B342)","v":""},{"$f":"IF('Access Point (Desc)'!C342=\"\",\"\",'Access Point (Desc)'!C342)","v":""},{"$f":"IF('Access Point (Desc)'!D342=\"\",\"\",'Access Point (Desc)'!D342)","v":""},{"$f":"IF('Access Point (Desc)'!E342=\"\",\"\",INDEX([1]OWNER!$A$2:$A$100,MATCH('Access Point (Desc)'!$E342,[1]!MASTER_OWNER_DESC[#Data],0),0))","v":""},{"$f":"IF('Access Point (Desc)'!F342=\"\",\"\",INDEX([1]COUNTY!$A$2:$A$100,MATCH('Access Point (Desc)'!F342,[1]!MASTER_COUNTY_NAME[#Data],0),0))","v":""},{"$f":"IF('Access Point (Desc)'!G342=\"\",\"\",'Access Point (Desc)'!G342)","v":""},{"$f":"IF('Access Point (Desc)'!H342=\"\",\"\",'Access Point (Desc)'!H342)","v":""},{"$f":"IF('Access Point (Desc)'!I342=\"\",\"\",INDEX([1]ROUTE_MH_TYPE!$A$2:$A$100,MATCH('Access Point (Desc)'!$I342,[1]!MASTER_ROUTE_MH_TYPE_DESC[#Data],0),0))","v":""},{"$f":"IF('Access Point (Desc)'!J342=\"\",\"\",INDEX([1]MANHOLE_MTL!$A$2:$A$100,MATCH('Access Point (Desc)'!$J342,[1]!MASTER_MANHOLE_MTL_DESC[#Data],0),0))","v":""},{"$f":"IF('Access Point (Desc)'!K342=\"\",\"\",INDEX([1]MANHOLE_SIZE!$A$2:$A$120,MATCH('Access Point (Desc)'!$K342,[1]!MASTER_MANHOLE_SIZE_DESC[#Data],0),0))","v":""},{"$f":"IF('Access Point (Desc)'!L342=\"\",\"\",INDEX([1]ROUTE_MH_LID_TYPE!$A$2:$A$100,MATCH('Access Point (Desc)'!$L342,[1]!MASTER_ROUTE_MH_LID_TYPE_DESC[#Data],0),0))","v":""},{"$f":"IF('Access Point (Desc)'!M342=\"\",\"\",INDEX([1]MANHOLE_MTL!$A$2:$A$100,MATCH('Access Point (Desc)'!$M342,[1]!MASTER_MANHOLE_MTL_DESC[#Data],0),0))","v":""},{"$f":"IF('Access Point (Desc)'!N342=\"\",\"\",INDEX([1]LID_BOLT_TYPE!$A$2:$A$100,MATCH('Access Point (Desc)'!$N342,[1]!MASTER_LID_BOLT_TYPE_DESC[#Data],0),0))","v":""},{"$f":"IF('Access Point (Desc)'!O342=\"\",\"\",INDEX([1]YES_NO!$A$2:$A$100,MATCH('Access Point (Desc)'!$O342,[1]!MASTER_YES_NO_DESC[#Data],0),0))","v":""},{"$f":"IF('Access Point (Desc)'!P342=\"\",\"\",'Access Point (Desc)'!P342)","v":""},{"$f":"IF('Access Point (Desc)'!Q342=\"\",\"\",INDEX([1]YES_NO!$A$2:$A$100,MATCH('Access Point (Desc)'!$Q342,[1]!MASTER_YES_NO_DESC[#Data],0),0))","v":""}]
[{"$f":"IF('Access Point (Desc)'!A343=\"\",\"\",'Access Point (Desc)'!A343)","v":""},{"$f":"IF('Access Point (Desc)'!B343=\"\",\"\",'Access Point (Desc)'!B343)","v":""},{"$f":"IF('Access Point (Desc)'!C343=\"\",\"\",'Access Point (Desc)'!C343)","v":""},{"$f":"IF('Access Point (Desc)'!D343=\"\",\"\",'Access Point (Desc)'!D343)","v":""},{"$f":"IF('Access Point (Desc)'!E343=\"\",\"\",INDEX([1]OWNER!$A$2:$A$100,MATCH('Access Point (Desc)'!$E343,[1]!MASTER_OWNER_DESC[#Data],0),0))","v":""},{"$f":"IF('Access Point (Desc)'!F343=\"\",\"\",INDEX([1]COUNTY!$A$2:$A$100,MATCH('Access Point (Desc)'!F343,[1]!MASTER_COUNTY_NAME[#Data],0),0))","v":""},{"$f":"IF('Access Point (Desc)'!G343=\"\",\"\",'Access Point (Desc)'!G343)","v":""},{"$f":"IF('Access Point (Desc)'!H343=\"\",\"\",'Access Point (Desc)'!H343)","v":""},{"$f":"IF('Access Point (Desc)'!I343=\"\",\"\",INDEX([1]ROUTE_MH_TYPE!$A$2:$A$100,MATCH('Access Point (Desc)'!$I343,[1]!MASTER_ROUTE_MH_TYPE_DESC[#Data],0),0))","v":""},{"$f":"IF('Access Point (Desc)'!J343=\"\",\"\",INDEX([1]MANHOLE_MTL!$A$2:$A$100,MATCH('Access Point (Desc)'!$J343,[1]!MASTER_MANHOLE_MTL_DESC[#Data],0),0))","v":""},{"$f":"IF('Access Point (Desc)'!K343=\"\",\"\",INDEX([1]MANHOLE_SIZE!$A$2:$A$120,MATCH('Access Point (Desc)'!$K343,[1]!MASTER_MANHOLE_SIZE_DESC[#Data],0),0))","v":""},{"$f":"IF('Access Point (Desc)'!L343=\"\",\"\",INDEX([1]ROUTE_MH_LID_TYPE!$A$2:$A$100,MATCH('Access Point (Desc)'!$L343,[1]!MASTER_ROUTE_MH_LID_TYPE_DESC[#Data],0),0))","v":""},{"$f":"IF('Access Point (Desc)'!M343=\"\",\"\",INDEX([1]MANHOLE_MTL!$A$2:$A$100,MATCH('Access Point (Desc)'!$M343,[1]!MASTER_MANHOLE_MTL_DESC[#Data],0),0))","v":""},{"$f":"IF('Access Point (Desc)'!N343=\"\",\"\",INDEX([1]LID_BOLT_TYPE!$A$2:$A$100,MATCH('Access Point (Desc)'!$N343,[1]!MASTER_LID_BOLT_TYPE_DESC[#Data],0),0))","v":""},{"$f":"IF('Access Point (Desc)'!O343=\"\",\"\",INDEX([1]YES_NO!$A$2:$A$100,MATCH('Access Point (Desc)'!$O343,[1]!MASTER_YES_NO_DESC[#Data],0),0))","v":""},{"$f":"IF('Access Point (Desc)'!P343=\"\",\"\",'Access Point (Desc)'!P343)","v":""},{"$f":"IF('Access Point (Desc)'!Q343=\"\",\"\",INDEX([1]YES_NO!$A$2:$A$100,MATCH('Access Point (Desc)'!$Q343,[1]!MASTER_YES_NO_DESC[#Data],0),0))","v":""}]
[{"$f":"IF('Access Point (Desc)'!A344=\"\",\"\",'Access Point (Desc)'!A344)","v":""},{"$f":"IF('Access Point (Desc)'!B344=\"\",\"\",'Access Point (Desc)'!B344)","v":""},{"$f":"IF('Access Point (Desc)'!C344=\"\",\"\",'Access Point (Desc)'!C344)","v":""},{"$f":"IF('Access Point (Desc)'!D344=\"\",\"\",'Access Point (Desc)'!D344)","v":""},{"$f":"IF('Access Point (Desc)'!E344=\"\",\"\",INDEX([1]OWNER!$A$2:$A$100,MATCH('Access Point (Desc)'!$E344,[1]!MASTER_OWNER_DESC[#Data],0),0))","v":""},{"$f":"IF('Access Point (Desc)'!F344=\"\",\"\",INDEX([1]COUNTY!$A$2:$A$100,MATCH('Access Point (Desc)'!F344,[1]!MASTER_COUNTY_NAME[#Data],0),0))","v":""},{"$f":"IF('Access Point (Desc)'!G344=\"\",\"\",'Access Point (Desc)'!G344)","v":""},{"$f":"IF('Access Point (Desc)'!H344=\"\",\"\",'Access Point (Desc)'!H344)","v":""},{"$f":"IF('Access Point (Desc)'!I344=\"\",\"\",INDEX([1]ROUTE_MH_TYPE!$A$2:$A$100,MATCH('Access Point (Desc)'!$I344,[1]!MASTER_ROUTE_MH_TYPE_DESC[#Data],0),0))","v":""},{"$f":"IF('Access Point (Desc)'!J344=\"\",\"\",INDEX([1]MANHOLE_MTL!$A$2:$A$100,MATCH('Access Point (Desc)'!$J344,[1]!MASTER_MANHOLE_MTL_DESC[#Data],0),0))","v":""},{"$f":"IF('Access Point (Desc)'!K344=\"\",\"\",INDEX([1]MANHOLE_SIZE!$A$2:$A$120,MATCH('Access Point (Desc)'!$K344,[1]!MASTER_MANHOLE_SIZE_DESC[#Data],0),0))","v":""},{"$f":"IF('Access Point (Desc)'!L344=\"\",\"\",INDEX([1]ROUTE_MH_LID_TYPE!$A$2:$A$100,MATCH('Access Point (Desc)'!$L344,[1]!MASTER_ROUTE_MH_LID_TYPE_DESC[#Data],0),0))","v":""},{"$f":"IF('Access Point (Desc)'!M344=\"\",\"\",INDEX([1]MANHOLE_MTL!$A$2:$A$100,MATCH('Access Point (Desc)'!$M344,[1]!MASTER_MANHOLE_MTL_DESC[#Data],0),0))","v":""},{"$f":"IF('Access Point (Desc)'!N344=\"\",\"\",INDEX([1]LID_BOLT_TYPE!$A$2:$A$100,MATCH('Access Point (Desc)'!$N344,[1]!MASTER_LID_BOLT_TYPE_DESC[#Data],0),0))","v":""},{"$f":"IF('Access Point (Desc)'!O344=\"\",\"\",INDEX([1]YES_NO!$A$2:$A$100,MATCH('Access Point (Desc)'!$O344,[1]!MASTER_YES_NO_DESC[#Data],0),0))","v":""},{"$f":"IF('Access Point (Desc)'!P344=\"\",\"\",'Access Point (Desc)'!P344)","v":""},{"$f":"IF('Access Point (Desc)'!Q344=\"\",\"\",INDEX([1]YES_NO!$A$2:$A$100,MATCH('Access Point (Desc)'!$Q344,[1]!MASTER_YES_NO_DESC[#Data],0),0))","v":""}]
[{"$f":"IF('Access Point (Desc)'!A345=\"\",\"\",'Access Point (Desc)'!A345)","v":""},{"$f":"IF('Access Point (Desc)'!B345=\"\",\"\",'Access Point (Desc)'!B345)","v":""},{"$f":"IF('Access Point (Desc)'!C345=\"\",\"\",'Access Point (Desc)'!C345)","v":""},{"$f":"IF('Access Point (Desc)'!D345=\"\",\"\",'Access Point (Desc)'!D345)","v":""},{"$f":"IF('Access Point (Desc)'!E345=\"\",\"\",INDEX([1]OWNER!$A$2:$A$100,MATCH('Access Point (Desc)'!$E345,[1]!MASTER_OWNER_DESC[#Data],0),0))","v":""},{"$f":"IF('Access Point (Desc)'!F345=\"\",\"\",INDEX([1]COUNTY!$A$2:$A$100,MATCH('Access Point (Desc)'!F345,[1]!MASTER_COUNTY_NAME[#Data],0),0))","v":""},{"$f":"IF('Access Point (Desc)'!G345=\"\",\"\",'Access Point (Desc)'!G345)","v":""},{"$f":"IF('Access Point (Desc)'!H345=\"\",\"\",'Access Point (Desc)'!H345)","v":""},{"$f":"IF('Access Point (Desc)'!I345=\"\",\"\",INDEX([1]ROUTE_MH_TYPE!$A$2:$A$100,MATCH('Access Point (Desc)'!$I345,[1]!MASTER_ROUTE_MH_TYPE_DESC[#Data],0),0))","v":""},{"$f":"IF('Access Point (Desc)'!J345=\"\",\"\",INDEX([1]MANHOLE_MTL!$A$2:$A$100,MATCH('Access Point (Desc)'!$J345,[1]!MASTER_MANHOLE_MTL_DESC[#Data],0),0))","v":""},{"$f":"IF('Access Point (Desc)'!K345=\"\",\"\",INDEX([1]MANHOLE_SIZE!$A$2:$A$120,MATCH('Access Point (Desc)'!$K345,[1]!MASTER_MANHOLE_SIZE_DESC[#Data],0),0))","v":""},{"$f":"IF('Access Point (Desc)'!L345=\"\",\"\",INDEX([1]ROUTE_MH_LID_TYPE!$A$2:$A$100,MATCH('Access Point (Desc)'!$L345,[1]!MASTER_ROUTE_MH_LID_TYPE_DESC[#Data],0),0))","v":""},{"$f":"IF('Access Point (Desc)'!M345=\"\",\"\",INDEX([1]MANHOLE_MTL!$A$2:$A$100,MATCH('Access Point (Desc)'!$M345,[1]!MASTER_MANHOLE_MTL_DESC[#Data],0),0))","v":""},{"$f":"IF('Access Point (Desc)'!N345=\"\",\"\",INDEX([1]LID_BOLT_TYPE!$A$2:$A$100,MATCH('Access Point (Desc)'!$N345,[1]!MASTER_LID_BOLT_TYPE_DESC[#Data],0),0))","v":""},{"$f":"IF('Access Point (Desc)'!O345=\"\",\"\",INDEX([1]YES_NO!$A$2:$A$100,MATCH('Access Point (Desc)'!$O345,[1]!MASTER_YES_NO_DESC[#Data],0),0))","v":""},{"$f":"IF('Access Point (Desc)'!P345=\"\",\"\",'Access Point (Desc)'!P345)","v":""},{"$f":"IF('Access Point (Desc)'!Q345=\"\",\"\",INDEX([1]YES_NO!$A$2:$A$100,MATCH('Access Point (Desc)'!$Q345,[1]!MASTER_YES_NO_DESC[#Data],0),0))","v":""}]
[{"$f":"IF('Access Point (Desc)'!A346=\"\",\"\",'Access Point (Desc)'!A346)","v":""},{"$f":"IF('Access Point (Desc)'!B346=\"\",\"\",'Access Point (Desc)'!B346)","v":""},{"$f":"IF('Access Point (Desc)'!C346=\"\",\"\",'Access Point (Desc)'!C346)","v":""},{"$f":"IF('Access Point (Desc)'!D346=\"\",\"\",'Access Point (Desc)'!D346)","v":""},{"$f":"IF('Access Point (Desc)'!E346=\"\",\"\",INDEX([1]OWNER!$A$2:$A$100,MATCH('Access Point (Desc)'!$E346,[1]!MASTER_OWNER_DESC[#Data],0),0))","v":""},{"$f":"IF('Access Point (Desc)'!F346=\"\",\"\",INDEX([1]COUNTY!$A$2:$A$100,MATCH('Access Point (Desc)'!F346,[1]!MASTER_COUNTY_NAME[#Data],0),0))","v":""},{"$f":"IF('Access Point (Desc)'!G346=\"\",\"\",'Access Point (Desc)'!G346)","v":""},{"$f":"IF('Access Point (Desc)'!H346=\"\",\"\",'Access Point (Desc)'!H346)","v":""},{"$f":"IF('Access Point (Desc)'!I346=\"\",\"\",INDEX([1]ROUTE_MH_TYPE!$A$2:$A$100,MATCH('Access Point (Desc)'!$I346,[1]!MASTER_ROUTE_MH_TYPE_DESC[#Data],0),0))","v":""},{"$f":"IF('Access Point (Desc)'!J346=\"\",\"\",INDEX([1]MANHOLE_MTL!$A$2:$A$100,MATCH('Access Point (Desc)'!$J346,[1]!MASTER_MANHOLE_MTL_DESC[#Data],0),0))","v":""},{"$f":"IF('Access Point (Desc)'!K346=\"\",\"\",INDEX([1]MANHOLE_SIZE!$A$2:$A$120,MATCH('Access Point (Desc)'!$K346,[1]!MASTER_MANHOLE_SIZE_DESC[#Data],0),0))","v":""},{"$f":"IF('Access Point (Desc)'!L346=\"\",\"\",INDEX([1]ROUTE_MH_LID_TYPE!$A$2:$A$100,MATCH('Access Point (Desc)'!$L346,[1]!MASTER_ROUTE_MH_LID_TYPE_DESC[#Data],0),0))","v":""},{"$f":"IF('Access Point (Desc)'!M346=\"\",\"\",INDEX([1]MANHOLE_MTL!$A$2:$A$100,MATCH('Access Point (Desc)'!$M346,[1]!MASTER_MANHOLE_MTL_DESC[#Data],0),0))","v":""},{"$f":"IF('Access Point (Desc)'!N346=\"\",\"\",INDEX([1]LID_BOLT_TYPE!$A$2:$A$100,MATCH('Access Point (Desc)'!$N346,[1]!MASTER_LID_BOLT_TYPE_DESC[#Data],0),0))","v":""},{"$f":"IF('Access Point (Desc)'!O346=\"\",\"\",INDEX([1]YES_NO!$A$2:$A$100,MATCH('Access Point (Desc)'!$O346,[1]!MASTER_YES_NO_DESC[#Data],0),0))","v":""},{"$f":"IF('Access Point (Desc)'!P346=\"\",\"\",'Access Point (Desc)'!P346)","v":""},{"$f":"IF('Access Point (Desc)'!Q346=\"\",\"\",INDEX([1]YES_NO!$A$2:$A$100,MATCH('Access Point (Desc)'!$Q346,[1]!MASTER_YES_NO_DESC[#Data],0),0))","v":""}]
[{"$f":"IF('Access Point (Desc)'!A347=\"\",\"\",'Access Point (Desc)'!A347)","v":""},{"$f":"IF('Access Point (Desc)'!B347=\"\",\"\",'Access Point (Desc)'!B347)","v":""},{"$f":"IF('Access Point (Desc)'!C347=\"\",\"\",'Access Point (Desc)'!C347)","v":""},{"$f":"IF('Access Point (Desc)'!D347=\"\",\"\",'Access Point (Desc)'!D347)","v":""},{"$f":"IF('Access Point (Desc)'!E347=\"\",\"\",INDEX([1]OWNER!$A$2:$A$100,MATCH('Access Point (Desc)'!$E347,[1]!MASTER_OWNER_DESC[#Data],0),0))","v":""},{"$f":"IF('Access Point (Desc)'!F347=\"\",\"\",INDEX([1]COUNTY!$A$2:$A$100,MATCH('Access Point (Desc)'!F347,[1]!MASTER_COUNTY_NAME[#Data],0),0))","v":""},{"$f":"IF('Access Point (Desc)'!G347=\"\",\"\",'Access Point (Desc)'!G347)","v":""},{"$f":"IF('Access Point (Desc)'!H347=\"\",\"\",'Access Point (Desc)'!H347)","v":""},{"$f":"IF('Access Point (Desc)'!I347=\"\",\"\",INDEX([1]ROUTE_MH_TYPE!$A$2:$A$100,MATCH('Access Point (Desc)'!$I347,[1]!MASTER_ROUTE_MH_TYPE_DESC[#Data],0),0))","v":""},{"$f":"IF('Access Point (Desc)'!J347=\"\",\"\",INDEX([1]MANHOLE_MTL!$A$2:$A$100,MATCH('Access Point (Desc)'!$J347,[1]!MASTER_MANHOLE_MTL_DESC[#Data],0),0))","v":""},{"$f":"IF('Access Point (Desc)'!K347=\"\",\"\",INDEX([1]MANHOLE_SIZE!$A$2:$A$120,MATCH('Access Point (Desc)'!$K347,[1]!MASTER_MANHOLE_SIZE_DESC[#Data],0),0))","v":""},{"$f":"IF('Access Point (Desc)'!L347=\"\",\"\",INDEX([1]ROUTE_MH_LID_TYPE!$A$2:$A$100,MATCH('Access Point (Desc)'!$L347,[1]!MASTER_ROUTE_MH_LID_TYPE_DESC[#Data],0),0))","v":""},{"$f":"IF('Access Point (Desc)'!M347=\"\",\"\",INDEX([1]MANHOLE_MTL!$A$2:$A$100,MATCH('Access Point (Desc)'!$M347,[1]!MASTER_MANHOLE_MTL_DESC[#Data],0),0))","v":""},{"$f":"IF('Access Point (Desc)'!N347=\"\",\"\",INDEX([1]LID_BOLT_TYPE!$A$2:$A$100,MATCH('Access Point (Desc)'!$N347,[1]!MASTER_LID_BOLT_TYPE_DESC[#Data],0),0))","v":""},{"$f":"IF('Access Point (Desc)'!O347=\"\",\"\",INDEX([1]YES_NO!$A$2:$A$100,MATCH('Access Point (Desc)'!$O347,[1]!MASTER_YES_NO_DESC[#Data],0),0))","v":""},{"$f":"IF('Access Point (Desc)'!P347=\"\",\"\",'Access Point (Desc)'!P347)","v":""},{"$f":"IF('Access Point (Desc)'!Q347=\"\",\"\",INDEX([1]YES_NO!$A$2:$A$100,MATCH('Access Point (Desc)'!$Q347,[1]!MASTER_YES_NO_DESC[#Data],0),0))","v":""}]
[{"$f":"IF('Access Point (Desc)'!A348=\"\",\"\",'Access Point (Desc)'!A348)","v":""},{"$f":"IF('Access Point (Desc)'!B348=\"\",\"\",'Access Point (Desc)'!B348)","v":""},{"$f":"IF('Access Point (Desc)'!C348=\"\",\"\",'Access Point (Desc)'!C348)","v":""},{"$f":"IF('Access Point (Desc)'!D348=\"\",\"\",'Access Point (Desc)'!D348)","v":""},{"$f":"IF('Access Point (Desc)'!E348=\"\",\"\",INDEX([1]OWNER!$A$2:$A$100,MATCH('Access Point (Desc)'!$E348,[1]!MASTER_OWNER_DESC[#Data],0),0))","v":""},{"$f":"IF('Access Point (Desc)'!F348=\"\",\"\",INDEX([1]COUNTY!$A$2:$A$100,MATCH('Access Point (Desc)'!F348,[1]!MASTER_COUNTY_NAME[#Data],0),0))","v":""},{"$f":"IF('Access Point (Desc)'!G348=\"\",\"\",'Access Point (Desc)'!G348)","v":""},{"$f":"IF('Access Point (Desc)'!H348=\"\",\"\",'Access Point (Desc)'!H348)","v":""},{"$f":"IF('Access Point (Desc)'!I348=\"\",\"\",INDEX([1]ROUTE_MH_TYPE!$A$2:$A$100,MATCH('Access Point (Desc)'!$I348,[1]!MASTER_ROUTE_MH_TYPE_DESC[#Data],0),0))","v":""},{"$f":"IF('Access Point (Desc)'!J348=\"\",\"\",INDEX([1]MANHOLE_MTL!$A$2:$A$100,MATCH('Access Point (Desc)'!$J348,[1]!MASTER_MANHOLE_MTL_DESC[#Data],0),0))","v":""},{"$f":"IF('Access Point (Desc)'!K348=\"\",\"\",INDEX([1]MANHOLE_SIZE!$A$2:$A$120,MATCH('Access Point (Desc)'!$K348,[1]!MASTER_MANHOLE_SIZE_DESC[#Data],0),0))","v":""},{"$f":"IF('Access Point (Desc)'!L348=\"\",\"\",INDEX([1]ROUTE_MH_LID_TYPE!$A$2:$A$100,MATCH('Access Point (Desc)'!$L348,[1]!MASTER_ROUTE_MH_LID_TYPE_DESC[#Data],0),0))","v":""},{"$f":"IF('Access Point (Desc)'!M348=\"\",\"\",INDEX([1]MANHOLE_MTL!$A$2:$A$100,MATCH('Access Point (Desc)'!$M348,[1]!MASTER_MANHOLE_MTL_DESC[#Data],0),0))","v":""},{"$f":"IF('Access Point (Desc)'!N348=\"\",\"\",INDEX([1]LID_BOLT_TYPE!$A$2:$A$100,MATCH('Access Point (Desc)'!$N348,[1]!MASTER_LID_BOLT_TYPE_DESC[#Data],0),0))","v":""},{"$f":"IF('Access Point (Desc)'!O348=\"\",\"\",INDEX([1]YES_NO!$A$2:$A$100,MATCH('Access Point (Desc)'!$O348,[1]!MASTER_YES_NO_DESC[#Data],0),0))","v":""},{"$f":"IF('Access Point (Desc)'!P348=\"\",\"\",'Access Point (Desc)'!P348)","v":""},{"$f":"IF('Access Point (Desc)'!Q348=\"\",\"\",INDEX([1]YES_NO!$A$2:$A$100,MATCH('Access Point (Desc)'!$Q348,[1]!MASTER_YES_NO_DESC[#Data],0),0))","v":""}]
[{"$f":"IF('Access Point (Desc)'!A349=\"\",\"\",'Access Point (Desc)'!A349)","v":""},{"$f":"IF('Access Point (Desc)'!B349=\"\",\"\",'Access Point (Desc)'!B349)","v":""},{"$f":"IF('Access Point (Desc)'!C349=\"\",\"\",'Access Point (Desc)'!C349)","v":""},{"$f":"IF('Access Point (Desc)'!D349=\"\",\"\",'Access Point (Desc)'!D349)","v":""},{"$f":"IF('Access Point (Desc)'!E349=\"\",\"\",INDEX([1]OWNER!$A$2:$A$100,MATCH('Access Point (Desc)'!$E349,[1]!MASTER_OWNER_DESC[#Data],0),0))","v":""},{"$f":"IF('Access Point (Desc)'!F349=\"\",\"\",INDEX([1]COUNTY!$A$2:$A$100,MATCH('Access Point (Desc)'!F349,[1]!MASTER_COUNTY_NAME[#Data],0),0))","v":""},{"$f":"IF('Access Point (Desc)'!G349=\"\",\"\",'Access Point (Desc)'!G349)","v":""},{"$f":"IF('Access Point (Desc)'!H349=\"\",\"\",'Access Point (Desc)'!H349)","v":""},{"$f":"IF('Access Point (Desc)'!I349=\"\",\"\",INDEX([1]ROUTE_MH_TYPE!$A$2:$A$100,MATCH('Access Point (Desc)'!$I349,[1]!MASTER_ROUTE_MH_TYPE_DESC[#Data],0),0))","v":""},{"$f":"IF('Access Point (Desc)'!J349=\"\",\"\",INDEX([1]MANHOLE_MTL!$A$2:$A$100,MATCH('Access Point (Desc)'!$J349,[1]!MASTER_MANHOLE_MTL_DESC[#Data],0),0))","v":""},{"$f":"IF('Access Point (Desc)'!K349=\"\",\"\",INDEX([1]MANHOLE_SIZE!$A$2:$A$120,MATCH('Access Point (Desc)'!$K349,[1]!MASTER_MANHOLE_SIZE_DESC[#Data],0),0))","v":""},{"$f":"IF('Access Point (Desc)'!L349=\"\",\"\",INDEX([1]ROUTE_MH_LID_TYPE!$A$2:$A$100,MATCH('Access Point (Desc)'!$L349,[1]!MASTER_ROUTE_MH_LID_TYPE_DESC[#Data],0),0))","v":""},{"$f":"IF('Access Point (Desc)'!M349=\"\",\"\",INDEX([1]MANHOLE_MTL!$A$2:$A$100,MATCH('Access Point (Desc)'!$M349,[1]!MASTER_MANHOLE_MTL_DESC[#Data],0),0))","v":""},{"$f":"IF('Access Point (Desc)'!N349=\"\",\"\",INDEX([1]LID_BOLT_TYPE!$A$2:$A$100,MATCH('Access Point (Desc)'!$N349,[1]!MASTER_LID_BOLT_TYPE_DESC[#Data],0),0))","v":""},{"$f":"IF('Access Point (Desc)'!O349=\"\",\"\",INDEX([1]YES_NO!$A$2:$A$100,MATCH('Access Point (Desc)'!$O349,[1]!MASTER_YES_NO_DESC[#Data],0),0))","v":""},{"$f":"IF('Access Point (Desc)'!P349=\"\",\"\",'Access Point (Desc)'!P349)","v":""},{"$f":"IF('Access Point (Desc)'!Q349=\"\",\"\",INDEX([1]YES_NO!$A$2:$A$100,MATCH('Access Point (Desc)'!$Q349,[1]!MASTER_YES_NO_DESC[#Data],0),0))","v":""}]
[{"$f":"IF('Access Point (Desc)'!A350=\"\",\"\",'Access Point (Desc)'!A350)","v":""},{"$f":"IF('Access Point (Desc)'!B350=\"\",\"\",'Access Point (Desc)'!B350)","v":""},{"$f":"IF('Access Point (Desc)'!C350=\"\",\"\",'Access Point (Desc)'!C350)","v":""},{"$f":"IF('Access Point (Desc)'!D350=\"\",\"\",'Access Point (Desc)'!D350)","v":""},{"$f":"IF('Access Point (Desc)'!E350=\"\",\"\",INDEX([1]OWNER!$A$2:$A$100,MATCH('Access Point (Desc)'!$E350,[1]!MASTER_OWNER_DESC[#Data],0),0))","v":""},{"$f":"IF('Access Point (Desc)'!F350=\"\",\"\",INDEX([1]COUNTY!$A$2:$A$100,MATCH('Access Point (Desc)'!F350,[1]!MASTER_COUNTY_NAME[#Data],0),0))","v":""},{"$f":"IF('Access Point (Desc)'!G350=\"\",\"\",'Access Point (Desc)'!G350)","v":""},{"$f":"IF('Access Point (Desc)'!H350=\"\",\"\",'Access Point (Desc)'!H350)","v":""},{"$f":"IF('Access Point (Desc)'!I350=\"\",\"\",INDEX([1]ROUTE_MH_TYPE!$A$2:$A$100,MATCH('Access Point (Desc)'!$I350,[1]!MASTER_ROUTE_MH_TYPE_DESC[#Data],0),0))","v":""},{"$f":"IF('Access Point (Desc)'!J350=\"\",\"\",INDEX([1]MANHOLE_MTL!$A$2:$A$100,MATCH('Access Point (Desc)'!$J350,[1]!MASTER_MANHOLE_MTL_DESC[#Data],0),0))","v":""},{"$f":"IF('Access Point (Desc)'!K350=\"\",\"\",INDEX([1]MANHOLE_SIZE!$A$2:$A$120,MATCH('Access Point (Desc)'!$K350,[1]!MASTER_MANHOLE_SIZE_DESC[#Data],0),0))","v":""},{"$f":"IF('Access Point (Desc)'!L350=\"\",\"\",INDEX([1]ROUTE_MH_LID_TYPE!$A$2:$A$100,MATCH('Access Point (Desc)'!$L350,[1]!MASTER_ROUTE_MH_LID_TYPE_DESC[#Data],0),0))","v":""},{"$f":"IF('Access Point (Desc)'!M350=\"\",\"\",INDEX([1]MANHOLE_MTL!$A$2:$A$100,MATCH('Access Point (Desc)'!$M350,[1]!MASTER_MANHOLE_MTL_DESC[#Data],0),0))","v":""},{"$f":"IF('Access Point (Desc)'!N350=\"\",\"\",INDEX([1]LID_BOLT_TYPE!$A$2:$A$100,MATCH('Access Point (Desc)'!$N350,[1]!MASTER_LID_BOLT_TYPE_DESC[#Data],0),0))","v":""},{"$f":"IF('Access Point (Desc)'!O350=\"\",\"\",INDEX([1]YES_NO!$A$2:$A$100,MATCH('Access Point (Desc)'!$O350,[1]!MASTER_YES_NO_DESC[#Data],0),0))","v":""},{"$f":"IF('Access Point (Desc)'!P350=\"\",\"\",'Access Point (Desc)'!P350)","v":""},{"$f":"IF('Access Point (Desc)'!Q350=\"\",\"\",INDEX([1]YES_NO!$A$2:$A$100,MATCH('Access Point (Desc)'!$Q350,[1]!MASTER_YES_NO_DESC[#Data],0),0))","v":""}]
[{"$f":"IF('Access Point (Desc)'!A351=\"\",\"\",'Access Point (Desc)'!A351)","v":""},{"$f":"IF('Access Point (Desc)'!B351=\"\",\"\",'Access Point (Desc)'!B351)","v":""},{"$f":"IF('Access Point (Desc)'!C351=\"\",\"\",'Access Point (Desc)'!C351)","v":""},{"$f":"IF('Access Point (Desc)'!D351=\"\",\"\",'Access Point (Desc)'!D351)","v":""},{"$f":"IF('Access Point (Desc)'!E351=\"\",\"\",INDEX([1]OWNER!$A$2:$A$100,MATCH('Access Point (Desc)'!$E351,[1]!MASTER_OWNER_DESC[#Data],0),0))","v":""},{"$f":"IF('Access Point (Desc)'!F351=\"\",\"\",INDEX([1]COUNTY!$A$2:$A$100,MATCH('Access Point (Desc)'!F351,[1]!MASTER_COUNTY_NAME[#Data],0),0))","v":""},{"$f":"IF('Access Point (Desc)'!G351=\"\",\"\",'Access Point (Desc)'!G351)","v":""},{"$f":"IF('Access Point (Desc)'!H351=\"\",\"\",'Access Point (Desc)'!H351)","v":""},{"$f":"IF('Access Point (Desc)'!I351=\"\",\"\",INDEX([1]ROUTE_MH_TYPE!$A$2:$A$100,MATCH('Access Point (Desc)'!$I351,[1]!MASTER_ROUTE_MH_TYPE_DESC[#Data],0),0))","v":""},{"$f":"IF('Access Point (Desc)'!J351=\"\",\"\",INDEX([1]MANHOLE_MTL!$A$2:$A$100,MATCH('Access Point (Desc)'!$J351,[1]!MASTER_MANHOLE_MTL_DESC[#Data],0),0))","v":""},{"$f":"IF('Access Point (Desc)'!K351=\"\",\"\",INDEX([1]MANHOLE_SIZE!$A$2:$A$120,MATCH('Access Point (Desc)'!$K351,[1]!MASTER_MANHOLE_SIZE_DESC[#Data],0),0))","v":""},{"$f":"IF('Access Point (Desc)'!L351=\"\",\"\",INDEX([1]ROUTE_MH_LID_TYPE!$A$2:$A$100,MATCH('Access Point (Desc)'!$L351,[1]!MASTER_ROUTE_MH_LID_TYPE_DESC[#Data],0),0))","v":""},{"$f":"IF('Access Point (Desc)'!M351=\"\",\"\",INDEX([1]MANHOLE_MTL!$A$2:$A$100,MATCH('Access Point (Desc)'!$M351,[1]!MASTER_MANHOLE_MTL_DESC[#Data],0),0))","v":""},{"$f":"IF('Access Point (Desc)'!N351=\"\",\"\",INDEX([1]LID_BOLT_TYPE!$A$2:$A$100,MATCH('Access Point (Desc)'!$N351,[1]!MASTER_LID_BOLT_TYPE_DESC[#Data],0),0))","v":""},{"$f":"IF('Access Point (Desc)'!O351=\"\",\"\",INDEX([1]YES_NO!$A$2:$A$100,MATCH('Access Point (Desc)'!$O351,[1]!MASTER_YES_NO_DESC[#Data],0),0))","v":""},{"$f":"IF('Access Point (Desc)'!P351=\"\",\"\",'Access Point (Desc)'!P351)","v":""},{"$f":"IF('Access Point (Desc)'!Q351=\"\",\"\",INDEX([1]YES_NO!$A$2:$A$100,MATCH('Access Point (Desc)'!$Q351,[1]!MASTER_YES_NO_DESC[#Data],0),0))","v":""}]
[{"$f":"IF('Access Point (Desc)'!A352=\"\",\"\",'Access Point (Desc)'!A352)","v":""},{"$f":"IF('Access Point (Desc)'!B352=\"\",\"\",'Access Point (Desc)'!B352)","v":""},{"$f":"IF('Access Point (Desc)'!C352=\"\",\"\",'Access Point (Desc)'!C352)","v":""},{"$f":"IF('Access Point (Desc)'!D352=\"\",\"\",'Access Point (Desc)'!D352)","v":""},{"$f":"IF('Access Point (Desc)'!E352=\"\",\"\",INDEX([1]OWNER!$A$2:$A$100,MATCH('Access Point (Desc)'!$E352,[1]!MASTER_OWNER_DESC[#Data],0),0))","v":""},{"$f":"IF('Access Point (Desc)'!F352=\"\",\"\",INDEX([1]COUNTY!$A$2:$A$100,MATCH('Access Point (Desc)'!F352,[1]!MASTER_COUNTY_NAME[#Data],0),0))","v":""},{"$f":"IF('Access Point (Desc)'!G352=\"\",\"\",'Access Point (Desc)'!G352)","v":""},{"$f":"IF('Access Point (Desc)'!H352=\"\",\"\",'Access Point (Desc)'!H352)","v":""},{"$f":"IF('Access Point (Desc)'!I352=\"\",\"\",INDEX([1]ROUTE_MH_TYPE!$A$2:$A$100,MATCH('Access Point (Desc)'!$I352,[1]!MASTER_ROUTE_MH_TYPE_DESC[#Data],0),0))","v":""},{"$f":"IF('Access Point (Desc)'!J352=\"\",\"\",INDEX([1]MANHOLE_MTL!$A$2:$A$100,MATCH('Access Point (Desc)'!$J352,[1]!MASTER_MANHOLE_MTL_DESC[#Data],0),0))","v":""},{"$f":"IF('Access Point (Desc)'!K352=\"\",\"\",INDEX([1]MANHOLE_SIZE!$A$2:$A$120,MATCH('Access Point (Desc)'!$K352,[1]!MASTER_MANHOLE_SIZE_DESC[#Data],0),0))","v":""},{"$f":"IF('Access Point (Desc)'!L352=\"\",\"\",INDEX([1]ROUTE_MH_LID_TYPE!$A$2:$A$100,MATCH('Access Point (Desc)'!$L352,[1]!MASTER_ROUTE_MH_LID_TYPE_DESC[#Data],0),0))","v":""},{"$f":"IF('Access Point (Desc)'!M352=\"\",\"\",INDEX([1]MANHOLE_MTL!$A$2:$A$100,MATCH('Access Point (Desc)'!$M352,[1]!MASTER_MANHOLE_MTL_DESC[#Data],0),0))","v":""},{"$f":"IF('Access Point (Desc)'!N352=\"\",\"\",INDEX([1]LID_BOLT_TYPE!$A$2:$A$100,MATCH('Access Point (Desc)'!$N352,[1]!MASTER_LID_BOLT_TYPE_DESC[#Data],0),0))","v":""},{"$f":"IF('Access Point (Desc)'!O352=\"\",\"\",INDEX([1]YES_NO!$A$2:$A$100,MATCH('Access Point (Desc)'!$O352,[1]!MASTER_YES_NO_DESC[#Data],0),0))","v":""},{"$f":"IF('Access Point (Desc)'!P352=\"\",\"\",'Access Point (Desc)'!P352)","v":""},{"$f":"IF('Access Point (Desc)'!Q352=\"\",\"\",INDEX([1]YES_NO!$A$2:$A$100,MATCH('Access Point (Desc)'!$Q352,[1]!MASTER_YES_NO_DESC[#Data],0),0))","v":""}]
[{"$f":"IF('Access Point (Desc)'!A353=\"\",\"\",'Access Point (Desc)'!A353)","v":""},{"$f":"IF('Access Point (Desc)'!B353=\"\",\"\",'Access Point (Desc)'!B353)","v":""},{"$f":"IF('Access Point (Desc)'!C353=\"\",\"\",'Access Point (Desc)'!C353)","v":""},{"$f":"IF('Access Point (Desc)'!D353=\"\",\"\",'Access Point (Desc)'!D353)","v":""},{"$f":"IF('Access Point (Desc)'!E353=\"\",\"\",INDEX([1]OWNER!$A$2:$A$100,MATCH('Access Point (Desc)'!$E353,[1]!MASTER_OWNER_DESC[#Data],0),0))","v":""},{"$f":"IF('Access Point (Desc)'!F353=\"\",\"\",INDEX([1]COUNTY!$A$2:$A$100,MATCH('Access Point (Desc)'!F353,[1]!MASTER_COUNTY_NAME[#Data],0),0))","v":""},{"$f":"IF('Access Point (Desc)'!G353=\"\",\"\",'Access Point (Desc)'!G353)","v":""},{"$f":"IF('Access Point (Desc)'!H353=\"\",\"\",'Access Point (Desc)'!H353)","v":""},{"$f":"IF('Access Point (Desc)'!I353=\"\",\"\",INDEX([1]ROUTE_MH_TYPE!$A$2:$A$100,MATCH('Access Point (Desc)'!$I353,[1]!MASTER_ROUTE_MH_TYPE_DESC[#Data],0),0))","v":""},{"$f":"IF('Access Point (Desc)'!J353=\"\",\"\",INDEX([1]MANHOLE_MTL!$A$2:$A$100,MATCH('Access Point (Desc)'!$J353,[1]!MASTER_MANHOLE_MTL_DESC[#Data],0),0))","v":""},{"$f":"IF('Access Point (Desc)'!K353=\"\",\"\",INDEX([1]MANHOLE_SIZE!$A$2:$A$120,MATCH('Access Point (Desc)'!$K353,[1]!MASTER_MANHOLE_SIZE_DESC[#Data],0),0))","v":""},{"$f":"IF('Access Point (Desc)'!L353=\"\",\"\",INDEX([1]ROUTE_MH_LID_TYPE!$A$2:$A$100,MATCH('Access Point (Desc)'!$L353,[1]!MASTER_ROUTE_MH_LID_TYPE_DESC[#Data],0),0))","v":""},{"$f":"IF('Access Point (Desc)'!M353=\"\",\"\",INDEX([1]MANHOLE_MTL!$A$2:$A$100,MATCH('Access Point (Desc)'!$M353,[1]!MASTER_MANHOLE_MTL_DESC[#Data],0),0))","v":""},{"$f":"IF('Access Point (Desc)'!N353=\"\",\"\",INDEX([1]LID_BOLT_TYPE!$A$2:$A$100,MATCH('Access Point (Desc)'!$N353,[1]!MASTER_LID_BOLT_TYPE_DESC[#Data],0),0))","v":""},{"$f":"IF('Access Point (Desc)'!O353=\"\",\"\",INDEX([1]YES_NO!$A$2:$A$100,MATCH('Access Point (Desc)'!$O353,[1]!MASTER_YES_NO_DESC[#Data],0),0))","v":""},{"$f":"IF('Access Point (Desc)'!P353=\"\",\"\",'Access Point (Desc)'!P353)","v":""},{"$f":"IF('Access Point (Desc)'!Q353=\"\",\"\",INDEX([1]YES_NO!$A$2:$A$100,MATCH('Access Point (Desc)'!$Q353,[1]!MASTER_YES_NO_DESC[#Data],0),0))","v":""}]
[{"$f":"IF('Access Point (Desc)'!A354=\"\",\"\",'Access Point (Desc)'!A354)","v":""},{"$f":"IF('Access Point (Desc)'!B354=\"\",\"\",'Access Point (Desc)'!B354)","v":""},{"$f":"IF('Access Point (Desc)'!C354=\"\",\"\",'Access Point (Desc)'!C354)","v":""},{"$f":"IF('Access Point (Desc)'!D354=\"\",\"\",'Access Point (Desc)'!D354)","v":""},{"$f":"IF('Access Point (Desc)'!E354=\"\",\"\",INDEX([1]OWNER!$A$2:$A$100,MATCH('Access Point (Desc)'!$E354,[1]!MASTER_OWNER_DESC[#Data],0),0))","v":""},{"$f":"IF('Access Point (Desc)'!F354=\"\",\"\",INDEX([1]COUNTY!$A$2:$A$100,MATCH('Access Point (Desc)'!F354,[1]!MASTER_COUNTY_NAME[#Data],0),0))","v":""},{"$f":"IF('Access Point (Desc)'!G354=\"\",\"\",'Access Point (Desc)'!G354)","v":""},{"$f":"IF('Access Point (Desc)'!H354=\"\",\"\",'Access Point (Desc)'!H354)","v":""},{"$f":"IF('Access Point (Desc)'!I354=\"\",\"\",INDEX([1]ROUTE_MH_TYPE!$A$2:$A$100,MATCH('Access Point (Desc)'!$I354,[1]!MASTER_ROUTE_MH_TYPE_DESC[#Data],0),0))","v":""},{"$f":"IF('Access Point (Desc)'!J354=\"\",\"\",INDEX([1]MANHOLE_MTL!$A$2:$A$100,MATCH('Access Point (Desc)'!$J354,[1]!MASTER_MANHOLE_MTL_DESC[#Data],0),0))","v":""},{"$f":"IF('Access Point (Desc)'!K354=\"\",\"\",INDEX([1]MANHOLE_SIZE!$A$2:$A$120,MATCH('Access Point (Desc)'!$K354,[1]!MASTER_MANHOLE_SIZE_DESC[#Data],0),0))","v":""},{"$f":"IF('Access Point (Desc)'!L354=\"\",\"\",INDEX([1]ROUTE_MH_LID_TYPE!$A$2:$A$100,MATCH('Access Point (Desc)'!$L354,[1]!MASTER_ROUTE_MH_LID_TYPE_DESC[#Data],0),0))","v":""},{"$f":"IF('Access Point (Desc)'!M354=\"\",\"\",INDEX([1]MANHOLE_MTL!$A$2:$A$100,MATCH('Access Point (Desc)'!$M354,[1]!MASTER_MANHOLE_MTL_DESC[#Data],0),0))","v":""},{"$f":"IF('Access Point (Desc)'!N354=\"\",\"\",INDEX([1]LID_BOLT_TYPE!$A$2:$A$100,MATCH('Access Point (Desc)'!$N354,[1]!MASTER_LID_BOLT_TYPE_DESC[#Data],0),0))","v":""},{"$f":"IF('Access Point (Desc)'!O354=\"\",\"\",INDEX([1]YES_NO!$A$2:$A$100,MATCH('Access Point (Desc)'!$O354,[1]!MASTER_YES_NO_DESC[#Data],0),0))","v":""},{"$f":"IF('Access Point (Desc)'!P354=\"\",\"\",'Access Point (Desc)'!P354)","v":""},{"$f":"IF('Access Point (Desc)'!Q354=\"\",\"\",INDEX([1]YES_NO!$A$2:$A$100,MATCH('Access Point (Desc)'!$Q354,[1]!MASTER_YES_NO_DESC[#Data],0),0))","v":""}]
[{"$f":"IF('Access Point (Desc)'!A355=\"\",\"\",'Access Point (Desc)'!A355)","v":""},{"$f":"IF('Access Point (Desc)'!B355=\"\",\"\",'Access Point (Desc)'!B355)","v":""},{"$f":"IF('Access Point (Desc)'!C355=\"\",\"\",'Access Point (Desc)'!C355)","v":""},{"$f":"IF('Access Point (Desc)'!D355=\"\",\"\",'Access Point (Desc)'!D355)","v":""},{"$f":"IF('Access Point (Desc)'!E355=\"\",\"\",INDEX([1]OWNER!$A$2:$A$100,MATCH('Access Point (Desc)'!$E355,[1]!MASTER_OWNER_DESC[#Data],0),0))","v":""},{"$f":"IF('Access Point (Desc)'!F355=\"\",\"\",INDEX([1]COUNTY!$A$2:$A$100,MATCH('Access Point (Desc)'!F355,[1]!MASTER_COUNTY_NAME[#Data],0),0))","v":""},{"$f":"IF('Access Point (Desc)'!G355=\"\",\"\",'Access Point (Desc)'!G355)","v":""},{"$f":"IF('Access Point (Desc)'!H355=\"\",\"\",'Access Point (Desc)'!H355)","v":""},{"$f":"IF('Access Point (Desc)'!I355=\"\",\"\",INDEX([1]ROUTE_MH_TYPE!$A$2:$A$100,MATCH('Access Point (Desc)'!$I355,[1]!MASTER_ROUTE_MH_TYPE_DESC[#Data],0),0))","v":""},{"$f":"IF('Access Point (Desc)'!J355=\"\",\"\",INDEX([1]MANHOLE_MTL!$A$2:$A$100,MATCH('Access Point (Desc)'!$J355,[1]!MASTER_MANHOLE_MTL_DESC[#Data],0),0))","v":""},{"$f":"IF('Access Point (Desc)'!K355=\"\",\"\",INDEX([1]MANHOLE_SIZE!$A$2:$A$120,MATCH('Access Point (Desc)'!$K355,[1]!MASTER_MANHOLE_SIZE_DESC[#Data],0),0))","v":""},{"$f":"IF('Access Point (Desc)'!L355=\"\",\"\",INDEX([1]ROUTE_MH_LID_TYPE!$A$2:$A$100,MATCH('Access Point (Desc)'!$L355,[1]!MASTER_ROUTE_MH_LID_TYPE_DESC[#Data],0),0))","v":""},{"$f":"IF('Access Point (Desc)'!M355=\"\",\"\",INDEX([1]MANHOLE_MTL!$A$2:$A$100,MATCH('Access Point (Desc)'!$M355,[1]!MASTER_MANHOLE_MTL_DESC[#Data],0),0))","v":""},{"$f":"IF('Access Point (Desc)'!N355=\"\",\"\",INDEX([1]LID_BOLT_TYPE!$A$2:$A$100,MATCH('Access Point (Desc)'!$N355,[1]!MASTER_LID_BOLT_TYPE_DESC[#Data],0),0))","v":""},{"$f":"IF('Access Point (Desc)'!O355=\"\",\"\",INDEX([1]YES_NO!$A$2:$A$100,MATCH('Access Point (Desc)'!$O355,[1]!MASTER_YES_NO_DESC[#Data],0),0))","v":""},{"$f":"IF('Access Point (Desc)'!P355=\"\",\"\",'Access Point (Desc)'!P355)","v":""},{"$f":"IF('Access Point (Desc)'!Q355=\"\",\"\",INDEX([1]YES_NO!$A$2:$A$100,MATCH('Access Point (Desc)'!$Q355,[1]!MASTER_YES_NO_DESC[#Data],0),0))","v":""}]
[{"$f":"IF('Access Point (Desc)'!A356=\"\",\"\",'Access Point (Desc)'!A356)","v":""},{"$f":"IF('Access Point (Desc)'!B356=\"\",\"\",'Access Point (Desc)'!B356)","v":""},{"$f":"IF('Access Point (Desc)'!C356=\"\",\"\",'Access Point (Desc)'!C356)","v":""},{"$f":"IF('Access Point (Desc)'!D356=\"\",\"\",'Access Point (Desc)'!D356)","v":""},{"$f":"IF('Access Point (Desc)'!E356=\"\",\"\",INDEX([1]OWNER!$A$2:$A$100,MATCH('Access Point (Desc)'!$E356,[1]!MASTER_OWNER_DESC[#Data],0),0))","v":""},{"$f":"IF('Access Point (Desc)'!F356=\"\",\"\",INDEX([1]COUNTY!$A$2:$A$100,MATCH('Access Point (Desc)'!F356,[1]!MASTER_COUNTY_NAME[#Data],0),0))","v":""},{"$f":"IF('Access Point (Desc)'!G356=\"\",\"\",'Access Point (Desc)'!G356)","v":""},{"$f":"IF('Access Point (Desc)'!H356=\"\",\"\",'Access Point (Desc)'!H356)","v":""},{"$f":"IF('Access Point (Desc)'!I356=\"\",\"\",INDEX([1]ROUTE_MH_TYPE!$A$2:$A$100,MATCH('Access Point (Desc)'!$I356,[1]!MASTER_ROUTE_MH_TYPE_DESC[#Data],0),0))","v":""},{"$f":"IF('Access Point (Desc)'!J356=\"\",\"\",INDEX([1]MANHOLE_MTL!$A$2:$A$100,MATCH('Access Point (Desc)'!$J356,[1]!MASTER_MANHOLE_MTL_DESC[#Data],0),0))","v":""},{"$f":"IF('Access Point (Desc)'!K356=\"\",\"\",INDEX([1]MANHOLE_SIZE!$A$2:$A$120,MATCH('Access Point (Desc)'!$K356,[1]!MASTER_MANHOLE_SIZE_DESC[#Data],0),0))","v":""},{"$f":"IF('Access Point (Desc)'!L356=\"\",\"\",INDEX([1]ROUTE_MH_LID_TYPE!$A$2:$A$100,MATCH('Access Point (Desc)'!$L356,[1]!MASTER_ROUTE_MH_LID_TYPE_DESC[#Data],0),0))","v":""},{"$f":"IF('Access Point (Desc)'!M356=\"\",\"\",INDEX([1]MANHOLE_MTL!$A$2:$A$100,MATCH('Access Point (Desc)'!$M356,[1]!MASTER_MANHOLE_MTL_DESC[#Data],0),0))","v":""},{"$f":"IF('Access Point (Desc)'!N356=\"\",\"\",INDEX([1]LID_BOLT_TYPE!$A$2:$A$100,MATCH('Access Point (Desc)'!$N356,[1]!MASTER_LID_BOLT_TYPE_DESC[#Data],0),0))","v":""},{"$f":"IF('Access Point (Desc)'!O356=\"\",\"\",INDEX([1]YES_NO!$A$2:$A$100,MATCH('Access Point (Desc)'!$O356,[1]!MASTER_YES_NO_DESC[#Data],0),0))","v":""},{"$f":"IF('Access Point (Desc)'!P356=\"\",\"\",'Access Point (Desc)'!P356)","v":""},{"$f":"IF('Access Point (Desc)'!Q356=\"\",\"\",INDEX([1]YES_NO!$A$2:$A$100,MATCH('Access Point (Desc)'!$Q356,[1]!MASTER_YES_NO_DESC[#Data],0),0))","v":""}]
[{"$f":"IF('Access Point (Desc)'!A357=\"\",\"\",'Access Point (Desc)'!A357)","v":""},{"$f":"IF('Access Point (Desc)'!B357=\"\",\"\",'Access Point (Desc)'!B357)","v":""},{"$f":"IF('Access Point (Desc)'!C357=\"\",\"\",'Access Point (Desc)'!C357)","v":""},{"$f":"IF('Access Point (Desc)'!D357=\"\",\"\",'Access Point (Desc)'!D357)","v":""},{"$f":"IF('Access Point (Desc)'!E357=\"\",\"\",INDEX([1]OWNER!$A$2:$A$100,MATCH('Access Point (Desc)'!$E357,[1]!MASTER_OWNER_DESC[#Data],0),0))","v":""},{"$f":"IF('Access Point (Desc)'!F357=\"\",\"\",INDEX([1]COUNTY!$A$2:$A$100,MATCH('Access Point (Desc)'!F357,[1]!MASTER_COUNTY_NAME[#Data],0),0))","v":""},{"$f":"IF('Access Point (Desc)'!G357=\"\",\"\",'Access Point (Desc)'!G357)","v":""},{"$f":"IF('Access Point (Desc)'!H357=\"\",\"\",'Access Point (Desc)'!H357)","v":""},{"$f":"IF('Access Point (Desc)'!I357=\"\",\"\",INDEX([1]ROUTE_MH_TYPE!$A$2:$A$100,MATCH('Access Point (Desc)'!$I357,[1]!MASTER_ROUTE_MH_TYPE_DESC[#Data],0),0))","v":""},{"$f":"IF('Access Point (Desc)'!J357=\"\",\"\",INDEX([1]MANHOLE_MTL!$A$2:$A$100,MATCH('Access Point (Desc)'!$J357,[1]!MASTER_MANHOLE_MTL_DESC[#Data],0),0))","v":""},{"$f":"IF('Access Point (Desc)'!K357=\"\",\"\",INDEX([1]MANHOLE_SIZE!$A$2:$A$120,MATCH('Access Point (Desc)'!$K357,[1]!MASTER_MANHOLE_SIZE_DESC[#Data],0),0))","v":""},{"$f":"IF('Access Point (Desc)'!L357=\"\",\"\",INDEX([1]ROUTE_MH_LID_TYPE!$A$2:$A$100,MATCH('Access Point (Desc)'!$L357,[1]!MASTER_ROUTE_MH_LID_TYPE_DESC[#Data],0),0))","v":""},{"$f":"IF('Access Point (Desc)'!M357=\"\",\"\",INDEX([1]MANHOLE_MTL!$A$2:$A$100,MATCH('Access Point (Desc)'!$M357,[1]!MASTER_MANHOLE_MTL_DESC[#Data],0),0))","v":""},{"$f":"IF('Access Point (Desc)'!N357=\"\",\"\",INDEX([1]LID_BOLT_TYPE!$A$2:$A$100,MATCH('Access Point (Desc)'!$N357,[1]!MASTER_LID_BOLT_TYPE_DESC[#Data],0),0))","v":""},{"$f":"IF('Access Point (Desc)'!O357=\"\",\"\",INDEX([1]YES_NO!$A$2:$A$100,MATCH('Access Point (Desc)'!$O357,[1]!MASTER_YES_NO_DESC[#Data],0),0))","v":""},{"$f":"IF('Access Point (Desc)'!P357=\"\",\"\",'Access Point (Desc)'!P357)","v":""},{"$f":"IF('Access Point (Desc)'!Q357=\"\",\"\",INDEX([1]YES_NO!$A$2:$A$100,MATCH('Access Point (Desc)'!$Q357,[1]!MASTER_YES_NO_DESC[#Data],0),0))","v":""}]
[{"$f":"IF('Access Point (Desc)'!A358=\"\",\"\",'Access Point (Desc)'!A358)","v":""},{"$f":"IF('Access Point (Desc)'!B358=\"\",\"\",'Access Point (Desc)'!B358)","v":""},{"$f":"IF('Access Point (Desc)'!C358=\"\",\"\",'Access Point (Desc)'!C358)","v":""},{"$f":"IF('Access Point (Desc)'!D358=\"\",\"\",'Access Point (Desc)'!D358)","v":""},{"$f":"IF('Access Point (Desc)'!E358=\"\",\"\",INDEX([1]OWNER!$A$2:$A$100,MATCH('Access Point (Desc)'!$E358,[1]!MASTER_OWNER_DESC[#Data],0),0))","v":""},{"$f":"IF('Access Point (Desc)'!F358=\"\",\"\",INDEX([1]COUNTY!$A$2:$A$100,MATCH('Access Point (Desc)'!F358,[1]!MASTER_COUNTY_NAME[#Data],0),0))","v":""},{"$f":"IF('Access Point (Desc)'!G358=\"\",\"\",'Access Point (Desc)'!G358)","v":""},{"$f":"IF('Access Point (Desc)'!H358=\"\",\"\",'Access Point (Desc)'!H358)","v":""},{"$f":"IF('Access Point (Desc)'!I358=\"\",\"\",INDEX([1]ROUTE_MH_TYPE!$A$2:$A$100,MATCH('Access Point (Desc)'!$I358,[1]!MASTER_ROUTE_MH_TYPE_DESC[#Data],0),0))","v":""},{"$f":"IF('Access Point (Desc)'!J358=\"\",\"\",INDEX([1]MANHOLE_MTL!$A$2:$A$100,MATCH('Access Point (Desc)'!$J358,[1]!MASTER_MANHOLE_MTL_DESC[#Data],0),0))","v":""},{"$f":"IF('Access Point (Desc)'!K358=\"\",\"\",INDEX([1]MANHOLE_SIZE!$A$2:$A$120,MATCH('Access Point (Desc)'!$K358,[1]!MASTER_MANHOLE_SIZE_DESC[#Data],0),0))","v":""},{"$f":"IF('Access Point (Desc)'!L358=\"\",\"\",INDEX([1]ROUTE_MH_LID_TYPE!$A$2:$A$100,MATCH('Access Point (Desc)'!$L358,[1]!MASTER_ROUTE_MH_LID_TYPE_DESC[#Data],0),0))","v":""},{"$f":"IF('Access Point (Desc)'!M358=\"\",\"\",INDEX([1]MANHOLE_MTL!$A$2:$A$100,MATCH('Access Point (Desc)'!$M358,[1]!MASTER_MANHOLE_MTL_DESC[#Data],0),0))","v":""},{"$f":"IF('Access Point (Desc)'!N358=\"\",\"\",INDEX([1]LID_BOLT_TYPE!$A$2:$A$100,MATCH('Access Point (Desc)'!$N358,[1]!MASTER_LID_BOLT_TYPE_DESC[#Data],0),0))","v":""},{"$f":"IF('Access Point (Desc)'!O358=\"\",\"\",INDEX([1]YES_NO!$A$2:$A$100,MATCH('Access Point (Desc)'!$O358,[1]!MASTER_YES_NO_DESC[#Data],0),0))","v":""},{"$f":"IF('Access Point (Desc)'!P358=\"\",\"\",'Access Point (Desc)'!P358)","v":""},{"$f":"IF('Access Point (Desc)'!Q358=\"\",\"\",INDEX([1]YES_NO!$A$2:$A$100,MATCH('Access Point (Desc)'!$Q358,[1]!MASTER_YES_NO_DESC[#Data],0),0))","v":""}]
[{"$f":"IF('Access Point (Desc)'!A359=\"\",\"\",'Access Point (Desc)'!A359)","v":""},{"$f":"IF('Access Point (Desc)'!B359=\"\",\"\",'Access Point (Desc)'!B359)","v":""},{"$f":"IF('Access Point (Desc)'!C359=\"\",\"\",'Access Point (Desc)'!C359)","v":""},{"$f":"IF('Access Point (Desc)'!D359=\"\",\"\",'Access Point (Desc)'!D359)","v":""},{"$f":"IF('Access Point (Desc)'!E359=\"\",\"\",INDEX([1]OWNER!$A$2:$A$100,MATCH('Access Point (Desc)'!$E359,[1]!MASTER_OWNER_DESC[#Data],0),0))","v":""},{"$f":"IF('Access Point (Desc)'!F359=\"\",\"\",INDEX([1]COUNTY!$A$2:$A$100,MATCH('Access Point (Desc)'!F359,[1]!MASTER_COUNTY_NAME[#Data],0),0))","v":""},{"$f":"IF('Access Point (Desc)'!G359=\"\",\"\",'Access Point (Desc)'!G359)","v":""},{"$f":"IF('Access Point (Desc)'!H359=\"\",\"\",'Access Point (Desc)'!H359)","v":""},{"$f":"IF('Access Point (Desc)'!I359=\"\",\"\",INDEX([1]ROUTE_MH_TYPE!$A$2:$A$100,MATCH('Access Point (Desc)'!$I359,[1]!MASTER_ROUTE_MH_TYPE_DESC[#Data],0),0))","v":""},{"$f":"IF('Access Point (Desc)'!J359=\"\",\"\",INDEX([1]MANHOLE_MTL!$A$2:$A$100,MATCH('Access Point (Desc)'!$J359,[1]!MASTER_MANHOLE_MTL_DESC[#Data],0),0))","v":""},{"$f":"IF('Access Point (Desc)'!K359=\"\",\"\",INDEX([1]MANHOLE_SIZE!$A$2:$A$120,MATCH('Access Point (Desc)'!$K359,[1]!MASTER_MANHOLE_SIZE_DESC[#Data],0),0))","v":""},{"$f":"IF('Access Point (Desc)'!L359=\"\",\"\",INDEX([1]ROUTE_MH_LID_TYPE!$A$2:$A$100,MATCH('Access Point (Desc)'!$L359,[1]!MASTER_ROUTE_MH_LID_TYPE_DESC[#Data],0),0))","v":""},{"$f":"IF('Access Point (Desc)'!M359=\"\",\"\",INDEX([1]MANHOLE_MTL!$A$2:$A$100,MATCH('Access Point (Desc)'!$M359,[1]!MASTER_MANHOLE_MTL_DESC[#Data],0),0))","v":""},{"$f":"IF('Access Point (Desc)'!N359=\"\",\"\",INDEX([1]LID_BOLT_TYPE!$A$2:$A$100,MATCH('Access Point (Desc)'!$N359,[1]!MASTER_LID_BOLT_TYPE_DESC[#Data],0),0))","v":""},{"$f":"IF('Access Point (Desc)'!O359=\"\",\"\",INDEX([1]YES_NO!$A$2:$A$100,MATCH('Access Point (Desc)'!$O359,[1]!MASTER_YES_NO_DESC[#Data],0),0))","v":""},{"$f":"IF('Access Point (Desc)'!P359=\"\",\"\",'Access Point (Desc)'!P359)","v":""},{"$f":"IF('Access Point (Desc)'!Q359=\"\",\"\",INDEX([1]YES_NO!$A$2:$A$100,MATCH('Access Point (Desc)'!$Q359,[1]!MASTER_YES_NO_DESC[#Data],0),0))","v":""}]
[{"$f":"IF('Access Point (Desc)'!A360=\"\",\"\",'Access Point (Desc)'!A360)","v":""},{"$f":"IF('Access Point (Desc)'!B360=\"\",\"\",'Access Point (Desc)'!B360)","v":""},{"$f":"IF('Access Point (Desc)'!C360=\"\",\"\",'Access Point (Desc)'!C360)","v":""},{"$f":"IF('Access Point (Desc)'!D360=\"\",\"\",'Access Point (Desc)'!D360)","v":""},{"$f":"IF('Access Point (Desc)'!E360=\"\",\"\",INDEX([1]OWNER!$A$2:$A$100,MATCH('Access Point (Desc)'!$E360,[1]!MASTER_OWNER_DESC[#Data],0),0))","v":""},{"$f":"IF('Access Point (Desc)'!F360=\"\",\"\",INDEX([1]COUNTY!$A$2:$A$100,MATCH('Access Point (Desc)'!F360,[1]!MASTER_COUNTY_NAME[#Data],0),0))","v":""},{"$f":"IF('Access Point (Desc)'!G360=\"\",\"\",'Access Point (Desc)'!G360)","v":""},{"$f":"IF('Access Point (Desc)'!H360=\"\",\"\",'Access Point (Desc)'!H360)","v":""},{"$f":"IF('Access Point (Desc)'!I360=\"\",\"\",INDEX([1]ROUTE_MH_TYPE!$A$2:$A$100,MATCH('Access Point (Desc)'!$I360,[1]!MASTER_ROUTE_MH_TYPE_DESC[#Data],0),0))","v":""},{"$f":"IF('Access Point (Desc)'!J360=\"\",\"\",INDEX([1]MANHOLE_MTL!$A$2:$A$100,MATCH('Access Point (Desc)'!$J360,[1]!MASTER_MANHOLE_MTL_DESC[#Data],0),0))","v":""},{"$f":"IF('Access Point (Desc)'!K360=\"\",\"\",INDEX([1]MANHOLE_SIZE!$A$2:$A$120,MATCH('Access Point (Desc)'!$K360,[1]!MASTER_MANHOLE_SIZE_DESC[#Data],0),0))","v":""},{"$f":"IF('Access Point (Desc)'!L360=\"\",\"\",INDEX([1]ROUTE_MH_LID_TYPE!$A$2:$A$100,MATCH('Access Point (Desc)'!$L360,[1]!MASTER_ROUTE_MH_LID_TYPE_DESC[#Data],0),0))","v":""},{"$f":"IF('Access Point (Desc)'!M360=\"\",\"\",INDEX([1]MANHOLE_MTL!$A$2:$A$100,MATCH('Access Point (Desc)'!$M360,[1]!MASTER_MANHOLE_MTL_DESC[#Data],0),0))","v":""},{"$f":"IF('Access Point (Desc)'!N360=\"\",\"\",INDEX([1]LID_BOLT_TYPE!$A$2:$A$100,MATCH('Access Point (Desc)'!$N360,[1]!MASTER_LID_BOLT_TYPE_DESC[#Data],0),0))","v":""},{"$f":"IF('Access Point (Desc)'!O360=\"\",\"\",INDEX([1]YES_NO!$A$2:$A$100,MATCH('Access Point (Desc)'!$O360,[1]!MASTER_YES_NO_DESC[#Data],0),0))","v":""},{"$f":"IF('Access Point (Desc)'!P360=\"\",\"\",'Access Point (Desc)'!P360)","v":""},{"$f":"IF('Access Point (Desc)'!Q360=\"\",\"\",INDEX([1]YES_NO!$A$2:$A$100,MATCH('Access Point (Desc)'!$Q360,[1]!MASTER_YES_NO_DESC[#Data],0),0))","v":""}]
[{"$f":"IF('Access Point (Desc)'!A361=\"\",\"\",'Access Point (Desc)'!A361)","v":""},{"$f":"IF('Access Point (Desc)'!B361=\"\",\"\",'Access Point (Desc)'!B361)","v":""},{"$f":"IF('Access Point (Desc)'!C361=\"\",\"\",'Access Point (Desc)'!C361)","v":""},{"$f":"IF('Access Point (Desc)'!D361=\"\",\"\",'Access Point (Desc)'!D361)","v":""},{"$f":"IF('Access Point (Desc)'!E361=\"\",\"\",INDEX([1]OWNER!$A$2:$A$100,MATCH('Access Point (Desc)'!$E361,[1]!MASTER_OWNER_DESC[#Data],0),0))","v":""},{"$f":"IF('Access Point (Desc)'!F361=\"\",\"\",INDEX([1]COUNTY!$A$2:$A$100,MATCH('Access Point (Desc)'!F361,[1]!MASTER_COUNTY_NAME[#Data],0),0))","v":""},{"$f":"IF('Access Point (Desc)'!G361=\"\",\"\",'Access Point (Desc)'!G361)","v":""},{"$f":"IF('Access Point (Desc)'!H361=\"\",\"\",'Access Point (Desc)'!H361)","v":""},{"$f":"IF('Access Point (Desc)'!I361=\"\",\"\",INDEX([1]ROUTE_MH_TYPE!$A$2:$A$100,MATCH('Access Point (Desc)'!$I361,[1]!MASTER_ROUTE_MH_TYPE_DESC[#Data],0),0))","v":""},{"$f":"IF('Access Point (Desc)'!J361=\"\",\"\",INDEX([1]MANHOLE_MTL!$A$2:$A$100,MATCH('Access Point (Desc)'!$J361,[1]!MASTER_MANHOLE_MTL_DESC[#Data],0),0))","v":""},{"$f":"IF('Access Point (Desc)'!K361=\"\",\"\",INDEX([1]MANHOLE_SIZE!$A$2:$A$120,MATCH('Access Point (Desc)'!$K361,[1]!MASTER_MANHOLE_SIZE_DESC[#Data],0),0))","v":""},{"$f":"IF('Access Point (Desc)'!L361=\"\",\"\",INDEX([1]ROUTE_MH_LID_TYPE!$A$2:$A$100,MATCH('Access Point (Desc)'!$L361,[1]!MASTER_ROUTE_MH_LID_TYPE_DESC[#Data],0),0))","v":""},{"$f":"IF('Access Point (Desc)'!M361=\"\",\"\",INDEX([1]MANHOLE_MTL!$A$2:$A$100,MATCH('Access Point (Desc)'!$M361,[1]!MASTER_MANHOLE_MTL_DESC[#Data],0),0))","v":""},{"$f":"IF('Access Point (Desc)'!N361=\"\",\"\",INDEX([1]LID_BOLT_TYPE!$A$2:$A$100,MATCH('Access Point (Desc)'!$N361,[1]!MASTER_LID_BOLT_TYPE_DESC[#Data],0),0))","v":""},{"$f":"IF('Access Point (Desc)'!O361=\"\",\"\",INDEX([1]YES_NO!$A$2:$A$100,MATCH('Access Point (Desc)'!$O361,[1]!MASTER_YES_NO_DESC[#Data],0),0))","v":""},{"$f":"IF('Access Point (Desc)'!P361=\"\",\"\",'Access Point (Desc)'!P361)","v":""},{"$f":"IF('Access Point (Desc)'!Q361=\"\",\"\",INDEX([1]YES_NO!$A$2:$A$100,MATCH('Access Point (Desc)'!$Q361,[1]!MASTER_YES_NO_DESC[#Data],0),0))","v":""}]
[{"$f":"IF('Access Point (Desc)'!A362=\"\",\"\",'Access Point (Desc)'!A362)","v":""},{"$f":"IF('Access Point (Desc)'!B362=\"\",\"\",'Access Point (Desc)'!B362)","v":""},{"$f":"IF('Access Point (Desc)'!C362=\"\",\"\",'Access Point (Desc)'!C362)","v":""},{"$f":"IF('Access Point (Desc)'!D362=\"\",\"\",'Access Point (Desc)'!D362)","v":""},{"$f":"IF('Access Point (Desc)'!E362=\"\",\"\",INDEX([1]OWNER!$A$2:$A$100,MATCH('Access Point (Desc)'!$E362,[1]!MASTER_OWNER_DESC[#Data],0),0))","v":""},{"$f":"IF('Access Point (Desc)'!F362=\"\",\"\",INDEX([1]COUNTY!$A$2:$A$100,MATCH('Access Point (Desc)'!F362,[1]!MASTER_COUNTY_NAME[#Data],0),0))","v":""},{"$f":"IF('Access Point (Desc)'!G362=\"\",\"\",'Access Point (Desc)'!G362)","v":""},{"$f":"IF('Access Point (Desc)'!H362=\"\",\"\",'Access Point (Desc)'!H362)","v":""},{"$f":"IF('Access Point (Desc)'!I362=\"\",\"\",INDEX([1]ROUTE_MH_TYPE!$A$2:$A$100,MATCH('Access Point (Desc)'!$I362,[1]!MASTER_ROUTE_MH_TYPE_DESC[#Data],0),0))","v":""},{"$f":"IF('Access Point (Desc)'!J362=\"\",\"\",INDEX([1]MANHOLE_MTL!$A$2:$A$100,MATCH('Access Point (Desc)'!$J362,[1]!MASTER_MANHOLE_MTL_DESC[#Data],0),0))","v":""},{"$f":"IF('Access Point (Desc)'!K362=\"\",\"\",INDEX([1]MANHOLE_SIZE!$A$2:$A$120,MATCH('Access Point (Desc)'!$K362,[1]!MASTER_MANHOLE_SIZE_DESC[#Data],0),0))","v":""},{"$f":"IF('Access Point (Desc)'!L362=\"\",\"\",INDEX([1]ROUTE_MH_LID_TYPE!$A$2:$A$100,MATCH('Access Point (Desc)'!$L362,[1]!MASTER_ROUTE_MH_LID_TYPE_DESC[#Data],0),0))","v":""},{"$f":"IF('Access Point (Desc)'!M362=\"\",\"\",INDEX([1]MANHOLE_MTL!$A$2:$A$100,MATCH('Access Point (Desc)'!$M362,[1]!MASTER_MANHOLE_MTL_DESC[#Data],0),0))","v":""},{"$f":"IF('Access Point (Desc)'!N362=\"\",\"\",INDEX([1]LID_BOLT_TYPE!$A$2:$A$100,MATCH('Access Point (Desc)'!$N362,[1]!MASTER_LID_BOLT_TYPE_DESC[#Data],0),0))","v":""},{"$f":"IF('Access Point (Desc)'!O362=\"\",\"\",INDEX([1]YES_NO!$A$2:$A$100,MATCH('Access Point (Desc)'!$O362,[1]!MASTER_YES_NO_DESC[#Data],0),0))","v":""},{"$f":"IF('Access Point (Desc)'!P362=\"\",\"\",'Access Point (Desc)'!P362)","v":""},{"$f":"IF('Access Point (Desc)'!Q362=\"\",\"\",INDEX([1]YES_NO!$A$2:$A$100,MATCH('Access Point (Desc)'!$Q362,[1]!MASTER_YES_NO_DESC[#Data],0),0))","v":""}]
[{"$f":"IF('Access Point (Desc)'!A363=\"\",\"\",'Access Point (Desc)'!A363)","v":""},{"$f":"IF('Access Point (Desc)'!B363=\"\",\"\",'Access Point (Desc)'!B363)","v":""},{"$f":"IF('Access Point (Desc)'!C363=\"\",\"\",'Access Point (Desc)'!C363)","v":""},{"$f":"IF('Access Point (Desc)'!D363=\"\",\"\",'Access Point (Desc)'!D363)","v":""},{"$f":"IF('Access Point (Desc)'!E363=\"\",\"\",INDEX([1]OWNER!$A$2:$A$100,MATCH('Access Point (Desc)'!$E363,[1]!MASTER_OWNER_DESC[#Data],0),0))","v":""},{"$f":"IF('Access Point (Desc)'!F363=\"\",\"\",INDEX([1]COUNTY!$A$2:$A$100,MATCH('Access Point (Desc)'!F363,[1]!MASTER_COUNTY_NAME[#Data],0),0))","v":""},{"$f":"IF('Access Point (Desc)'!G363=\"\",\"\",'Access Point (Desc)'!G363)","v":""},{"$f":"IF('Access Point (Desc)'!H363=\"\",\"\",'Access Point (Desc)'!H363)","v":""},{"$f":"IF('Access Point (Desc)'!I363=\"\",\"\",INDEX([1]ROUTE_MH_TYPE!$A$2:$A$100,MATCH('Access Point (Desc)'!$I363,[1]!MASTER_ROUTE_MH_TYPE_DESC[#Data],0),0))","v":""},{"$f":"IF('Access Point (Desc)'!J363=\"\",\"\",INDEX([1]MANHOLE_MTL!$A$2:$A$100,MATCH('Access Point (Desc)'!$J363,[1]!MASTER_MANHOLE_MTL_DESC[#Data],0),0))","v":""},{"$f":"IF('Access Point (Desc)'!K363=\"\",\"\",INDEX([1]MANHOLE_SIZE!$A$2:$A$120,MATCH('Access Point (Desc)'!$K363,[1]!MASTER_MANHOLE_SIZE_DESC[#Data],0),0))","v":""},{"$f":"IF('Access Point (Desc)'!L363=\"\",\"\",INDEX([1]ROUTE_MH_LID_TYPE!$A$2:$A$100,MATCH('Access Point (Desc)'!$L363,[1]!MASTER_ROUTE_MH_LID_TYPE_DESC[#Data],0),0))","v":""},{"$f":"IF('Access Point (Desc)'!M363=\"\",\"\",INDEX([1]MANHOLE_MTL!$A$2:$A$100,MATCH('Access Point (Desc)'!$M363,[1]!MASTER_MANHOLE_MTL_DESC[#Data],0),0))","v":""},{"$f":"IF('Access Point (Desc)'!N363=\"\",\"\",INDEX([1]LID_BOLT_TYPE!$A$2:$A$100,MATCH('Access Point (Desc)'!$N363,[1]!MASTER_LID_BOLT_TYPE_DESC[#Data],0),0))","v":""},{"$f":"IF('Access Point (Desc)'!O363=\"\",\"\",INDEX([1]YES_NO!$A$2:$A$100,MATCH('Access Point (Desc)'!$O363,[1]!MASTER_YES_NO_DESC[#Data],0),0))","v":""},{"$f":"IF('Access Point (Desc)'!P363=\"\",\"\",'Access Point (Desc)'!P363)","v":""},{"$f":"IF('Access Point (Desc)'!Q363=\"\",\"\",INDEX([1]YES_NO!$A$2:$A$100,MATCH('Access Point (Desc)'!$Q363,[1]!MASTER_YES_NO_DESC[#Data],0),0))","v":""}]
[{"$f":"IF('Access Point (Desc)'!A364=\"\",\"\",'Access Point (Desc)'!A364)","v":""},{"$f":"IF('Access Point (Desc)'!B364=\"\",\"\",'Access Point (Desc)'!B364)","v":""},{"$f":"IF('Access Point (Desc)'!C364=\"\",\"\",'Access Point (Desc)'!C364)","v":""},{"$f":"IF('Access Point (Desc)'!D364=\"\",\"\",'Access Point (Desc)'!D364)","v":""},{"$f":"IF('Access Point (Desc)'!E364=\"\",\"\",INDEX([1]OWNER!$A$2:$A$100,MATCH('Access Point (Desc)'!$E364,[1]!MASTER_OWNER_DESC[#Data],0),0))","v":""},{"$f":"IF('Access Point (Desc)'!F364=\"\",\"\",INDEX([1]COUNTY!$A$2:$A$100,MATCH('Access Point (Desc)'!F364,[1]!MASTER_COUNTY_NAME[#Data],0),0))","v":""},{"$f":"IF('Access Point (Desc)'!G364=\"\",\"\",'Access Point (Desc)'!G364)","v":""},{"$f":"IF('Access Point (Desc)'!H364=\"\",\"\",'Access Point (Desc)'!H364)","v":""},{"$f":"IF('Access Point (Desc)'!I364=\"\",\"\",INDEX([1]ROUTE_MH_TYPE!$A$2:$A$100,MATCH('Access Point (Desc)'!$I364,[1]!MASTER_ROUTE_MH_TYPE_DESC[#Data],0),0))","v":""},{"$f":"IF('Access Point (Desc)'!J364=\"\",\"\",INDEX([1]MANHOLE_MTL!$A$2:$A$100,MATCH('Access Point (Desc)'!$J364,[1]!MASTER_MANHOLE_MTL_DESC[#Data],0),0))","v":""},{"$f":"IF('Access Point (Desc)'!K364=\"\",\"\",INDEX([1]MANHOLE_SIZE!$A$2:$A$120,MATCH('Access Point (Desc)'!$K364,[1]!MASTER_MANHOLE_SIZE_DESC[#Data],0),0))","v":""},{"$f":"IF('Access Point (Desc)'!L364=\"\",\"\",INDEX([1]ROUTE_MH_LID_TYPE!$A$2:$A$100,MATCH('Access Point (Desc)'!$L364,[1]!MASTER_ROUTE_MH_LID_TYPE_DESC[#Data],0),0))","v":""},{"$f":"IF('Access Point (Desc)'!M364=\"\",\"\",INDEX([1]MANHOLE_MTL!$A$2:$A$100,MATCH('Access Point (Desc)'!$M364,[1]!MASTER_MANHOLE_MTL_DESC[#Data],0),0))","v":""},{"$f":"IF('Access Point (Desc)'!N364=\"\",\"\",INDEX([1]LID_BOLT_TYPE!$A$2:$A$100,MATCH('Access Point (Desc)'!$N364,[1]!MASTER_LID_BOLT_TYPE_DESC[#Data],0),0))","v":""},{"$f":"IF('Access Point (Desc)'!O364=\"\",\"\",INDEX([1]YES_NO!$A$2:$A$100,MATCH('Access Point (Desc)'!$O364,[1]!MASTER_YES_NO_DESC[#Data],0),0))","v":""},{"$f":"IF('Access Point (Desc)'!P364=\"\",\"\",'Access Point (Desc)'!P364)","v":""},{"$f":"IF('Access Point (Desc)'!Q364=\"\",\"\",INDEX([1]YES_NO!$A$2:$A$100,MATCH('Access Point (Desc)'!$Q364,[1]!MASTER_YES_NO_DESC[#Data],0),0))","v":""}]
[{"$f":"IF('Access Point (Desc)'!A365=\"\",\"\",'Access Point (Desc)'!A365)","v":""},{"$f":"IF('Access Point (Desc)'!B365=\"\",\"\",'Access Point (Desc)'!B365)","v":""},{"$f":"IF('Access Point (Desc)'!C365=\"\",\"\",'Access Point (Desc)'!C365)","v":""},{"$f":"IF('Access Point (Desc)'!D365=\"\",\"\",'Access Point (Desc)'!D365)","v":""},{"$f":"IF('Access Point (Desc)'!E365=\"\",\"\",INDEX([1]OWNER!$A$2:$A$100,MATCH('Access Point (Desc)'!$E365,[1]!MASTER_OWNER_DESC[#Data],0),0))","v":""},{"$f":"IF('Access Point (Desc)'!F365=\"\",\"\",INDEX([1]COUNTY!$A$2:$A$100,MATCH('Access Point (Desc)'!F365,[1]!MASTER_COUNTY_NAME[#Data],0),0))","v":""},{"$f":"IF('Access Point (Desc)'!G365=\"\",\"\",'Access Point (Desc)'!G365)","v":""},{"$f":"IF('Access Point (Desc)'!H365=\"\",\"\",'Access Point (Desc)'!H365)","v":""},{"$f":"IF('Access Point (Desc)'!I365=\"\",\"\",INDEX([1]ROUTE_MH_TYPE!$A$2:$A$100,MATCH('Access Point (Desc)'!$I365,[1]!MASTER_ROUTE_MH_TYPE_DESC[#Data],0),0))","v":""},{"$f":"IF('Access Point (Desc)'!J365=\"\",\"\",INDEX([1]MANHOLE_MTL!$A$2:$A$100,MATCH('Access Point (Desc)'!$J365,[1]!MASTER_MANHOLE_MTL_DESC[#Data],0),0))","v":""},{"$f":"IF('Access Point (Desc)'!K365=\"\",\"\",INDEX([1]MANHOLE_SIZE!$A$2:$A$120,MATCH('Access Point (Desc)'!$K365,[1]!MASTER_MANHOLE_SIZE_DESC[#Data],0),0))","v":""},{"$f":"IF('Access Point (Desc)'!L365=\"\",\"\",INDEX([1]ROUTE_MH_LID_TYPE!$A$2:$A$100,MATCH('Access Point (Desc)'!$L365,[1]!MASTER_ROUTE_MH_LID_TYPE_DESC[#Data],0),0))","v":""},{"$f":"IF('Access Point (Desc)'!M365=\"\",\"\",INDEX([1]MANHOLE_MTL!$A$2:$A$100,MATCH('Access Point (Desc)'!$M365,[1]!MASTER_MANHOLE_MTL_DESC[#Data],0),0))","v":""},{"$f":"IF('Access Point (Desc)'!N365=\"\",\"\",INDEX([1]LID_BOLT_TYPE!$A$2:$A$100,MATCH('Access Point (Desc)'!$N365,[1]!MASTER_LID_BOLT_TYPE_DESC[#Data],0),0))","v":""},{"$f":"IF('Access Point (Desc)'!O365=\"\",\"\",INDEX([1]YES_NO!$A$2:$A$100,MATCH('Access Point (Desc)'!$O365,[1]!MASTER_YES_NO_DESC[#Data],0),0))","v":""},{"$f":"IF('Access Point (Desc)'!P365=\"\",\"\",'Access Point (Desc)'!P365)","v":""},{"$f":"IF('Access Point (Desc)'!Q365=\"\",\"\",INDEX([1]YES_NO!$A$2:$A$100,MATCH('Access Point (Desc)'!$Q365,[1]!MASTER_YES_NO_DESC[#Data],0),0))","v":""}]
[{"$f":"IF('Access Point (Desc)'!A366=\"\",\"\",'Access Point (Desc)'!A366)","v":""},{"$f":"IF('Access Point (Desc)'!B366=\"\",\"\",'Access Point (Desc)'!B366)","v":""},{"$f":"IF('Access Point (Desc)'!C366=\"\",\"\",'Access Point (Desc)'!C366)","v":""},{"$f":"IF('Access Point (Desc)'!D366=\"\",\"\",'Access Point (Desc)'!D366)","v":""},{"$f":"IF('Access Point (Desc)'!E366=\"\",\"\",INDEX([1]OWNER!$A$2:$A$100,MATCH('Access Point (Desc)'!$E366,[1]!MASTER_OWNER_DESC[#Data],0),0))","v":""},{"$f":"IF('Access Point (Desc)'!F366=\"\",\"\",INDEX([1]COUNTY!$A$2:$A$100,MATCH('Access Point (Desc)'!F366,[1]!MASTER_COUNTY_NAME[#Data],0),0))","v":""},{"$f":"IF('Access Point (Desc)'!G366=\"\",\"\",'Access Point (Desc)'!G366)","v":""},{"$f":"IF('Access Point (Desc)'!H366=\"\",\"\",'Access Point (Desc)'!H366)","v":""},{"$f":"IF('Access Point (Desc)'!I366=\"\",\"\",INDEX([1]ROUTE_MH_TYPE!$A$2:$A$100,MATCH('Access Point (Desc)'!$I366,[1]!MASTER_ROUTE_MH_TYPE_DESC[#Data],0),0))","v":""},{"$f":"IF('Access Point (Desc)'!J366=\"\",\"\",INDEX([1]MANHOLE_MTL!$A$2:$A$100,MATCH('Access Point (Desc)'!$J366,[1]!MASTER_MANHOLE_MTL_DESC[#Data],0),0))","v":""},{"$f":"IF('Access Point (Desc)'!K366=\"\",\"\",INDEX([1]MANHOLE_SIZE!$A$2:$A$120,MATCH('Access Point (Desc)'!$K366,[1]!MASTER_MANHOLE_SIZE_DESC[#Data],0),0))","v":""},{"$f":"IF('Access Point (Desc)'!L366=\"\",\"\",INDEX([1]ROUTE_MH_LID_TYPE!$A$2:$A$100,MATCH('Access Point (Desc)'!$L366,[1]!MASTER_ROUTE_MH_LID_TYPE_DESC[#Data],0),0))","v":""},{"$f":"IF('Access Point (Desc)'!M366=\"\",\"\",INDEX([1]MANHOLE_MTL!$A$2:$A$100,MATCH('Access Point (Desc)'!$M366,[1]!MASTER_MANHOLE_MTL_DESC[#Data],0),0))","v":""},{"$f":"IF('Access Point (Desc)'!N366=\"\",\"\",INDEX([1]LID_BOLT_TYPE!$A$2:$A$100,MATCH('Access Point (Desc)'!$N366,[1]!MASTER_LID_BOLT_TYPE_DESC[#Data],0),0))","v":""},{"$f":"IF('Access Point (Desc)'!O366=\"\",\"\",INDEX([1]YES_NO!$A$2:$A$100,MATCH('Access Point (Desc)'!$O366,[1]!MASTER_YES_NO_DESC[#Data],0),0))","v":""},{"$f":"IF('Access Point (Desc)'!P366=\"\",\"\",'Access Point (Desc)'!P366)","v":""},{"$f":"IF('Access Point (Desc)'!Q366=\"\",\"\",INDEX([1]YES_NO!$A$2:$A$100,MATCH('Access Point (Desc)'!$Q366,[1]!MASTER_YES_NO_DESC[#Data],0),0))","v":""}]
[{"$f":"IF('Access Point (Desc)'!A367=\"\",\"\",'Access Point (Desc)'!A367)","v":""},{"$f":"IF('Access Point (Desc)'!B367=\"\",\"\",'Access Point (Desc)'!B367)","v":""},{"$f":"IF('Access Point (Desc)'!C367=\"\",\"\",'Access Point (Desc)'!C367)","v":""},{"$f":"IF('Access Point (Desc)'!D367=\"\",\"\",'Access Point (Desc)'!D367)","v":""},{"$f":"IF('Access Point (Desc)'!E367=\"\",\"\",INDEX([1]OWNER!$A$2:$A$100,MATCH('Access Point (Desc)'!$E367,[1]!MASTER_OWNER_DESC[#Data],0),0))","v":""},{"$f":"IF('Access Point (Desc)'!F367=\"\",\"\",INDEX([1]COUNTY!$A$2:$A$100,MATCH('Access Point (Desc)'!F367,[1]!MASTER_COUNTY_NAME[#Data],0),0))","v":""},{"$f":"IF('Access Point (Desc)'!G367=\"\",\"\",'Access Point (Desc)'!G367)","v":""},{"$f":"IF('Access Point (Desc)'!H367=\"\",\"\",'Access Point (Desc)'!H367)","v":""},{"$f":"IF('Access Point (Desc)'!I367=\"\",\"\",INDEX([1]ROUTE_MH_TYPE!$A$2:$A$100,MATCH('Access Point (Desc)'!$I367,[1]!MASTER_ROUTE_MH_TYPE_DESC[#Data],0),0))","v":""},{"$f":"IF('Access Point (Desc)'!J367=\"\",\"\",INDEX([1]MANHOLE_MTL!$A$2:$A$100,MATCH('Access Point (Desc)'!$J367,[1]!MASTER_MANHOLE_MTL_DESC[#Data],0),0))","v":""},{"$f":"IF('Access Point (Desc)'!K367=\"\",\"\",INDEX([1]MANHOLE_SIZE!$A$2:$A$120,MATCH('Access Point (Desc)'!$K367,[1]!MASTER_MANHOLE_SIZE_DESC[#Data],0),0))","v":""},{"$f":"IF('Access Point (Desc)'!L367=\"\",\"\",INDEX([1]ROUTE_MH_LID_TYPE!$A$2:$A$100,MATCH('Access Point (Desc)'!$L367,[1]!MASTER_ROUTE_MH_LID_TYPE_DESC[#Data],0),0))","v":""},{"$f":"IF('Access Point (Desc)'!M367=\"\",\"\",INDEX([1]MANHOLE_MTL!$A$2:$A$100,MATCH('Access Point (Desc)'!$M367,[1]!MASTER_MANHOLE_MTL_DESC[#Data],0),0))","v":""},{"$f":"IF('Access Point (Desc)'!N367=\"\",\"\",INDEX([1]LID_BOLT_TYPE!$A$2:$A$100,MATCH('Access Point (Desc)'!$N367,[1]!MASTER_LID_BOLT_TYPE_DESC[#Data],0),0))","v":""},{"$f":"IF('Access Point (Desc)'!O367=\"\",\"\",INDEX([1]YES_NO!$A$2:$A$100,MATCH('Access Point (Desc)'!$O367,[1]!MASTER_YES_NO_DESC[#Data],0),0))","v":""},{"$f":"IF('Access Point (Desc)'!P367=\"\",\"\",'Access Point (Desc)'!P367)","v":""},{"$f":"IF('Access Point (Desc)'!Q367=\"\",\"\",INDEX([1]YES_NO!$A$2:$A$100,MATCH('Access Point (Desc)'!$Q367,[1]!MASTER_YES_NO_DESC[#Data],0),0))","v":""}]
[{"$f":"IF('Access Point (Desc)'!A368=\"\",\"\",'Access Point (Desc)'!A368)","v":""},{"$f":"IF('Access Point (Desc)'!B368=\"\",\"\",'Access Point (Desc)'!B368)","v":""},{"$f":"IF('Access Point (Desc)'!C368=\"\",\"\",'Access Point (Desc)'!C368)","v":""},{"$f":"IF('Access Point (Desc)'!D368=\"\",\"\",'Access Point (Desc)'!D368)","v":""},{"$f":"IF('Access Point (Desc)'!E368=\"\",\"\",INDEX([1]OWNER!$A$2:$A$100,MATCH('Access Point (Desc)'!$E368,[1]!MASTER_OWNER_DESC[#Data],0),0))","v":""},{"$f":"IF('Access Point (Desc)'!F368=\"\",\"\",INDEX([1]COUNTY!$A$2:$A$100,MATCH('Access Point (Desc)'!F368,[1]!MASTER_COUNTY_NAME[#Data],0),0))","v":""},{"$f":"IF('Access Point (Desc)'!G368=\"\",\"\",'Access Point (Desc)'!G368)","v":""},{"$f":"IF('Access Point (Desc)'!H368=\"\",\"\",'Access Point (Desc)'!H368)","v":""},{"$f":"IF('Access Point (Desc)'!I368=\"\",\"\",INDEX([1]ROUTE_MH_TYPE!$A$2:$A$100,MATCH('Access Point (Desc)'!$I368,[1]!MASTER_ROUTE_MH_TYPE_DESC[#Data],0),0))","v":""},{"$f":"IF('Access Point (Desc)'!J368=\"\",\"\",INDEX([1]MANHOLE_MTL!$A$2:$A$100,MATCH('Access Point (Desc)'!$J368,[1]!MASTER_MANHOLE_MTL_DESC[#Data],0),0))","v":""},{"$f":"IF('Access Point (Desc)'!K368=\"\",\"\",INDEX([1]MANHOLE_SIZE!$A$2:$A$120,MATCH('Access Point (Desc)'!$K368,[1]!MASTER_MANHOLE_SIZE_DESC[#Data],0),0))","v":""},{"$f":"IF('Access Point (Desc)'!L368=\"\",\"\",INDEX([1]ROUTE_MH_LID_TYPE!$A$2:$A$100,MATCH('Access Point (Desc)'!$L368,[1]!MASTER_ROUTE_MH_LID_TYPE_DESC[#Data],0),0))","v":""},{"$f":"IF('Access Point (Desc)'!M368=\"\",\"\",INDEX([1]MANHOLE_MTL!$A$2:$A$100,MATCH('Access Point (Desc)'!$M368,[1]!MASTER_MANHOLE_MTL_DESC[#Data],0),0))","v":""},{"$f":"IF('Access Point (Desc)'!N368=\"\",\"\",INDEX([1]LID_BOLT_TYPE!$A$2:$A$100,MATCH('Access Point (Desc)'!$N368,[1]!MASTER_LID_BOLT_TYPE_DESC[#Data],0),0))","v":""},{"$f":"IF('Access Point (Desc)'!O368=\"\",\"\",INDEX([1]YES_NO!$A$2:$A$100,MATCH('Access Point (Desc)'!$O368,[1]!MASTER_YES_NO_DESC[#Data],0),0))","v":""},{"$f":"IF('Access Point (Desc)'!P368=\"\",\"\",'Access Point (Desc)'!P368)","v":""},{"$f":"IF('Access Point (Desc)'!Q368=\"\",\"\",INDEX([1]YES_NO!$A$2:$A$100,MATCH('Access Point (Desc)'!$Q368,[1]!MASTER_YES_NO_DESC[#Data],0),0))","v":""}]
[{"$f":"IF('Access Point (Desc)'!A369=\"\",\"\",'Access Point (Desc)'!A369)","v":""},{"$f":"IF('Access Point (Desc)'!B369=\"\",\"\",'Access Point (Desc)'!B369)","v":""},{"$f":"IF('Access Point (Desc)'!C369=\"\",\"\",'Access Point (Desc)'!C369)","v":""},{"$f":"IF('Access Point (Desc)'!D369=\"\",\"\",'Access Point (Desc)'!D369)","v":""},{"$f":"IF('Access Point (Desc)'!E369=\"\",\"\",INDEX([1]OWNER!$A$2:$A$100,MATCH('Access Point (Desc)'!$E369,[1]!MASTER_OWNER_DESC[#Data],0),0))","v":""},{"$f":"IF('Access Point (Desc)'!F369=\"\",\"\",INDEX([1]COUNTY!$A$2:$A$100,MATCH('Access Point (Desc)'!F369,[1]!MASTER_COUNTY_NAME[#Data],0),0))","v":""},{"$f":"IF('Access Point (Desc)'!G369=\"\",\"\",'Access Point (Desc)'!G369)","v":""},{"$f":"IF('Access Point (Desc)'!H369=\"\",\"\",'Access Point (Desc)'!H369)","v":""},{"$f":"IF('Access Point (Desc)'!I369=\"\",\"\",INDEX([1]ROUTE_MH_TYPE!$A$2:$A$100,MATCH('Access Point (Desc)'!$I369,[1]!MASTER_ROUTE_MH_TYPE_DESC[#Data],0),0))","v":""},{"$f":"IF('Access Point (Desc)'!J369=\"\",\"\",INDEX([1]MANHOLE_MTL!$A$2:$A$100,MATCH('Access Point (Desc)'!$J369,[1]!MASTER_MANHOLE_MTL_DESC[#Data],0),0))","v":""},{"$f":"IF('Access Point (Desc)'!K369=\"\",\"\",INDEX([1]MANHOLE_SIZE!$A$2:$A$120,MATCH('Access Point (Desc)'!$K369,[1]!MASTER_MANHOLE_SIZE_DESC[#Data],0),0))","v":""},{"$f":"IF('Access Point (Desc)'!L369=\"\",\"\",INDEX([1]ROUTE_MH_LID_TYPE!$A$2:$A$100,MATCH('Access Point (Desc)'!$L369,[1]!MASTER_ROUTE_MH_LID_TYPE_DESC[#Data],0),0))","v":""},{"$f":"IF('Access Point (Desc)'!M369=\"\",\"\",INDEX([1]MANHOLE_MTL!$A$2:$A$100,MATCH('Access Point (Desc)'!$M369,[1]!MASTER_MANHOLE_MTL_DESC[#Data],0),0))","v":""},{"$f":"IF('Access Point (Desc)'!N369=\"\",\"\",INDEX([1]LID_BOLT_TYPE!$A$2:$A$100,MATCH('Access Point (Desc)'!$N369,[1]!MASTER_LID_BOLT_TYPE_DESC[#Data],0),0))","v":""},{"$f":"IF('Access Point (Desc)'!O369=\"\",\"\",INDEX([1]YES_NO!$A$2:$A$100,MATCH('Access Point (Desc)'!$O369,[1]!MASTER_YES_NO_DESC[#Data],0),0))","v":""},{"$f":"IF('Access Point (Desc)'!P369=\"\",\"\",'Access Point (Desc)'!P369)","v":""},{"$f":"IF('Access Point (Desc)'!Q369=\"\",\"\",INDEX([1]YES_NO!$A$2:$A$100,MATCH('Access Point (Desc)'!$Q369,[1]!MASTER_YES_NO_DESC[#Data],0),0))","v":""}]
[{"$f":"IF('Access Point (Desc)'!A370=\"\",\"\",'Access Point (Desc)'!A370)","v":""},{"$f":"IF('Access Point (Desc)'!B370=\"\",\"\",'Access Point (Desc)'!B370)","v":""},{"$f":"IF('Access Point (Desc)'!C370=\"\",\"\",'Access Point (Desc)'!C370)","v":""},{"$f":"IF('Access Point (Desc)'!D370=\"\",\"\",'Access Point (Desc)'!D370)","v":""},{"$f":"IF('Access Point (Desc)'!E370=\"\",\"\",INDEX([1]OWNER!$A$2:$A$100,MATCH('Access Point (Desc)'!$E370,[1]!MASTER_OWNER_DESC[#Data],0),0))","v":""},{"$f":"IF('Access Point (Desc)'!F370=\"\",\"\",INDEX([1]COUNTY!$A$2:$A$100,MATCH('Access Point (Desc)'!F370,[1]!MASTER_COUNTY_NAME[#Data],0),0))","v":""},{"$f":"IF('Access Point (Desc)'!G370=\"\",\"\",'Access Point (Desc)'!G370)","v":""},{"$f":"IF('Access Point (Desc)'!H370=\"\",\"\",'Access Point (Desc)'!H370)","v":""},{"$f":"IF('Access Point (Desc)'!I370=\"\",\"\",INDEX([1]ROUTE_MH_TYPE!$A$2:$A$100,MATCH('Access Point (Desc)'!$I370,[1]!MASTER_ROUTE_MH_TYPE_DESC[#Data],0),0))","v":""},{"$f":"IF('Access Point (Desc)'!J370=\"\",\"\",INDEX([1]MANHOLE_MTL!$A$2:$A$100,MATCH('Access Point (Desc)'!$J370,[1]!MASTER_MANHOLE_MTL_DESC[#Data],0),0))","v":""},{"$f":"IF('Access Point (Desc)'!K370=\"\",\"\",INDEX([1]MANHOLE_SIZE!$A$2:$A$120,MATCH('Access Point (Desc)'!$K370,[1]!MASTER_MANHOLE_SIZE_DESC[#Data],0),0))","v":""},{"$f":"IF('Access Point (Desc)'!L370=\"\",\"\",INDEX([1]ROUTE_MH_LID_TYPE!$A$2:$A$100,MATCH('Access Point (Desc)'!$L370,[1]!MASTER_ROUTE_MH_LID_TYPE_DESC[#Data],0),0))","v":""},{"$f":"IF('Access Point (Desc)'!M370=\"\",\"\",INDEX([1]MANHOLE_MTL!$A$2:$A$100,MATCH('Access Point (Desc)'!$M370,[1]!MASTER_MANHOLE_MTL_DESC[#Data],0),0))","v":""},{"$f":"IF('Access Point (Desc)'!N370=\"\",\"\",INDEX([1]LID_BOLT_TYPE!$A$2:$A$100,MATCH('Access Point (Desc)'!$N370,[1]!MASTER_LID_BOLT_TYPE_DESC[#Data],0),0))","v":""},{"$f":"IF('Access Point (Desc)'!O370=\"\",\"\",INDEX([1]YES_NO!$A$2:$A$100,MATCH('Access Point (Desc)'!$O370,[1]!MASTER_YES_NO_DESC[#Data],0),0))","v":""},{"$f":"IF('Access Point (Desc)'!P370=\"\",\"\",'Access Point (Desc)'!P370)","v":""},{"$f":"IF('Access Point (Desc)'!Q370=\"\",\"\",INDEX([1]YES_NO!$A$2:$A$100,MATCH('Access Point (Desc)'!$Q370,[1]!MASTER_YES_NO_DESC[#Data],0),0))","v":""}]
[{"$f":"IF('Access Point (Desc)'!A371=\"\",\"\",'Access Point (Desc)'!A371)","v":""},{"$f":"IF('Access Point (Desc)'!B371=\"\",\"\",'Access Point (Desc)'!B371)","v":""},{"$f":"IF('Access Point (Desc)'!C371=\"\",\"\",'Access Point (Desc)'!C371)","v":""},{"$f":"IF('Access Point (Desc)'!D371=\"\",\"\",'Access Point (Desc)'!D371)","v":""},{"$f":"IF('Access Point (Desc)'!E371=\"\",\"\",INDEX([1]OWNER!$A$2:$A$100,MATCH('Access Point (Desc)'!$E371,[1]!MASTER_OWNER_DESC[#Data],0),0))","v":""},{"$f":"IF('Access Point (Desc)'!F371=\"\",\"\",INDEX([1]COUNTY!$A$2:$A$100,MATCH('Access Point (Desc)'!F371,[1]!MASTER_COUNTY_NAME[#Data],0),0))","v":""},{"$f":"IF('Access Point (Desc)'!G371=\"\",\"\",'Access Point (Desc)'!G371)","v":""},{"$f":"IF('Access Point (Desc)'!H371=\"\",\"\",'Access Point (Desc)'!H371)","v":""},{"$f":"IF('Access Point (Desc)'!I371=\"\",\"\",INDEX([1]ROUTE_MH_TYPE!$A$2:$A$100,MATCH('Access Point (Desc)'!$I371,[1]!MASTER_ROUTE_MH_TYPE_DESC[#Data],0),0))","v":""},{"$f":"IF('Access Point (Desc)'!J371=\"\",\"\",INDEX([1]MANHOLE_MTL!$A$2:$A$100,MATCH('Access Point (Desc)'!$J371,[1]!MASTER_MANHOLE_MTL_DESC[#Data],0),0))","v":""},{"$f":"IF('Access Point (Desc)'!K371=\"\",\"\",INDEX([1]MANHOLE_SIZE!$A$2:$A$120,MATCH('Access Point (Desc)'!$K371,[1]!MASTER_MANHOLE_SIZE_DESC[#Data],0),0))","v":""},{"$f":"IF('Access Point (Desc)'!L371=\"\",\"\",INDEX([1]ROUTE_MH_LID_TYPE!$A$2:$A$100,MATCH('Access Point (Desc)'!$L371,[1]!MASTER_ROUTE_MH_LID_TYPE_DESC[#Data],0),0))","v":""},{"$f":"IF('Access Point (Desc)'!M371=\"\",\"\",INDEX([1]MANHOLE_MTL!$A$2:$A$100,MATCH('Access Point (Desc)'!$M371,[1]!MASTER_MANHOLE_MTL_DESC[#Data],0),0))","v":""},{"$f":"IF('Access Point (Desc)'!N371=\"\",\"\",INDEX([1]LID_BOLT_TYPE!$A$2:$A$100,MATCH('Access Point (Desc)'!$N371,[1]!MASTER_LID_BOLT_TYPE_DESC[#Data],0),0))","v":""},{"$f":"IF('Access Point (Desc)'!O371=\"\",\"\",INDEX([1]YES_NO!$A$2:$A$100,MATCH('Access Point (Desc)'!$O371,[1]!MASTER_YES_NO_DESC[#Data],0),0))","v":""},{"$f":"IF('Access Point (Desc)'!P371=\"\",\"\",'Access Point (Desc)'!P371)","v":""},{"$f":"IF('Access Point (Desc)'!Q371=\"\",\"\",INDEX([1]YES_NO!$A$2:$A$100,MATCH('Access Point (Desc)'!$Q371,[1]!MASTER_YES_NO_DESC[#Data],0),0))","v":""}]
[{"$f":"IF('Access Point (Desc)'!A372=\"\",\"\",'Access Point (Desc)'!A372)","v":""},{"$f":"IF('Access Point (Desc)'!B372=\"\",\"\",'Access Point (Desc)'!B372)","v":""},{"$f":"IF('Access Point (Desc)'!C372=\"\",\"\",'Access Point (Desc)'!C372)","v":""},{"$f":"IF('Access Point (Desc)'!D372=\"\",\"\",'Access Point (Desc)'!D372)","v":""},{"$f":"IF('Access Point (Desc)'!E372=\"\",\"\",INDEX([1]OWNER!$A$2:$A$100,MATCH('Access Point (Desc)'!$E372,[1]!MASTER_OWNER_DESC[#Data],0),0))","v":""},{"$f":"IF('Access Point (Desc)'!F372=\"\",\"\",INDEX([1]COUNTY!$A$2:$A$100,MATCH('Access Point (Desc)'!F372,[1]!MASTER_COUNTY_NAME[#Data],0),0))","v":""},{"$f":"IF('Access Point (Desc)'!G372=\"\",\"\",'Access Point (Desc)'!G372)","v":""},{"$f":"IF('Access Point (Desc)'!H372=\"\",\"\",'Access Point (Desc)'!H372)","v":""},{"$f":"IF('Access Point (Desc)'!I372=\"\",\"\",INDEX([1]ROUTE_MH_TYPE!$A$2:$A$100,MATCH('Access Point (Desc)'!$I372,[1]!MASTER_ROUTE_MH_TYPE_DESC[#Data],0),0))","v":""},{"$f":"IF('Access Point (Desc)'!J372=\"\",\"\",INDEX([1]MANHOLE_MTL!$A$2:$A$100,MATCH('Access Point (Desc)'!$J372,[1]!MASTER_MANHOLE_MTL_DESC[#Data],0),0))","v":""},{"$f":"IF('Access Point (Desc)'!K372=\"\",\"\",INDEX([1]MANHOLE_SIZE!$A$2:$A$120,MATCH('Access Point (Desc)'!$K372,[1]!MASTER_MANHOLE_SIZE_DESC[#Data],0),0))","v":""},{"$f":"IF('Access Point (Desc)'!L372=\"\",\"\",INDEX([1]ROUTE_MH_LID_TYPE!$A$2:$A$100,MATCH('Access Point (Desc)'!$L372,[1]!MASTER_ROUTE_MH_LID_TYPE_DESC[#Data],0),0))","v":""},{"$f":"IF('Access Point (Desc)'!M372=\"\",\"\",INDEX([1]MANHOLE_MTL!$A$2:$A$100,MATCH('Access Point (Desc)'!$M372,[1]!MASTER_MANHOLE_MTL_DESC[#Data],0),0))","v":""},{"$f":"IF('Access Point (Desc)'!N372=\"\",\"\",INDEX([1]LID_BOLT_TYPE!$A$2:$A$100,MATCH('Access Point (Desc)'!$N372,[1]!MASTER_LID_BOLT_TYPE_DESC[#Data],0),0))","v":""},{"$f":"IF('Access Point (Desc)'!O372=\"\",\"\",INDEX([1]YES_NO!$A$2:$A$100,MATCH('Access Point (Desc)'!$O372,[1]!MASTER_YES_NO_DESC[#Data],0),0))","v":""},{"$f":"IF('Access Point (Desc)'!P372=\"\",\"\",'Access Point (Desc)'!P372)","v":""},{"$f":"IF('Access Point (Desc)'!Q372=\"\",\"\",INDEX([1]YES_NO!$A$2:$A$100,MATCH('Access Point (Desc)'!$Q372,[1]!MASTER_YES_NO_DESC[#Data],0),0))","v":""}]
[{"$f":"IF('Access Point (Desc)'!A373=\"\",\"\",'Access Point (Desc)'!A373)","v":""},{"$f":"IF('Access Point (Desc)'!B373=\"\",\"\",'Access Point (Desc)'!B373)","v":""},{"$f":"IF('Access Point (Desc)'!C373=\"\",\"\",'Access Point (Desc)'!C373)","v":""},{"$f":"IF('Access Point (Desc)'!D373=\"\",\"\",'Access Point (Desc)'!D373)","v":""},{"$f":"IF('Access Point (Desc)'!E373=\"\",\"\",INDEX([1]OWNER!$A$2:$A$100,MATCH('Access Point (Desc)'!$E373,[1]!MASTER_OWNER_DESC[#Data],0),0))","v":""},{"$f":"IF('Access Point (Desc)'!F373=\"\",\"\",INDEX([1]COUNTY!$A$2:$A$100,MATCH('Access Point (Desc)'!F373,[1]!MASTER_COUNTY_NAME[#Data],0),0))","v":""},{"$f":"IF('Access Point (Desc)'!G373=\"\",\"\",'Access Point (Desc)'!G373)","v":""},{"$f":"IF('Access Point (Desc)'!H373=\"\",\"\",'Access Point (Desc)'!H373)","v":""},{"$f":"IF('Access Point (Desc)'!I373=\"\",\"\",INDEX([1]ROUTE_MH_TYPE!$A$2:$A$100,MATCH('Access Point (Desc)'!$I373,[1]!MASTER_ROUTE_MH_TYPE_DESC[#Data],0),0))","v":""},{"$f":"IF('Access Point (Desc)'!J373=\"\",\"\",INDEX([1]MANHOLE_MTL!$A$2:$A$100,MATCH('Access Point (Desc)'!$J373,[1]!MASTER_MANHOLE_MTL_DESC[#Data],0),0))","v":""},{"$f":"IF('Access Point (Desc)'!K373=\"\",\"\",INDEX([1]MANHOLE_SIZE!$A$2:$A$120,MATCH('Access Point (Desc)'!$K373,[1]!MASTER_MANHOLE_SIZE_DESC[#Data],0),0))","v":""},{"$f":"IF('Access Point (Desc)'!L373=\"\",\"\",INDEX([1]ROUTE_MH_LID_TYPE!$A$2:$A$100,MATCH('Access Point (Desc)'!$L373,[1]!MASTER_ROUTE_MH_LID_TYPE_DESC[#Data],0),0))","v":""},{"$f":"IF('Access Point (Desc)'!M373=\"\",\"\",INDEX([1]MANHOLE_MTL!$A$2:$A$100,MATCH('Access Point (Desc)'!$M373,[1]!MASTER_MANHOLE_MTL_DESC[#Data],0),0))","v":""},{"$f":"IF('Access Point (Desc)'!N373=\"\",\"\",INDEX([1]LID_BOLT_TYPE!$A$2:$A$100,MATCH('Access Point (Desc)'!$N373,[1]!MASTER_LID_BOLT_TYPE_DESC[#Data],0),0))","v":""},{"$f":"IF('Access Point (Desc)'!O373=\"\",\"\",INDEX([1]YES_NO!$A$2:$A$100,MATCH('Access Point (Desc)'!$O373,[1]!MASTER_YES_NO_DESC[#Data],0),0))","v":""},{"$f":"IF('Access Point (Desc)'!P373=\"\",\"\",'Access Point (Desc)'!P373)","v":""},{"$f":"IF('Access Point (Desc)'!Q373=\"\",\"\",INDEX([1]YES_NO!$A$2:$A$100,MATCH('Access Point (Desc)'!$Q373,[1]!MASTER_YES_NO_DESC[#Data],0),0))","v":""}]
[{"$f":"IF('Access Point (Desc)'!A374=\"\",\"\",'Access Point (Desc)'!A374)","v":""},{"$f":"IF('Access Point (Desc)'!B374=\"\",\"\",'Access Point (Desc)'!B374)","v":""},{"$f":"IF('Access Point (Desc)'!C374=\"\",\"\",'Access Point (Desc)'!C374)","v":""},{"$f":"IF('Access Point (Desc)'!D374=\"\",\"\",'Access Point (Desc)'!D374)","v":""},{"$f":"IF('Access Point (Desc)'!E374=\"\",\"\",INDEX([1]OWNER!$A$2:$A$100,MATCH('Access Point (Desc)'!$E374,[1]!MASTER_OWNER_DESC[#Data],0),0))","v":""},{"$f":"IF('Access Point (Desc)'!F374=\"\",\"\",INDEX([1]COUNTY!$A$2:$A$100,MATCH('Access Point (Desc)'!F374,[1]!MASTER_COUNTY_NAME[#Data],0),0))","v":""},{"$f":"IF('Access Point (Desc)'!G374=\"\",\"\",'Access Point (Desc)'!G374)","v":""},{"$f":"IF('Access Point (Desc)'!H374=\"\",\"\",'Access Point (Desc)'!H374)","v":""},{"$f":"IF('Access Point (Desc)'!I374=\"\",\"\",INDEX([1]ROUTE_MH_TYPE!$A$2:$A$100,MATCH('Access Point (Desc)'!$I374,[1]!MASTER_ROUTE_MH_TYPE_DESC[#Data],0),0))","v":""},{"$f":"IF('Access Point (Desc)'!J374=\"\",\"\",INDEX([1]MANHOLE_MTL!$A$2:$A$100,MATCH('Access Point (Desc)'!$J374,[1]!MASTER_MANHOLE_MTL_DESC[#Data],0),0))","v":""},{"$f":"IF('Access Point (Desc)'!K374=\"\",\"\",INDEX([1]MANHOLE_SIZE!$A$2:$A$120,MATCH('Access Point (Desc)'!$K374,[1]!MASTER_MANHOLE_SIZE_DESC[#Data],0),0))","v":""},{"$f":"IF('Access Point (Desc)'!L374=\"\",\"\",INDEX([1]ROUTE_MH_LID_TYPE!$A$2:$A$100,MATCH('Access Point (Desc)'!$L374,[1]!MASTER_ROUTE_MH_LID_TYPE_DESC[#Data],0),0))","v":""},{"$f":"IF('Access Point (Desc)'!M374=\"\",\"\",INDEX([1]MANHOLE_MTL!$A$2:$A$100,MATCH('Access Point (Desc)'!$M374,[1]!MASTER_MANHOLE_MTL_DESC[#Data],0),0))","v":""},{"$f":"IF('Access Point (Desc)'!N374=\"\",\"\",INDEX([1]LID_BOLT_TYPE!$A$2:$A$100,MATCH('Access Point (Desc)'!$N374,[1]!MASTER_LID_BOLT_TYPE_DESC[#Data],0),0))","v":""},{"$f":"IF('Access Point (Desc)'!O374=\"\",\"\",INDEX([1]YES_NO!$A$2:$A$100,MATCH('Access Point (Desc)'!$O374,[1]!MASTER_YES_NO_DESC[#Data],0),0))","v":""},{"$f":"IF('Access Point (Desc)'!P374=\"\",\"\",'Access Point (Desc)'!P374)","v":""},{"$f":"IF('Access Point (Desc)'!Q374=\"\",\"\",INDEX([1]YES_NO!$A$2:$A$100,MATCH('Access Point (Desc)'!$Q374,[1]!MASTER_YES_NO_DESC[#Data],0),0))","v":""}]
[{"$f":"IF('Access Point (Desc)'!A375=\"\",\"\",'Access Point (Desc)'!A375)","v":""},{"$f":"IF('Access Point (Desc)'!B375=\"\",\"\",'Access Point (Desc)'!B375)","v":""},{"$f":"IF('Access Point (Desc)'!C375=\"\",\"\",'Access Point (Desc)'!C375)","v":""},{"$f":"IF('Access Point (Desc)'!D375=\"\",\"\",'Access Point (Desc)'!D375)","v":""},{"$f":"IF('Access Point (Desc)'!E375=\"\",\"\",INDEX([1]OWNER!$A$2:$A$100,MATCH('Access Point (Desc)'!$E375,[1]!MASTER_OWNER_DESC[#Data],0),0))","v":""},{"$f":"IF('Access Point (Desc)'!F375=\"\",\"\",INDEX([1]COUNTY!$A$2:$A$100,MATCH('Access Point (Desc)'!F375,[1]!MASTER_COUNTY_NAME[#Data],0),0))","v":""},{"$f":"IF('Access Point (Desc)'!G375=\"\",\"\",'Access Point (Desc)'!G375)","v":""},{"$f":"IF('Access Point (Desc)'!H375=\"\",\"\",'Access Point (Desc)'!H375)","v":""},{"$f":"IF('Access Point (Desc)'!I375=\"\",\"\",INDEX([1]ROUTE_MH_TYPE!$A$2:$A$100,MATCH('Access Point (Desc)'!$I375,[1]!MASTER_ROUTE_MH_TYPE_DESC[#Data],0),0))","v":""},{"$f":"IF('Access Point (Desc)'!J375=\"\",\"\",INDEX([1]MANHOLE_MTL!$A$2:$A$100,MATCH('Access Point (Desc)'!$J375,[1]!MASTER_MANHOLE_MTL_DESC[#Data],0),0))","v":""},{"$f":"IF('Access Point (Desc)'!K375=\"\",\"\",INDEX([1]MANHOLE_SIZE!$A$2:$A$120,MATCH('Access Point (Desc)'!$K375,[1]!MASTER_MANHOLE_SIZE_DESC[#Data],0),0))","v":""},{"$f":"IF('Access Point (Desc)'!L375=\"\",\"\",INDEX([1]ROUTE_MH_LID_TYPE!$A$2:$A$100,MATCH('Access Point (Desc)'!$L375,[1]!MASTER_ROUTE_MH_LID_TYPE_DESC[#Data],0),0))","v":""},{"$f":"IF('Access Point (Desc)'!M375=\"\",\"\",INDEX([1]MANHOLE_MTL!$A$2:$A$100,MATCH('Access Point (Desc)'!$M375,[1]!MASTER_MANHOLE_MTL_DESC[#Data],0),0))","v":""},{"$f":"IF('Access Point (Desc)'!N375=\"\",\"\",INDEX([1]LID_BOLT_TYPE!$A$2:$A$100,MATCH('Access Point (Desc)'!$N375,[1]!MASTER_LID_BOLT_TYPE_DESC[#Data],0),0))","v":""},{"$f":"IF('Access Point (Desc)'!O375=\"\",\"\",INDEX([1]YES_NO!$A$2:$A$100,MATCH('Access Point (Desc)'!$O375,[1]!MASTER_YES_NO_DESC[#Data],0),0))","v":""},{"$f":"IF('Access Point (Desc)'!P375=\"\",\"\",'Access Point (Desc)'!P375)","v":""},{"$f":"IF('Access Point (Desc)'!Q375=\"\",\"\",INDEX([1]YES_NO!$A$2:$A$100,MATCH('Access Point (Desc)'!$Q375,[1]!MASTER_YES_NO_DESC[#Data],0),0))","v":""}]
[{"$f":"IF('Access Point (Desc)'!A376=\"\",\"\",'Access Point (Desc)'!A376)","v":""},{"$f":"IF('Access Point (Desc)'!B376=\"\",\"\",'Access Point (Desc)'!B376)","v":""},{"$f":"IF('Access Point (Desc)'!C376=\"\",\"\",'Access Point (Desc)'!C376)","v":""},{"$f":"IF('Access Point (Desc)'!D376=\"\",\"\",'Access Point (Desc)'!D376)","v":""},{"$f":"IF('Access Point (Desc)'!E376=\"\",\"\",INDEX([1]OWNER!$A$2:$A$100,MATCH('Access Point (Desc)'!$E376,[1]!MASTER_OWNER_DESC[#Data],0),0))","v":""},{"$f":"IF('Access Point (Desc)'!F376=\"\",\"\",INDEX([1]COUNTY!$A$2:$A$100,MATCH('Access Point (Desc)'!F376,[1]!MASTER_COUNTY_NAME[#Data],0),0))","v":""},{"$f":"IF('Access Point (Desc)'!G376=\"\",\"\",'Access Point (Desc)'!G376)","v":""},{"$f":"IF('Access Point (Desc)'!H376=\"\",\"\",'Access Point (Desc)'!H376)","v":""},{"$f":"IF('Access Point (Desc)'!I376=\"\",\"\",INDEX([1]ROUTE_MH_TYPE!$A$2:$A$100,MATCH('Access Point (Desc)'!$I376,[1]!MASTER_ROUTE_MH_TYPE_DESC[#Data],0),0))","v":""},{"$f":"IF('Access Point (Desc)'!J376=\"\",\"\",INDEX([1]MANHOLE_MTL!$A$2:$A$100,MATCH('Access Point (Desc)'!$J376,[1]!MASTER_MANHOLE_MTL_DESC[#Data],0),0))","v":""},{"$f":"IF('Access Point (Desc)'!K376=\"\",\"\",INDEX([1]MANHOLE_SIZE!$A$2:$A$120,MATCH('Access Point (Desc)'!$K376,[1]!MASTER_MANHOLE_SIZE_DESC[#Data],0),0))","v":""},{"$f":"IF('Access Point (Desc)'!L376=\"\",\"\",INDEX([1]ROUTE_MH_LID_TYPE!$A$2:$A$100,MATCH('Access Point (Desc)'!$L376,[1]!MASTER_ROUTE_MH_LID_TYPE_DESC[#Data],0),0))","v":""},{"$f":"IF('Access Point (Desc)'!M376=\"\",\"\",INDEX([1]MANHOLE_MTL!$A$2:$A$100,MATCH('Access Point (Desc)'!$M376,[1]!MASTER_MANHOLE_MTL_DESC[#Data],0),0))","v":""},{"$f":"IF('Access Point (Desc)'!N376=\"\",\"\",INDEX([1]LID_BOLT_TYPE!$A$2:$A$100,MATCH('Access Point (Desc)'!$N376,[1]!MASTER_LID_BOLT_TYPE_DESC[#Data],0),0))","v":""},{"$f":"IF('Access Point (Desc)'!O376=\"\",\"\",INDEX([1]YES_NO!$A$2:$A$100,MATCH('Access Point (Desc)'!$O376,[1]!MASTER_YES_NO_DESC[#Data],0),0))","v":""},{"$f":"IF('Access Point (Desc)'!P376=\"\",\"\",'Access Point (Desc)'!P376)","v":""},{"$f":"IF('Access Point (Desc)'!Q376=\"\",\"\",INDEX([1]YES_NO!$A$2:$A$100,MATCH('Access Point (Desc)'!$Q376,[1]!MASTER_YES_NO_DESC[#Data],0),0))","v":""}]
[{"$f":"IF('Access Point (Desc)'!A377=\"\",\"\",'Access Point (Desc)'!A377)","v":""},{"$f":"IF('Access Point (Desc)'!B377=\"\",\"\",'Access Point (Desc)'!B377)","v":""},{"$f":"IF('Access Point (Desc)'!C377=\"\",\"\",'Access Point (Desc)'!C377)","v":""},{"$f":"IF('Access Point (Desc)'!D377=\"\",\"\",'Access Point (Desc)'!D377)","v":""},{"$f":"IF('Access Point (Desc)'!E377=\"\",\"\",INDEX([1]OWNER!$A$2:$A$100,MATCH('Access Point (Desc)'!$E377,[1]!MASTER_OWNER_DESC[#Data],0),0))","v":""},{"$f":"IF('Access Point (Desc)'!F377=\"\",\"\",INDEX([1]COUNTY!$A$2:$A$100,MATCH('Access Point (Desc)'!F377,[1]!MASTER_COUNTY_NAME[#Data],0),0))","v":""},{"$f":"IF('Access Point (Desc)'!G377=\"\",\"\",'Access Point (Desc)'!G377)","v":""},{"$f":"IF('Access Point (Desc)'!H377=\"\",\"\",'Access Point (Desc)'!H377)","v":""},{"$f":"IF('Access Point (Desc)'!I377=\"\",\"\",INDEX([1]ROUTE_MH_TYPE!$A$2:$A$100,MATCH('Access Point (Desc)'!$I377,[1]!MASTER_ROUTE_MH_TYPE_DESC[#Data],0),0))","v":""},{"$f":"IF('Access Point (Desc)'!J377=\"\",\"\",INDEX([1]MANHOLE_MTL!$A$2:$A$100,MATCH('Access Point (Desc)'!$J377,[1]!MASTER_MANHOLE_MTL_DESC[#Data],0),0))","v":""},{"$f":"IF('Access Point (Desc)'!K377=\"\",\"\",INDEX([1]MANHOLE_SIZE!$A$2:$A$120,MATCH('Access Point (Desc)'!$K377,[1]!MASTER_MANHOLE_SIZE_DESC[#Data],0),0))","v":""},{"$f":"IF('Access Point (Desc)'!L377=\"\",\"\",INDEX([1]ROUTE_MH_LID_TYPE!$A$2:$A$100,MATCH('Access Point (Desc)'!$L377,[1]!MASTER_ROUTE_MH_LID_TYPE_DESC[#Data],0),0))","v":""},{"$f":"IF('Access Point (Desc)'!M377=\"\",\"\",INDEX([1]MANHOLE_MTL!$A$2:$A$100,MATCH('Access Point (Desc)'!$M377,[1]!MASTER_MANHOLE_MTL_DESC[#Data],0),0))","v":""},{"$f":"IF('Access Point (Desc)'!N377=\"\",\"\",INDEX([1]LID_BOLT_TYPE!$A$2:$A$100,MATCH('Access Point (Desc)'!$N377,[1]!MASTER_LID_BOLT_TYPE_DESC[#Data],0),0))","v":""},{"$f":"IF('Access Point (Desc)'!O377=\"\",\"\",INDEX([1]YES_NO!$A$2:$A$100,MATCH('Access Point (Desc)'!$O377,[1]!MASTER_YES_NO_DESC[#Data],0),0))","v":""},{"$f":"IF('Access Point (Desc)'!P377=\"\",\"\",'Access Point (Desc)'!P377)","v":""},{"$f":"IF('Access Point (Desc)'!Q377=\"\",\"\",INDEX([1]YES_NO!$A$2:$A$100,MATCH('Access Point (Desc)'!$Q377,[1]!MASTER_YES_NO_DESC[#Data],0),0))","v":""}]
[{"$f":"IF('Access Point (Desc)'!A378=\"\",\"\",'Access Point (Desc)'!A378)","v":""},{"$f":"IF('Access Point (Desc)'!B378=\"\",\"\",'Access Point (Desc)'!B378)","v":""},{"$f":"IF('Access Point (Desc)'!C378=\"\",\"\",'Access Point (Desc)'!C378)","v":""},{"$f":"IF('Access Point (Desc)'!D378=\"\",\"\",'Access Point (Desc)'!D378)","v":""},{"$f":"IF('Access Point (Desc)'!E378=\"\",\"\",INDEX([1]OWNER!$A$2:$A$100,MATCH('Access Point (Desc)'!$E378,[1]!MASTER_OWNER_DESC[#Data],0),0))","v":""},{"$f":"IF('Access Point (Desc)'!F378=\"\",\"\",INDEX([1]COUNTY!$A$2:$A$100,MATCH('Access Point (Desc)'!F378,[1]!MASTER_COUNTY_NAME[#Data],0),0))","v":""},{"$f":"IF('Access Point (Desc)'!G378=\"\",\"\",'Access Point (Desc)'!G378)","v":""},{"$f":"IF('Access Point (Desc)'!H378=\"\",\"\",'Access Point (Desc)'!H378)","v":""},{"$f":"IF('Access Point (Desc)'!I378=\"\",\"\",INDEX([1]ROUTE_MH_TYPE!$A$2:$A$100,MATCH('Access Point (Desc)'!$I378,[1]!MASTER_ROUTE_MH_TYPE_DESC[#Data],0),0))","v":""},{"$f":"IF('Access Point (Desc)'!J378=\"\",\"\",INDEX([1]MANHOLE_MTL!$A$2:$A$100,MATCH('Access Point (Desc)'!$J378,[1]!MASTER_MANHOLE_MTL_DESC[#Data],0),0))","v":""},{"$f":"IF('Access Point (Desc)'!K378=\"\",\"\",INDEX([1]MANHOLE_SIZE!$A$2:$A$120,MATCH('Access Point (Desc)'!$K378,[1]!MASTER_MANHOLE_SIZE_DESC[#Data],0),0))","v":""},{"$f":"IF('Access Point (Desc)'!L378=\"\",\"\",INDEX([1]ROUTE_MH_LID_TYPE!$A$2:$A$100,MATCH('Access Point (Desc)'!$L378,[1]!MASTER_ROUTE_MH_LID_TYPE_DESC[#Data],0),0))","v":""},{"$f":"IF('Access Point (Desc)'!M378=\"\",\"\",INDEX([1]MANHOLE_MTL!$A$2:$A$100,MATCH('Access Point (Desc)'!$M378,[1]!MASTER_MANHOLE_MTL_DESC[#Data],0),0))","v":""},{"$f":"IF('Access Point (Desc)'!N378=\"\",\"\",INDEX([1]LID_BOLT_TYPE!$A$2:$A$100,MATCH('Access Point (Desc)'!$N378,[1]!MASTER_LID_BOLT_TYPE_DESC[#Data],0),0))","v":""},{"$f":"IF('Access Point (Desc)'!O378=\"\",\"\",INDEX([1]YES_NO!$A$2:$A$100,MATCH('Access Point (Desc)'!$O378,[1]!MASTER_YES_NO_DESC[#Data],0),0))","v":""},{"$f":"IF('Access Point (Desc)'!P378=\"\",\"\",'Access Point (Desc)'!P378)","v":""},{"$f":"IF('Access Point (Desc)'!Q378=\"\",\"\",INDEX([1]YES_NO!$A$2:$A$100,MATCH('Access Point (Desc)'!$Q378,[1]!MASTER_YES_NO_DESC[#Data],0),0))","v":""}]
[{"$f":"IF('Access Point (Desc)'!A379=\"\",\"\",'Access Point (Desc)'!A379)","v":""},{"$f":"IF('Access Point (Desc)'!B379=\"\",\"\",'Access Point (Desc)'!B379)","v":""},{"$f":"IF('Access Point (Desc)'!C379=\"\",\"\",'Access Point (Desc)'!C379)","v":""},{"$f":"IF('Access Point (Desc)'!D379=\"\",\"\",'Access Point (Desc)'!D379)","v":""},{"$f":"IF('Access Point (Desc)'!E379=\"\",\"\",INDEX([1]OWNER!$A$2:$A$100,MATCH('Access Point (Desc)'!$E379,[1]!MASTER_OWNER_DESC[#Data],0),0))","v":""},{"$f":"IF('Access Point (Desc)'!F379=\"\",\"\",INDEX([1]COUNTY!$A$2:$A$100,MATCH('Access Point (Desc)'!F379,[1]!MASTER_COUNTY_NAME[#Data],0),0))","v":""},{"$f":"IF('Access Point (Desc)'!G379=\"\",\"\",'Access Point (Desc)'!G379)","v":""},{"$f":"IF('Access Point (Desc)'!H379=\"\",\"\",'Access Point (Desc)'!H379)","v":""},{"$f":"IF('Access Point (Desc)'!I379=\"\",\"\",INDEX([1]ROUTE_MH_TYPE!$A$2:$A$100,MATCH('Access Point (Desc)'!$I379,[1]!MASTER_ROUTE_MH_TYPE_DESC[#Data],0),0))","v":""},{"$f":"IF('Access Point (Desc)'!J379=\"\",\"\",INDEX([1]MANHOLE_MTL!$A$2:$A$100,MATCH('Access Point (Desc)'!$J379,[1]!MASTER_MANHOLE_MTL_DESC[#Data],0),0))","v":""},{"$f":"IF('Access Point (Desc)'!K379=\"\",\"\",INDEX([1]MANHOLE_SIZE!$A$2:$A$120,MATCH('Access Point (Desc)'!$K379,[1]!MASTER_MANHOLE_SIZE_DESC[#Data],0),0))","v":""},{"$f":"IF('Access Point (Desc)'!L379=\"\",\"\",INDEX([1]ROUTE_MH_LID_TYPE!$A$2:$A$100,MATCH('Access Point (Desc)'!$L379,[1]!MASTER_ROUTE_MH_LID_TYPE_DESC[#Data],0),0))","v":""},{"$f":"IF('Access Point (Desc)'!M379=\"\",\"\",INDEX([1]MANHOLE_MTL!$A$2:$A$100,MATCH('Access Point (Desc)'!$M379,[1]!MASTER_MANHOLE_MTL_DESC[#Data],0),0))","v":""},{"$f":"IF('Access Point (Desc)'!N379=\"\",\"\",INDEX([1]LID_BOLT_TYPE!$A$2:$A$100,MATCH('Access Point (Desc)'!$N379,[1]!MASTER_LID_BOLT_TYPE_DESC[#Data],0),0))","v":""},{"$f":"IF('Access Point (Desc)'!O379=\"\",\"\",INDEX([1]YES_NO!$A$2:$A$100,MATCH('Access Point (Desc)'!$O379,[1]!MASTER_YES_NO_DESC[#Data],0),0))","v":""},{"$f":"IF('Access Point (Desc)'!P379=\"\",\"\",'Access Point (Desc)'!P379)","v":""},{"$f":"IF('Access Point (Desc)'!Q379=\"\",\"\",INDEX([1]YES_NO!$A$2:$A$100,MATCH('Access Point (Desc)'!$Q379,[1]!MASTER_YES_NO_DESC[#Data],0),0))","v":""}]
[{"$f":"IF('Access Point (Desc)'!A380=\"\",\"\",'Access Point (Desc)'!A380)","v":""},{"$f":"IF('Access Point (Desc)'!B380=\"\",\"\",'Access Point (Desc)'!B380)","v":""},{"$f":"IF('Access Point (Desc)'!C380=\"\",\"\",'Access Point (Desc)'!C380)","v":""},{"$f":"IF('Access Point (Desc)'!D380=\"\",\"\",'Access Point (Desc)'!D380)","v":""},{"$f":"IF('Access Point (Desc)'!E380=\"\",\"\",INDEX([1]OWNER!$A$2:$A$100,MATCH('Access Point (Desc)'!$E380,[1]!MASTER_OWNER_DESC[#Data],0),0))","v":""},{"$f":"IF('Access Point (Desc)'!F380=\"\",\"\",INDEX([1]COUNTY!$A$2:$A$100,MATCH('Access Point (Desc)'!F380,[1]!MASTER_COUNTY_NAME[#Data],0),0))","v":""},{"$f":"IF('Access Point (Desc)'!G380=\"\",\"\",'Access Point (Desc)'!G380)","v":""},{"$f":"IF('Access Point (Desc)'!H380=\"\",\"\",'Access Point (Desc)'!H380)","v":""},{"$f":"IF('Access Point (Desc)'!I380=\"\",\"\",INDEX([1]ROUTE_MH_TYPE!$A$2:$A$100,MATCH('Access Point (Desc)'!$I380,[1]!MASTER_ROUTE_MH_TYPE_DESC[#Data],0),0))","v":""},{"$f":"IF('Access Point (Desc)'!J380=\"\",\"\",INDEX([1]MANHOLE_MTL!$A$2:$A$100,MATCH('Access Point (Desc)'!$J380,[1]!MASTER_MANHOLE_MTL_DESC[#Data],0),0))","v":""},{"$f":"IF('Access Point (Desc)'!K380=\"\",\"\",INDEX([1]MANHOLE_SIZE!$A$2:$A$120,MATCH('Access Point (Desc)'!$K380,[1]!MASTER_MANHOLE_SIZE_DESC[#Data],0),0))","v":""},{"$f":"IF('Access Point (Desc)'!L380=\"\",\"\",INDEX([1]ROUTE_MH_LID_TYPE!$A$2:$A$100,MATCH('Access Point (Desc)'!$L380,[1]!MASTER_ROUTE_MH_LID_TYPE_DESC[#Data],0),0))","v":""},{"$f":"IF('Access Point (Desc)'!M380=\"\",\"\",INDEX([1]MANHOLE_MTL!$A$2:$A$100,MATCH('Access Point (Desc)'!$M380,[1]!MASTER_MANHOLE_MTL_DESC[#Data],0),0))","v":""},{"$f":"IF('Access Point (Desc)'!N380=\"\",\"\",INDEX([1]LID_BOLT_TYPE!$A$2:$A$100,MATCH('Access Point (Desc)'!$N380,[1]!MASTER_LID_BOLT_TYPE_DESC[#Data],0),0))","v":""},{"$f":"IF('Access Point (Desc)'!O380=\"\",\"\",INDEX([1]YES_NO!$A$2:$A$100,MATCH('Access Point (Desc)'!$O380,[1]!MASTER_YES_NO_DESC[#Data],0),0))","v":""},{"$f":"IF('Access Point (Desc)'!P380=\"\",\"\",'Access Point (Desc)'!P380)","v":""},{"$f":"IF('Access Point (Desc)'!Q380=\"\",\"\",INDEX([1]YES_NO!$A$2:$A$100,MATCH('Access Point (Desc)'!$Q380,[1]!MASTER_YES_NO_DESC[#Data],0),0))","v":""}]
[{"$f":"IF('Access Point (Desc)'!A381=\"\",\"\",'Access Point (Desc)'!A381)","v":""},{"$f":"IF('Access Point (Desc)'!B381=\"\",\"\",'Access Point (Desc)'!B381)","v":""},{"$f":"IF('Access Point (Desc)'!C381=\"\",\"\",'Access Point (Desc)'!C381)","v":""},{"$f":"IF('Access Point (Desc)'!D381=\"\",\"\",'Access Point (Desc)'!D381)","v":""},{"$f":"IF('Access Point (Desc)'!E381=\"\",\"\",INDEX([1]OWNER!$A$2:$A$100,MATCH('Access Point (Desc)'!$E381,[1]!MASTER_OWNER_DESC[#Data],0),0))","v":""},{"$f":"IF('Access Point (Desc)'!F381=\"\",\"\",INDEX([1]COUNTY!$A$2:$A$100,MATCH('Access Point (Desc)'!F381,[1]!MASTER_COUNTY_NAME[#Data],0),0))","v":""},{"$f":"IF('Access Point (Desc)'!G381=\"\",\"\",'Access Point (Desc)'!G381)","v":""},{"$f":"IF('Access Point (Desc)'!H381=\"\",\"\",'Access Point (Desc)'!H381)","v":""},{"$f":"IF('Access Point (Desc)'!I381=\"\",\"\",INDEX([1]ROUTE_MH_TYPE!$A$2:$A$100,MATCH('Access Point (Desc)'!$I381,[1]!MASTER_ROUTE_MH_TYPE_DESC[#Data],0),0))","v":""},{"$f":"IF('Access Point (Desc)'!J381=\"\",\"\",INDEX([1]MANHOLE_MTL!$A$2:$A$100,MATCH('Access Point (Desc)'!$J381,[1]!MASTER_MANHOLE_MTL_DESC[#Data],0),0))","v":""},{"$f":"IF('Access Point (Desc)'!K381=\"\",\"\",INDEX([1]MANHOLE_SIZE!$A$2:$A$120,MATCH('Access Point (Desc)'!$K381,[1]!MASTER_MANHOLE_SIZE_DESC[#Data],0),0))","v":""},{"$f":"IF('Access Point (Desc)'!L381=\"\",\"\",INDEX([1]ROUTE_MH_LID_TYPE!$A$2:$A$100,MATCH('Access Point (Desc)'!$L381,[1]!MASTER_ROUTE_MH_LID_TYPE_DESC[#Data],0),0))","v":""},{"$f":"IF('Access Point (Desc)'!M381=\"\",\"\",INDEX([1]MANHOLE_MTL!$A$2:$A$100,MATCH('Access Point (Desc)'!$M381,[1]!MASTER_MANHOLE_MTL_DESC[#Data],0),0))","v":""},{"$f":"IF('Access Point (Desc)'!N381=\"\",\"\",INDEX([1]LID_BOLT_TYPE!$A$2:$A$100,MATCH('Access Point (Desc)'!$N381,[1]!MASTER_LID_BOLT_TYPE_DESC[#Data],0),0))","v":""},{"$f":"IF('Access Point (Desc)'!O381=\"\",\"\",INDEX([1]YES_NO!$A$2:$A$100,MATCH('Access Point (Desc)'!$O381,[1]!MASTER_YES_NO_DESC[#Data],0),0))","v":""},{"$f":"IF('Access Point (Desc)'!P381=\"\",\"\",'Access Point (Desc)'!P381)","v":""},{"$f":"IF('Access Point (Desc)'!Q381=\"\",\"\",INDEX([1]YES_NO!$A$2:$A$100,MATCH('Access Point (Desc)'!$Q381,[1]!MASTER_YES_NO_DESC[#Data],0),0))","v":""}]
[{"$f":"IF('Access Point (Desc)'!A382=\"\",\"\",'Access Point (Desc)'!A382)","v":""},{"$f":"IF('Access Point (Desc)'!B382=\"\",\"\",'Access Point (Desc)'!B382)","v":""},{"$f":"IF('Access Point (Desc)'!C382=\"\",\"\",'Access Point (Desc)'!C382)","v":""},{"$f":"IF('Access Point (Desc)'!D382=\"\",\"\",'Access Point (Desc)'!D382)","v":""},{"$f":"IF('Access Point (Desc)'!E382=\"\",\"\",INDEX([1]OWNER!$A$2:$A$100,MATCH('Access Point (Desc)'!$E382,[1]!MASTER_OWNER_DESC[#Data],0),0))","v":""},{"$f":"IF('Access Point (Desc)'!F382=\"\",\"\",INDEX([1]COUNTY!$A$2:$A$100,MATCH('Access Point (Desc)'!F382,[1]!MASTER_COUNTY_NAME[#Data],0),0))","v":""},{"$f":"IF('Access Point (Desc)'!G382=\"\",\"\",'Access Point (Desc)'!G382)","v":""},{"$f":"IF('Access Point (Desc)'!H382=\"\",\"\",'Access Point (Desc)'!H382)","v":""},{"$f":"IF('Access Point (Desc)'!I382=\"\",\"\",INDEX([1]ROUTE_MH_TYPE!$A$2:$A$100,MATCH('Access Point (Desc)'!$I382,[1]!MASTER_ROUTE_MH_TYPE_DESC[#Data],0),0))","v":""},{"$f":"IF('Access Point (Desc)'!J382=\"\",\"\",INDEX([1]MANHOLE_MTL!$A$2:$A$100,MATCH('Access Point (Desc)'!$J382,[1]!MASTER_MANHOLE_MTL_DESC[#Data],0),0))","v":""},{"$f":"IF('Access Point (Desc)'!K382=\"\",\"\",INDEX([1]MANHOLE_SIZE!$A$2:$A$120,MATCH('Access Point (Desc)'!$K382,[1]!MASTER_MANHOLE_SIZE_DESC[#Data],0),0))","v":""},{"$f":"IF('Access Point (Desc)'!L382=\"\",\"\",INDEX([1]ROUTE_MH_LID_TYPE!$A$2:$A$100,MATCH('Access Point (Desc)'!$L382,[1]!MASTER_ROUTE_MH_LID_TYPE_DESC[#Data],0),0))","v":""},{"$f":"IF('Access Point (Desc)'!M382=\"\",\"\",INDEX([1]MANHOLE_MTL!$A$2:$A$100,MATCH('Access Point (Desc)'!$M382,[1]!MASTER_MANHOLE_MTL_DESC[#Data],0),0))","v":""},{"$f":"IF('Access Point (Desc)'!N382=\"\",\"\",INDEX([1]LID_BOLT_TYPE!$A$2:$A$100,MATCH('Access Point (Desc)'!$N382,[1]!MASTER_LID_BOLT_TYPE_DESC[#Data],0),0))","v":""},{"$f":"IF('Access Point (Desc)'!O382=\"\",\"\",INDEX([1]YES_NO!$A$2:$A$100,MATCH('Access Point (Desc)'!$O382,[1]!MASTER_YES_NO_DESC[#Data],0),0))","v":""},{"$f":"IF('Access Point (Desc)'!P382=\"\",\"\",'Access Point (Desc)'!P382)","v":""},{"$f":"IF('Access Point (Desc)'!Q382=\"\",\"\",INDEX([1]YES_NO!$A$2:$A$100,MATCH('Access Point (Desc)'!$Q382,[1]!MASTER_YES_NO_DESC[#Data],0),0))","v":""}]
[{"$f":"IF('Access Point (Desc)'!A383=\"\",\"\",'Access Point (Desc)'!A383)","v":""},{"$f":"IF('Access Point (Desc)'!B383=\"\",\"\",'Access Point (Desc)'!B383)","v":""},{"$f":"IF('Access Point (Desc)'!C383=\"\",\"\",'Access Point (Desc)'!C383)","v":""},{"$f":"IF('Access Point (Desc)'!D383=\"\",\"\",'Access Point (Desc)'!D383)","v":""},{"$f":"IF('Access Point (Desc)'!E383=\"\",\"\",INDEX([1]OWNER!$A$2:$A$100,MATCH('Access Point (Desc)'!$E383,[1]!MASTER_OWNER_DESC[#Data],0),0))","v":""},{"$f":"IF('Access Point (Desc)'!F383=\"\",\"\",INDEX([1]COUNTY!$A$2:$A$100,MATCH('Access Point (Desc)'!F383,[1]!MASTER_COUNTY_NAME[#Data],0),0))","v":""},{"$f":"IF('Access Point (Desc)'!G383=\"\",\"\",'Access Point (Desc)'!G383)","v":""},{"$f":"IF('Access Point (Desc)'!H383=\"\",\"\",'Access Point (Desc)'!H383)","v":""},{"$f":"IF('Access Point (Desc)'!I383=\"\",\"\",INDEX([1]ROUTE_MH_TYPE!$A$2:$A$100,MATCH('Access Point (Desc)'!$I383,[1]!MASTER_ROUTE_MH_TYPE_DESC[#Data],0),0))","v":""},{"$f":"IF('Access Point (Desc)'!J383=\"\",\"\",INDEX([1]MANHOLE_MTL!$A$2:$A$100,MATCH('Access Point (Desc)'!$J383,[1]!MASTER_MANHOLE_MTL_DESC[#Data],0),0))","v":""},{"$f":"IF('Access Point (Desc)'!K383=\"\",\"\",INDEX([1]MANHOLE_SIZE!$A$2:$A$120,MATCH('Access Point (Desc)'!$K383,[1]!MASTER_MANHOLE_SIZE_DESC[#Data],0),0))","v":""},{"$f":"IF('Access Point (Desc)'!L383=\"\",\"\",INDEX([1]ROUTE_MH_LID_TYPE!$A$2:$A$100,MATCH('Access Point (Desc)'!$L383,[1]!MASTER_ROUTE_MH_LID_TYPE_DESC[#Data],0),0))","v":""},{"$f":"IF('Access Point (Desc)'!M383=\"\",\"\",INDEX([1]MANHOLE_MTL!$A$2:$A$100,MATCH('Access Point (Desc)'!$M383,[1]!MASTER_MANHOLE_MTL_DESC[#Data],0),0))","v":""},{"$f":"IF('Access Point (Desc)'!N383=\"\",\"\",INDEX([1]LID_BOLT_TYPE!$A$2:$A$100,MATCH('Access Point (Desc)'!$N383,[1]!MASTER_LID_BOLT_TYPE_DESC[#Data],0),0))","v":""},{"$f":"IF('Access Point (Desc)'!O383=\"\",\"\",INDEX([1]YES_NO!$A$2:$A$100,MATCH('Access Point (Desc)'!$O383,[1]!MASTER_YES_NO_DESC[#Data],0),0))","v":""},{"$f":"IF('Access Point (Desc)'!P383=\"\",\"\",'Access Point (Desc)'!P383)","v":""},{"$f":"IF('Access Point (Desc)'!Q383=\"\",\"\",INDEX([1]YES_NO!$A$2:$A$100,MATCH('Access Point (Desc)'!$Q383,[1]!MASTER_YES_NO_DESC[#Data],0),0))","v":""}]
[{"$f":"IF('Access Point (Desc)'!A384=\"\",\"\",'Access Point (Desc)'!A384)","v":""},{"$f":"IF('Access Point (Desc)'!B384=\"\",\"\",'Access Point (Desc)'!B384)","v":""},{"$f":"IF('Access Point (Desc)'!C384=\"\",\"\",'Access Point (Desc)'!C384)","v":""},{"$f":"IF('Access Point (Desc)'!D384=\"\",\"\",'Access Point (Desc)'!D384)","v":""},{"$f":"IF('Access Point (Desc)'!E384=\"\",\"\",INDEX([1]OWNER!$A$2:$A$100,MATCH('Access Point (Desc)'!$E384,[1]!MASTER_OWNER_DESC[#Data],0),0))","v":""},{"$f":"IF('Access Point (Desc)'!F384=\"\",\"\",INDEX([1]COUNTY!$A$2:$A$100,MATCH('Access Point (Desc)'!F384,[1]!MASTER_COUNTY_NAME[#Data],0),0))","v":""},{"$f":"IF('Access Point (Desc)'!G384=\"\",\"\",'Access Point (Desc)'!G384)","v":""},{"$f":"IF('Access Point (Desc)'!H384=\"\",\"\",'Access Point (Desc)'!H384)","v":""},{"$f":"IF('Access Point (Desc)'!I384=\"\",\"\",INDEX([1]ROUTE_MH_TYPE!$A$2:$A$100,MATCH('Access Point (Desc)'!$I384,[1]!MASTER_ROUTE_MH_TYPE_DESC[#Data],0),0))","v":""},{"$f":"IF('Access Point (Desc)'!J384=\"\",\"\",INDEX([1]MANHOLE_MTL!$A$2:$A$100,MATCH('Access Point (Desc)'!$J384,[1]!MASTER_MANHOLE_MTL_DESC[#Data],0),0))","v":""},{"$f":"IF('Access Point (Desc)'!K384=\"\",\"\",INDEX([1]MANHOLE_SIZE!$A$2:$A$120,MATCH('Access Point (Desc)'!$K384,[1]!MASTER_MANHOLE_SIZE_DESC[#Data],0),0))","v":""},{"$f":"IF('Access Point (Desc)'!L384=\"\",\"\",INDEX([1]ROUTE_MH_LID_TYPE!$A$2:$A$100,MATCH('Access Point (Desc)'!$L384,[1]!MASTER_ROUTE_MH_LID_TYPE_DESC[#Data],0),0))","v":""},{"$f":"IF('Access Point (Desc)'!M384=\"\",\"\",INDEX([1]MANHOLE_MTL!$A$2:$A$100,MATCH('Access Point (Desc)'!$M384,[1]!MASTER_MANHOLE_MTL_DESC[#Data],0),0))","v":""},{"$f":"IF('Access Point (Desc)'!N384=\"\",\"\",INDEX([1]LID_BOLT_TYPE!$A$2:$A$100,MATCH('Access Point (Desc)'!$N384,[1]!MASTER_LID_BOLT_TYPE_DESC[#Data],0),0))","v":""},{"$f":"IF('Access Point (Desc)'!O384=\"\",\"\",INDEX([1]YES_NO!$A$2:$A$100,MATCH('Access Point (Desc)'!$O384,[1]!MASTER_YES_NO_DESC[#Data],0),0))","v":""},{"$f":"IF('Access Point (Desc)'!P384=\"\",\"\",'Access Point (Desc)'!P384)","v":""},{"$f":"IF('Access Point (Desc)'!Q384=\"\",\"\",INDEX([1]YES_NO!$A$2:$A$100,MATCH('Access Point (Desc)'!$Q384,[1]!MASTER_YES_NO_DESC[#Data],0),0))","v":""}]
[{"$f":"IF('Access Point (Desc)'!A385=\"\",\"\",'Access Point (Desc)'!A385)","v":""},{"$f":"IF('Access Point (Desc)'!B385=\"\",\"\",'Access Point (Desc)'!B385)","v":""},{"$f":"IF('Access Point (Desc)'!C385=\"\",\"\",'Access Point (Desc)'!C385)","v":""},{"$f":"IF('Access Point (Desc)'!D385=\"\",\"\",'Access Point (Desc)'!D385)","v":""},{"$f":"IF('Access Point (Desc)'!E385=\"\",\"\",INDEX([1]OWNER!$A$2:$A$100,MATCH('Access Point (Desc)'!$E385,[1]!MASTER_OWNER_DESC[#Data],0),0))","v":""},{"$f":"IF('Access Point (Desc)'!F385=\"\",\"\",INDEX([1]COUNTY!$A$2:$A$100,MATCH('Access Point (Desc)'!F385,[1]!MASTER_COUNTY_NAME[#Data],0),0))","v":""},{"$f":"IF('Access Point (Desc)'!G385=\"\",\"\",'Access Point (Desc)'!G385)","v":""},{"$f":"IF('Access Point (Desc)'!H385=\"\",\"\",'Access Point (Desc)'!H385)","v":""},{"$f":"IF('Access Point (Desc)'!I385=\"\",\"\",INDEX([1]ROUTE_MH_TYPE!$A$2:$A$100,MATCH('Access Point (Desc)'!$I385,[1]!MASTER_ROUTE_MH_TYPE_DESC[#Data],0),0))","v":""},{"$f":"IF('Access Point (Desc)'!J385=\"\",\"\",INDEX([1]MANHOLE_MTL!$A$2:$A$100,MATCH('Access Point (Desc)'!$J385,[1]!MASTER_MANHOLE_MTL_DESC[#Data],0),0))","v":""},{"$f":"IF('Access Point (Desc)'!K385=\"\",\"\",INDEX([1]MANHOLE_SIZE!$A$2:$A$120,MATCH('Access Point (Desc)'!$K385,[1]!MASTER_MANHOLE_SIZE_DESC[#Data],0),0))","v":""},{"$f":"IF('Access Point (Desc)'!L385=\"\",\"\",INDEX([1]ROUTE_MH_LID_TYPE!$A$2:$A$100,MATCH('Access Point (Desc)'!$L385,[1]!MASTER_ROUTE_MH_LID_TYPE_DESC[#Data],0),0))","v":""},{"$f":"IF('Access Point (Desc)'!M385=\"\",\"\",INDEX([1]MANHOLE_MTL!$A$2:$A$100,MATCH('Access Point (Desc)'!$M385,[1]!MASTER_MANHOLE_MTL_DESC[#Data],0),0))","v":""},{"$f":"IF('Access Point (Desc)'!N385=\"\",\"\",INDEX([1]LID_BOLT_TYPE!$A$2:$A$100,MATCH('Access Point (Desc)'!$N385,[1]!MASTER_LID_BOLT_TYPE_DESC[#Data],0),0))","v":""},{"$f":"IF('Access Point (Desc)'!O385=\"\",\"\",INDEX([1]YES_NO!$A$2:$A$100,MATCH('Access Point (Desc)'!$O385,[1]!MASTER_YES_NO_DESC[#Data],0),0))","v":""},{"$f":"IF('Access Point (Desc)'!P385=\"\",\"\",'Access Point (Desc)'!P385)","v":""},{"$f":"IF('Access Point (Desc)'!Q385=\"\",\"\",INDEX([1]YES_NO!$A$2:$A$100,MATCH('Access Point (Desc)'!$Q385,[1]!MASTER_YES_NO_DESC[#Data],0),0))","v":""}]
[{"$f":"IF('Access Point (Desc)'!A386=\"\",\"\",'Access Point (Desc)'!A386)","v":""},{"$f":"IF('Access Point (Desc)'!B386=\"\",\"\",'Access Point (Desc)'!B386)","v":""},{"$f":"IF('Access Point (Desc)'!C386=\"\",\"\",'Access Point (Desc)'!C386)","v":""},{"$f":"IF('Access Point (Desc)'!D386=\"\",\"\",'Access Point (Desc)'!D386)","v":""},{"$f":"IF('Access Point (Desc)'!E386=\"\",\"\",INDEX([1]OWNER!$A$2:$A$100,MATCH('Access Point (Desc)'!$E386,[1]!MASTER_OWNER_DESC[#Data],0),0))","v":""},{"$f":"IF('Access Point (Desc)'!F386=\"\",\"\",INDEX([1]COUNTY!$A$2:$A$100,MATCH('Access Point (Desc)'!F386,[1]!MASTER_COUNTY_NAME[#Data],0),0))","v":""},{"$f":"IF('Access Point (Desc)'!G386=\"\",\"\",'Access Point (Desc)'!G386)","v":""},{"$f":"IF('Access Point (Desc)'!H386=\"\",\"\",'Access Point (Desc)'!H386)","v":""},{"$f":"IF('Access Point (Desc)'!I386=\"\",\"\",INDEX([1]ROUTE_MH_TYPE!$A$2:$A$100,MATCH('Access Point (Desc)'!$I386,[1]!MASTER_ROUTE_MH_TYPE_DESC[#Data],0),0))","v":""},{"$f":"IF('Access Point (Desc)'!J386=\"\",\"\",INDEX([1]MANHOLE_MTL!$A$2:$A$100,MATCH('Access Point (Desc)'!$J386,[1]!MASTER_MANHOLE_MTL_DESC[#Data],0),0))","v":""},{"$f":"IF('Access Point (Desc)'!K386=\"\",\"\",INDEX([1]MANHOLE_SIZE!$A$2:$A$120,MATCH('Access Point (Desc)'!$K386,[1]!MASTER_MANHOLE_SIZE_DESC[#Data],0),0))","v":""},{"$f":"IF('Access Point (Desc)'!L386=\"\",\"\",INDEX([1]ROUTE_MH_LID_TYPE!$A$2:$A$100,MATCH('Access Point (Desc)'!$L386,[1]!MASTER_ROUTE_MH_LID_TYPE_DESC[#Data],0),0))","v":""},{"$f":"IF('Access Point (Desc)'!M386=\"\",\"\",INDEX([1]MANHOLE_MTL!$A$2:$A$100,MATCH('Access Point (Desc)'!$M386,[1]!MASTER_MANHOLE_MTL_DESC[#Data],0),0))","v":""},{"$f":"IF('Access Point (Desc)'!N386=\"\",\"\",INDEX([1]LID_BOLT_TYPE!$A$2:$A$100,MATCH('Access Point (Desc)'!$N386,[1]!MASTER_LID_BOLT_TYPE_DESC[#Data],0),0))","v":""},{"$f":"IF('Access Point (Desc)'!O386=\"\",\"\",INDEX([1]YES_NO!$A$2:$A$100,MATCH('Access Point (Desc)'!$O386,[1]!MASTER_YES_NO_DESC[#Data],0),0))","v":""},{"$f":"IF('Access Point (Desc)'!P386=\"\",\"\",'Access Point (Desc)'!P386)","v":""},{"$f":"IF('Access Point (Desc)'!Q386=\"\",\"\",INDEX([1]YES_NO!$A$2:$A$100,MATCH('Access Point (Desc)'!$Q386,[1]!MASTER_YES_NO_DESC[#Data],0),0))","v":""}]
[{"$f":"IF('Access Point (Desc)'!A387=\"\",\"\",'Access Point (Desc)'!A387)","v":""},{"$f":"IF('Access Point (Desc)'!B387=\"\",\"\",'Access Point (Desc)'!B387)","v":""},{"$f":"IF('Access Point (Desc)'!C387=\"\",\"\",'Access Point (Desc)'!C387)","v":""},{"$f":"IF('Access Point (Desc)'!D387=\"\",\"\",'Access Point (Desc)'!D387)","v":""},{"$f":"IF('Access Point (Desc)'!E387=\"\",\"\",INDEX([1]OWNER!$A$2:$A$100,MATCH('Access Point (Desc)'!$E387,[1]!MASTER_OWNER_DESC[#Data],0),0))","v":""},{"$f":"IF('Access Point (Desc)'!F387=\"\",\"\",INDEX([1]COUNTY!$A$2:$A$100,MATCH('Access Point (Desc)'!F387,[1]!MASTER_COUNTY_NAME[#Data],0),0))","v":""},{"$f":"IF('Access Point (Desc)'!G387=\"\",\"\",'Access Point (Desc)'!G387)","v":""},{"$f":"IF('Access Point (Desc)'!H387=\"\",\"\",'Access Point (Desc)'!H387)","v":""},{"$f":"IF('Access Point (Desc)'!I387=\"\",\"\",INDEX([1]ROUTE_MH_TYPE!$A$2:$A$100,MATCH('Access Point (Desc)'!$I387,[1]!MASTER_ROUTE_MH_TYPE_DESC[#Data],0),0))","v":""},{"$f":"IF('Access Point (Desc)'!J387=\"\",\"\",INDEX([1]MANHOLE_MTL!$A$2:$A$100,MATCH('Access Point (Desc)'!$J387,[1]!MASTER_MANHOLE_MTL_DESC[#Data],0),0))","v":""},{"$f":"IF('Access Point (Desc)'!K387=\"\",\"\",INDEX([1]MANHOLE_SIZE!$A$2:$A$120,MATCH('Access Point (Desc)'!$K387,[1]!MASTER_MANHOLE_SIZE_DESC[#Data],0),0))","v":""},{"$f":"IF('Access Point (Desc)'!L387=\"\",\"\",INDEX([1]ROUTE_MH_LID_TYPE!$A$2:$A$100,MATCH('Access Point (Desc)'!$L387,[1]!MASTER_ROUTE_MH_LID_TYPE_DESC[#Data],0),0))","v":""},{"$f":"IF('Access Point (Desc)'!M387=\"\",\"\",INDEX([1]MANHOLE_MTL!$A$2:$A$100,MATCH('Access Point (Desc)'!$M387,[1]!MASTER_MANHOLE_MTL_DESC[#Data],0),0))","v":""},{"$f":"IF('Access Point (Desc)'!N387=\"\",\"\",INDEX([1]LID_BOLT_TYPE!$A$2:$A$100,MATCH('Access Point (Desc)'!$N387,[1]!MASTER_LID_BOLT_TYPE_DESC[#Data],0),0))","v":""},{"$f":"IF('Access Point (Desc)'!O387=\"\",\"\",INDEX([1]YES_NO!$A$2:$A$100,MATCH('Access Point (Desc)'!$O387,[1]!MASTER_YES_NO_DESC[#Data],0),0))","v":""},{"$f":"IF('Access Point (Desc)'!P387=\"\",\"\",'Access Point (Desc)'!P387)","v":""},{"$f":"IF('Access Point (Desc)'!Q387=\"\",\"\",INDEX([1]YES_NO!$A$2:$A$100,MATCH('Access Point (Desc)'!$Q387,[1]!MASTER_YES_NO_DESC[#Data],0),0))","v":""}]
[{"$f":"IF('Access Point (Desc)'!A388=\"\",\"\",'Access Point (Desc)'!A388)","v":""},{"$f":"IF('Access Point (Desc)'!B388=\"\",\"\",'Access Point (Desc)'!B388)","v":""},{"$f":"IF('Access Point (Desc)'!C388=\"\",\"\",'Access Point (Desc)'!C388)","v":""},{"$f":"IF('Access Point (Desc)'!D388=\"\",\"\",'Access Point (Desc)'!D388)","v":""},{"$f":"IF('Access Point (Desc)'!E388=\"\",\"\",INDEX([1]OWNER!$A$2:$A$100,MATCH('Access Point (Desc)'!$E388,[1]!MASTER_OWNER_DESC[#Data],0),0))","v":""},{"$f":"IF('Access Point (Desc)'!F388=\"\",\"\",INDEX([1]COUNTY!$A$2:$A$100,MATCH('Access Point (Desc)'!F388,[1]!MASTER_COUNTY_NAME[#Data],0),0))","v":""},{"$f":"IF('Access Point (Desc)'!G388=\"\",\"\",'Access Point (Desc)'!G388)","v":""},{"$f":"IF('Access Point (Desc)'!H388=\"\",\"\",'Access Point (Desc)'!H388)","v":""},{"$f":"IF('Access Point (Desc)'!I388=\"\",\"\",INDEX([1]ROUTE_MH_TYPE!$A$2:$A$100,MATCH('Access Point (Desc)'!$I388,[1]!MASTER_ROUTE_MH_TYPE_DESC[#Data],0),0))","v":""},{"$f":"IF('Access Point (Desc)'!J388=\"\",\"\",INDEX([1]MANHOLE_MTL!$A$2:$A$100,MATCH('Access Point (Desc)'!$J388,[1]!MASTER_MANHOLE_MTL_DESC[#Data],0),0))","v":""},{"$f":"IF('Access Point (Desc)'!K388=\"\",\"\",INDEX([1]MANHOLE_SIZE!$A$2:$A$120,MATCH('Access Point (Desc)'!$K388,[1]!MASTER_MANHOLE_SIZE_DESC[#Data],0),0))","v":""},{"$f":"IF('Access Point (Desc)'!L388=\"\",\"\",INDEX([1]ROUTE_MH_LID_TYPE!$A$2:$A$100,MATCH('Access Point (Desc)'!$L388,[1]!MASTER_ROUTE_MH_LID_TYPE_DESC[#Data],0),0))","v":""},{"$f":"IF('Access Point (Desc)'!M388=\"\",\"\",INDEX([1]MANHOLE_MTL!$A$2:$A$100,MATCH('Access Point (Desc)'!$M388,[1]!MASTER_MANHOLE_MTL_DESC[#Data],0),0))","v":""},{"$f":"IF('Access Point (Desc)'!N388=\"\",\"\",INDEX([1]LID_BOLT_TYPE!$A$2:$A$100,MATCH('Access Point (Desc)'!$N388,[1]!MASTER_LID_BOLT_TYPE_DESC[#Data],0),0))","v":""},{"$f":"IF('Access Point (Desc)'!O388=\"\",\"\",INDEX([1]YES_NO!$A$2:$A$100,MATCH('Access Point (Desc)'!$O388,[1]!MASTER_YES_NO_DESC[#Data],0),0))","v":""},{"$f":"IF('Access Point (Desc)'!P388=\"\",\"\",'Access Point (Desc)'!P388)","v":""},{"$f":"IF('Access Point (Desc)'!Q388=\"\",\"\",INDEX([1]YES_NO!$A$2:$A$100,MATCH('Access Point (Desc)'!$Q388,[1]!MASTER_YES_NO_DESC[#Data],0),0))","v":""}]
[{"$f":"IF('Access Point (Desc)'!A389=\"\",\"\",'Access Point (Desc)'!A389)","v":""},{"$f":"IF('Access Point (Desc)'!B389=\"\",\"\",'Access Point (Desc)'!B389)","v":""},{"$f":"IF('Access Point (Desc)'!C389=\"\",\"\",'Access Point (Desc)'!C389)","v":""},{"$f":"IF('Access Point (Desc)'!D389=\"\",\"\",'Access Point (Desc)'!D389)","v":""},{"$f":"IF('Access Point (Desc)'!E389=\"\",\"\",INDEX([1]OWNER!$A$2:$A$100,MATCH('Access Point (Desc)'!$E389,[1]!MASTER_OWNER_DESC[#Data],0),0))","v":""},{"$f":"IF('Access Point (Desc)'!F389=\"\",\"\",INDEX([1]COUNTY!$A$2:$A$100,MATCH('Access Point (Desc)'!F389,[1]!MASTER_COUNTY_NAME[#Data],0),0))","v":""},{"$f":"IF('Access Point (Desc)'!G389=\"\",\"\",'Access Point (Desc)'!G389)","v":""},{"$f":"IF('Access Point (Desc)'!H389=\"\",\"\",'Access Point (Desc)'!H389)","v":""},{"$f":"IF('Access Point (Desc)'!I389=\"\",\"\",INDEX([1]ROUTE_MH_TYPE!$A$2:$A$100,MATCH('Access Point (Desc)'!$I389,[1]!MASTER_ROUTE_MH_TYPE_DESC[#Data],0),0))","v":""},{"$f":"IF('Access Point (Desc)'!J389=\"\",\"\",INDEX([1]MANHOLE_MTL!$A$2:$A$100,MATCH('Access Point (Desc)'!$J389,[1]!MASTER_MANHOLE_MTL_DESC[#Data],0),0))","v":""},{"$f":"IF('Access Point (Desc)'!K389=\"\",\"\",INDEX([1]MANHOLE_SIZE!$A$2:$A$120,MATCH('Access Point (Desc)'!$K389,[1]!MASTER_MANHOLE_SIZE_DESC[#Data],0),0))","v":""},{"$f":"IF('Access Point (Desc)'!L389=\"\",\"\",INDEX([1]ROUTE_MH_LID_TYPE!$A$2:$A$100,MATCH('Access Point (Desc)'!$L389,[1]!MASTER_ROUTE_MH_LID_TYPE_DESC[#Data],0),0))","v":""},{"$f":"IF('Access Point (Desc)'!M389=\"\",\"\",INDEX([1]MANHOLE_MTL!$A$2:$A$100,MATCH('Access Point (Desc)'!$M389,[1]!MASTER_MANHOLE_MTL_DESC[#Data],0),0))","v":""},{"$f":"IF('Access Point (Desc)'!N389=\"\",\"\",INDEX([1]LID_BOLT_TYPE!$A$2:$A$100,MATCH('Access Point (Desc)'!$N389,[1]!MASTER_LID_BOLT_TYPE_DESC[#Data],0),0))","v":""},{"$f":"IF('Access Point (Desc)'!O389=\"\",\"\",INDEX([1]YES_NO!$A$2:$A$100,MATCH('Access Point (Desc)'!$O389,[1]!MASTER_YES_NO_DESC[#Data],0),0))","v":""},{"$f":"IF('Access Point (Desc)'!P389=\"\",\"\",'Access Point (Desc)'!P389)","v":""},{"$f":"IF('Access Point (Desc)'!Q389=\"\",\"\",INDEX([1]YES_NO!$A$2:$A$100,MATCH('Access Point (Desc)'!$Q389,[1]!MASTER_YES_NO_DESC[#Data],0),0))","v":""}]
[{"$f":"IF('Access Point (Desc)'!A390=\"\",\"\",'Access Point (Desc)'!A390)","v":""},{"$f":"IF('Access Point (Desc)'!B390=\"\",\"\",'Access Point (Desc)'!B390)","v":""},{"$f":"IF('Access Point (Desc)'!C390=\"\",\"\",'Access Point (Desc)'!C390)","v":""},{"$f":"IF('Access Point (Desc)'!D390=\"\",\"\",'Access Point (Desc)'!D390)","v":""},{"$f":"IF('Access Point (Desc)'!E390=\"\",\"\",INDEX([1]OWNER!$A$2:$A$100,MATCH('Access Point (Desc)'!$E390,[1]!MASTER_OWNER_DESC[#Data],0),0))","v":""},{"$f":"IF('Access Point (Desc)'!F390=\"\",\"\",INDEX([1]COUNTY!$A$2:$A$100,MATCH('Access Point (Desc)'!F390,[1]!MASTER_COUNTY_NAME[#Data],0),0))","v":""},{"$f":"IF('Access Point (Desc)'!G390=\"\",\"\",'Access Point (Desc)'!G390)","v":""},{"$f":"IF('Access Point (Desc)'!H390=\"\",\"\",'Access Point (Desc)'!H390)","v":""},{"$f":"IF('Access Point (Desc)'!I390=\"\",\"\",INDEX([1]ROUTE_MH_TYPE!$A$2:$A$100,MATCH('Access Point (Desc)'!$I390,[1]!MASTER_ROUTE_MH_TYPE_DESC[#Data],0),0))","v":""},{"$f":"IF('Access Point (Desc)'!J390=\"\",\"\",INDEX([1]MANHOLE_MTL!$A$2:$A$100,MATCH('Access Point (Desc)'!$J390,[1]!MASTER_MANHOLE_MTL_DESC[#Data],0),0))","v":""},{"$f":"IF('Access Point (Desc)'!K390=\"\",\"\",INDEX([1]MANHOLE_SIZE!$A$2:$A$120,MATCH('Access Point (Desc)'!$K390,[1]!MASTER_MANHOLE_SIZE_DESC[#Data],0),0))","v":""},{"$f":"IF('Access Point (Desc)'!L390=\"\",\"\",INDEX([1]ROUTE_MH_LID_TYPE!$A$2:$A$100,MATCH('Access Point (Desc)'!$L390,[1]!MASTER_ROUTE_MH_LID_TYPE_DESC[#Data],0),0))","v":""},{"$f":"IF('Access Point (Desc)'!M390=\"\",\"\",INDEX([1]MANHOLE_MTL!$A$2:$A$100,MATCH('Access Point (Desc)'!$M390,[1]!MASTER_MANHOLE_MTL_DESC[#Data],0),0))","v":""},{"$f":"IF('Access Point (Desc)'!N390=\"\",\"\",INDEX([1]LID_BOLT_TYPE!$A$2:$A$100,MATCH('Access Point (Desc)'!$N390,[1]!MASTER_LID_BOLT_TYPE_DESC[#Data],0),0))","v":""},{"$f":"IF('Access Point (Desc)'!O390=\"\",\"\",INDEX([1]YES_NO!$A$2:$A$100,MATCH('Access Point (Desc)'!$O390,[1]!MASTER_YES_NO_DESC[#Data],0),0))","v":""},{"$f":"IF('Access Point (Desc)'!P390=\"\",\"\",'Access Point (Desc)'!P390)","v":""},{"$f":"IF('Access Point (Desc)'!Q390=\"\",\"\",INDEX([1]YES_NO!$A$2:$A$100,MATCH('Access Point (Desc)'!$Q390,[1]!MASTER_YES_NO_DESC[#Data],0),0))","v":""}]
[{"$f":"IF('Access Point (Desc)'!A391=\"\",\"\",'Access Point (Desc)'!A391)","v":""},{"$f":"IF('Access Point (Desc)'!B391=\"\",\"\",'Access Point (Desc)'!B391)","v":""},{"$f":"IF('Access Point (Desc)'!C391=\"\",\"\",'Access Point (Desc)'!C391)","v":""},{"$f":"IF('Access Point (Desc)'!D391=\"\",\"\",'Access Point (Desc)'!D391)","v":""},{"$f":"IF('Access Point (Desc)'!E391=\"\",\"\",INDEX([1]OWNER!$A$2:$A$100,MATCH('Access Point (Desc)'!$E391,[1]!MASTER_OWNER_DESC[#Data],0),0))","v":""},{"$f":"IF('Access Point (Desc)'!F391=\"\",\"\",INDEX([1]COUNTY!$A$2:$A$100,MATCH('Access Point (Desc)'!F391,[1]!MASTER_COUNTY_NAME[#Data],0),0))","v":""},{"$f":"IF('Access Point (Desc)'!G391=\"\",\"\",'Access Point (Desc)'!G391)","v":""},{"$f":"IF('Access Point (Desc)'!H391=\"\",\"\",'Access Point (Desc)'!H391)","v":""},{"$f":"IF('Access Point (Desc)'!I391=\"\",\"\",INDEX([1]ROUTE_MH_TYPE!$A$2:$A$100,MATCH('Access Point (Desc)'!$I391,[1]!MASTER_ROUTE_MH_TYPE_DESC[#Data],0),0))","v":""},{"$f":"IF('Access Point (Desc)'!J391=\"\",\"\",INDEX([1]MANHOLE_MTL!$A$2:$A$100,MATCH('Access Point (Desc)'!$J391,[1]!MASTER_MANHOLE_MTL_DESC[#Data],0),0))","v":""},{"$f":"IF('Access Point (Desc)'!K391=\"\",\"\",INDEX([1]MANHOLE_SIZE!$A$2:$A$120,MATCH('Access Point (Desc)'!$K391,[1]!MASTER_MANHOLE_SIZE_DESC[#Data],0),0))","v":""},{"$f":"IF('Access Point (Desc)'!L391=\"\",\"\",INDEX([1]ROUTE_MH_LID_TYPE!$A$2:$A$100,MATCH('Access Point (Desc)'!$L391,[1]!MASTER_ROUTE_MH_LID_TYPE_DESC[#Data],0),0))","v":""},{"$f":"IF('Access Point (Desc)'!M391=\"\",\"\",INDEX([1]MANHOLE_MTL!$A$2:$A$100,MATCH('Access Point (Desc)'!$M391,[1]!MASTER_MANHOLE_MTL_DESC[#Data],0),0))","v":""},{"$f":"IF('Access Point (Desc)'!N391=\"\",\"\",INDEX([1]LID_BOLT_TYPE!$A$2:$A$100,MATCH('Access Point (Desc)'!$N391,[1]!MASTER_LID_BOLT_TYPE_DESC[#Data],0),0))","v":""},{"$f":"IF('Access Point (Desc)'!O391=\"\",\"\",INDEX([1]YES_NO!$A$2:$A$100,MATCH('Access Point (Desc)'!$O391,[1]!MASTER_YES_NO_DESC[#Data],0),0))","v":""},{"$f":"IF('Access Point (Desc)'!P391=\"\",\"\",'Access Point (Desc)'!P391)","v":""},{"$f":"IF('Access Point (Desc)'!Q391=\"\",\"\",INDEX([1]YES_NO!$A$2:$A$100,MATCH('Access Point (Desc)'!$Q391,[1]!MASTER_YES_NO_DESC[#Data],0),0))","v":""}]
[{"$f":"IF('Access Point (Desc)'!A392=\"\",\"\",'Access Point (Desc)'!A392)","v":""},{"$f":"IF('Access Point (Desc)'!B392=\"\",\"\",'Access Point (Desc)'!B392)","v":""},{"$f":"IF('Access Point (Desc)'!C392=\"\",\"\",'Access Point (Desc)'!C392)","v":""},{"$f":"IF('Access Point (Desc)'!D392=\"\",\"\",'Access Point (Desc)'!D392)","v":""},{"$f":"IF('Access Point (Desc)'!E392=\"\",\"\",INDEX([1]OWNER!$A$2:$A$100,MATCH('Access Point (Desc)'!$E392,[1]!MASTER_OWNER_DESC[#Data],0),0))","v":""},{"$f":"IF('Access Point (Desc)'!F392=\"\",\"\",INDEX([1]COUNTY!$A$2:$A$100,MATCH('Access Point (Desc)'!F392,[1]!MASTER_COUNTY_NAME[#Data],0),0))","v":""},{"$f":"IF('Access Point (Desc)'!G392=\"\",\"\",'Access Point (Desc)'!G392)","v":""},{"$f":"IF('Access Point (Desc)'!H392=\"\",\"\",'Access Point (Desc)'!H392)","v":""},{"$f":"IF('Access Point (Desc)'!I392=\"\",\"\",INDEX([1]ROUTE_MH_TYPE!$A$2:$A$100,MATCH('Access Point (Desc)'!$I392,[1]!MASTER_ROUTE_MH_TYPE_DESC[#Data],0),0))","v":""},{"$f":"IF('Access Point (Desc)'!J392=\"\",\"\",INDEX([1]MANHOLE_MTL!$A$2:$A$100,MATCH('Access Point (Desc)'!$J392,[1]!MASTER_MANHOLE_MTL_DESC[#Data],0),0))","v":""},{"$f":"IF('Access Point (Desc)'!K392=\"\",\"\",INDEX([1]MANHOLE_SIZE!$A$2:$A$120,MATCH('Access Point (Desc)'!$K392,[1]!MASTER_MANHOLE_SIZE_DESC[#Data],0),0))","v":""},{"$f":"IF('Access Point (Desc)'!L392=\"\",\"\",INDEX([1]ROUTE_MH_LID_TYPE!$A$2:$A$100,MATCH('Access Point (Desc)'!$L392,[1]!MASTER_ROUTE_MH_LID_TYPE_DESC[#Data],0),0))","v":""},{"$f":"IF('Access Point (Desc)'!M392=\"\",\"\",INDEX([1]MANHOLE_MTL!$A$2:$A$100,MATCH('Access Point (Desc)'!$M392,[1]!MASTER_MANHOLE_MTL_DESC[#Data],0),0))","v":""},{"$f":"IF('Access Point (Desc)'!N392=\"\",\"\",INDEX([1]LID_BOLT_TYPE!$A$2:$A$100,MATCH('Access Point (Desc)'!$N392,[1]!MASTER_LID_BOLT_TYPE_DESC[#Data],0),0))","v":""},{"$f":"IF('Access Point (Desc)'!O392=\"\",\"\",INDEX([1]YES_NO!$A$2:$A$100,MATCH('Access Point (Desc)'!$O392,[1]!MASTER_YES_NO_DESC[#Data],0),0))","v":""},{"$f":"IF('Access Point (Desc)'!P392=\"\",\"\",'Access Point (Desc)'!P392)","v":""},{"$f":"IF('Access Point (Desc)'!Q392=\"\",\"\",INDEX([1]YES_NO!$A$2:$A$100,MATCH('Access Point (Desc)'!$Q392,[1]!MASTER_YES_NO_DESC[#Data],0),0))","v":""}]
[{"$f":"IF('Access Point (Desc)'!A393=\"\",\"\",'Access Point (Desc)'!A393)","v":""},{"$f":"IF('Access Point (Desc)'!B393=\"\",\"\",'Access Point (Desc)'!B393)","v":""},{"$f":"IF('Access Point (Desc)'!C393=\"\",\"\",'Access Point (Desc)'!C393)","v":""},{"$f":"IF('Access Point (Desc)'!D393=\"\",\"\",'Access Point (Desc)'!D393)","v":""},{"$f":"IF('Access Point (Desc)'!E393=\"\",\"\",INDEX([1]OWNER!$A$2:$A$100,MATCH('Access Point (Desc)'!$E393,[1]!MASTER_OWNER_DESC[#Data],0),0))","v":""},{"$f":"IF('Access Point (Desc)'!F393=\"\",\"\",INDEX([1]COUNTY!$A$2:$A$100,MATCH('Access Point (Desc)'!F393,[1]!MASTER_COUNTY_NAME[#Data],0),0))","v":""},{"$f":"IF('Access Point (Desc)'!G393=\"\",\"\",'Access Point (Desc)'!G393)","v":""},{"$f":"IF('Access Point (Desc)'!H393=\"\",\"\",'Access Point (Desc)'!H393)","v":""},{"$f":"IF('Access Point (Desc)'!I393=\"\",\"\",INDEX([1]ROUTE_MH_TYPE!$A$2:$A$100,MATCH('Access Point (Desc)'!$I393,[1]!MASTER_ROUTE_MH_TYPE_DESC[#Data],0),0))","v":""},{"$f":"IF('Access Point (Desc)'!J393=\"\",\"\",INDEX([1]MANHOLE_MTL!$A$2:$A$100,MATCH('Access Point (Desc)'!$J393,[1]!MASTER_MANHOLE_MTL_DESC[#Data],0),0))","v":""},{"$f":"IF('Access Point (Desc)'!K393=\"\",\"\",INDEX([1]MANHOLE_SIZE!$A$2:$A$120,MATCH('Access Point (Desc)'!$K393,[1]!MASTER_MANHOLE_SIZE_DESC[#Data],0),0))","v":""},{"$f":"IF('Access Point (Desc)'!L393=\"\",\"\",INDEX([1]ROUTE_MH_LID_TYPE!$A$2:$A$100,MATCH('Access Point (Desc)'!$L393,[1]!MASTER_ROUTE_MH_LID_TYPE_DESC[#Data],0),0))","v":""},{"$f":"IF('Access Point (Desc)'!M393=\"\",\"\",INDEX([1]MANHOLE_MTL!$A$2:$A$100,MATCH('Access Point (Desc)'!$M393,[1]!MASTER_MANHOLE_MTL_DESC[#Data],0),0))","v":""},{"$f":"IF('Access Point (Desc)'!N393=\"\",\"\",INDEX([1]LID_BOLT_TYPE!$A$2:$A$100,MATCH('Access Point (Desc)'!$N393,[1]!MASTER_LID_BOLT_TYPE_DESC[#Data],0),0))","v":""},{"$f":"IF('Access Point (Desc)'!O393=\"\",\"\",INDEX([1]YES_NO!$A$2:$A$100,MATCH('Access Point (Desc)'!$O393,[1]!MASTER_YES_NO_DESC[#Data],0),0))","v":""},{"$f":"IF('Access Point (Desc)'!P393=\"\",\"\",'Access Point (Desc)'!P393)","v":""},{"$f":"IF('Access Point (Desc)'!Q393=\"\",\"\",INDEX([1]YES_NO!$A$2:$A$100,MATCH('Access Point (Desc)'!$Q393,[1]!MASTER_YES_NO_DESC[#Data],0),0))","v":""}]
[{"$f":"IF('Access Point (Desc)'!A394=\"\",\"\",'Access Point (Desc)'!A394)","v":""},{"$f":"IF('Access Point (Desc)'!B394=\"\",\"\",'Access Point (Desc)'!B394)","v":""},{"$f":"IF('Access Point (Desc)'!C394=\"\",\"\",'Access Point (Desc)'!C394)","v":""},{"$f":"IF('Access Point (Desc)'!D394=\"\",\"\",'Access Point (Desc)'!D394)","v":""},{"$f":"IF('Access Point (Desc)'!E394=\"\",\"\",INDEX([1]OWNER!$A$2:$A$100,MATCH('Access Point (Desc)'!$E394,[1]!MASTER_OWNER_DESC[#Data],0),0))","v":""},{"$f":"IF('Access Point (Desc)'!F394=\"\",\"\",INDEX([1]COUNTY!$A$2:$A$100,MATCH('Access Point (Desc)'!F394,[1]!MASTER_COUNTY_NAME[#Data],0),0))","v":""},{"$f":"IF('Access Point (Desc)'!G394=\"\",\"\",'Access Point (Desc)'!G394)","v":""},{"$f":"IF('Access Point (Desc)'!H394=\"\",\"\",'Access Point (Desc)'!H394)","v":""},{"$f":"IF('Access Point (Desc)'!I394=\"\",\"\",INDEX([1]ROUTE_MH_TYPE!$A$2:$A$100,MATCH('Access Point (Desc)'!$I394,[1]!MASTER_ROUTE_MH_TYPE_DESC[#Data],0),0))","v":""},{"$f":"IF('Access Point (Desc)'!J394=\"\",\"\",INDEX([1]MANHOLE_MTL!$A$2:$A$100,MATCH('Access Point (Desc)'!$J394,[1]!MASTER_MANHOLE_MTL_DESC[#Data],0),0))","v":""},{"$f":"IF('Access Point (Desc)'!K394=\"\",\"\",INDEX([1]MANHOLE_SIZE!$A$2:$A$120,MATCH('Access Point (Desc)'!$K394,[1]!MASTER_MANHOLE_SIZE_DESC[#Data],0),0))","v":""},{"$f":"IF('Access Point (Desc)'!L394=\"\",\"\",INDEX([1]ROUTE_MH_LID_TYPE!$A$2:$A$100,MATCH('Access Point (Desc)'!$L394,[1]!MASTER_ROUTE_MH_LID_TYPE_DESC[#Data],0),0))","v":""},{"$f":"IF('Access Point (Desc)'!M394=\"\",\"\",INDEX([1]MANHOLE_MTL!$A$2:$A$100,MATCH('Access Point (Desc)'!$M394,[1]!MASTER_MANHOLE_MTL_DESC[#Data],0),0))","v":""},{"$f":"IF('Access Point (Desc)'!N394=\"\",\"\",INDEX([1]LID_BOLT_TYPE!$A$2:$A$100,MATCH('Access Point (Desc)'!$N394,[1]!MASTER_LID_BOLT_TYPE_DESC[#Data],0),0))","v":""},{"$f":"IF('Access Point (Desc)'!O394=\"\",\"\",INDEX([1]YES_NO!$A$2:$A$100,MATCH('Access Point (Desc)'!$O394,[1]!MASTER_YES_NO_DESC[#Data],0),0))","v":""},{"$f":"IF('Access Point (Desc)'!P394=\"\",\"\",'Access Point (Desc)'!P394)","v":""},{"$f":"IF('Access Point (Desc)'!Q394=\"\",\"\",INDEX([1]YES_NO!$A$2:$A$100,MATCH('Access Point (Desc)'!$Q394,[1]!MASTER_YES_NO_DESC[#Data],0),0))","v":""}]
[{"$f":"IF('Access Point (Desc)'!A395=\"\",\"\",'Access Point (Desc)'!A395)","v":""},{"$f":"IF('Access Point (Desc)'!B395=\"\",\"\",'Access Point (Desc)'!B395)","v":""},{"$f":"IF('Access Point (Desc)'!C395=\"\",\"\",'Access Point (Desc)'!C395)","v":""},{"$f":"IF('Access Point (Desc)'!D395=\"\",\"\",'Access Point (Desc)'!D395)","v":""},{"$f":"IF('Access Point (Desc)'!E395=\"\",\"\",INDEX([1]OWNER!$A$2:$A$100,MATCH('Access Point (Desc)'!$E395,[1]!MASTER_OWNER_DESC[#Data],0),0))","v":""},{"$f":"IF('Access Point (Desc)'!F395=\"\",\"\",INDEX([1]COUNTY!$A$2:$A$100,MATCH('Access Point (Desc)'!F395,[1]!MASTER_COUNTY_NAME[#Data],0),0))","v":""},{"$f":"IF('Access Point (Desc)'!G395=\"\",\"\",'Access Point (Desc)'!G395)","v":""},{"$f":"IF('Access Point (Desc)'!H395=\"\",\"\",'Access Point (Desc)'!H395)","v":""},{"$f":"IF('Access Point (Desc)'!I395=\"\",\"\",INDEX([1]ROUTE_MH_TYPE!$A$2:$A$100,MATCH('Access Point (Desc)'!$I395,[1]!MASTER_ROUTE_MH_TYPE_DESC[#Data],0),0))","v":""},{"$f":"IF('Access Point (Desc)'!J395=\"\",\"\",INDEX([1]MANHOLE_MTL!$A$2:$A$100,MATCH('Access Point (Desc)'!$J395,[1]!MASTER_MANHOLE_MTL_DESC[#Data],0),0))","v":""},{"$f":"IF('Access Point (Desc)'!K395=\"\",\"\",INDEX([1]MANHOLE_SIZE!$A$2:$A$120,MATCH('Access Point (Desc)'!$K395,[1]!MASTER_MANHOLE_SIZE_DESC[#Data],0),0))","v":""},{"$f":"IF('Access Point (Desc)'!L395=\"\",\"\",INDEX([1]ROUTE_MH_LID_TYPE!$A$2:$A$100,MATCH('Access Point (Desc)'!$L395,[1]!MASTER_ROUTE_MH_LID_TYPE_DESC[#Data],0),0))","v":""},{"$f":"IF('Access Point (Desc)'!M395=\"\",\"\",INDEX([1]MANHOLE_MTL!$A$2:$A$100,MATCH('Access Point (Desc)'!$M395,[1]!MASTER_MANHOLE_MTL_DESC[#Data],0),0))","v":""},{"$f":"IF('Access Point (Desc)'!N395=\"\",\"\",INDEX([1]LID_BOLT_TYPE!$A$2:$A$100,MATCH('Access Point (Desc)'!$N395,[1]!MASTER_LID_BOLT_TYPE_DESC[#Data],0),0))","v":""},{"$f":"IF('Access Point (Desc)'!O395=\"\",\"\",INDEX([1]YES_NO!$A$2:$A$100,MATCH('Access Point (Desc)'!$O395,[1]!MASTER_YES_NO_DESC[#Data],0),0))","v":""},{"$f":"IF('Access Point (Desc)'!P395=\"\",\"\",'Access Point (Desc)'!P395)","v":""},{"$f":"IF('Access Point (Desc)'!Q395=\"\",\"\",INDEX([1]YES_NO!$A$2:$A$100,MATCH('Access Point (Desc)'!$Q395,[1]!MASTER_YES_NO_DESC[#Data],0),0))","v":""}]
[{"$f":"IF('Access Point (Desc)'!A396=\"\",\"\",'Access Point (Desc)'!A396)","v":""},{"$f":"IF('Access Point (Desc)'!B396=\"\",\"\",'Access Point (Desc)'!B396)","v":""},{"$f":"IF('Access Point (Desc)'!C396=\"\",\"\",'Access Point (Desc)'!C396)","v":""},{"$f":"IF('Access Point (Desc)'!D396=\"\",\"\",'Access Point (Desc)'!D396)","v":""},{"$f":"IF('Access Point (Desc)'!E396=\"\",\"\",INDEX([1]OWNER!$A$2:$A$100,MATCH('Access Point (Desc)'!$E396,[1]!MASTER_OWNER_DESC[#Data],0),0))","v":""},{"$f":"IF('Access Point (Desc)'!F396=\"\",\"\",INDEX([1]COUNTY!$A$2:$A$100,MATCH('Access Point (Desc)'!F396,[1]!MASTER_COUNTY_NAME[#Data],0),0))","v":""},{"$f":"IF('Access Point (Desc)'!G396=\"\",\"\",'Access Point (Desc)'!G396)","v":""},{"$f":"IF('Access Point (Desc)'!H396=\"\",\"\",'Access Point (Desc)'!H396)","v":""},{"$f":"IF('Access Point (Desc)'!I396=\"\",\"\",INDEX([1]ROUTE_MH_TYPE!$A$2:$A$100,MATCH('Access Point (Desc)'!$I396,[1]!MASTER_ROUTE_MH_TYPE_DESC[#Data],0),0))","v":""},{"$f":"IF('Access Point (Desc)'!J396=\"\",\"\",INDEX([1]MANHOLE_MTL!$A$2:$A$100,MATCH('Access Point (Desc)'!$J396,[1]!MASTER_MANHOLE_MTL_DESC[#Data],0),0))","v":""},{"$f":"IF('Access Point (Desc)'!K396=\"\",\"\",INDEX([1]MANHOLE_SIZE!$A$2:$A$120,MATCH('Access Point (Desc)'!$K396,[1]!MASTER_MANHOLE_SIZE_DESC[#Data],0),0))","v":""},{"$f":"IF('Access Point (Desc)'!L396=\"\",\"\",INDEX([1]ROUTE_MH_LID_TYPE!$A$2:$A$100,MATCH('Access Point (Desc)'!$L396,[1]!MASTER_ROUTE_MH_LID_TYPE_DESC[#Data],0),0))","v":""},{"$f":"IF('Access Point (Desc)'!M396=\"\",\"\",INDEX([1]MANHOLE_MTL!$A$2:$A$100,MATCH('Access Point (Desc)'!$M396,[1]!MASTER_MANHOLE_MTL_DESC[#Data],0),0))","v":""},{"$f":"IF('Access Point (Desc)'!N396=\"\",\"\",INDEX([1]LID_BOLT_TYPE!$A$2:$A$100,MATCH('Access Point (Desc)'!$N396,[1]!MASTER_LID_BOLT_TYPE_DESC[#Data],0),0))","v":""},{"$f":"IF('Access Point (Desc)'!O396=\"\",\"\",INDEX([1]YES_NO!$A$2:$A$100,MATCH('Access Point (Desc)'!$O396,[1]!MASTER_YES_NO_DESC[#Data],0),0))","v":""},{"$f":"IF('Access Point (Desc)'!P396=\"\",\"\",'Access Point (Desc)'!P396)","v":""},{"$f":"IF('Access Point (Desc)'!Q396=\"\",\"\",INDEX([1]YES_NO!$A$2:$A$100,MATCH('Access Point (Desc)'!$Q396,[1]!MASTER_YES_NO_DESC[#Data],0),0))","v":""}]
[{"$f":"IF('Access Point (Desc)'!A397=\"\",\"\",'Access Point (Desc)'!A397)","v":""},{"$f":"IF('Access Point (Desc)'!B397=\"\",\"\",'Access Point (Desc)'!B397)","v":""},{"$f":"IF('Access Point (Desc)'!C397=\"\",\"\",'Access Point (Desc)'!C397)","v":""},{"$f":"IF('Access Point (Desc)'!D397=\"\",\"\",'Access Point (Desc)'!D397)","v":""},{"$f":"IF('Access Point (Desc)'!E397=\"\",\"\",INDEX([1]OWNER!$A$2:$A$100,MATCH('Access Point (Desc)'!$E397,[1]!MASTER_OWNER_DESC[#Data],0),0))","v":""},{"$f":"IF('Access Point (Desc)'!F397=\"\",\"\",INDEX([1]COUNTY!$A$2:$A$100,MATCH('Access Point (Desc)'!F397,[1]!MASTER_COUNTY_NAME[#Data],0),0))","v":""},{"$f":"IF('Access Point (Desc)'!G397=\"\",\"\",'Access Point (Desc)'!G397)","v":""},{"$f":"IF('Access Point (Desc)'!H397=\"\",\"\",'Access Point (Desc)'!H397)","v":""},{"$f":"IF('Access Point (Desc)'!I397=\"\",\"\",INDEX([1]ROUTE_MH_TYPE!$A$2:$A$100,MATCH('Access Point (Desc)'!$I397,[1]!MASTER_ROUTE_MH_TYPE_DESC[#Data],0),0))","v":""},{"$f":"IF('Access Point (Desc)'!J397=\"\",\"\",INDEX([1]MANHOLE_MTL!$A$2:$A$100,MATCH('Access Point (Desc)'!$J397,[1]!MASTER_MANHOLE_MTL_DESC[#Data],0),0))","v":""},{"$f":"IF('Access Point (Desc)'!K397=\"\",\"\",INDEX([1]MANHOLE_SIZE!$A$2:$A$120,MATCH('Access Point (Desc)'!$K397,[1]!MASTER_MANHOLE_SIZE_DESC[#Data],0),0))","v":""},{"$f":"IF('Access Point (Desc)'!L397=\"\",\"\",INDEX([1]ROUTE_MH_LID_TYPE!$A$2:$A$100,MATCH('Access Point (Desc)'!$L397,[1]!MASTER_ROUTE_MH_LID_TYPE_DESC[#Data],0),0))","v":""},{"$f":"IF('Access Point (Desc)'!M397=\"\",\"\",INDEX([1]MANHOLE_MTL!$A$2:$A$100,MATCH('Access Point (Desc)'!$M397,[1]!MASTER_MANHOLE_MTL_DESC[#Data],0),0))","v":""},{"$f":"IF('Access Point (Desc)'!N397=\"\",\"\",INDEX([1]LID_BOLT_TYPE!$A$2:$A$100,MATCH('Access Point (Desc)'!$N397,[1]!MASTER_LID_BOLT_TYPE_DESC[#Data],0),0))","v":""},{"$f":"IF('Access Point (Desc)'!O397=\"\",\"\",INDEX([1]YES_NO!$A$2:$A$100,MATCH('Access Point (Desc)'!$O397,[1]!MASTER_YES_NO_DESC[#Data],0),0))","v":""},{"$f":"IF('Access Point (Desc)'!P397=\"\",\"\",'Access Point (Desc)'!P397)","v":""},{"$f":"IF('Access Point (Desc)'!Q397=\"\",\"\",INDEX([1]YES_NO!$A$2:$A$100,MATCH('Access Point (Desc)'!$Q397,[1]!MASTER_YES_NO_DESC[#Data],0),0))","v":""}]
[{"$f":"IF('Access Point (Desc)'!A398=\"\",\"\",'Access Point (Desc)'!A398)","v":""},{"$f":"IF('Access Point (Desc)'!B398=\"\",\"\",'Access Point (Desc)'!B398)","v":""},{"$f":"IF('Access Point (Desc)'!C398=\"\",\"\",'Access Point (Desc)'!C398)","v":""},{"$f":"IF('Access Point (Desc)'!D398=\"\",\"\",'Access Point (Desc)'!D398)","v":""},{"$f":"IF('Access Point (Desc)'!E398=\"\",\"\",INDEX([1]OWNER!$A$2:$A$100,MATCH('Access Point (Desc)'!$E398,[1]!MASTER_OWNER_DESC[#Data],0),0))","v":""},{"$f":"IF('Access Point (Desc)'!F398=\"\",\"\",INDEX([1]COUNTY!$A$2:$A$100,MATCH('Access Point (Desc)'!F398,[1]!MASTER_COUNTY_NAME[#Data],0),0))","v":""},{"$f":"IF('Access Point (Desc)'!G398=\"\",\"\",'Access Point (Desc)'!G398)","v":""},{"$f":"IF('Access Point (Desc)'!H398=\"\",\"\",'Access Point (Desc)'!H398)","v":""},{"$f":"IF('Access Point (Desc)'!I398=\"\",\"\",INDEX([1]ROUTE_MH_TYPE!$A$2:$A$100,MATCH('Access Point (Desc)'!$I398,[1]!MASTER_ROUTE_MH_TYPE_DESC[#Data],0),0))","v":""},{"$f":"IF('Access Point (Desc)'!J398=\"\",\"\",INDEX([1]MANHOLE_MTL!$A$2:$A$100,MATCH('Access Point (Desc)'!$J398,[1]!MASTER_MANHOLE_MTL_DESC[#Data],0),0))","v":""},{"$f":"IF('Access Point (Desc)'!K398=\"\",\"\",INDEX([1]MANHOLE_SIZE!$A$2:$A$120,MATCH('Access Point (Desc)'!$K398,[1]!MASTER_MANHOLE_SIZE_DESC[#Data],0),0))","v":""},{"$f":"IF('Access Point (Desc)'!L398=\"\",\"\",INDEX([1]ROUTE_MH_LID_TYPE!$A$2:$A$100,MATCH('Access Point (Desc)'!$L398,[1]!MASTER_ROUTE_MH_LID_TYPE_DESC[#Data],0),0))","v":""},{"$f":"IF('Access Point (Desc)'!M398=\"\",\"\",INDEX([1]MANHOLE_MTL!$A$2:$A$100,MATCH('Access Point (Desc)'!$M398,[1]!MASTER_MANHOLE_MTL_DESC[#Data],0),0))","v":""},{"$f":"IF('Access Point (Desc)'!N398=\"\",\"\",INDEX([1]LID_BOLT_TYPE!$A$2:$A$100,MATCH('Access Point (Desc)'!$N398,[1]!MASTER_LID_BOLT_TYPE_DESC[#Data],0),0))","v":""},{"$f":"IF('Access Point (Desc)'!O398=\"\",\"\",INDEX([1]YES_NO!$A$2:$A$100,MATCH('Access Point (Desc)'!$O398,[1]!MASTER_YES_NO_DESC[#Data],0),0))","v":""},{"$f":"IF('Access Point (Desc)'!P398=\"\",\"\",'Access Point (Desc)'!P398)","v":""},{"$f":"IF('Access Point (Desc)'!Q398=\"\",\"\",INDEX([1]YES_NO!$A$2:$A$100,MATCH('Access Point (Desc)'!$Q398,[1]!MASTER_YES_NO_DESC[#Data],0),0))","v":""}]
[{"$f":"IF('Access Point (Desc)'!A399=\"\",\"\",'Access Point (Desc)'!A399)","v":""},{"$f":"IF('Access Point (Desc)'!B399=\"\",\"\",'Access Point (Desc)'!B399)","v":""},{"$f":"IF('Access Point (Desc)'!C399=\"\",\"\",'Access Point (Desc)'!C399)","v":""},{"$f":"IF('Access Point (Desc)'!D399=\"\",\"\",'Access Point (Desc)'!D399)","v":""},{"$f":"IF('Access Point (Desc)'!E399=\"\",\"\",INDEX([1]OWNER!$A$2:$A$100,MATCH('Access Point (Desc)'!$E399,[1]!MASTER_OWNER_DESC[#Data],0),0))","v":""},{"$f":"IF('Access Point (Desc)'!F399=\"\",\"\",INDEX([1]COUNTY!$A$2:$A$100,MATCH('Access Point (Desc)'!F399,[1]!MASTER_COUNTY_NAME[#Data],0),0))","v":""},{"$f":"IF('Access Point (Desc)'!G399=\"\",\"\",'Access Point (Desc)'!G399)","v":""},{"$f":"IF('Access Point (Desc)'!H399=\"\",\"\",'Access Point (Desc)'!H399)","v":""},{"$f":"IF('Access Point (Desc)'!I399=\"\",\"\",INDEX([1]ROUTE_MH_TYPE!$A$2:$A$100,MATCH('Access Point (Desc)'!$I399,[1]!MASTER_ROUTE_MH_TYPE_DESC[#Data],0),0))","v":""},{"$f":"IF('Access Point (Desc)'!J399=\"\",\"\",INDEX([1]MANHOLE_MTL!$A$2:$A$100,MATCH('Access Point (Desc)'!$J399,[1]!MASTER_MANHOLE_MTL_DESC[#Data],0),0))","v":""},{"$f":"IF('Access Point (Desc)'!K399=\"\",\"\",INDEX([1]MANHOLE_SIZE!$A$2:$A$120,MATCH('Access Point (Desc)'!$K399,[1]!MASTER_MANHOLE_SIZE_DESC[#Data],0),0))","v":""},{"$f":"IF('Access Point (Desc)'!L399=\"\",\"\",INDEX([1]ROUTE_MH_LID_TYPE!$A$2:$A$100,MATCH('Access Point (Desc)'!$L399,[1]!MASTER_ROUTE_MH_LID_TYPE_DESC[#Data],0),0))","v":""},{"$f":"IF('Access Point (Desc)'!M399=\"\",\"\",INDEX([1]MANHOLE_MTL!$A$2:$A$100,MATCH('Access Point (Desc)'!$M399,[1]!MASTER_MANHOLE_MTL_DESC[#Data],0),0))","v":""},{"$f":"IF('Access Point (Desc)'!N399=\"\",\"\",INDEX([1]LID_BOLT_TYPE!$A$2:$A$100,MATCH('Access Point (Desc)'!$N399,[1]!MASTER_LID_BOLT_TYPE_DESC[#Data],0),0))","v":""},{"$f":"IF('Access Point (Desc)'!O399=\"\",\"\",INDEX([1]YES_NO!$A$2:$A$100,MATCH('Access Point (Desc)'!$O399,[1]!MASTER_YES_NO_DESC[#Data],0),0))","v":""},{"$f":"IF('Access Point (Desc)'!P399=\"\",\"\",'Access Point (Desc)'!P399)","v":""},{"$f":"IF('Access Point (Desc)'!Q399=\"\",\"\",INDEX([1]YES_NO!$A$2:$A$100,MATCH('Access Point (Desc)'!$Q399,[1]!MASTER_YES_NO_DESC[#Data],0),0))","v":""}]
[{"$f":"IF('Access Point (Desc)'!A400=\"\",\"\",'Access Point (Desc)'!A400)","v":""},{"$f":"IF('Access Point (Desc)'!B400=\"\",\"\",'Access Point (Desc)'!B400)","v":""},{"$f":"IF('Access Point (Desc)'!C400=\"\",\"\",'Access Point (Desc)'!C400)","v":""},{"$f":"IF('Access Point (Desc)'!D400=\"\",\"\",'Access Point (Desc)'!D400)","v":""},{"$f":"IF('Access Point (Desc)'!E400=\"\",\"\",INDEX([1]OWNER!$A$2:$A$100,MATCH('Access Point (Desc)'!$E400,[1]!MASTER_OWNER_DESC[#Data],0),0))","v":""},{"$f":"IF('Access Point (Desc)'!F400=\"\",\"\",INDEX([1]COUNTY!$A$2:$A$100,MATCH('Access Point (Desc)'!F400,[1]!MASTER_COUNTY_NAME[#Data],0),0))","v":""},{"$f":"IF('Access Point (Desc)'!G400=\"\",\"\",'Access Point (Desc)'!G400)","v":""},{"$f":"IF('Access Point (Desc)'!H400=\"\",\"\",'Access Point (Desc)'!H400)","v":""},{"$f":"IF('Access Point (Desc)'!I400=\"\",\"\",INDEX([1]ROUTE_MH_TYPE!$A$2:$A$100,MATCH('Access Point (Desc)'!$I400,[1]!MASTER_ROUTE_MH_TYPE_DESC[#Data],0),0))","v":""},{"$f":"IF('Access Point (Desc)'!J400=\"\",\"\",INDEX([1]MANHOLE_MTL!$A$2:$A$100,MATCH('Access Point (Desc)'!$J400,[1]!MASTER_MANHOLE_MTL_DESC[#Data],0),0))","v":""},{"$f":"IF('Access Point (Desc)'!K400=\"\",\"\",INDEX([1]MANHOLE_SIZE!$A$2:$A$120,MATCH('Access Point (Desc)'!$K400,[1]!MASTER_MANHOLE_SIZE_DESC[#Data],0),0))","v":""},{"$f":"IF('Access Point (Desc)'!L400=\"\",\"\",INDEX([1]ROUTE_MH_LID_TYPE!$A$2:$A$100,MATCH('Access Point (Desc)'!$L400,[1]!MASTER_ROUTE_MH_LID_TYPE_DESC[#Data],0),0))","v":""},{"$f":"IF('Access Point (Desc)'!M400=\"\",\"\",INDEX([1]MANHOLE_MTL!$A$2:$A$100,MATCH('Access Point (Desc)'!$M400,[1]!MASTER_MANHOLE_MTL_DESC[#Data],0),0))","v":""},{"$f":"IF('Access Point (Desc)'!N400=\"\",\"\",INDEX([1]LID_BOLT_TYPE!$A$2:$A$100,MATCH('Access Point (Desc)'!$N400,[1]!MASTER_LID_BOLT_TYPE_DESC[#Data],0),0))","v":""},{"$f":"IF('Access Point (Desc)'!O400=\"\",\"\",INDEX([1]YES_NO!$A$2:$A$100,MATCH('Access Point (Desc)'!$O400,[1]!MASTER_YES_NO_DESC[#Data],0),0))","v":""},{"$f":"IF('Access Point (Desc)'!P400=\"\",\"\",'Access Point (Desc)'!P400)","v":""},{"$f":"IF('Access Point (Desc)'!Q400=\"\",\"\",INDEX([1]YES_NO!$A$2:$A$100,MATCH('Access Point (Desc)'!$Q400,[1]!MASTER_YES_NO_DESC[#Data],0),0))","v":""}]
[{"$f":"IF('Access Point (Desc)'!A401=\"\",\"\",'Access Point (Desc)'!A401)","v":""},{"$f":"IF('Access Point (Desc)'!B401=\"\",\"\",'Access Point (Desc)'!B401)","v":""},{"$f":"IF('Access Point (Desc)'!C401=\"\",\"\",'Access Point (Desc)'!C401)","v":""},{"$f":"IF('Access Point (Desc)'!D401=\"\",\"\",'Access Point (Desc)'!D401)","v":""},{"$f":"IF('Access Point (Desc)'!E401=\"\",\"\",INDEX([1]OWNER!$A$2:$A$100,MATCH('Access Point (Desc)'!$E401,[1]!MASTER_OWNER_DESC[#Data],0),0))","v":""},{"$f":"IF('Access Point (Desc)'!F401=\"\",\"\",INDEX([1]COUNTY!$A$2:$A$100,MATCH('Access Point (Desc)'!F401,[1]!MASTER_COUNTY_NAME[#Data],0),0))","v":""},{"$f":"IF('Access Point (Desc)'!G401=\"\",\"\",'Access Point (Desc)'!G401)","v":""},{"$f":"IF('Access Point (Desc)'!H401=\"\",\"\",'Access Point (Desc)'!H401)","v":""},{"$f":"IF('Access Point (Desc)'!I401=\"\",\"\",INDEX([1]ROUTE_MH_TYPE!$A$2:$A$100,MATCH('Access Point (Desc)'!$I401,[1]!MASTER_ROUTE_MH_TYPE_DESC[#Data],0),0))","v":""},{"$f":"IF('Access Point (Desc)'!J401=\"\",\"\",INDEX([1]MANHOLE_MTL!$A$2:$A$100,MATCH('Access Point (Desc)'!$J401,[1]!MASTER_MANHOLE_MTL_DESC[#Data],0),0))","v":""},{"$f":"IF('Access Point (Desc)'!K401=\"\",\"\",INDEX([1]MANHOLE_SIZE!$A$2:$A$120,MATCH('Access Point (Desc)'!$K401,[1]!MASTER_MANHOLE_SIZE_DESC[#Data],0),0))","v":""},{"$f":"IF('Access Point (Desc)'!L401=\"\",\"\",INDEX([1]ROUTE_MH_LID_TYPE!$A$2:$A$100,MATCH('Access Point (Desc)'!$L401,[1]!MASTER_ROUTE_MH_LID_TYPE_DESC[#Data],0),0))","v":""},{"$f":"IF('Access Point (Desc)'!M401=\"\",\"\",INDEX([1]MANHOLE_MTL!$A$2:$A$100,MATCH('Access Point (Desc)'!$M401,[1]!MASTER_MANHOLE_MTL_DESC[#Data],0),0))","v":""},{"$f":"IF('Access Point (Desc)'!N401=\"\",\"\",INDEX([1]LID_BOLT_TYPE!$A$2:$A$100,MATCH('Access Point (Desc)'!$N401,[1]!MASTER_LID_BOLT_TYPE_DESC[#Data],0),0))","v":""},{"$f":"IF('Access Point (Desc)'!O401=\"\",\"\",INDEX([1]YES_NO!$A$2:$A$100,MATCH('Access Point (Desc)'!$O401,[1]!MASTER_YES_NO_DESC[#Data],0),0))","v":""},{"$f":"IF('Access Point (Desc)'!P401=\"\",\"\",'Access Point (Desc)'!P401)","v":""},{"$f":"IF('Access Point (Desc)'!Q401=\"\",\"\",INDEX([1]YES_NO!$A$2:$A$100,MATCH('Access Point (Desc)'!$Q401,[1]!MASTER_YES_NO_DESC[#Data],0),0))","v":""}]
[{"$f":"IF('Access Point (Desc)'!A402=\"\",\"\",'Access Point (Desc)'!A402)","v":""},{"$f":"IF('Access Point (Desc)'!B402=\"\",\"\",'Access Point (Desc)'!B402)","v":""},{"$f":"IF('Access Point (Desc)'!C402=\"\",\"\",'Access Point (Desc)'!C402)","v":""},{"$f":"IF('Access Point (Desc)'!D402=\"\",\"\",'Access Point (Desc)'!D402)","v":""},{"$f":"IF('Access Point (Desc)'!E402=\"\",\"\",INDEX([1]OWNER!$A$2:$A$100,MATCH('Access Point (Desc)'!$E402,[1]!MASTER_OWNER_DESC[#Data],0),0))","v":""},{"$f":"IF('Access Point (Desc)'!F402=\"\",\"\",INDEX([1]COUNTY!$A$2:$A$100,MATCH('Access Point (Desc)'!F402,[1]!MASTER_COUNTY_NAME[#Data],0),0))","v":""},{"$f":"IF('Access Point (Desc)'!G402=\"\",\"\",'Access Point (Desc)'!G402)","v":""},{"$f":"IF('Access Point (Desc)'!H402=\"\",\"\",'Access Point (Desc)'!H402)","v":""},{"$f":"IF('Access Point (Desc)'!I402=\"\",\"\",INDEX([1]ROUTE_MH_TYPE!$A$2:$A$100,MATCH('Access Point (Desc)'!$I402,[1]!MASTER_ROUTE_MH_TYPE_DESC[#Data],0),0))","v":""},{"$f":"IF('Access Point (Desc)'!J402=\"\",\"\",INDEX([1]MANHOLE_MTL!$A$2:$A$100,MATCH('Access Point (Desc)'!$J402,[1]!MASTER_MANHOLE_MTL_DESC[#Data],0),0))","v":""},{"$f":"IF('Access Point (Desc)'!K402=\"\",\"\",INDEX([1]MANHOLE_SIZE!$A$2:$A$120,MATCH('Access Point (Desc)'!$K402,[1]!MASTER_MANHOLE_SIZE_DESC[#Data],0),0))","v":""},{"$f":"IF('Access Point (Desc)'!L402=\"\",\"\",INDEX([1]ROUTE_MH_LID_TYPE!$A$2:$A$100,MATCH('Access Point (Desc)'!$L402,[1]!MASTER_ROUTE_MH_LID_TYPE_DESC[#Data],0),0))","v":""},{"$f":"IF('Access Point (Desc)'!M402=\"\",\"\",INDEX([1]MANHOLE_MTL!$A$2:$A$100,MATCH('Access Point (Desc)'!$M402,[1]!MASTER_MANHOLE_MTL_DESC[#Data],0),0))","v":""},{"$f":"IF('Access Point (Desc)'!N402=\"\",\"\",INDEX([1]LID_BOLT_TYPE!$A$2:$A$100,MATCH('Access Point (Desc)'!$N402,[1]!MASTER_LID_BOLT_TYPE_DESC[#Data],0),0))","v":""},{"$f":"IF('Access Point (Desc)'!O402=\"\",\"\",INDEX([1]YES_NO!$A$2:$A$100,MATCH('Access Point (Desc)'!$O402,[1]!MASTER_YES_NO_DESC[#Data],0),0))","v":""},{"$f":"IF('Access Point (Desc)'!P402=\"\",\"\",'Access Point (Desc)'!P402)","v":""},{"$f":"IF('Access Point (Desc)'!Q402=\"\",\"\",INDEX([1]YES_NO!$A$2:$A$100,MATCH('Access Point (Desc)'!$Q402,[1]!MASTER_YES_NO_DESC[#Data],0),0))","v":""}]
[{"$f":"IF('Access Point (Desc)'!A403=\"\",\"\",'Access Point (Desc)'!A403)","v":""},{"$f":"IF('Access Point (Desc)'!B403=\"\",\"\",'Access Point (Desc)'!B403)","v":""},{"$f":"IF('Access Point (Desc)'!C403=\"\",\"\",'Access Point (Desc)'!C403)","v":""},{"$f":"IF('Access Point (Desc)'!D403=\"\",\"\",'Access Point (Desc)'!D403)","v":""},{"$f":"IF('Access Point (Desc)'!E403=\"\",\"\",INDEX([1]OWNER!$A$2:$A$100,MATCH('Access Point (Desc)'!$E403,[1]!MASTER_OWNER_DESC[#Data],0),0))","v":""},{"$f":"IF('Access Point (Desc)'!F403=\"\",\"\",INDEX([1]COUNTY!$A$2:$A$100,MATCH('Access Point (Desc)'!F403,[1]!MASTER_COUNTY_NAME[#Data],0),0))","v":""},{"$f":"IF('Access Point (Desc)'!G403=\"\",\"\",'Access Point (Desc)'!G403)","v":""},{"$f":"IF('Access Point (Desc)'!H403=\"\",\"\",'Access Point (Desc)'!H403)","v":""},{"$f":"IF('Access Point (Desc)'!I403=\"\",\"\",INDEX([1]ROUTE_MH_TYPE!$A$2:$A$100,MATCH('Access Point (Desc)'!$I403,[1]!MASTER_ROUTE_MH_TYPE_DESC[#Data],0),0))","v":""},{"$f":"IF('Access Point (Desc)'!J403=\"\",\"\",INDEX([1]MANHOLE_MTL!$A$2:$A$100,MATCH('Access Point (Desc)'!$J403,[1]!MASTER_MANHOLE_MTL_DESC[#Data],0),0))","v":""},{"$f":"IF('Access Point (Desc)'!K403=\"\",\"\",INDEX([1]MANHOLE_SIZE!$A$2:$A$120,MATCH('Access Point (Desc)'!$K403,[1]!MASTER_MANHOLE_SIZE_DESC[#Data],0),0))","v":""},{"$f":"IF('Access Point (Desc)'!L403=\"\",\"\",INDEX([1]ROUTE_MH_LID_TYPE!$A$2:$A$100,MATCH('Access Point (Desc)'!$L403,[1]!MASTER_ROUTE_MH_LID_TYPE_DESC[#Data],0),0))","v":""},{"$f":"IF('Access Point (Desc)'!M403=\"\",\"\",INDEX([1]MANHOLE_MTL!$A$2:$A$100,MATCH('Access Point (Desc)'!$M403,[1]!MASTER_MANHOLE_MTL_DESC[#Data],0),0))","v":""},{"$f":"IF('Access Point (Desc)'!N403=\"\",\"\",INDEX([1]LID_BOLT_TYPE!$A$2:$A$100,MATCH('Access Point (Desc)'!$N403,[1]!MASTER_LID_BOLT_TYPE_DESC[#Data],0),0))","v":""},{"$f":"IF('Access Point (Desc)'!O403=\"\",\"\",INDEX([1]YES_NO!$A$2:$A$100,MATCH('Access Point (Desc)'!$O403,[1]!MASTER_YES_NO_DESC[#Data],0),0))","v":""},{"$f":"IF('Access Point (Desc)'!P403=\"\",\"\",'Access Point (Desc)'!P403)","v":""},{"$f":"IF('Access Point (Desc)'!Q403=\"\",\"\",INDEX([1]YES_NO!$A$2:$A$100,MATCH('Access Point (Desc)'!$Q403,[1]!MASTER_YES_NO_DESC[#Data],0),0))","v":""}]
[{"$f":"IF('Access Point (Desc)'!A404=\"\",\"\",'Access Point (Desc)'!A404)","v":""},{"$f":"IF('Access Point (Desc)'!B404=\"\",\"\",'Access Point (Desc)'!B404)","v":""},{"$f":"IF('Access Point (Desc)'!C404=\"\",\"\",'Access Point (Desc)'!C404)","v":""},{"$f":"IF('Access Point (Desc)'!D404=\"\",\"\",'Access Point (Desc)'!D404)","v":""},{"$f":"IF('Access Point (Desc)'!E404=\"\",\"\",INDEX([1]OWNER!$A$2:$A$100,MATCH('Access Point (Desc)'!$E404,[1]!MASTER_OWNER_DESC[#Data],0),0))","v":""},{"$f":"IF('Access Point (Desc)'!F404=\"\",\"\",INDEX([1]COUNTY!$A$2:$A$100,MATCH('Access Point (Desc)'!F404,[1]!MASTER_COUNTY_NAME[#Data],0),0))","v":""},{"$f":"IF('Access Point (Desc)'!G404=\"\",\"\",'Access Point (Desc)'!G404)","v":""},{"$f":"IF('Access Point (Desc)'!H404=\"\",\"\",'Access Point (Desc)'!H404)","v":""},{"$f":"IF('Access Point (Desc)'!I404=\"\",\"\",INDEX([1]ROUTE_MH_TYPE!$A$2:$A$100,MATCH('Access Point (Desc)'!$I404,[1]!MASTER_ROUTE_MH_TYPE_DESC[#Data],0),0))","v":""},{"$f":"IF('Access Point (Desc)'!J404=\"\",\"\",INDEX([1]MANHOLE_MTL!$A$2:$A$100,MATCH('Access Point (Desc)'!$J404,[1]!MASTER_MANHOLE_MTL_DESC[#Data],0),0))","v":""},{"$f":"IF('Access Point (Desc)'!K404=\"\",\"\",INDEX([1]MANHOLE_SIZE!$A$2:$A$120,MATCH('Access Point (Desc)'!$K404,[1]!MASTER_MANHOLE_SIZE_DESC[#Data],0),0))","v":""},{"$f":"IF('Access Point (Desc)'!L404=\"\",\"\",INDEX([1]ROUTE_MH_LID_TYPE!$A$2:$A$100,MATCH('Access Point (Desc)'!$L404,[1]!MASTER_ROUTE_MH_LID_TYPE_DESC[#Data],0),0))","v":""},{"$f":"IF('Access Point (Desc)'!M404=\"\",\"\",INDEX([1]MANHOLE_MTL!$A$2:$A$100,MATCH('Access Point (Desc)'!$M404,[1]!MASTER_MANHOLE_MTL_DESC[#Data],0),0))","v":""},{"$f":"IF('Access Point (Desc)'!N404=\"\",\"\",INDEX([1]LID_BOLT_TYPE!$A$2:$A$100,MATCH('Access Point (Desc)'!$N404,[1]!MASTER_LID_BOLT_TYPE_DESC[#Data],0),0))","v":""},{"$f":"IF('Access Point (Desc)'!O404=\"\",\"\",INDEX([1]YES_NO!$A$2:$A$100,MATCH('Access Point (Desc)'!$O404,[1]!MASTER_YES_NO_DESC[#Data],0),0))","v":""},{"$f":"IF('Access Point (Desc)'!P404=\"\",\"\",'Access Point (Desc)'!P404)","v":""},{"$f":"IF('Access Point (Desc)'!Q404=\"\",\"\",INDEX([1]YES_NO!$A$2:$A$100,MATCH('Access Point (Desc)'!$Q404,[1]!MASTER_YES_NO_DESC[#Data],0),0))","v":""}]
[{"$f":"IF('Access Point (Desc)'!A405=\"\",\"\",'Access Point (Desc)'!A405)","v":""},{"$f":"IF('Access Point (Desc)'!B405=\"\",\"\",'Access Point (Desc)'!B405)","v":""},{"$f":"IF('Access Point (Desc)'!C405=\"\",\"\",'Access Point (Desc)'!C405)","v":""},{"$f":"IF('Access Point (Desc)'!D405=\"\",\"\",'Access Point (Desc)'!D405)","v":""},{"$f":"IF('Access Point (Desc)'!E405=\"\",\"\",INDEX([1]OWNER!$A$2:$A$100,MATCH('Access Point (Desc)'!$E405,[1]!MASTER_OWNER_DESC[#Data],0),0))","v":""},{"$f":"IF('Access Point (Desc)'!F405=\"\",\"\",INDEX([1]COUNTY!$A$2:$A$100,MATCH('Access Point (Desc)'!F405,[1]!MASTER_COUNTY_NAME[#Data],0),0))","v":""},{"$f":"IF('Access Point (Desc)'!G405=\"\",\"\",'Access Point (Desc)'!G405)","v":""},{"$f":"IF('Access Point (Desc)'!H405=\"\",\"\",'Access Point (Desc)'!H405)","v":""},{"$f":"IF('Access Point (Desc)'!I405=\"\",\"\",INDEX([1]ROUTE_MH_TYPE!$A$2:$A$100,MATCH('Access Point (Desc)'!$I405,[1]!MASTER_ROUTE_MH_TYPE_DESC[#Data],0),0))","v":""},{"$f":"IF('Access Point (Desc)'!J405=\"\",\"\",INDEX([1]MANHOLE_MTL!$A$2:$A$100,MATCH('Access Point (Desc)'!$J405,[1]!MASTER_MANHOLE_MTL_DESC[#Data],0),0))","v":""},{"$f":"IF('Access Point (Desc)'!K405=\"\",\"\",INDEX([1]MANHOLE_SIZE!$A$2:$A$120,MATCH('Access Point (Desc)'!$K405,[1]!MASTER_MANHOLE_SIZE_DESC[#Data],0),0))","v":""},{"$f":"IF('Access Point (Desc)'!L405=\"\",\"\",INDEX([1]ROUTE_MH_LID_TYPE!$A$2:$A$100,MATCH('Access Point (Desc)'!$L405,[1]!MASTER_ROUTE_MH_LID_TYPE_DESC[#Data],0),0))","v":""},{"$f":"IF('Access Point (Desc)'!M405=\"\",\"\",INDEX([1]MANHOLE_MTL!$A$2:$A$100,MATCH('Access Point (Desc)'!$M405,[1]!MASTER_MANHOLE_MTL_DESC[#Data],0),0))","v":""},{"$f":"IF('Access Point (Desc)'!N405=\"\",\"\",INDEX([1]LID_BOLT_TYPE!$A$2:$A$100,MATCH('Access Point (Desc)'!$N405,[1]!MASTER_LID_BOLT_TYPE_DESC[#Data],0),0))","v":""},{"$f":"IF('Access Point (Desc)'!O405=\"\",\"\",INDEX([1]YES_NO!$A$2:$A$100,MATCH('Access Point (Desc)'!$O405,[1]!MASTER_YES_NO_DESC[#Data],0),0))","v":""},{"$f":"IF('Access Point (Desc)'!P405=\"\",\"\",'Access Point (Desc)'!P405)","v":""},{"$f":"IF('Access Point (Desc)'!Q405=\"\",\"\",INDEX([1]YES_NO!$A$2:$A$100,MATCH('Access Point (Desc)'!$Q405,[1]!MASTER_YES_NO_DESC[#Data],0),0))","v":""}]
[{"$f":"IF('Access Point (Desc)'!A406=\"\",\"\",'Access Point (Desc)'!A406)","v":""},{"$f":"IF('Access Point (Desc)'!B406=\"\",\"\",'Access Point (Desc)'!B406)","v":""},{"$f":"IF('Access Point (Desc)'!C406=\"\",\"\",'Access Point (Desc)'!C406)","v":""},{"$f":"IF('Access Point (Desc)'!D406=\"\",\"\",'Access Point (Desc)'!D406)","v":""},{"$f":"IF('Access Point (Desc)'!E406=\"\",\"\",INDEX([1]OWNER!$A$2:$A$100,MATCH('Access Point (Desc)'!$E406,[1]!MASTER_OWNER_DESC[#Data],0),0))","v":""},{"$f":"IF('Access Point (Desc)'!F406=\"\",\"\",INDEX([1]COUNTY!$A$2:$A$100,MATCH('Access Point (Desc)'!F406,[1]!MASTER_COUNTY_NAME[#Data],0),0))","v":""},{"$f":"IF('Access Point (Desc)'!G406=\"\",\"\",'Access Point (Desc)'!G406)","v":""},{"$f":"IF('Access Point (Desc)'!H406=\"\",\"\",'Access Point (Desc)'!H406)","v":""},{"$f":"IF('Access Point (Desc)'!I406=\"\",\"\",INDEX([1]ROUTE_MH_TYPE!$A$2:$A$100,MATCH('Access Point (Desc)'!$I406,[1]!MASTER_ROUTE_MH_TYPE_DESC[#Data],0),0))","v":""},{"$f":"IF('Access Point (Desc)'!J406=\"\",\"\",INDEX([1]MANHOLE_MTL!$A$2:$A$100,MATCH('Access Point (Desc)'!$J406,[1]!MASTER_MANHOLE_MTL_DESC[#Data],0),0))","v":""},{"$f":"IF('Access Point (Desc)'!K406=\"\",\"\",INDEX([1]MANHOLE_SIZE!$A$2:$A$120,MATCH('Access Point (Desc)'!$K406,[1]!MASTER_MANHOLE_SIZE_DESC[#Data],0),0))","v":""},{"$f":"IF('Access Point (Desc)'!L406=\"\",\"\",INDEX([1]ROUTE_MH_LID_TYPE!$A$2:$A$100,MATCH('Access Point (Desc)'!$L406,[1]!MASTER_ROUTE_MH_LID_TYPE_DESC[#Data],0),0))","v":""},{"$f":"IF('Access Point (Desc)'!M406=\"\",\"\",INDEX([1]MANHOLE_MTL!$A$2:$A$100,MATCH('Access Point (Desc)'!$M406,[1]!MASTER_MANHOLE_MTL_DESC[#Data],0),0))","v":""},{"$f":"IF('Access Point (Desc)'!N406=\"\",\"\",INDEX([1]LID_BOLT_TYPE!$A$2:$A$100,MATCH('Access Point (Desc)'!$N406,[1]!MASTER_LID_BOLT_TYPE_DESC[#Data],0),0))","v":""},{"$f":"IF('Access Point (Desc)'!O406=\"\",\"\",INDEX([1]YES_NO!$A$2:$A$100,MATCH('Access Point (Desc)'!$O406,[1]!MASTER_YES_NO_DESC[#Data],0),0))","v":""},{"$f":"IF('Access Point (Desc)'!P406=\"\",\"\",'Access Point (Desc)'!P406)","v":""},{"$f":"IF('Access Point (Desc)'!Q406=\"\",\"\",INDEX([1]YES_NO!$A$2:$A$100,MATCH('Access Point (Desc)'!$Q406,[1]!MASTER_YES_NO_DESC[#Data],0),0))","v":""}]
[{"$f":"IF('Access Point (Desc)'!A407=\"\",\"\",'Access Point (Desc)'!A407)","v":""},{"$f":"IF('Access Point (Desc)'!B407=\"\",\"\",'Access Point (Desc)'!B407)","v":""},{"$f":"IF('Access Point (Desc)'!C407=\"\",\"\",'Access Point (Desc)'!C407)","v":""},{"$f":"IF('Access Point (Desc)'!D407=\"\",\"\",'Access Point (Desc)'!D407)","v":""},{"$f":"IF('Access Point (Desc)'!E407=\"\",\"\",INDEX([1]OWNER!$A$2:$A$100,MATCH('Access Point (Desc)'!$E407,[1]!MASTER_OWNER_DESC[#Data],0),0))","v":""},{"$f":"IF('Access Point (Desc)'!F407=\"\",\"\",INDEX([1]COUNTY!$A$2:$A$100,MATCH('Access Point (Desc)'!F407,[1]!MASTER_COUNTY_NAME[#Data],0),0))","v":""},{"$f":"IF('Access Point (Desc)'!G407=\"\",\"\",'Access Point (Desc)'!G407)","v":""},{"$f":"IF('Access Point (Desc)'!H407=\"\",\"\",'Access Point (Desc)'!H407)","v":""},{"$f":"IF('Access Point (Desc)'!I407=\"\",\"\",INDEX([1]ROUTE_MH_TYPE!$A$2:$A$100,MATCH('Access Point (Desc)'!$I407,[1]!MASTER_ROUTE_MH_TYPE_DESC[#Data],0),0))","v":""},{"$f":"IF('Access Point (Desc)'!J407=\"\",\"\",INDEX([1]MANHOLE_MTL!$A$2:$A$100,MATCH('Access Point (Desc)'!$J407,[1]!MASTER_MANHOLE_MTL_DESC[#Data],0),0))","v":""},{"$f":"IF('Access Point (Desc)'!K407=\"\",\"\",INDEX([1]MANHOLE_SIZE!$A$2:$A$120,MATCH('Access Point (Desc)'!$K407,[1]!MASTER_MANHOLE_SIZE_DESC[#Data],0),0))","v":""},{"$f":"IF('Access Point (Desc)'!L407=\"\",\"\",INDEX([1]ROUTE_MH_LID_TYPE!$A$2:$A$100,MATCH('Access Point (Desc)'!$L407,[1]!MASTER_ROUTE_MH_LID_TYPE_DESC[#Data],0),0))","v":""},{"$f":"IF('Access Point (Desc)'!M407=\"\",\"\",INDEX([1]MANHOLE_MTL!$A$2:$A$100,MATCH('Access Point (Desc)'!$M407,[1]!MASTER_MANHOLE_MTL_DESC[#Data],0),0))","v":""},{"$f":"IF('Access Point (Desc)'!N407=\"\",\"\",INDEX([1]LID_BOLT_TYPE!$A$2:$A$100,MATCH('Access Point (Desc)'!$N407,[1]!MASTER_LID_BOLT_TYPE_DESC[#Data],0),0))","v":""},{"$f":"IF('Access Point (Desc)'!O407=\"\",\"\",INDEX([1]YES_NO!$A$2:$A$100,MATCH('Access Point (Desc)'!$O407,[1]!MASTER_YES_NO_DESC[#Data],0),0))","v":""},{"$f":"IF('Access Point (Desc)'!P407=\"\",\"\",'Access Point (Desc)'!P407)","v":""},{"$f":"IF('Access Point (Desc)'!Q407=\"\",\"\",INDEX([1]YES_NO!$A$2:$A$100,MATCH('Access Point (Desc)'!$Q407,[1]!MASTER_YES_NO_DESC[#Data],0),0))","v":""}]
[{"$f":"IF('Access Point (Desc)'!A408=\"\",\"\",'Access Point (Desc)'!A408)","v":""},{"$f":"IF('Access Point (Desc)'!B408=\"\",\"\",'Access Point (Desc)'!B408)","v":""},{"$f":"IF('Access Point (Desc)'!C408=\"\",\"\",'Access Point (Desc)'!C408)","v":""},{"$f":"IF('Access Point (Desc)'!D408=\"\",\"\",'Access Point (Desc)'!D408)","v":""},{"$f":"IF('Access Point (Desc)'!E408=\"\",\"\",INDEX([1]OWNER!$A$2:$A$100,MATCH('Access Point (Desc)'!$E408,[1]!MASTER_OWNER_DESC[#Data],0),0))","v":""},{"$f":"IF('Access Point (Desc)'!F408=\"\",\"\",INDEX([1]COUNTY!$A$2:$A$100,MATCH('Access Point (Desc)'!F408,[1]!MASTER_COUNTY_NAME[#Data],0),0))","v":""},{"$f":"IF('Access Point (Desc)'!G408=\"\",\"\",'Access Point (Desc)'!G408)","v":""},{"$f":"IF('Access Point (Desc)'!H408=\"\",\"\",'Access Point (Desc)'!H408)","v":""},{"$f":"IF('Access Point (Desc)'!I408=\"\",\"\",INDEX([1]ROUTE_MH_TYPE!$A$2:$A$100,MATCH('Access Point (Desc)'!$I408,[1]!MASTER_ROUTE_MH_TYPE_DESC[#Data],0),0))","v":""},{"$f":"IF('Access Point (Desc)'!J408=\"\",\"\",INDEX([1]MANHOLE_MTL!$A$2:$A$100,MATCH('Access Point (Desc)'!$J408,[1]!MASTER_MANHOLE_MTL_DESC[#Data],0),0))","v":""},{"$f":"IF('Access Point (Desc)'!K408=\"\",\"\",INDEX([1]MANHOLE_SIZE!$A$2:$A$120,MATCH('Access Point (Desc)'!$K408,[1]!MASTER_MANHOLE_SIZE_DESC[#Data],0),0))","v":""},{"$f":"IF('Access Point (Desc)'!L408=\"\",\"\",INDEX([1]ROUTE_MH_LID_TYPE!$A$2:$A$100,MATCH('Access Point (Desc)'!$L408,[1]!MASTER_ROUTE_MH_LID_TYPE_DESC[#Data],0),0))","v":""},{"$f":"IF('Access Point (Desc)'!M408=\"\",\"\",INDEX([1]MANHOLE_MTL!$A$2:$A$100,MATCH('Access Point (Desc)'!$M408,[1]!MASTER_MANHOLE_MTL_DESC[#Data],0),0))","v":""},{"$f":"IF('Access Point (Desc)'!N408=\"\",\"\",INDEX([1]LID_BOLT_TYPE!$A$2:$A$100,MATCH('Access Point (Desc)'!$N408,[1]!MASTER_LID_BOLT_TYPE_DESC[#Data],0),0))","v":""},{"$f":"IF('Access Point (Desc)'!O408=\"\",\"\",INDEX([1]YES_NO!$A$2:$A$100,MATCH('Access Point (Desc)'!$O408,[1]!MASTER_YES_NO_DESC[#Data],0),0))","v":""},{"$f":"IF('Access Point (Desc)'!P408=\"\",\"\",'Access Point (Desc)'!P408)","v":""},{"$f":"IF('Access Point (Desc)'!Q408=\"\",\"\",INDEX([1]YES_NO!$A$2:$A$100,MATCH('Access Point (Desc)'!$Q408,[1]!MASTER_YES_NO_DESC[#Data],0),0))","v":""}]
[{"$f":"IF('Access Point (Desc)'!A409=\"\",\"\",'Access Point (Desc)'!A409)","v":""},{"$f":"IF('Access Point (Desc)'!B409=\"\",\"\",'Access Point (Desc)'!B409)","v":""},{"$f":"IF('Access Point (Desc)'!C409=\"\",\"\",'Access Point (Desc)'!C409)","v":""},{"$f":"IF('Access Point (Desc)'!D409=\"\",\"\",'Access Point (Desc)'!D409)","v":""},{"$f":"IF('Access Point (Desc)'!E409=\"\",\"\",INDEX([1]OWNER!$A$2:$A$100,MATCH('Access Point (Desc)'!$E409,[1]!MASTER_OWNER_DESC[#Data],0),0))","v":""},{"$f":"IF('Access Point (Desc)'!F409=\"\",\"\",INDEX([1]COUNTY!$A$2:$A$100,MATCH('Access Point (Desc)'!F409,[1]!MASTER_COUNTY_NAME[#Data],0),0))","v":""},{"$f":"IF('Access Point (Desc)'!G409=\"\",\"\",'Access Point (Desc)'!G409)","v":""},{"$f":"IF('Access Point (Desc)'!H409=\"\",\"\",'Access Point (Desc)'!H409)","v":""},{"$f":"IF('Access Point (Desc)'!I409=\"\",\"\",INDEX([1]ROUTE_MH_TYPE!$A$2:$A$100,MATCH('Access Point (Desc)'!$I409,[1]!MASTER_ROUTE_MH_TYPE_DESC[#Data],0),0))","v":""},{"$f":"IF('Access Point (Desc)'!J409=\"\",\"\",INDEX([1]MANHOLE_MTL!$A$2:$A$100,MATCH('Access Point (Desc)'!$J409,[1]!MASTER_MANHOLE_MTL_DESC[#Data],0),0))","v":""},{"$f":"IF('Access Point (Desc)'!K409=\"\",\"\",INDEX([1]MANHOLE_SIZE!$A$2:$A$120,MATCH('Access Point (Desc)'!$K409,[1]!MASTER_MANHOLE_SIZE_DESC[#Data],0),0))","v":""},{"$f":"IF('Access Point (Desc)'!L409=\"\",\"\",INDEX([1]ROUTE_MH_LID_TYPE!$A$2:$A$100,MATCH('Access Point (Desc)'!$L409,[1]!MASTER_ROUTE_MH_LID_TYPE_DESC[#Data],0),0))","v":""},{"$f":"IF('Access Point (Desc)'!M409=\"\",\"\",INDEX([1]MANHOLE_MTL!$A$2:$A$100,MATCH('Access Point (Desc)'!$M409,[1]!MASTER_MANHOLE_MTL_DESC[#Data],0),0))","v":""},{"$f":"IF('Access Point (Desc)'!N409=\"\",\"\",INDEX([1]LID_BOLT_TYPE!$A$2:$A$100,MATCH('Access Point (Desc)'!$N409,[1]!MASTER_LID_BOLT_TYPE_DESC[#Data],0),0))","v":""},{"$f":"IF('Access Point (Desc)'!O409=\"\",\"\",INDEX([1]YES_NO!$A$2:$A$100,MATCH('Access Point (Desc)'!$O409,[1]!MASTER_YES_NO_DESC[#Data],0),0))","v":""},{"$f":"IF('Access Point (Desc)'!P409=\"\",\"\",'Access Point (Desc)'!P409)","v":""},{"$f":"IF('Access Point (Desc)'!Q409=\"\",\"\",INDEX([1]YES_NO!$A$2:$A$100,MATCH('Access Point (Desc)'!$Q409,[1]!MASTER_YES_NO_DESC[#Data],0),0))","v":""}]
[{"$f":"IF('Access Point (Desc)'!A410=\"\",\"\",'Access Point (Desc)'!A410)","v":""},{"$f":"IF('Access Point (Desc)'!B410=\"\",\"\",'Access Point (Desc)'!B410)","v":""},{"$f":"IF('Access Point (Desc)'!C410=\"\",\"\",'Access Point (Desc)'!C410)","v":""},{"$f":"IF('Access Point (Desc)'!D410=\"\",\"\",'Access Point (Desc)'!D410)","v":""},{"$f":"IF('Access Point (Desc)'!E410=\"\",\"\",INDEX([1]OWNER!$A$2:$A$100,MATCH('Access Point (Desc)'!$E410,[1]!MASTER_OWNER_DESC[#Data],0),0))","v":""},{"$f":"IF('Access Point (Desc)'!F410=\"\",\"\",INDEX([1]COUNTY!$A$2:$A$100,MATCH('Access Point (Desc)'!F410,[1]!MASTER_COUNTY_NAME[#Data],0),0))","v":""},{"$f":"IF('Access Point (Desc)'!G410=\"\",\"\",'Access Point (Desc)'!G410)","v":""},{"$f":"IF('Access Point (Desc)'!H410=\"\",\"\",'Access Point (Desc)'!H410)","v":""},{"$f":"IF('Access Point (Desc)'!I410=\"\",\"\",INDEX([1]ROUTE_MH_TYPE!$A$2:$A$100,MATCH('Access Point (Desc)'!$I410,[1]!MASTER_ROUTE_MH_TYPE_DESC[#Data],0),0))","v":""},{"$f":"IF('Access Point (Desc)'!J410=\"\",\"\",INDEX([1]MANHOLE_MTL!$A$2:$A$100,MATCH('Access Point (Desc)'!$J410,[1]!MASTER_MANHOLE_MTL_DESC[#Data],0),0))","v":""},{"$f":"IF('Access Point (Desc)'!K410=\"\",\"\",INDEX([1]MANHOLE_SIZE!$A$2:$A$120,MATCH('Access Point (Desc)'!$K410,[1]!MASTER_MANHOLE_SIZE_DESC[#Data],0),0))","v":""},{"$f":"IF('Access Point (Desc)'!L410=\"\",\"\",INDEX([1]ROUTE_MH_LID_TYPE!$A$2:$A$100,MATCH('Access Point (Desc)'!$L410,[1]!MASTER_ROUTE_MH_LID_TYPE_DESC[#Data],0),0))","v":""},{"$f":"IF('Access Point (Desc)'!M410=\"\",\"\",INDEX([1]MANHOLE_MTL!$A$2:$A$100,MATCH('Access Point (Desc)'!$M410,[1]!MASTER_MANHOLE_MTL_DESC[#Data],0),0))","v":""},{"$f":"IF('Access Point (Desc)'!N410=\"\",\"\",INDEX([1]LID_BOLT_TYPE!$A$2:$A$100,MATCH('Access Point (Desc)'!$N410,[1]!MASTER_LID_BOLT_TYPE_DESC[#Data],0),0))","v":""},{"$f":"IF('Access Point (Desc)'!O410=\"\",\"\",INDEX([1]YES_NO!$A$2:$A$100,MATCH('Access Point (Desc)'!$O410,[1]!MASTER_YES_NO_DESC[#Data],0),0))","v":""},{"$f":"IF('Access Point (Desc)'!P410=\"\",\"\",'Access Point (Desc)'!P410)","v":""},{"$f":"IF('Access Point (Desc)'!Q410=\"\",\"\",INDEX([1]YES_NO!$A$2:$A$100,MATCH('Access Point (Desc)'!$Q410,[1]!MASTER_YES_NO_DESC[#Data],0),0))","v":""}]
[{"$f":"IF('Access Point (Desc)'!A411=\"\",\"\",'Access Point (Desc)'!A411)","v":""},{"$f":"IF('Access Point (Desc)'!B411=\"\",\"\",'Access Point (Desc)'!B411)","v":""},{"$f":"IF('Access Point (Desc)'!C411=\"\",\"\",'Access Point (Desc)'!C411)","v":""},{"$f":"IF('Access Point (Desc)'!D411=\"\",\"\",'Access Point (Desc)'!D411)","v":""},{"$f":"IF('Access Point (Desc)'!E411=\"\",\"\",INDEX([1]OWNER!$A$2:$A$100,MATCH('Access Point (Desc)'!$E411,[1]!MASTER_OWNER_DESC[#Data],0),0))","v":""},{"$f":"IF('Access Point (Desc)'!F411=\"\",\"\",INDEX([1]COUNTY!$A$2:$A$100,MATCH('Access Point (Desc)'!F411,[1]!MASTER_COUNTY_NAME[#Data],0),0))","v":""},{"$f":"IF('Access Point (Desc)'!G411=\"\",\"\",'Access Point (Desc)'!G411)","v":""},{"$f":"IF('Access Point (Desc)'!H411=\"\",\"\",'Access Point (Desc)'!H411)","v":""},{"$f":"IF('Access Point (Desc)'!I411=\"\",\"\",INDEX([1]ROUTE_MH_TYPE!$A$2:$A$100,MATCH('Access Point (Desc)'!$I411,[1]!MASTER_ROUTE_MH_TYPE_DESC[#Data],0),0))","v":""},{"$f":"IF('Access Point (Desc)'!J411=\"\",\"\",INDEX([1]MANHOLE_MTL!$A$2:$A$100,MATCH('Access Point (Desc)'!$J411,[1]!MASTER_MANHOLE_MTL_DESC[#Data],0),0))","v":""},{"$f":"IF('Access Point (Desc)'!K411=\"\",\"\",INDEX([1]MANHOLE_SIZE!$A$2:$A$120,MATCH('Access Point (Desc)'!$K411,[1]!MASTER_MANHOLE_SIZE_DESC[#Data],0),0))","v":""},{"$f":"IF('Access Point (Desc)'!L411=\"\",\"\",INDEX([1]ROUTE_MH_LID_TYPE!$A$2:$A$100,MATCH('Access Point (Desc)'!$L411,[1]!MASTER_ROUTE_MH_LID_TYPE_DESC[#Data],0),0))","v":""},{"$f":"IF('Access Point (Desc)'!M411=\"\",\"\",INDEX([1]MANHOLE_MTL!$A$2:$A$100,MATCH('Access Point (Desc)'!$M411,[1]!MASTER_MANHOLE_MTL_DESC[#Data],0),0))","v":""},{"$f":"IF('Access Point (Desc)'!N411=\"\",\"\",INDEX([1]LID_BOLT_TYPE!$A$2:$A$100,MATCH('Access Point (Desc)'!$N411,[1]!MASTER_LID_BOLT_TYPE_DESC[#Data],0),0))","v":""},{"$f":"IF('Access Point (Desc)'!O411=\"\",\"\",INDEX([1]YES_NO!$A$2:$A$100,MATCH('Access Point (Desc)'!$O411,[1]!MASTER_YES_NO_DESC[#Data],0),0))","v":""},{"$f":"IF('Access Point (Desc)'!P411=\"\",\"\",'Access Point (Desc)'!P411)","v":""},{"$f":"IF('Access Point (Desc)'!Q411=\"\",\"\",INDEX([1]YES_NO!$A$2:$A$100,MATCH('Access Point (Desc)'!$Q411,[1]!MASTER_YES_NO_DESC[#Data],0),0))","v":""}]
[{"$f":"IF('Access Point (Desc)'!A412=\"\",\"\",'Access Point (Desc)'!A412)","v":""},{"$f":"IF('Access Point (Desc)'!B412=\"\",\"\",'Access Point (Desc)'!B412)","v":""},{"$f":"IF('Access Point (Desc)'!C412=\"\",\"\",'Access Point (Desc)'!C412)","v":""},{"$f":"IF('Access Point (Desc)'!D412=\"\",\"\",'Access Point (Desc)'!D412)","v":""},{"$f":"IF('Access Point (Desc)'!E412=\"\",\"\",INDEX([1]OWNER!$A$2:$A$100,MATCH('Access Point (Desc)'!$E412,[1]!MASTER_OWNER_DESC[#Data],0),0))","v":""},{"$f":"IF('Access Point (Desc)'!F412=\"\",\"\",INDEX([1]COUNTY!$A$2:$A$100,MATCH('Access Point (Desc)'!F412,[1]!MASTER_COUNTY_NAME[#Data],0),0))","v":""},{"$f":"IF('Access Point (Desc)'!G412=\"\",\"\",'Access Point (Desc)'!G412)","v":""},{"$f":"IF('Access Point (Desc)'!H412=\"\",\"\",'Access Point (Desc)'!H412)","v":""},{"$f":"IF('Access Point (Desc)'!I412=\"\",\"\",INDEX([1]ROUTE_MH_TYPE!$A$2:$A$100,MATCH('Access Point (Desc)'!$I412,[1]!MASTER_ROUTE_MH_TYPE_DESC[#Data],0),0))","v":""},{"$f":"IF('Access Point (Desc)'!J412=\"\",\"\",INDEX([1]MANHOLE_MTL!$A$2:$A$100,MATCH('Access Point (Desc)'!$J412,[1]!MASTER_MANHOLE_MTL_DESC[#Data],0),0))","v":""},{"$f":"IF('Access Point (Desc)'!K412=\"\",\"\",INDEX([1]MANHOLE_SIZE!$A$2:$A$120,MATCH('Access Point (Desc)'!$K412,[1]!MASTER_MANHOLE_SIZE_DESC[#Data],0),0))","v":""},{"$f":"IF('Access Point (Desc)'!L412=\"\",\"\",INDEX([1]ROUTE_MH_LID_TYPE!$A$2:$A$100,MATCH('Access Point (Desc)'!$L412,[1]!MASTER_ROUTE_MH_LID_TYPE_DESC[#Data],0),0))","v":""},{"$f":"IF('Access Point (Desc)'!M412=\"\",\"\",INDEX([1]MANHOLE_MTL!$A$2:$A$100,MATCH('Access Point (Desc)'!$M412,[1]!MASTER_MANHOLE_MTL_DESC[#Data],0),0))","v":""},{"$f":"IF('Access Point (Desc)'!N412=\"\",\"\",INDEX([1]LID_BOLT_TYPE!$A$2:$A$100,MATCH('Access Point (Desc)'!$N412,[1]!MASTER_LID_BOLT_TYPE_DESC[#Data],0),0))","v":""},{"$f":"IF('Access Point (Desc)'!O412=\"\",\"\",INDEX([1]YES_NO!$A$2:$A$100,MATCH('Access Point (Desc)'!$O412,[1]!MASTER_YES_NO_DESC[#Data],0),0))","v":""},{"$f":"IF('Access Point (Desc)'!P412=\"\",\"\",'Access Point (Desc)'!P412)","v":""},{"$f":"IF('Access Point (Desc)'!Q412=\"\",\"\",INDEX([1]YES_NO!$A$2:$A$100,MATCH('Access Point (Desc)'!$Q412,[1]!MASTER_YES_NO_DESC[#Data],0),0))","v":""}]
[{"$f":"IF('Access Point (Desc)'!A413=\"\",\"\",'Access Point (Desc)'!A413)","v":""},{"$f":"IF('Access Point (Desc)'!B413=\"\",\"\",'Access Point (Desc)'!B413)","v":""},{"$f":"IF('Access Point (Desc)'!C413=\"\",\"\",'Access Point (Desc)'!C413)","v":""},{"$f":"IF('Access Point (Desc)'!D413=\"\",\"\",'Access Point (Desc)'!D413)","v":""},{"$f":"IF('Access Point (Desc)'!E413=\"\",\"\",INDEX([1]OWNER!$A$2:$A$100,MATCH('Access Point (Desc)'!$E413,[1]!MASTER_OWNER_DESC[#Data],0),0))","v":""},{"$f":"IF('Access Point (Desc)'!F413=\"\",\"\",INDEX([1]COUNTY!$A$2:$A$100,MATCH('Access Point (Desc)'!F413,[1]!MASTER_COUNTY_NAME[#Data],0),0))","v":""},{"$f":"IF('Access Point (Desc)'!G413=\"\",\"\",'Access Point (Desc)'!G413)","v":""},{"$f":"IF('Access Point (Desc)'!H413=\"\",\"\",'Access Point (Desc)'!H413)","v":""},{"$f":"IF('Access Point (Desc)'!I413=\"\",\"\",INDEX([1]ROUTE_MH_TYPE!$A$2:$A$100,MATCH('Access Point (Desc)'!$I413,[1]!MASTER_ROUTE_MH_TYPE_DESC[#Data],0),0))","v":""},{"$f":"IF('Access Point (Desc)'!J413=\"\",\"\",INDEX([1]MANHOLE_MTL!$A$2:$A$100,MATCH('Access Point (Desc)'!$J413,[1]!MASTER_MANHOLE_MTL_DESC[#Data],0),0))","v":""},{"$f":"IF('Access Point (Desc)'!K413=\"\",\"\",INDEX([1]MANHOLE_SIZE!$A$2:$A$120,MATCH('Access Point (Desc)'!$K413,[1]!MASTER_MANHOLE_SIZE_DESC[#Data],0),0))","v":""},{"$f":"IF('Access Point (Desc)'!L413=\"\",\"\",INDEX([1]ROUTE_MH_LID_TYPE!$A$2:$A$100,MATCH('Access Point (Desc)'!$L413,[1]!MASTER_ROUTE_MH_LID_TYPE_DESC[#Data],0),0))","v":""},{"$f":"IF('Access Point (Desc)'!M413=\"\",\"\",INDEX([1]MANHOLE_MTL!$A$2:$A$100,MATCH('Access Point (Desc)'!$M413,[1]!MASTER_MANHOLE_MTL_DESC[#Data],0),0))","v":""},{"$f":"IF('Access Point (Desc)'!N413=\"\",\"\",INDEX([1]LID_BOLT_TYPE!$A$2:$A$100,MATCH('Access Point (Desc)'!$N413,[1]!MASTER_LID_BOLT_TYPE_DESC[#Data],0),0))","v":""},{"$f":"IF('Access Point (Desc)'!O413=\"\",\"\",INDEX([1]YES_NO!$A$2:$A$100,MATCH('Access Point (Desc)'!$O413,[1]!MASTER_YES_NO_DESC[#Data],0),0))","v":""},{"$f":"IF('Access Point (Desc)'!P413=\"\",\"\",'Access Point (Desc)'!P413)","v":""},{"$f":"IF('Access Point (Desc)'!Q413=\"\",\"\",INDEX([1]YES_NO!$A$2:$A$100,MATCH('Access Point (Desc)'!$Q413,[1]!MASTER_YES_NO_DESC[#Data],0),0))","v":""}]
[{"$f":"IF('Access Point (Desc)'!A414=\"\",\"\",'Access Point (Desc)'!A414)","v":""},{"$f":"IF('Access Point (Desc)'!B414=\"\",\"\",'Access Point (Desc)'!B414)","v":""},{"$f":"IF('Access Point (Desc)'!C414=\"\",\"\",'Access Point (Desc)'!C414)","v":""},{"$f":"IF('Access Point (Desc)'!D414=\"\",\"\",'Access Point (Desc)'!D414)","v":""},{"$f":"IF('Access Point (Desc)'!E414=\"\",\"\",INDEX([1]OWNER!$A$2:$A$100,MATCH('Access Point (Desc)'!$E414,[1]!MASTER_OWNER_DESC[#Data],0),0))","v":""},{"$f":"IF('Access Point (Desc)'!F414=\"\",\"\",INDEX([1]COUNTY!$A$2:$A$100,MATCH('Access Point (Desc)'!F414,[1]!MASTER_COUNTY_NAME[#Data],0),0))","v":""},{"$f":"IF('Access Point (Desc)'!G414=\"\",\"\",'Access Point (Desc)'!G414)","v":""},{"$f":"IF('Access Point (Desc)'!H414=\"\",\"\",'Access Point (Desc)'!H414)","v":""},{"$f":"IF('Access Point (Desc)'!I414=\"\",\"\",INDEX([1]ROUTE_MH_TYPE!$A$2:$A$100,MATCH('Access Point (Desc)'!$I414,[1]!MASTER_ROUTE_MH_TYPE_DESC[#Data],0),0))","v":""},{"$f":"IF('Access Point (Desc)'!J414=\"\",\"\",INDEX([1]MANHOLE_MTL!$A$2:$A$100,MATCH('Access Point (Desc)'!$J414,[1]!MASTER_MANHOLE_MTL_DESC[#Data],0),0))","v":""},{"$f":"IF('Access Point (Desc)'!K414=\"\",\"\",INDEX([1]MANHOLE_SIZE!$A$2:$A$120,MATCH('Access Point (Desc)'!$K414,[1]!MASTER_MANHOLE_SIZE_DESC[#Data],0),0))","v":""},{"$f":"IF('Access Point (Desc)'!L414=\"\",\"\",INDEX([1]ROUTE_MH_LID_TYPE!$A$2:$A$100,MATCH('Access Point (Desc)'!$L414,[1]!MASTER_ROUTE_MH_LID_TYPE_DESC[#Data],0),0))","v":""},{"$f":"IF('Access Point (Desc)'!M414=\"\",\"\",INDEX([1]MANHOLE_MTL!$A$2:$A$100,MATCH('Access Point (Desc)'!$M414,[1]!MASTER_MANHOLE_MTL_DESC[#Data],0),0))","v":""},{"$f":"IF('Access Point (Desc)'!N414=\"\",\"\",INDEX([1]LID_BOLT_TYPE!$A$2:$A$100,MATCH('Access Point (Desc)'!$N414,[1]!MASTER_LID_BOLT_TYPE_DESC[#Data],0),0))","v":""},{"$f":"IF('Access Point (Desc)'!O414=\"\",\"\",INDEX([1]YES_NO!$A$2:$A$100,MATCH('Access Point (Desc)'!$O414,[1]!MASTER_YES_NO_DESC[#Data],0),0))","v":""},{"$f":"IF('Access Point (Desc)'!P414=\"\",\"\",'Access Point (Desc)'!P414)","v":""},{"$f":"IF('Access Point (Desc)'!Q414=\"\",\"\",INDEX([1]YES_NO!$A$2:$A$100,MATCH('Access Point (Desc)'!$Q414,[1]!MASTER_YES_NO_DESC[#Data],0),0))","v":""}]
[{"$f":"IF('Access Point (Desc)'!A415=\"\",\"\",'Access Point (Desc)'!A415)","v":""},{"$f":"IF('Access Point (Desc)'!B415=\"\",\"\",'Access Point (Desc)'!B415)","v":""},{"$f":"IF('Access Point (Desc)'!C415=\"\",\"\",'Access Point (Desc)'!C415)","v":""},{"$f":"IF('Access Point (Desc)'!D415=\"\",\"\",'Access Point (Desc)'!D415)","v":""},{"$f":"IF('Access Point (Desc)'!E415=\"\",\"\",INDEX([1]OWNER!$A$2:$A$100,MATCH('Access Point (Desc)'!$E415,[1]!MASTER_OWNER_DESC[#Data],0),0))","v":""},{"$f":"IF('Access Point (Desc)'!F415=\"\",\"\",INDEX([1]COUNTY!$A$2:$A$100,MATCH('Access Point (Desc)'!F415,[1]!MASTER_COUNTY_NAME[#Data],0),0))","v":""},{"$f":"IF('Access Point (Desc)'!G415=\"\",\"\",'Access Point (Desc)'!G415)","v":""},{"$f":"IF('Access Point (Desc)'!H415=\"\",\"\",'Access Point (Desc)'!H415)","v":""},{"$f":"IF('Access Point (Desc)'!I415=\"\",\"\",INDEX([1]ROUTE_MH_TYPE!$A$2:$A$100,MATCH('Access Point (Desc)'!$I415,[1]!MASTER_ROUTE_MH_TYPE_DESC[#Data],0),0))","v":""},{"$f":"IF('Access Point (Desc)'!J415=\"\",\"\",INDEX([1]MANHOLE_MTL!$A$2:$A$100,MATCH('Access Point (Desc)'!$J415,[1]!MASTER_MANHOLE_MTL_DESC[#Data],0),0))","v":""},{"$f":"IF('Access Point (Desc)'!K415=\"\",\"\",INDEX([1]MANHOLE_SIZE!$A$2:$A$120,MATCH('Access Point (Desc)'!$K415,[1]!MASTER_MANHOLE_SIZE_DESC[#Data],0),0))","v":""},{"$f":"IF('Access Point (Desc)'!L415=\"\",\"\",INDEX([1]ROUTE_MH_LID_TYPE!$A$2:$A$100,MATCH('Access Point (Desc)'!$L415,[1]!MASTER_ROUTE_MH_LID_TYPE_DESC[#Data],0),0))","v":""},{"$f":"IF('Access Point (Desc)'!M415=\"\",\"\",INDEX([1]MANHOLE_MTL!$A$2:$A$100,MATCH('Access Point (Desc)'!$M415,[1]!MASTER_MANHOLE_MTL_DESC[#Data],0),0))","v":""},{"$f":"IF('Access Point (Desc)'!N415=\"\",\"\",INDEX([1]LID_BOLT_TYPE!$A$2:$A$100,MATCH('Access Point (Desc)'!$N415,[1]!MASTER_LID_BOLT_TYPE_DESC[#Data],0),0))","v":""},{"$f":"IF('Access Point (Desc)'!O415=\"\",\"\",INDEX([1]YES_NO!$A$2:$A$100,MATCH('Access Point (Desc)'!$O415,[1]!MASTER_YES_NO_DESC[#Data],0),0))","v":""},{"$f":"IF('Access Point (Desc)'!P415=\"\",\"\",'Access Point (Desc)'!P415)","v":""},{"$f":"IF('Access Point (Desc)'!Q415=\"\",\"\",INDEX([1]YES_NO!$A$2:$A$100,MATCH('Access Point (Desc)'!$Q415,[1]!MASTER_YES_NO_DESC[#Data],0),0))","v":""}]
[{"$f":"IF('Access Point (Desc)'!A416=\"\",\"\",'Access Point (Desc)'!A416)","v":""},{"$f":"IF('Access Point (Desc)'!B416=\"\",\"\",'Access Point (Desc)'!B416)","v":""},{"$f":"IF('Access Point (Desc)'!C416=\"\",\"\",'Access Point (Desc)'!C416)","v":""},{"$f":"IF('Access Point (Desc)'!D416=\"\",\"\",'Access Point (Desc)'!D416)","v":""},{"$f":"IF('Access Point (Desc)'!E416=\"\",\"\",INDEX([1]OWNER!$A$2:$A$100,MATCH('Access Point (Desc)'!$E416,[1]!MASTER_OWNER_DESC[#Data],0),0))","v":""},{"$f":"IF('Access Point (Desc)'!F416=\"\",\"\",INDEX([1]COUNTY!$A$2:$A$100,MATCH('Access Point (Desc)'!F416,[1]!MASTER_COUNTY_NAME[#Data],0),0))","v":""},{"$f":"IF('Access Point (Desc)'!G416=\"\",\"\",'Access Point (Desc)'!G416)","v":""},{"$f":"IF('Access Point (Desc)'!H416=\"\",\"\",'Access Point (Desc)'!H416)","v":""},{"$f":"IF('Access Point (Desc)'!I416=\"\",\"\",INDEX([1]ROUTE_MH_TYPE!$A$2:$A$100,MATCH('Access Point (Desc)'!$I416,[1]!MASTER_ROUTE_MH_TYPE_DESC[#Data],0),0))","v":""},{"$f":"IF('Access Point (Desc)'!J416=\"\",\"\",INDEX([1]MANHOLE_MTL!$A$2:$A$100,MATCH('Access Point (Desc)'!$J416,[1]!MASTER_MANHOLE_MTL_DESC[#Data],0),0))","v":""},{"$f":"IF('Access Point (Desc)'!K416=\"\",\"\",INDEX([1]MANHOLE_SIZE!$A$2:$A$120,MATCH('Access Point (Desc)'!$K416,[1]!MASTER_MANHOLE_SIZE_DESC[#Data],0),0))","v":""},{"$f":"IF('Access Point (Desc)'!L416=\"\",\"\",INDEX([1]ROUTE_MH_LID_TYPE!$A$2:$A$100,MATCH('Access Point (Desc)'!$L416,[1]!MASTER_ROUTE_MH_LID_TYPE_DESC[#Data],0),0))","v":""},{"$f":"IF('Access Point (Desc)'!M416=\"\",\"\",INDEX([1]MANHOLE_MTL!$A$2:$A$100,MATCH('Access Point (Desc)'!$M416,[1]!MASTER_MANHOLE_MTL_DESC[#Data],0),0))","v":""},{"$f":"IF('Access Point (Desc)'!N416=\"\",\"\",INDEX([1]LID_BOLT_TYPE!$A$2:$A$100,MATCH('Access Point (Desc)'!$N416,[1]!MASTER_LID_BOLT_TYPE_DESC[#Data],0),0))","v":""},{"$f":"IF('Access Point (Desc)'!O416=\"\",\"\",INDEX([1]YES_NO!$A$2:$A$100,MATCH('Access Point (Desc)'!$O416,[1]!MASTER_YES_NO_DESC[#Data],0),0))","v":""},{"$f":"IF('Access Point (Desc)'!P416=\"\",\"\",'Access Point (Desc)'!P416)","v":""},{"$f":"IF('Access Point (Desc)'!Q416=\"\",\"\",INDEX([1]YES_NO!$A$2:$A$100,MATCH('Access Point (Desc)'!$Q416,[1]!MASTER_YES_NO_DESC[#Data],0),0))","v":""}]
[{"$f":"IF('Access Point (Desc)'!A417=\"\",\"\",'Access Point (Desc)'!A417)","v":""},{"$f":"IF('Access Point (Desc)'!B417=\"\",\"\",'Access Point (Desc)'!B417)","v":""},{"$f":"IF('Access Point (Desc)'!C417=\"\",\"\",'Access Point (Desc)'!C417)","v":""},{"$f":"IF('Access Point (Desc)'!D417=\"\",\"\",'Access Point (Desc)'!D417)","v":""},{"$f":"IF('Access Point (Desc)'!E417=\"\",\"\",INDEX([1]OWNER!$A$2:$A$100,MATCH('Access Point (Desc)'!$E417,[1]!MASTER_OWNER_DESC[#Data],0),0))","v":""},{"$f":"IF('Access Point (Desc)'!F417=\"\",\"\",INDEX([1]COUNTY!$A$2:$A$100,MATCH('Access Point (Desc)'!F417,[1]!MASTER_COUNTY_NAME[#Data],0),0))","v":""},{"$f":"IF('Access Point (Desc)'!G417=\"\",\"\",'Access Point (Desc)'!G417)","v":""},{"$f":"IF('Access Point (Desc)'!H417=\"\",\"\",'Access Point (Desc)'!H417)","v":""},{"$f":"IF('Access Point (Desc)'!I417=\"\",\"\",INDEX([1]ROUTE_MH_TYPE!$A$2:$A$100,MATCH('Access Point (Desc)'!$I417,[1]!MASTER_ROUTE_MH_TYPE_DESC[#Data],0),0))","v":""},{"$f":"IF('Access Point (Desc)'!J417=\"\",\"\",INDEX([1]MANHOLE_MTL!$A$2:$A$100,MATCH('Access Point (Desc)'!$J417,[1]!MASTER_MANHOLE_MTL_DESC[#Data],0),0))","v":""},{"$f":"IF('Access Point (Desc)'!K417=\"\",\"\",INDEX([1]MANHOLE_SIZE!$A$2:$A$120,MATCH('Access Point (Desc)'!$K417,[1]!MASTER_MANHOLE_SIZE_DESC[#Data],0),0))","v":""},{"$f":"IF('Access Point (Desc)'!L417=\"\",\"\",INDEX([1]ROUTE_MH_LID_TYPE!$A$2:$A$100,MATCH('Access Point (Desc)'!$L417,[1]!MASTER_ROUTE_MH_LID_TYPE_DESC[#Data],0),0))","v":""},{"$f":"IF('Access Point (Desc)'!M417=\"\",\"\",INDEX([1]MANHOLE_MTL!$A$2:$A$100,MATCH('Access Point (Desc)'!$M417,[1]!MASTER_MANHOLE_MTL_DESC[#Data],0),0))","v":""},{"$f":"IF('Access Point (Desc)'!N417=\"\",\"\",INDEX([1]LID_BOLT_TYPE!$A$2:$A$100,MATCH('Access Point (Desc)'!$N417,[1]!MASTER_LID_BOLT_TYPE_DESC[#Data],0),0))","v":""},{"$f":"IF('Access Point (Desc)'!O417=\"\",\"\",INDEX([1]YES_NO!$A$2:$A$100,MATCH('Access Point (Desc)'!$O417,[1]!MASTER_YES_NO_DESC[#Data],0),0))","v":""},{"$f":"IF('Access Point (Desc)'!P417=\"\",\"\",'Access Point (Desc)'!P417)","v":""},{"$f":"IF('Access Point (Desc)'!Q417=\"\",\"\",INDEX([1]YES_NO!$A$2:$A$100,MATCH('Access Point (Desc)'!$Q417,[1]!MASTER_YES_NO_DESC[#Data],0),0))","v":""}]
[{"$f":"IF('Access Point (Desc)'!A418=\"\",\"\",'Access Point (Desc)'!A418)","v":""},{"$f":"IF('Access Point (Desc)'!B418=\"\",\"\",'Access Point (Desc)'!B418)","v":""},{"$f":"IF('Access Point (Desc)'!C418=\"\",\"\",'Access Point (Desc)'!C418)","v":""},{"$f":"IF('Access Point (Desc)'!D418=\"\",\"\",'Access Point (Desc)'!D418)","v":""},{"$f":"IF('Access Point (Desc)'!E418=\"\",\"\",INDEX([1]OWNER!$A$2:$A$100,MATCH('Access Point (Desc)'!$E418,[1]!MASTER_OWNER_DESC[#Data],0),0))","v":""},{"$f":"IF('Access Point (Desc)'!F418=\"\",\"\",INDEX([1]COUNTY!$A$2:$A$100,MATCH('Access Point (Desc)'!F418,[1]!MASTER_COUNTY_NAME[#Data],0),0))","v":""},{"$f":"IF('Access Point (Desc)'!G418=\"\",\"\",'Access Point (Desc)'!G418)","v":""},{"$f":"IF('Access Point (Desc)'!H418=\"\",\"\",'Access Point (Desc)'!H418)","v":""},{"$f":"IF('Access Point (Desc)'!I418=\"\",\"\",INDEX([1]ROUTE_MH_TYPE!$A$2:$A$100,MATCH('Access Point (Desc)'!$I418,[1]!MASTER_ROUTE_MH_TYPE_DESC[#Data],0),0))","v":""},{"$f":"IF('Access Point (Desc)'!J418=\"\",\"\",INDEX([1]MANHOLE_MTL!$A$2:$A$100,MATCH('Access Point (Desc)'!$J418,[1]!MASTER_MANHOLE_MTL_DESC[#Data],0),0))","v":""},{"$f":"IF('Access Point (Desc)'!K418=\"\",\"\",INDEX([1]MANHOLE_SIZE!$A$2:$A$120,MATCH('Access Point (Desc)'!$K418,[1]!MASTER_MANHOLE_SIZE_DESC[#Data],0),0))","v":""},{"$f":"IF('Access Point (Desc)'!L418=\"\",\"\",INDEX([1]ROUTE_MH_LID_TYPE!$A$2:$A$100,MATCH('Access Point (Desc)'!$L418,[1]!MASTER_ROUTE_MH_LID_TYPE_DESC[#Data],0),0))","v":""},{"$f":"IF('Access Point (Desc)'!M418=\"\",\"\",INDEX([1]MANHOLE_MTL!$A$2:$A$100,MATCH('Access Point (Desc)'!$M418,[1]!MASTER_MANHOLE_MTL_DESC[#Data],0),0))","v":""},{"$f":"IF('Access Point (Desc)'!N418=\"\",\"\",INDEX([1]LID_BOLT_TYPE!$A$2:$A$100,MATCH('Access Point (Desc)'!$N418,[1]!MASTER_LID_BOLT_TYPE_DESC[#Data],0),0))","v":""},{"$f":"IF('Access Point (Desc)'!O418=\"\",\"\",INDEX([1]YES_NO!$A$2:$A$100,MATCH('Access Point (Desc)'!$O418,[1]!MASTER_YES_NO_DESC[#Data],0),0))","v":""},{"$f":"IF('Access Point (Desc)'!P418=\"\",\"\",'Access Point (Desc)'!P418)","v":""},{"$f":"IF('Access Point (Desc)'!Q418=\"\",\"\",INDEX([1]YES_NO!$A$2:$A$100,MATCH('Access Point (Desc)'!$Q418,[1]!MASTER_YES_NO_DESC[#Data],0),0))","v":""}]
[{"$f":"IF('Access Point (Desc)'!A419=\"\",\"\",'Access Point (Desc)'!A419)","v":""},{"$f":"IF('Access Point (Desc)'!B419=\"\",\"\",'Access Point (Desc)'!B419)","v":""},{"$f":"IF('Access Point (Desc)'!C419=\"\",\"\",'Access Point (Desc)'!C419)","v":""},{"$f":"IF('Access Point (Desc)'!D419=\"\",\"\",'Access Point (Desc)'!D419)","v":""},{"$f":"IF('Access Point (Desc)'!E419=\"\",\"\",INDEX([1]OWNER!$A$2:$A$100,MATCH('Access Point (Desc)'!$E419,[1]!MASTER_OWNER_DESC[#Data],0),0))","v":""},{"$f":"IF('Access Point (Desc)'!F419=\"\",\"\",INDEX([1]COUNTY!$A$2:$A$100,MATCH('Access Point (Desc)'!F419,[1]!MASTER_COUNTY_NAME[#Data],0),0))","v":""},{"$f":"IF('Access Point (Desc)'!G419=\"\",\"\",'Access Point (Desc)'!G419)","v":""},{"$f":"IF('Access Point (Desc)'!H419=\"\",\"\",'Access Point (Desc)'!H419)","v":""},{"$f":"IF('Access Point (Desc)'!I419=\"\",\"\",INDEX([1]ROUTE_MH_TYPE!$A$2:$A$100,MATCH('Access Point (Desc)'!$I419,[1]!MASTER_ROUTE_MH_TYPE_DESC[#Data],0),0))","v":""},{"$f":"IF('Access Point (Desc)'!J419=\"\",\"\",INDEX([1]MANHOLE_MTL!$A$2:$A$100,MATCH('Access Point (Desc)'!$J419,[1]!MASTER_MANHOLE_MTL_DESC[#Data],0),0))","v":""},{"$f":"IF('Access Point (Desc)'!K419=\"\",\"\",INDEX([1]MANHOLE_SIZE!$A$2:$A$120,MATCH('Access Point (Desc)'!$K419,[1]!MASTER_MANHOLE_SIZE_DESC[#Data],0),0))","v":""},{"$f":"IF('Access Point (Desc)'!L419=\"\",\"\",INDEX([1]ROUTE_MH_LID_TYPE!$A$2:$A$100,MATCH('Access Point (Desc)'!$L419,[1]!MASTER_ROUTE_MH_LID_TYPE_DESC[#Data],0),0))","v":""},{"$f":"IF('Access Point (Desc)'!M419=\"\",\"\",INDEX([1]MANHOLE_MTL!$A$2:$A$100,MATCH('Access Point (Desc)'!$M419,[1]!MASTER_MANHOLE_MTL_DESC[#Data],0),0))","v":""},{"$f":"IF('Access Point (Desc)'!N419=\"\",\"\",INDEX([1]LID_BOLT_TYPE!$A$2:$A$100,MATCH('Access Point (Desc)'!$N419,[1]!MASTER_LID_BOLT_TYPE_DESC[#Data],0),0))","v":""},{"$f":"IF('Access Point (Desc)'!O419=\"\",\"\",INDEX([1]YES_NO!$A$2:$A$100,MATCH('Access Point (Desc)'!$O419,[1]!MASTER_YES_NO_DESC[#Data],0),0))","v":""},{"$f":"IF('Access Point (Desc)'!P419=\"\",\"\",'Access Point (Desc)'!P419)","v":""},{"$f":"IF('Access Point (Desc)'!Q419=\"\",\"\",INDEX([1]YES_NO!$A$2:$A$100,MATCH('Access Point (Desc)'!$Q419,[1]!MASTER_YES_NO_DESC[#Data],0),0))","v":""}]
[{"$f":"IF('Access Point (Desc)'!A420=\"\",\"\",'Access Point (Desc)'!A420)","v":""},{"$f":"IF('Access Point (Desc)'!B420=\"\",\"\",'Access Point (Desc)'!B420)","v":""},{"$f":"IF('Access Point (Desc)'!C420=\"\",\"\",'Access Point (Desc)'!C420)","v":""},{"$f":"IF('Access Point (Desc)'!D420=\"\",\"\",'Access Point (Desc)'!D420)","v":""},{"$f":"IF('Access Point (Desc)'!E420=\"\",\"\",INDEX([1]OWNER!$A$2:$A$100,MATCH('Access Point (Desc)'!$E420,[1]!MASTER_OWNER_DESC[#Data],0),0))","v":""},{"$f":"IF('Access Point (Desc)'!F420=\"\",\"\",INDEX([1]COUNTY!$A$2:$A$100,MATCH('Access Point (Desc)'!F420,[1]!MASTER_COUNTY_NAME[#Data],0),0))","v":""},{"$f":"IF('Access Point (Desc)'!G420=\"\",\"\",'Access Point (Desc)'!G420)","v":""},{"$f":"IF('Access Point (Desc)'!H420=\"\",\"\",'Access Point (Desc)'!H420)","v":""},{"$f":"IF('Access Point (Desc)'!I420=\"\",\"\",INDEX([1]ROUTE_MH_TYPE!$A$2:$A$100,MATCH('Access Point (Desc)'!$I420,[1]!MASTER_ROUTE_MH_TYPE_DESC[#Data],0),0))","v":""},{"$f":"IF('Access Point (Desc)'!J420=\"\",\"\",INDEX([1]MANHOLE_MTL!$A$2:$A$100,MATCH('Access Point (Desc)'!$J420,[1]!MASTER_MANHOLE_MTL_DESC[#Data],0),0))","v":""},{"$f":"IF('Access Point (Desc)'!K420=\"\",\"\",INDEX([1]MANHOLE_SIZE!$A$2:$A$120,MATCH('Access Point (Desc)'!$K420,[1]!MASTER_MANHOLE_SIZE_DESC[#Data],0),0))","v":""},{"$f":"IF('Access Point (Desc)'!L420=\"\",\"\",INDEX([1]ROUTE_MH_LID_TYPE!$A$2:$A$100,MATCH('Access Point (Desc)'!$L420,[1]!MASTER_ROUTE_MH_LID_TYPE_DESC[#Data],0),0))","v":""},{"$f":"IF('Access Point (Desc)'!M420=\"\",\"\",INDEX([1]MANHOLE_MTL!$A$2:$A$100,MATCH('Access Point (Desc)'!$M420,[1]!MASTER_MANHOLE_MTL_DESC[#Data],0),0))","v":""},{"$f":"IF('Access Point (Desc)'!N420=\"\",\"\",INDEX([1]LID_BOLT_TYPE!$A$2:$A$100,MATCH('Access Point (Desc)'!$N420,[1]!MASTER_LID_BOLT_TYPE_DESC[#Data],0),0))","v":""},{"$f":"IF('Access Point (Desc)'!O420=\"\",\"\",INDEX([1]YES_NO!$A$2:$A$100,MATCH('Access Point (Desc)'!$O420,[1]!MASTER_YES_NO_DESC[#Data],0),0))","v":""},{"$f":"IF('Access Point (Desc)'!P420=\"\",\"\",'Access Point (Desc)'!P420)","v":""},{"$f":"IF('Access Point (Desc)'!Q420=\"\",\"\",INDEX([1]YES_NO!$A$2:$A$100,MATCH('Access Point (Desc)'!$Q420,[1]!MASTER_YES_NO_DESC[#Data],0),0))","v":""}]
[{"$f":"IF('Access Point (Desc)'!A421=\"\",\"\",'Access Point (Desc)'!A421)","v":""},{"$f":"IF('Access Point (Desc)'!B421=\"\",\"\",'Access Point (Desc)'!B421)","v":""},{"$f":"IF('Access Point (Desc)'!C421=\"\",\"\",'Access Point (Desc)'!C421)","v":""},{"$f":"IF('Access Point (Desc)'!D421=\"\",\"\",'Access Point (Desc)'!D421)","v":""},{"$f":"IF('Access Point (Desc)'!E421=\"\",\"\",INDEX([1]OWNER!$A$2:$A$100,MATCH('Access Point (Desc)'!$E421,[1]!MASTER_OWNER_DESC[#Data],0),0))","v":""},{"$f":"IF('Access Point (Desc)'!F421=\"\",\"\",INDEX([1]COUNTY!$A$2:$A$100,MATCH('Access Point (Desc)'!F421,[1]!MASTER_COUNTY_NAME[#Data],0),0))","v":""},{"$f":"IF('Access Point (Desc)'!G421=\"\",\"\",'Access Point (Desc)'!G421)","v":""},{"$f":"IF('Access Point (Desc)'!H421=\"\",\"\",'Access Point (Desc)'!H421)","v":""},{"$f":"IF('Access Point (Desc)'!I421=\"\",\"\",INDEX([1]ROUTE_MH_TYPE!$A$2:$A$100,MATCH('Access Point (Desc)'!$I421,[1]!MASTER_ROUTE_MH_TYPE_DESC[#Data],0),0))","v":""},{"$f":"IF('Access Point (Desc)'!J421=\"\",\"\",INDEX([1]MANHOLE_MTL!$A$2:$A$100,MATCH('Access Point (Desc)'!$J421,[1]!MASTER_MANHOLE_MTL_DESC[#Data],0),0))","v":""},{"$f":"IF('Access Point (Desc)'!K421=\"\",\"\",INDEX([1]MANHOLE_SIZE!$A$2:$A$120,MATCH('Access Point (Desc)'!$K421,[1]!MASTER_MANHOLE_SIZE_DESC[#Data],0),0))","v":""},{"$f":"IF('Access Point (Desc)'!L421=\"\",\"\",INDEX([1]ROUTE_MH_LID_TYPE!$A$2:$A$100,MATCH('Access Point (Desc)'!$L421,[1]!MASTER_ROUTE_MH_LID_TYPE_DESC[#Data],0),0))","v":""},{"$f":"IF('Access Point (Desc)'!M421=\"\",\"\",INDEX([1]MANHOLE_MTL!$A$2:$A$100,MATCH('Access Point (Desc)'!$M421,[1]!MASTER_MANHOLE_MTL_DESC[#Data],0),0))","v":""},{"$f":"IF('Access Point (Desc)'!N421=\"\",\"\",INDEX([1]LID_BOLT_TYPE!$A$2:$A$100,MATCH('Access Point (Desc)'!$N421,[1]!MASTER_LID_BOLT_TYPE_DESC[#Data],0),0))","v":""},{"$f":"IF('Access Point (Desc)'!O421=\"\",\"\",INDEX([1]YES_NO!$A$2:$A$100,MATCH('Access Point (Desc)'!$O421,[1]!MASTER_YES_NO_DESC[#Data],0),0))","v":""},{"$f":"IF('Access Point (Desc)'!P421=\"\",\"\",'Access Point (Desc)'!P421)","v":""},{"$f":"IF('Access Point (Desc)'!Q421=\"\",\"\",INDEX([1]YES_NO!$A$2:$A$100,MATCH('Access Point (Desc)'!$Q421,[1]!MASTER_YES_NO_DESC[#Data],0),0))","v":""}]
[{"$f":"IF('Access Point (Desc)'!A422=\"\",\"\",'Access Point (Desc)'!A422)","v":""},{"$f":"IF('Access Point (Desc)'!B422=\"\",\"\",'Access Point (Desc)'!B422)","v":""},{"$f":"IF('Access Point (Desc)'!C422=\"\",\"\",'Access Point (Desc)'!C422)","v":""},{"$f":"IF('Access Point (Desc)'!D422=\"\",\"\",'Access Point (Desc)'!D422)","v":""},{"$f":"IF('Access Point (Desc)'!E422=\"\",\"\",INDEX([1]OWNER!$A$2:$A$100,MATCH('Access Point (Desc)'!$E422,[1]!MASTER_OWNER_DESC[#Data],0),0))","v":""},{"$f":"IF('Access Point (Desc)'!F422=\"\",\"\",INDEX([1]COUNTY!$A$2:$A$100,MATCH('Access Point (Desc)'!F422,[1]!MASTER_COUNTY_NAME[#Data],0),0))","v":""},{"$f":"IF('Access Point (Desc)'!G422=\"\",\"\",'Access Point (Desc)'!G422)","v":""},{"$f":"IF('Access Point (Desc)'!H422=\"\",\"\",'Access Point (Desc)'!H422)","v":""},{"$f":"IF('Access Point (Desc)'!I422=\"\",\"\",INDEX([1]ROUTE_MH_TYPE!$A$2:$A$100,MATCH('Access Point (Desc)'!$I422,[1]!MASTER_ROUTE_MH_TYPE_DESC[#Data],0),0))","v":""},{"$f":"IF('Access Point (Desc)'!J422=\"\",\"\",INDEX([1]MANHOLE_MTL!$A$2:$A$100,MATCH('Access Point (Desc)'!$J422,[1]!MASTER_MANHOLE_MTL_DESC[#Data],0),0))","v":""},{"$f":"IF('Access Point (Desc)'!K422=\"\",\"\",INDEX([1]MANHOLE_SIZE!$A$2:$A$120,MATCH('Access Point (Desc)'!$K422,[1]!MASTER_MANHOLE_SIZE_DESC[#Data],0),0))","v":""},{"$f":"IF('Access Point (Desc)'!L422=\"\",\"\",INDEX([1]ROUTE_MH_LID_TYPE!$A$2:$A$100,MATCH('Access Point (Desc)'!$L422,[1]!MASTER_ROUTE_MH_LID_TYPE_DESC[#Data],0),0))","v":""},{"$f":"IF('Access Point (Desc)'!M422=\"\",\"\",INDEX([1]MANHOLE_MTL!$A$2:$A$100,MATCH('Access Point (Desc)'!$M422,[1]!MASTER_MANHOLE_MTL_DESC[#Data],0),0))","v":""},{"$f":"IF('Access Point (Desc)'!N422=\"\",\"\",INDEX([1]LID_BOLT_TYPE!$A$2:$A$100,MATCH('Access Point (Desc)'!$N422,[1]!MASTER_LID_BOLT_TYPE_DESC[#Data],0),0))","v":""},{"$f":"IF('Access Point (Desc)'!O422=\"\",\"\",INDEX([1]YES_NO!$A$2:$A$100,MATCH('Access Point (Desc)'!$O422,[1]!MASTER_YES_NO_DESC[#Data],0),0))","v":""},{"$f":"IF('Access Point (Desc)'!P422=\"\",\"\",'Access Point (Desc)'!P422)","v":""},{"$f":"IF('Access Point (Desc)'!Q422=\"\",\"\",INDEX([1]YES_NO!$A$2:$A$100,MATCH('Access Point (Desc)'!$Q422,[1]!MASTER_YES_NO_DESC[#Data],0),0))","v":""}]
[{"$f":"IF('Access Point (Desc)'!A423=\"\",\"\",'Access Point (Desc)'!A423)","v":""},{"$f":"IF('Access Point (Desc)'!B423=\"\",\"\",'Access Point (Desc)'!B423)","v":""},{"$f":"IF('Access Point (Desc)'!C423=\"\",\"\",'Access Point (Desc)'!C423)","v":""},{"$f":"IF('Access Point (Desc)'!D423=\"\",\"\",'Access Point (Desc)'!D423)","v":""},{"$f":"IF('Access Point (Desc)'!E423=\"\",\"\",INDEX([1]OWNER!$A$2:$A$100,MATCH('Access Point (Desc)'!$E423,[1]!MASTER_OWNER_DESC[#Data],0),0))","v":""},{"$f":"IF('Access Point (Desc)'!F423=\"\",\"\",INDEX([1]COUNTY!$A$2:$A$100,MATCH('Access Point (Desc)'!F423,[1]!MASTER_COUNTY_NAME[#Data],0),0))","v":""},{"$f":"IF('Access Point (Desc)'!G423=\"\",\"\",'Access Point (Desc)'!G423)","v":""},{"$f":"IF('Access Point (Desc)'!H423=\"\",\"\",'Access Point (Desc)'!H423)","v":""},{"$f":"IF('Access Point (Desc)'!I423=\"\",\"\",INDEX([1]ROUTE_MH_TYPE!$A$2:$A$100,MATCH('Access Point (Desc)'!$I423,[1]!MASTER_ROUTE_MH_TYPE_DESC[#Data],0),0))","v":""},{"$f":"IF('Access Point (Desc)'!J423=\"\",\"\",INDEX([1]MANHOLE_MTL!$A$2:$A$100,MATCH('Access Point (Desc)'!$J423,[1]!MASTER_MANHOLE_MTL_DESC[#Data],0),0))","v":""},{"$f":"IF('Access Point (Desc)'!K423=\"\",\"\",INDEX([1]MANHOLE_SIZE!$A$2:$A$120,MATCH('Access Point (Desc)'!$K423,[1]!MASTER_MANHOLE_SIZE_DESC[#Data],0),0))","v":""},{"$f":"IF('Access Point (Desc)'!L423=\"\",\"\",INDEX([1]ROUTE_MH_LID_TYPE!$A$2:$A$100,MATCH('Access Point (Desc)'!$L423,[1]!MASTER_ROUTE_MH_LID_TYPE_DESC[#Data],0),0))","v":""},{"$f":"IF('Access Point (Desc)'!M423=\"\",\"\",INDEX([1]MANHOLE_MTL!$A$2:$A$100,MATCH('Access Point (Desc)'!$M423,[1]!MASTER_MANHOLE_MTL_DESC[#Data],0),0))","v":""},{"$f":"IF('Access Point (Desc)'!N423=\"\",\"\",INDEX([1]LID_BOLT_TYPE!$A$2:$A$100,MATCH('Access Point (Desc)'!$N423,[1]!MASTER_LID_BOLT_TYPE_DESC[#Data],0),0))","v":""},{"$f":"IF('Access Point (Desc)'!O423=\"\",\"\",INDEX([1]YES_NO!$A$2:$A$100,MATCH('Access Point (Desc)'!$O423,[1]!MASTER_YES_NO_DESC[#Data],0),0))","v":""},{"$f":"IF('Access Point (Desc)'!P423=\"\",\"\",'Access Point (Desc)'!P423)","v":""},{"$f":"IF('Access Point (Desc)'!Q423=\"\",\"\",INDEX([1]YES_NO!$A$2:$A$100,MATCH('Access Point (Desc)'!$Q423,[1]!MASTER_YES_NO_DESC[#Data],0),0))","v":""}]
[{"$f":"IF('Access Point (Desc)'!A424=\"\",\"\",'Access Point (Desc)'!A424)","v":""},{"$f":"IF('Access Point (Desc)'!B424=\"\",\"\",'Access Point (Desc)'!B424)","v":""},{"$f":"IF('Access Point (Desc)'!C424=\"\",\"\",'Access Point (Desc)'!C424)","v":""},{"$f":"IF('Access Point (Desc)'!D424=\"\",\"\",'Access Point (Desc)'!D424)","v":""},{"$f":"IF('Access Point (Desc)'!E424=\"\",\"\",INDEX([1]OWNER!$A$2:$A$100,MATCH('Access Point (Desc)'!$E424,[1]!MASTER_OWNER_DESC[#Data],0),0))","v":""},{"$f":"IF('Access Point (Desc)'!F424=\"\",\"\",INDEX([1]COUNTY!$A$2:$A$100,MATCH('Access Point (Desc)'!F424,[1]!MASTER_COUNTY_NAME[#Data],0),0))","v":""},{"$f":"IF('Access Point (Desc)'!G424=\"\",\"\",'Access Point (Desc)'!G424)","v":""},{"$f":"IF('Access Point (Desc)'!H424=\"\",\"\",'Access Point (Desc)'!H424)","v":""},{"$f":"IF('Access Point (Desc)'!I424=\"\",\"\",INDEX([1]ROUTE_MH_TYPE!$A$2:$A$100,MATCH('Access Point (Desc)'!$I424,[1]!MASTER_ROUTE_MH_TYPE_DESC[#Data],0),0))","v":""},{"$f":"IF('Access Point (Desc)'!J424=\"\",\"\",INDEX([1]MANHOLE_MTL!$A$2:$A$100,MATCH('Access Point (Desc)'!$J424,[1]!MASTER_MANHOLE_MTL_DESC[#Data],0),0))","v":""},{"$f":"IF('Access Point (Desc)'!K424=\"\",\"\",INDEX([1]MANHOLE_SIZE!$A$2:$A$120,MATCH('Access Point (Desc)'!$K424,[1]!MASTER_MANHOLE_SIZE_DESC[#Data],0),0))","v":""},{"$f":"IF('Access Point (Desc)'!L424=\"\",\"\",INDEX([1]ROUTE_MH_LID_TYPE!$A$2:$A$100,MATCH('Access Point (Desc)'!$L424,[1]!MASTER_ROUTE_MH_LID_TYPE_DESC[#Data],0),0))","v":""},{"$f":"IF('Access Point (Desc)'!M424=\"\",\"\",INDEX([1]MANHOLE_MTL!$A$2:$A$100,MATCH('Access Point (Desc)'!$M424,[1]!MASTER_MANHOLE_MTL_DESC[#Data],0),0))","v":""},{"$f":"IF('Access Point (Desc)'!N424=\"\",\"\",INDEX([1]LID_BOLT_TYPE!$A$2:$A$100,MATCH('Access Point (Desc)'!$N424,[1]!MASTER_LID_BOLT_TYPE_DESC[#Data],0),0))","v":""},{"$f":"IF('Access Point (Desc)'!O424=\"\",\"\",INDEX([1]YES_NO!$A$2:$A$100,MATCH('Access Point (Desc)'!$O424,[1]!MASTER_YES_NO_DESC[#Data],0),0))","v":""},{"$f":"IF('Access Point (Desc)'!P424=\"\",\"\",'Access Point (Desc)'!P424)","v":""},{"$f":"IF('Access Point (Desc)'!Q424=\"\",\"\",INDEX([1]YES_NO!$A$2:$A$100,MATCH('Access Point (Desc)'!$Q424,[1]!MASTER_YES_NO_DESC[#Data],0),0))","v":""}]
[{"$f":"IF('Access Point (Desc)'!A425=\"\",\"\",'Access Point (Desc)'!A425)","v":""},{"$f":"IF('Access Point (Desc)'!B425=\"\",\"\",'Access Point (Desc)'!B425)","v":""},{"$f":"IF('Access Point (Desc)'!C425=\"\",\"\",'Access Point (Desc)'!C425)","v":""},{"$f":"IF('Access Point (Desc)'!D425=\"\",\"\",'Access Point (Desc)'!D425)","v":""},{"$f":"IF('Access Point (Desc)'!E425=\"\",\"\",INDEX([1]OWNER!$A$2:$A$100,MATCH('Access Point (Desc)'!$E425,[1]!MASTER_OWNER_DESC[#Data],0),0))","v":""},{"$f":"IF('Access Point (Desc)'!F425=\"\",\"\",INDEX([1]COUNTY!$A$2:$A$100,MATCH('Access Point (Desc)'!F425,[1]!MASTER_COUNTY_NAME[#Data],0),0))","v":""},{"$f":"IF('Access Point (Desc)'!G425=\"\",\"\",'Access Point (Desc)'!G425)","v":""},{"$f":"IF('Access Point (Desc)'!H425=\"\",\"\",'Access Point (Desc)'!H425)","v":""},{"$f":"IF('Access Point (Desc)'!I425=\"\",\"\",INDEX([1]ROUTE_MH_TYPE!$A$2:$A$100,MATCH('Access Point (Desc)'!$I425,[1]!MASTER_ROUTE_MH_TYPE_DESC[#Data],0),0))","v":""},{"$f":"IF('Access Point (Desc)'!J425=\"\",\"\",INDEX([1]MANHOLE_MTL!$A$2:$A$100,MATCH('Access Point (Desc)'!$J425,[1]!MASTER_MANHOLE_MTL_DESC[#Data],0),0))","v":""},{"$f":"IF('Access Point (Desc)'!K425=\"\",\"\",INDEX([1]MANHOLE_SIZE!$A$2:$A$120,MATCH('Access Point (Desc)'!$K425,[1]!MASTER_MANHOLE_SIZE_DESC[#Data],0),0))","v":""},{"$f":"IF('Access Point (Desc)'!L425=\"\",\"\",INDEX([1]ROUTE_MH_LID_TYPE!$A$2:$A$100,MATCH('Access Point (Desc)'!$L425,[1]!MASTER_ROUTE_MH_LID_TYPE_DESC[#Data],0),0))","v":""},{"$f":"IF('Access Point (Desc)'!M425=\"\",\"\",INDEX([1]MANHOLE_MTL!$A$2:$A$100,MATCH('Access Point (Desc)'!$M425,[1]!MASTER_MANHOLE_MTL_DESC[#Data],0),0))","v":""},{"$f":"IF('Access Point (Desc)'!N425=\"\",\"\",INDEX([1]LID_BOLT_TYPE!$A$2:$A$100,MATCH('Access Point (Desc)'!$N425,[1]!MASTER_LID_BOLT_TYPE_DESC[#Data],0),0))","v":""},{"$f":"IF('Access Point (Desc)'!O425=\"\",\"\",INDEX([1]YES_NO!$A$2:$A$100,MATCH('Access Point (Desc)'!$O425,[1]!MASTER_YES_NO_DESC[#Data],0),0))","v":""},{"$f":"IF('Access Point (Desc)'!P425=\"\",\"\",'Access Point (Desc)'!P425)","v":""},{"$f":"IF('Access Point (Desc)'!Q425=\"\",\"\",INDEX([1]YES_NO!$A$2:$A$100,MATCH('Access Point (Desc)'!$Q425,[1]!MASTER_YES_NO_DESC[#Data],0),0))","v":""}]
[{"$f":"IF('Access Point (Desc)'!A426=\"\",\"\",'Access Point (Desc)'!A426)","v":""},{"$f":"IF('Access Point (Desc)'!B426=\"\",\"\",'Access Point (Desc)'!B426)","v":""},{"$f":"IF('Access Point (Desc)'!C426=\"\",\"\",'Access Point (Desc)'!C426)","v":""},{"$f":"IF('Access Point (Desc)'!D426=\"\",\"\",'Access Point (Desc)'!D426)","v":""},{"$f":"IF('Access Point (Desc)'!E426=\"\",\"\",INDEX([1]OWNER!$A$2:$A$100,MATCH('Access Point (Desc)'!$E426,[1]!MASTER_OWNER_DESC[#Data],0),0))","v":""},{"$f":"IF('Access Point (Desc)'!F426=\"\",\"\",INDEX([1]COUNTY!$A$2:$A$100,MATCH('Access Point (Desc)'!F426,[1]!MASTER_COUNTY_NAME[#Data],0),0))","v":""},{"$f":"IF('Access Point (Desc)'!G426=\"\",\"\",'Access Point (Desc)'!G426)","v":""},{"$f":"IF('Access Point (Desc)'!H426=\"\",\"\",'Access Point (Desc)'!H426)","v":""},{"$f":"IF('Access Point (Desc)'!I426=\"\",\"\",INDEX([1]ROUTE_MH_TYPE!$A$2:$A$100,MATCH('Access Point (Desc)'!$I426,[1]!MASTER_ROUTE_MH_TYPE_DESC[#Data],0),0))","v":""},{"$f":"IF('Access Point (Desc)'!J426=\"\",\"\",INDEX([1]MANHOLE_MTL!$A$2:$A$100,MATCH('Access Point (Desc)'!$J426,[1]!MASTER_MANHOLE_MTL_DESC[#Data],0),0))","v":""},{"$f":"IF('Access Point (Desc)'!K426=\"\",\"\",INDEX([1]MANHOLE_SIZE!$A$2:$A$120,MATCH('Access Point (Desc)'!$K426,[1]!MASTER_MANHOLE_SIZE_DESC[#Data],0),0))","v":""},{"$f":"IF('Access Point (Desc)'!L426=\"\",\"\",INDEX([1]ROUTE_MH_LID_TYPE!$A$2:$A$100,MATCH('Access Point (Desc)'!$L426,[1]!MASTER_ROUTE_MH_LID_TYPE_DESC[#Data],0),0))","v":""},{"$f":"IF('Access Point (Desc)'!M426=\"\",\"\",INDEX([1]MANHOLE_MTL!$A$2:$A$100,MATCH('Access Point (Desc)'!$M426,[1]!MASTER_MANHOLE_MTL_DESC[#Data],0),0))","v":""},{"$f":"IF('Access Point (Desc)'!N426=\"\",\"\",INDEX([1]LID_BOLT_TYPE!$A$2:$A$100,MATCH('Access Point (Desc)'!$N426,[1]!MASTER_LID_BOLT_TYPE_DESC[#Data],0),0))","v":""},{"$f":"IF('Access Point (Desc)'!O426=\"\",\"\",INDEX([1]YES_NO!$A$2:$A$100,MATCH('Access Point (Desc)'!$O426,[1]!MASTER_YES_NO_DESC[#Data],0),0))","v":""},{"$f":"IF('Access Point (Desc)'!P426=\"\",\"\",'Access Point (Desc)'!P426)","v":""},{"$f":"IF('Access Point (Desc)'!Q426=\"\",\"\",INDEX([1]YES_NO!$A$2:$A$100,MATCH('Access Point (Desc)'!$Q426,[1]!MASTER_YES_NO_DESC[#Data],0),0))","v":""}]
[{"$f":"IF('Access Point (Desc)'!A427=\"\",\"\",'Access Point (Desc)'!A427)","v":""},{"$f":"IF('Access Point (Desc)'!B427=\"\",\"\",'Access Point (Desc)'!B427)","v":""},{"$f":"IF('Access Point (Desc)'!C427=\"\",\"\",'Access Point (Desc)'!C427)","v":""},{"$f":"IF('Access Point (Desc)'!D427=\"\",\"\",'Access Point (Desc)'!D427)","v":""},{"$f":"IF('Access Point (Desc)'!E427=\"\",\"\",INDEX([1]OWNER!$A$2:$A$100,MATCH('Access Point (Desc)'!$E427,[1]!MASTER_OWNER_DESC[#Data],0),0))","v":""},{"$f":"IF('Access Point (Desc)'!F427=\"\",\"\",INDEX([1]COUNTY!$A$2:$A$100,MATCH('Access Point (Desc)'!F427,[1]!MASTER_COUNTY_NAME[#Data],0),0))","v":""},{"$f":"IF('Access Point (Desc)'!G427=\"\",\"\",'Access Point (Desc)'!G427)","v":""},{"$f":"IF('Access Point (Desc)'!H427=\"\",\"\",'Access Point (Desc)'!H427)","v":""},{"$f":"IF('Access Point (Desc)'!I427=\"\",\"\",INDEX([1]ROUTE_MH_TYPE!$A$2:$A$100,MATCH('Access Point (Desc)'!$I427,[1]!MASTER_ROUTE_MH_TYPE_DESC[#Data],0),0))","v":""},{"$f":"IF('Access Point (Desc)'!J427=\"\",\"\",INDEX([1]MANHOLE_MTL!$A$2:$A$100,MATCH('Access Point (Desc)'!$J427,[1]!MASTER_MANHOLE_MTL_DESC[#Data],0),0))","v":""},{"$f":"IF('Access Point (Desc)'!K427=\"\",\"\",INDEX([1]MANHOLE_SIZE!$A$2:$A$120,MATCH('Access Point (Desc)'!$K427,[1]!MASTER_MANHOLE_SIZE_DESC[#Data],0),0))","v":""},{"$f":"IF('Access Point (Desc)'!L427=\"\",\"\",INDEX([1]ROUTE_MH_LID_TYPE!$A$2:$A$100,MATCH('Access Point (Desc)'!$L427,[1]!MASTER_ROUTE_MH_LID_TYPE_DESC[#Data],0),0))","v":""},{"$f":"IF('Access Point (Desc)'!M427=\"\",\"\",INDEX([1]MANHOLE_MTL!$A$2:$A$100,MATCH('Access Point (Desc)'!$M427,[1]!MASTER_MANHOLE_MTL_DESC[#Data],0),0))","v":""},{"$f":"IF('Access Point (Desc)'!N427=\"\",\"\",INDEX([1]LID_BOLT_TYPE!$A$2:$A$100,MATCH('Access Point (Desc)'!$N427,[1]!MASTER_LID_BOLT_TYPE_DESC[#Data],0),0))","v":""},{"$f":"IF('Access Point (Desc)'!O427=\"\",\"\",INDEX([1]YES_NO!$A$2:$A$100,MATCH('Access Point (Desc)'!$O427,[1]!MASTER_YES_NO_DESC[#Data],0),0))","v":""},{"$f":"IF('Access Point (Desc)'!P427=\"\",\"\",'Access Point (Desc)'!P427)","v":""},{"$f":"IF('Access Point (Desc)'!Q427=\"\",\"\",INDEX([1]YES_NO!$A$2:$A$100,MATCH('Access Point (Desc)'!$Q427,[1]!MASTER_YES_NO_DESC[#Data],0),0))","v":""}]
[{"$f":"IF('Access Point (Desc)'!A428=\"\",\"\",'Access Point (Desc)'!A428)","v":""},{"$f":"IF('Access Point (Desc)'!B428=\"\",\"\",'Access Point (Desc)'!B428)","v":""},{"$f":"IF('Access Point (Desc)'!C428=\"\",\"\",'Access Point (Desc)'!C428)","v":""},{"$f":"IF('Access Point (Desc)'!D428=\"\",\"\",'Access Point (Desc)'!D428)","v":""},{"$f":"IF('Access Point (Desc)'!E428=\"\",\"\",INDEX([1]OWNER!$A$2:$A$100,MATCH('Access Point (Desc)'!$E428,[1]!MASTER_OWNER_DESC[#Data],0),0))","v":""},{"$f":"IF('Access Point (Desc)'!F428=\"\",\"\",INDEX([1]COUNTY!$A$2:$A$100,MATCH('Access Point (Desc)'!F428,[1]!MASTER_COUNTY_NAME[#Data],0),0))","v":""},{"$f":"IF('Access Point (Desc)'!G428=\"\",\"\",'Access Point (Desc)'!G428)","v":""},{"$f":"IF('Access Point (Desc)'!H428=\"\",\"\",'Access Point (Desc)'!H428)","v":""},{"$f":"IF('Access Point (Desc)'!I428=\"\",\"\",INDEX([1]ROUTE_MH_TYPE!$A$2:$A$100,MATCH('Access Point (Desc)'!$I428,[1]!MASTER_ROUTE_MH_TYPE_DESC[#Data],0),0))","v":""},{"$f":"IF('Access Point (Desc)'!J428=\"\",\"\",INDEX([1]MANHOLE_MTL!$A$2:$A$100,MATCH('Access Point (Desc)'!$J428,[1]!MASTER_MANHOLE_MTL_DESC[#Data],0),0))","v":""},{"$f":"IF('Access Point (Desc)'!K428=\"\",\"\",INDEX([1]MANHOLE_SIZE!$A$2:$A$120,MATCH('Access Point (Desc)'!$K428,[1]!MASTER_MANHOLE_SIZE_DESC[#Data],0),0))","v":""},{"$f":"IF('Access Point (Desc)'!L428=\"\",\"\",INDEX([1]ROUTE_MH_LID_TYPE!$A$2:$A$100,MATCH('Access Point (Desc)'!$L428,[1]!MASTER_ROUTE_MH_LID_TYPE_DESC[#Data],0),0))","v":""},{"$f":"IF('Access Point (Desc)'!M428=\"\",\"\",INDEX([1]MANHOLE_MTL!$A$2:$A$100,MATCH('Access Point (Desc)'!$M428,[1]!MASTER_MANHOLE_MTL_DESC[#Data],0),0))","v":""},{"$f":"IF('Access Point (Desc)'!N428=\"\",\"\",INDEX([1]LID_BOLT_TYPE!$A$2:$A$100,MATCH('Access Point (Desc)'!$N428,[1]!MASTER_LID_BOLT_TYPE_DESC[#Data],0),0))","v":""},{"$f":"IF('Access Point (Desc)'!O428=\"\",\"\",INDEX([1]YES_NO!$A$2:$A$100,MATCH('Access Point (Desc)'!$O428,[1]!MASTER_YES_NO_DESC[#Data],0),0))","v":""},{"$f":"IF('Access Point (Desc)'!P428=\"\",\"\",'Access Point (Desc)'!P428)","v":""},{"$f":"IF('Access Point (Desc)'!Q428=\"\",\"\",INDEX([1]YES_NO!$A$2:$A$100,MATCH('Access Point (Desc)'!$Q428,[1]!MASTER_YES_NO_DESC[#Data],0),0))","v":""}]
[{"$f":"IF('Access Point (Desc)'!A429=\"\",\"\",'Access Point (Desc)'!A429)","v":""},{"$f":"IF('Access Point (Desc)'!B429=\"\",\"\",'Access Point (Desc)'!B429)","v":""},{"$f":"IF('Access Point (Desc)'!C429=\"\",\"\",'Access Point (Desc)'!C429)","v":""},{"$f":"IF('Access Point (Desc)'!D429=\"\",\"\",'Access Point (Desc)'!D429)","v":""},{"$f":"IF('Access Point (Desc)'!E429=\"\",\"\",INDEX([1]OWNER!$A$2:$A$100,MATCH('Access Point (Desc)'!$E429,[1]!MASTER_OWNER_DESC[#Data],0),0))","v":""},{"$f":"IF('Access Point (Desc)'!F429=\"\",\"\",INDEX([1]COUNTY!$A$2:$A$100,MATCH('Access Point (Desc)'!F429,[1]!MASTER_COUNTY_NAME[#Data],0),0))","v":""},{"$f":"IF('Access Point (Desc)'!G429=\"\",\"\",'Access Point (Desc)'!G429)","v":""},{"$f":"IF('Access Point (Desc)'!H429=\"\",\"\",'Access Point (Desc)'!H429)","v":""},{"$f":"IF('Access Point (Desc)'!I429=\"\",\"\",INDEX([1]ROUTE_MH_TYPE!$A$2:$A$100,MATCH('Access Point (Desc)'!$I429,[1]!MASTER_ROUTE_MH_TYPE_DESC[#Data],0),0))","v":""},{"$f":"IF('Access Point (Desc)'!J429=\"\",\"\",INDEX([1]MANHOLE_MTL!$A$2:$A$100,MATCH('Access Point (Desc)'!$J429,[1]!MASTER_MANHOLE_MTL_DESC[#Data],0),0))","v":""},{"$f":"IF('Access Point (Desc)'!K429=\"\",\"\",INDEX([1]MANHOLE_SIZE!$A$2:$A$120,MATCH('Access Point (Desc)'!$K429,[1]!MASTER_MANHOLE_SIZE_DESC[#Data],0),0))","v":""},{"$f":"IF('Access Point (Desc)'!L429=\"\",\"\",INDEX([1]ROUTE_MH_LID_TYPE!$A$2:$A$100,MATCH('Access Point (Desc)'!$L429,[1]!MASTER_ROUTE_MH_LID_TYPE_DESC[#Data],0),0))","v":""},{"$f":"IF('Access Point (Desc)'!M429=\"\",\"\",INDEX([1]MANHOLE_MTL!$A$2:$A$100,MATCH('Access Point (Desc)'!$M429,[1]!MASTER_MANHOLE_MTL_DESC[#Data],0),0))","v":""},{"$f":"IF('Access Point (Desc)'!N429=\"\",\"\",INDEX([1]LID_BOLT_TYPE!$A$2:$A$100,MATCH('Access Point (Desc)'!$N429,[1]!MASTER_LID_BOLT_TYPE_DESC[#Data],0),0))","v":""},{"$f":"IF('Access Point (Desc)'!O429=\"\",\"\",INDEX([1]YES_NO!$A$2:$A$100,MATCH('Access Point (Desc)'!$O429,[1]!MASTER_YES_NO_DESC[#Data],0),0))","v":""},{"$f":"IF('Access Point (Desc)'!P429=\"\",\"\",'Access Point (Desc)'!P429)","v":""},{"$f":"IF('Access Point (Desc)'!Q429=\"\",\"\",INDEX([1]YES_NO!$A$2:$A$100,MATCH('Access Point (Desc)'!$Q429,[1]!MASTER_YES_NO_DESC[#Data],0),0))","v":""}]
[{"$f":"IF('Access Point (Desc)'!A430=\"\",\"\",'Access Point (Desc)'!A430)","v":""},{"$f":"IF('Access Point (Desc)'!B430=\"\",\"\",'Access Point (Desc)'!B430)","v":""},{"$f":"IF('Access Point (Desc)'!C430=\"\",\"\",'Access Point (Desc)'!C430)","v":""},{"$f":"IF('Access Point (Desc)'!D430=\"\",\"\",'Access Point (Desc)'!D430)","v":""},{"$f":"IF('Access Point (Desc)'!E430=\"\",\"\",INDEX([1]OWNER!$A$2:$A$100,MATCH('Access Point (Desc)'!$E430,[1]!MASTER_OWNER_DESC[#Data],0),0))","v":""},{"$f":"IF('Access Point (Desc)'!F430=\"\",\"\",INDEX([1]COUNTY!$A$2:$A$100,MATCH('Access Point (Desc)'!F430,[1]!MASTER_COUNTY_NAME[#Data],0),0))","v":""},{"$f":"IF('Access Point (Desc)'!G430=\"\",\"\",'Access Point (Desc)'!G430)","v":""},{"$f":"IF('Access Point (Desc)'!H430=\"\",\"\",'Access Point (Desc)'!H430)","v":""},{"$f":"IF('Access Point (Desc)'!I430=\"\",\"\",INDEX([1]ROUTE_MH_TYPE!$A$2:$A$100,MATCH('Access Point (Desc)'!$I430,[1]!MASTER_ROUTE_MH_TYPE_DESC[#Data],0),0))","v":""},{"$f":"IF('Access Point (Desc)'!J430=\"\",\"\",INDEX([1]MANHOLE_MTL!$A$2:$A$100,MATCH('Access Point (Desc)'!$J430,[1]!MASTER_MANHOLE_MTL_DESC[#Data],0),0))","v":""},{"$f":"IF('Access Point (Desc)'!K430=\"\",\"\",INDEX([1]MANHOLE_SIZE!$A$2:$A$120,MATCH('Access Point (Desc)'!$K430,[1]!MASTER_MANHOLE_SIZE_DESC[#Data],0),0))","v":""},{"$f":"IF('Access Point (Desc)'!L430=\"\",\"\",INDEX([1]ROUTE_MH_LID_TYPE!$A$2:$A$100,MATCH('Access Point (Desc)'!$L430,[1]!MASTER_ROUTE_MH_LID_TYPE_DESC[#Data],0),0))","v":""},{"$f":"IF('Access Point (Desc)'!M430=\"\",\"\",INDEX([1]MANHOLE_MTL!$A$2:$A$100,MATCH('Access Point (Desc)'!$M430,[1]!MASTER_MANHOLE_MTL_DESC[#Data],0),0))","v":""},{"$f":"IF('Access Point (Desc)'!N430=\"\",\"\",INDEX([1]LID_BOLT_TYPE!$A$2:$A$100,MATCH('Access Point (Desc)'!$N430,[1]!MASTER_LID_BOLT_TYPE_DESC[#Data],0),0))","v":""},{"$f":"IF('Access Point (Desc)'!O430=\"\",\"\",INDEX([1]YES_NO!$A$2:$A$100,MATCH('Access Point (Desc)'!$O430,[1]!MASTER_YES_NO_DESC[#Data],0),0))","v":""},{"$f":"IF('Access Point (Desc)'!P430=\"\",\"\",'Access Point (Desc)'!P430)","v":""},{"$f":"IF('Access Point (Desc)'!Q430=\"\",\"\",INDEX([1]YES_NO!$A$2:$A$100,MATCH('Access Point (Desc)'!$Q430,[1]!MASTER_YES_NO_DESC[#Data],0),0))","v":""}]
[{"$f":"IF('Access Point (Desc)'!A431=\"\",\"\",'Access Point (Desc)'!A431)","v":""},{"$f":"IF('Access Point (Desc)'!B431=\"\",\"\",'Access Point (Desc)'!B431)","v":""},{"$f":"IF('Access Point (Desc)'!C431=\"\",\"\",'Access Point (Desc)'!C431)","v":""},{"$f":"IF('Access Point (Desc)'!D431=\"\",\"\",'Access Point (Desc)'!D431)","v":""},{"$f":"IF('Access Point (Desc)'!E431=\"\",\"\",INDEX([1]OWNER!$A$2:$A$100,MATCH('Access Point (Desc)'!$E431,[1]!MASTER_OWNER_DESC[#Data],0),0))","v":""},{"$f":"IF('Access Point (Desc)'!F431=\"\",\"\",INDEX([1]COUNTY!$A$2:$A$100,MATCH('Access Point (Desc)'!F431,[1]!MASTER_COUNTY_NAME[#Data],0),0))","v":""},{"$f":"IF('Access Point (Desc)'!G431=\"\",\"\",'Access Point (Desc)'!G431)","v":""},{"$f":"IF('Access Point (Desc)'!H431=\"\",\"\",'Access Point (Desc)'!H431)","v":""},{"$f":"IF('Access Point (Desc)'!I431=\"\",\"\",INDEX([1]ROUTE_MH_TYPE!$A$2:$A$100,MATCH('Access Point (Desc)'!$I431,[1]!MASTER_ROUTE_MH_TYPE_DESC[#Data],0),0))","v":""},{"$f":"IF('Access Point (Desc)'!J431=\"\",\"\",INDEX([1]MANHOLE_MTL!$A$2:$A$100,MATCH('Access Point (Desc)'!$J431,[1]!MASTER_MANHOLE_MTL_DESC[#Data],0),0))","v":""},{"$f":"IF('Access Point (Desc)'!K431=\"\",\"\",INDEX([1]MANHOLE_SIZE!$A$2:$A$120,MATCH('Access Point (Desc)'!$K431,[1]!MASTER_MANHOLE_SIZE_DESC[#Data],0),0))","v":""},{"$f":"IF('Access Point (Desc)'!L431=\"\",\"\",INDEX([1]ROUTE_MH_LID_TYPE!$A$2:$A$100,MATCH('Access Point (Desc)'!$L431,[1]!MASTER_ROUTE_MH_LID_TYPE_DESC[#Data],0),0))","v":""},{"$f":"IF('Access Point (Desc)'!M431=\"\",\"\",INDEX([1]MANHOLE_MTL!$A$2:$A$100,MATCH('Access Point (Desc)'!$M431,[1]!MASTER_MANHOLE_MTL_DESC[#Data],0),0))","v":""},{"$f":"IF('Access Point (Desc)'!N431=\"\",\"\",INDEX([1]LID_BOLT_TYPE!$A$2:$A$100,MATCH('Access Point (Desc)'!$N431,[1]!MASTER_LID_BOLT_TYPE_DESC[#Data],0),0))","v":""},{"$f":"IF('Access Point (Desc)'!O431=\"\",\"\",INDEX([1]YES_NO!$A$2:$A$100,MATCH('Access Point (Desc)'!$O431,[1]!MASTER_YES_NO_DESC[#Data],0),0))","v":""},{"$f":"IF('Access Point (Desc)'!P431=\"\",\"\",'Access Point (Desc)'!P431)","v":""},{"$f":"IF('Access Point (Desc)'!Q431=\"\",\"\",INDEX([1]YES_NO!$A$2:$A$100,MATCH('Access Point (Desc)'!$Q431,[1]!MASTER_YES_NO_DESC[#Data],0),0))","v":""}]
[{"$f":"IF('Access Point (Desc)'!A432=\"\",\"\",'Access Point (Desc)'!A432)","v":""},{"$f":"IF('Access Point (Desc)'!B432=\"\",\"\",'Access Point (Desc)'!B432)","v":""},{"$f":"IF('Access Point (Desc)'!C432=\"\",\"\",'Access Point (Desc)'!C432)","v":""},{"$f":"IF('Access Point (Desc)'!D432=\"\",\"\",'Access Point (Desc)'!D432)","v":""},{"$f":"IF('Access Point (Desc)'!E432=\"\",\"\",INDEX([1]OWNER!$A$2:$A$100,MATCH('Access Point (Desc)'!$E432,[1]!MASTER_OWNER_DESC[#Data],0),0))","v":""},{"$f":"IF('Access Point (Desc)'!F432=\"\",\"\",INDEX([1]COUNTY!$A$2:$A$100,MATCH('Access Point (Desc)'!F432,[1]!MASTER_COUNTY_NAME[#Data],0),0))","v":""},{"$f":"IF('Access Point (Desc)'!G432=\"\",\"\",'Access Point (Desc)'!G432)","v":""},{"$f":"IF('Access Point (Desc)'!H432=\"\",\"\",'Access Point (Desc)'!H432)","v":""},{"$f":"IF('Access Point (Desc)'!I432=\"\",\"\",INDEX([1]ROUTE_MH_TYPE!$A$2:$A$100,MATCH('Access Point (Desc)'!$I432,[1]!MASTER_ROUTE_MH_TYPE_DESC[#Data],0),0))","v":""},{"$f":"IF('Access Point (Desc)'!J432=\"\",\"\",INDEX([1]MANHOLE_MTL!$A$2:$A$100,MATCH('Access Point (Desc)'!$J432,[1]!MASTER_MANHOLE_MTL_DESC[#Data],0),0))","v":""},{"$f":"IF('Access Point (Desc)'!K432=\"\",\"\",INDEX([1]MANHOLE_SIZE!$A$2:$A$120,MATCH('Access Point (Desc)'!$K432,[1]!MASTER_MANHOLE_SIZE_DESC[#Data],0),0))","v":""},{"$f":"IF('Access Point (Desc)'!L432=\"\",\"\",INDEX([1]ROUTE_MH_LID_TYPE!$A$2:$A$100,MATCH('Access Point (Desc)'!$L432,[1]!MASTER_ROUTE_MH_LID_TYPE_DESC[#Data],0),0))","v":""},{"$f":"IF('Access Point (Desc)'!M432=\"\",\"\",INDEX([1]MANHOLE_MTL!$A$2:$A$100,MATCH('Access Point (Desc)'!$M432,[1]!MASTER_MANHOLE_MTL_DESC[#Data],0),0))","v":""},{"$f":"IF('Access Point (Desc)'!N432=\"\",\"\",INDEX([1]LID_BOLT_TYPE!$A$2:$A$100,MATCH('Access Point (Desc)'!$N432,[1]!MASTER_LID_BOLT_TYPE_DESC[#Data],0),0))","v":""},{"$f":"IF('Access Point (Desc)'!O432=\"\",\"\",INDEX([1]YES_NO!$A$2:$A$100,MATCH('Access Point (Desc)'!$O432,[1]!MASTER_YES_NO_DESC[#Data],0),0))","v":""},{"$f":"IF('Access Point (Desc)'!P432=\"\",\"\",'Access Point (Desc)'!P432)","v":""},{"$f":"IF('Access Point (Desc)'!Q432=\"\",\"\",INDEX([1]YES_NO!$A$2:$A$100,MATCH('Access Point (Desc)'!$Q432,[1]!MASTER_YES_NO_DESC[#Data],0),0))","v":""}]
[{"$f":"IF('Access Point (Desc)'!A433=\"\",\"\",'Access Point (Desc)'!A433)","v":""},{"$f":"IF('Access Point (Desc)'!B433=\"\",\"\",'Access Point (Desc)'!B433)","v":""},{"$f":"IF('Access Point (Desc)'!C433=\"\",\"\",'Access Point (Desc)'!C433)","v":""},{"$f":"IF('Access Point (Desc)'!D433=\"\",\"\",'Access Point (Desc)'!D433)","v":""},{"$f":"IF('Access Point (Desc)'!E433=\"\",\"\",INDEX([1]OWNER!$A$2:$A$100,MATCH('Access Point (Desc)'!$E433,[1]!MASTER_OWNER_DESC[#Data],0),0))","v":""},{"$f":"IF('Access Point (Desc)'!F433=\"\",\"\",INDEX([1]COUNTY!$A$2:$A$100,MATCH('Access Point (Desc)'!F433,[1]!MASTER_COUNTY_NAME[#Data],0),0))","v":""},{"$f":"IF('Access Point (Desc)'!G433=\"\",\"\",'Access Point (Desc)'!G433)","v":""},{"$f":"IF('Access Point (Desc)'!H433=\"\",\"\",'Access Point (Desc)'!H433)","v":""},{"$f":"IF('Access Point (Desc)'!I433=\"\",\"\",INDEX([1]ROUTE_MH_TYPE!$A$2:$A$100,MATCH('Access Point (Desc)'!$I433,[1]!MASTER_ROUTE_MH_TYPE_DESC[#Data],0),0))","v":""},{"$f":"IF('Access Point (Desc)'!J433=\"\",\"\",INDEX([1]MANHOLE_MTL!$A$2:$A$100,MATCH('Access Point (Desc)'!$J433,[1]!MASTER_MANHOLE_MTL_DESC[#Data],0),0))","v":""},{"$f":"IF('Access Point (Desc)'!K433=\"\",\"\",INDEX([1]MANHOLE_SIZE!$A$2:$A$120,MATCH('Access Point (Desc)'!$K433,[1]!MASTER_MANHOLE_SIZE_DESC[#Data],0),0))","v":""},{"$f":"IF('Access Point (Desc)'!L433=\"\",\"\",INDEX([1]ROUTE_MH_LID_TYPE!$A$2:$A$100,MATCH('Access Point (Desc)'!$L433,[1]!MASTER_ROUTE_MH_LID_TYPE_DESC[#Data],0),0))","v":""},{"$f":"IF('Access Point (Desc)'!M433=\"\",\"\",INDEX([1]MANHOLE_MTL!$A$2:$A$100,MATCH('Access Point (Desc)'!$M433,[1]!MASTER_MANHOLE_MTL_DESC[#Data],0),0))","v":""},{"$f":"IF('Access Point (Desc)'!N433=\"\",\"\",INDEX([1]LID_BOLT_TYPE!$A$2:$A$100,MATCH('Access Point (Desc)'!$N433,[1]!MASTER_LID_BOLT_TYPE_DESC[#Data],0),0))","v":""},{"$f":"IF('Access Point (Desc)'!O433=\"\",\"\",INDEX([1]YES_NO!$A$2:$A$100,MATCH('Access Point (Desc)'!$O433,[1]!MASTER_YES_NO_DESC[#Data],0),0))","v":""},{"$f":"IF('Access Point (Desc)'!P433=\"\",\"\",'Access Point (Desc)'!P433)","v":""},{"$f":"IF('Access Point (Desc)'!Q433=\"\",\"\",INDEX([1]YES_NO!$A$2:$A$100,MATCH('Access Point (Desc)'!$Q433,[1]!MASTER_YES_NO_DESC[#Data],0),0))","v":""}]
[{"$f":"IF('Access Point (Desc)'!A434=\"\",\"\",'Access Point (Desc)'!A434)","v":""},{"$f":"IF('Access Point (Desc)'!B434=\"\",\"\",'Access Point (Desc)'!B434)","v":""},{"$f":"IF('Access Point (Desc)'!C434=\"\",\"\",'Access Point (Desc)'!C434)","v":""},{"$f":"IF('Access Point (Desc)'!D434=\"\",\"\",'Access Point (Desc)'!D434)","v":""},{"$f":"IF('Access Point (Desc)'!E434=\"\",\"\",INDEX([1]OWNER!$A$2:$A$100,MATCH('Access Point (Desc)'!$E434,[1]!MASTER_OWNER_DESC[#Data],0),0))","v":""},{"$f":"IF('Access Point (Desc)'!F434=\"\",\"\",INDEX([1]COUNTY!$A$2:$A$100,MATCH('Access Point (Desc)'!F434,[1]!MASTER_COUNTY_NAME[#Data],0),0))","v":""},{"$f":"IF('Access Point (Desc)'!G434=\"\",\"\",'Access Point (Desc)'!G434)","v":""},{"$f":"IF('Access Point (Desc)'!H434=\"\",\"\",'Access Point (Desc)'!H434)","v":""},{"$f":"IF('Access Point (Desc)'!I434=\"\",\"\",INDEX([1]ROUTE_MH_TYPE!$A$2:$A$100,MATCH('Access Point (Desc)'!$I434,[1]!MASTER_ROUTE_MH_TYPE_DESC[#Data],0),0))","v":""},{"$f":"IF('Access Point (Desc)'!J434=\"\",\"\",INDEX([1]MANHOLE_MTL!$A$2:$A$100,MATCH('Access Point (Desc)'!$J434,[1]!MASTER_MANHOLE_MTL_DESC[#Data],0),0))","v":""},{"$f":"IF('Access Point (Desc)'!K434=\"\",\"\",INDEX([1]MANHOLE_SIZE!$A$2:$A$120,MATCH('Access Point (Desc)'!$K434,[1]!MASTER_MANHOLE_SIZE_DESC[#Data],0),0))","v":""},{"$f":"IF('Access Point (Desc)'!L434=\"\",\"\",INDEX([1]ROUTE_MH_LID_TYPE!$A$2:$A$100,MATCH('Access Point (Desc)'!$L434,[1]!MASTER_ROUTE_MH_LID_TYPE_DESC[#Data],0),0))","v":""},{"$f":"IF('Access Point (Desc)'!M434=\"\",\"\",INDEX([1]MANHOLE_MTL!$A$2:$A$100,MATCH('Access Point (Desc)'!$M434,[1]!MASTER_MANHOLE_MTL_DESC[#Data],0),0))","v":""},{"$f":"IF('Access Point (Desc)'!N434=\"\",\"\",INDEX([1]LID_BOLT_TYPE!$A$2:$A$100,MATCH('Access Point (Desc)'!$N434,[1]!MASTER_LID_BOLT_TYPE_DESC[#Data],0),0))","v":""},{"$f":"IF('Access Point (Desc)'!O434=\"\",\"\",INDEX([1]YES_NO!$A$2:$A$100,MATCH('Access Point (Desc)'!$O434,[1]!MASTER_YES_NO_DESC[#Data],0),0))","v":""},{"$f":"IF('Access Point (Desc)'!P434=\"\",\"\",'Access Point (Desc)'!P434)","v":""},{"$f":"IF('Access Point (Desc)'!Q434=\"\",\"\",INDEX([1]YES_NO!$A$2:$A$100,MATCH('Access Point (Desc)'!$Q434,[1]!MASTER_YES_NO_DESC[#Data],0),0))","v":""}]
[{"$f":"IF('Access Point (Desc)'!A435=\"\",\"\",'Access Point (Desc)'!A435)","v":""},{"$f":"IF('Access Point (Desc)'!B435=\"\",\"\",'Access Point (Desc)'!B435)","v":""},{"$f":"IF('Access Point (Desc)'!C435=\"\",\"\",'Access Point (Desc)'!C435)","v":""},{"$f":"IF('Access Point (Desc)'!D435=\"\",\"\",'Access Point (Desc)'!D435)","v":""},{"$f":"IF('Access Point (Desc)'!E435=\"\",\"\",INDEX([1]OWNER!$A$2:$A$100,MATCH('Access Point (Desc)'!$E435,[1]!MASTER_OWNER_DESC[#Data],0),0))","v":""},{"$f":"IF('Access Point (Desc)'!F435=\"\",\"\",INDEX([1]COUNTY!$A$2:$A$100,MATCH('Access Point (Desc)'!F435,[1]!MASTER_COUNTY_NAME[#Data],0),0))","v":""},{"$f":"IF('Access Point (Desc)'!G435=\"\",\"\",'Access Point (Desc)'!G435)","v":""},{"$f":"IF('Access Point (Desc)'!H435=\"\",\"\",'Access Point (Desc)'!H435)","v":""},{"$f":"IF('Access Point (Desc)'!I435=\"\",\"\",INDEX([1]ROUTE_MH_TYPE!$A$2:$A$100,MATCH('Access Point (Desc)'!$I435,[1]!MASTER_ROUTE_MH_TYPE_DESC[#Data],0),0))","v":""},{"$f":"IF('Access Point (Desc)'!J435=\"\",\"\",INDEX([1]MANHOLE_MTL!$A$2:$A$100,MATCH('Access Point (Desc)'!$J435,[1]!MASTER_MANHOLE_MTL_DESC[#Data],0),0))","v":""},{"$f":"IF('Access Point (Desc)'!K435=\"\",\"\",INDEX([1]MANHOLE_SIZE!$A$2:$A$120,MATCH('Access Point (Desc)'!$K435,[1]!MASTER_MANHOLE_SIZE_DESC[#Data],0),0))","v":""},{"$f":"IF('Access Point (Desc)'!L435=\"\",\"\",INDEX([1]ROUTE_MH_LID_TYPE!$A$2:$A$100,MATCH('Access Point (Desc)'!$L435,[1]!MASTER_ROUTE_MH_LID_TYPE_DESC[#Data],0),0))","v":""},{"$f":"IF('Access Point (Desc)'!M435=\"\",\"\",INDEX([1]MANHOLE_MTL!$A$2:$A$100,MATCH('Access Point (Desc)'!$M435,[1]!MASTER_MANHOLE_MTL_DESC[#Data],0),0))","v":""},{"$f":"IF('Access Point (Desc)'!N435=\"\",\"\",INDEX([1]LID_BOLT_TYPE!$A$2:$A$100,MATCH('Access Point (Desc)'!$N435,[1]!MASTER_LID_BOLT_TYPE_DESC[#Data],0),0))","v":""},{"$f":"IF('Access Point (Desc)'!O435=\"\",\"\",INDEX([1]YES_NO!$A$2:$A$100,MATCH('Access Point (Desc)'!$O435,[1]!MASTER_YES_NO_DESC[#Data],0),0))","v":""},{"$f":"IF('Access Point (Desc)'!P435=\"\",\"\",'Access Point (Desc)'!P435)","v":""},{"$f":"IF('Access Point (Desc)'!Q435=\"\",\"\",INDEX([1]YES_NO!$A$2:$A$100,MATCH('Access Point (Desc)'!$Q435,[1]!MASTER_YES_NO_DESC[#Data],0),0))","v":""}]
[{"$f":"IF('Access Point (Desc)'!A436=\"\",\"\",'Access Point (Desc)'!A436)","v":""},{"$f":"IF('Access Point (Desc)'!B436=\"\",\"\",'Access Point (Desc)'!B436)","v":""},{"$f":"IF('Access Point (Desc)'!C436=\"\",\"\",'Access Point (Desc)'!C436)","v":""},{"$f":"IF('Access Point (Desc)'!D436=\"\",\"\",'Access Point (Desc)'!D436)","v":""},{"$f":"IF('Access Point (Desc)'!E436=\"\",\"\",INDEX([1]OWNER!$A$2:$A$100,MATCH('Access Point (Desc)'!$E436,[1]!MASTER_OWNER_DESC[#Data],0),0))","v":""},{"$f":"IF('Access Point (Desc)'!F436=\"\",\"\",INDEX([1]COUNTY!$A$2:$A$100,MATCH('Access Point (Desc)'!F436,[1]!MASTER_COUNTY_NAME[#Data],0),0))","v":""},{"$f":"IF('Access Point (Desc)'!G436=\"\",\"\",'Access Point (Desc)'!G436)","v":""},{"$f":"IF('Access Point (Desc)'!H436=\"\",\"\",'Access Point (Desc)'!H436)","v":""},{"$f":"IF('Access Point (Desc)'!I436=\"\",\"\",INDEX([1]ROUTE_MH_TYPE!$A$2:$A$100,MATCH('Access Point (Desc)'!$I436,[1]!MASTER_ROUTE_MH_TYPE_DESC[#Data],0),0))","v":""},{"$f":"IF('Access Point (Desc)'!J436=\"\",\"\",INDEX([1]MANHOLE_MTL!$A$2:$A$100,MATCH('Access Point (Desc)'!$J436,[1]!MASTER_MANHOLE_MTL_DESC[#Data],0),0))","v":""},{"$f":"IF('Access Point (Desc)'!K436=\"\",\"\",INDEX([1]MANHOLE_SIZE!$A$2:$A$120,MATCH('Access Point (Desc)'!$K436,[1]!MASTER_MANHOLE_SIZE_DESC[#Data],0),0))","v":""},{"$f":"IF('Access Point (Desc)'!L436=\"\",\"\",INDEX([1]ROUTE_MH_LID_TYPE!$A$2:$A$100,MATCH('Access Point (Desc)'!$L436,[1]!MASTER_ROUTE_MH_LID_TYPE_DESC[#Data],0),0))","v":""},{"$f":"IF('Access Point (Desc)'!M436=\"\",\"\",INDEX([1]MANHOLE_MTL!$A$2:$A$100,MATCH('Access Point (Desc)'!$M436,[1]!MASTER_MANHOLE_MTL_DESC[#Data],0),0))","v":""},{"$f":"IF('Access Point (Desc)'!N436=\"\",\"\",INDEX([1]LID_BOLT_TYPE!$A$2:$A$100,MATCH('Access Point (Desc)'!$N436,[1]!MASTER_LID_BOLT_TYPE_DESC[#Data],0),0))","v":""},{"$f":"IF('Access Point (Desc)'!O436=\"\",\"\",INDEX([1]YES_NO!$A$2:$A$100,MATCH('Access Point (Desc)'!$O436,[1]!MASTER_YES_NO_DESC[#Data],0),0))","v":""},{"$f":"IF('Access Point (Desc)'!P436=\"\",\"\",'Access Point (Desc)'!P436)","v":""},{"$f":"IF('Access Point (Desc)'!Q436=\"\",\"\",INDEX([1]YES_NO!$A$2:$A$100,MATCH('Access Point (Desc)'!$Q436,[1]!MASTER_YES_NO_DESC[#Data],0),0))","v":""}]
[{"$f":"IF('Access Point (Desc)'!A437=\"\",\"\",'Access Point (Desc)'!A437)","v":""},{"$f":"IF('Access Point (Desc)'!B437=\"\",\"\",'Access Point (Desc)'!B437)","v":""},{"$f":"IF('Access Point (Desc)'!C437=\"\",\"\",'Access Point (Desc)'!C437)","v":""},{"$f":"IF('Access Point (Desc)'!D437=\"\",\"\",'Access Point (Desc)'!D437)","v":""},{"$f":"IF('Access Point (Desc)'!E437=\"\",\"\",INDEX([1]OWNER!$A$2:$A$100,MATCH('Access Point (Desc)'!$E437,[1]!MASTER_OWNER_DESC[#Data],0),0))","v":""},{"$f":"IF('Access Point (Desc)'!F437=\"\",\"\",INDEX([1]COUNTY!$A$2:$A$100,MATCH('Access Point (Desc)'!F437,[1]!MASTER_COUNTY_NAME[#Data],0),0))","v":""},{"$f":"IF('Access Point (Desc)'!G437=\"\",\"\",'Access Point (Desc)'!G437)","v":""},{"$f":"IF('Access Point (Desc)'!H437=\"\",\"\",'Access Point (Desc)'!H437)","v":""},{"$f":"IF('Access Point (Desc)'!I437=\"\",\"\",INDEX([1]ROUTE_MH_TYPE!$A$2:$A$100,MATCH('Access Point (Desc)'!$I437,[1]!MASTER_ROUTE_MH_TYPE_DESC[#Data],0),0))","v":""},{"$f":"IF('Access Point (Desc)'!J437=\"\",\"\",INDEX([1]MANHOLE_MTL!$A$2:$A$100,MATCH('Access Point (Desc)'!$J437,[1]!MASTER_MANHOLE_MTL_DESC[#Data],0),0))","v":""},{"$f":"IF('Access Point (Desc)'!K437=\"\",\"\",INDEX([1]MANHOLE_SIZE!$A$2:$A$120,MATCH('Access Point (Desc)'!$K437,[1]!MASTER_MANHOLE_SIZE_DESC[#Data],0),0))","v":""},{"$f":"IF('Access Point (Desc)'!L437=\"\",\"\",INDEX([1]ROUTE_MH_LID_TYPE!$A$2:$A$100,MATCH('Access Point (Desc)'!$L437,[1]!MASTER_ROUTE_MH_LID_TYPE_DESC[#Data],0),0))","v":""},{"$f":"IF('Access Point (Desc)'!M437=\"\",\"\",INDEX([1]MANHOLE_MTL!$A$2:$A$100,MATCH('Access Point (Desc)'!$M437,[1]!MASTER_MANHOLE_MTL_DESC[#Data],0),0))","v":""},{"$f":"IF('Access Point (Desc)'!N437=\"\",\"\",INDEX([1]LID_BOLT_TYPE!$A$2:$A$100,MATCH('Access Point (Desc)'!$N437,[1]!MASTER_LID_BOLT_TYPE_DESC[#Data],0),0))","v":""},{"$f":"IF('Access Point (Desc)'!O437=\"\",\"\",INDEX([1]YES_NO!$A$2:$A$100,MATCH('Access Point (Desc)'!$O437,[1]!MASTER_YES_NO_DESC[#Data],0),0))","v":""},{"$f":"IF('Access Point (Desc)'!P437=\"\",\"\",'Access Point (Desc)'!P437)","v":""},{"$f":"IF('Access Point (Desc)'!Q437=\"\",\"\",INDEX([1]YES_NO!$A$2:$A$100,MATCH('Access Point (Desc)'!$Q437,[1]!MASTER_YES_NO_DESC[#Data],0),0))","v":""}]
[{"$f":"IF('Access Point (Desc)'!A438=\"\",\"\",'Access Point (Desc)'!A438)","v":""},{"$f":"IF('Access Point (Desc)'!B438=\"\",\"\",'Access Point (Desc)'!B438)","v":""},{"$f":"IF('Access Point (Desc)'!C438=\"\",\"\",'Access Point (Desc)'!C438)","v":""},{"$f":"IF('Access Point (Desc)'!D438=\"\",\"\",'Access Point (Desc)'!D438)","v":""},{"$f":"IF('Access Point (Desc)'!E438=\"\",\"\",INDEX([1]OWNER!$A$2:$A$100,MATCH('Access Point (Desc)'!$E438,[1]!MASTER_OWNER_DESC[#Data],0),0))","v":""},{"$f":"IF('Access Point (Desc)'!F438=\"\",\"\",INDEX([1]COUNTY!$A$2:$A$100,MATCH('Access Point (Desc)'!F438,[1]!MASTER_COUNTY_NAME[#Data],0),0))","v":""},{"$f":"IF('Access Point (Desc)'!G438=\"\",\"\",'Access Point (Desc)'!G438)","v":""},{"$f":"IF('Access Point (Desc)'!H438=\"\",\"\",'Access Point (Desc)'!H438)","v":""},{"$f":"IF('Access Point (Desc)'!I438=\"\",\"\",INDEX([1]ROUTE_MH_TYPE!$A$2:$A$100,MATCH('Access Point (Desc)'!$I438,[1]!MASTER_ROUTE_MH_TYPE_DESC[#Data],0),0))","v":""},{"$f":"IF('Access Point (Desc)'!J438=\"\",\"\",INDEX([1]MANHOLE_MTL!$A$2:$A$100,MATCH('Access Point (Desc)'!$J438,[1]!MASTER_MANHOLE_MTL_DESC[#Data],0),0))","v":""},{"$f":"IF('Access Point (Desc)'!K438=\"\",\"\",INDEX([1]MANHOLE_SIZE!$A$2:$A$120,MATCH('Access Point (Desc)'!$K438,[1]!MASTER_MANHOLE_SIZE_DESC[#Data],0),0))","v":""},{"$f":"IF('Access Point (Desc)'!L438=\"\",\"\",INDEX([1]ROUTE_MH_LID_TYPE!$A$2:$A$100,MATCH('Access Point (Desc)'!$L438,[1]!MASTER_ROUTE_MH_LID_TYPE_DESC[#Data],0),0))","v":""},{"$f":"IF('Access Point (Desc)'!M438=\"\",\"\",INDEX([1]MANHOLE_MTL!$A$2:$A$100,MATCH('Access Point (Desc)'!$M438,[1]!MASTER_MANHOLE_MTL_DESC[#Data],0),0))","v":""},{"$f":"IF('Access Point (Desc)'!N438=\"\",\"\",INDEX([1]LID_BOLT_TYPE!$A$2:$A$100,MATCH('Access Point (Desc)'!$N438,[1]!MASTER_LID_BOLT_TYPE_DESC[#Data],0),0))","v":""},{"$f":"IF('Access Point (Desc)'!O438=\"\",\"\",INDEX([1]YES_NO!$A$2:$A$100,MATCH('Access Point (Desc)'!$O438,[1]!MASTER_YES_NO_DESC[#Data],0),0))","v":""},{"$f":"IF('Access Point (Desc)'!P438=\"\",\"\",'Access Point (Desc)'!P438)","v":""},{"$f":"IF('Access Point (Desc)'!Q438=\"\",\"\",INDEX([1]YES_NO!$A$2:$A$100,MATCH('Access Point (Desc)'!$Q438,[1]!MASTER_YES_NO_DESC[#Data],0),0))","v":""}]
[{"$f":"IF('Access Point (Desc)'!A439=\"\",\"\",'Access Point (Desc)'!A439)","v":""},{"$f":"IF('Access Point (Desc)'!B439=\"\",\"\",'Access Point (Desc)'!B439)","v":""},{"$f":"IF('Access Point (Desc)'!C439=\"\",\"\",'Access Point (Desc)'!C439)","v":""},{"$f":"IF('Access Point (Desc)'!D439=\"\",\"\",'Access Point (Desc)'!D439)","v":""},{"$f":"IF('Access Point (Desc)'!E439=\"\",\"\",INDEX([1]OWNER!$A$2:$A$100,MATCH('Access Point (Desc)'!$E439,[1]!MASTER_OWNER_DESC[#Data],0),0))","v":""},{"$f":"IF('Access Point (Desc)'!F439=\"\",\"\",INDEX([1]COUNTY!$A$2:$A$100,MATCH('Access Point (Desc)'!F439,[1]!MASTER_COUNTY_NAME[#Data],0),0))","v":""},{"$f":"IF('Access Point (Desc)'!G439=\"\",\"\",'Access Point (Desc)'!G439)","v":""},{"$f":"IF('Access Point (Desc)'!H439=\"\",\"\",'Access Point (Desc)'!H439)","v":""},{"$f":"IF('Access Point (Desc)'!I439=\"\",\"\",INDEX([1]ROUTE_MH_TYPE!$A$2:$A$100,MATCH('Access Point (Desc)'!$I439,[1]!MASTER_ROUTE_MH_TYPE_DESC[#Data],0),0))","v":""},{"$f":"IF('Access Point (Desc)'!J439=\"\",\"\",INDEX([1]MANHOLE_MTL!$A$2:$A$100,MATCH('Access Point (Desc)'!$J439,[1]!MASTER_MANHOLE_MTL_DESC[#Data],0),0))","v":""},{"$f":"IF('Access Point (Desc)'!K439=\"\",\"\",INDEX([1]MANHOLE_SIZE!$A$2:$A$120,MATCH('Access Point (Desc)'!$K439,[1]!MASTER_MANHOLE_SIZE_DESC[#Data],0),0))","v":""},{"$f":"IF('Access Point (Desc)'!L439=\"\",\"\",INDEX([1]ROUTE_MH_LID_TYPE!$A$2:$A$100,MATCH('Access Point (Desc)'!$L439,[1]!MASTER_ROUTE_MH_LID_TYPE_DESC[#Data],0),0))","v":""},{"$f":"IF('Access Point (Desc)'!M439=\"\",\"\",INDEX([1]MANHOLE_MTL!$A$2:$A$100,MATCH('Access Point (Desc)'!$M439,[1]!MASTER_MANHOLE_MTL_DESC[#Data],0),0))","v":""},{"$f":"IF('Access Point (Desc)'!N439=\"\",\"\",INDEX([1]LID_BOLT_TYPE!$A$2:$A$100,MATCH('Access Point (Desc)'!$N439,[1]!MASTER_LID_BOLT_TYPE_DESC[#Data],0),0))","v":""},{"$f":"IF('Access Point (Desc)'!O439=\"\",\"\",INDEX([1]YES_NO!$A$2:$A$100,MATCH('Access Point (Desc)'!$O439,[1]!MASTER_YES_NO_DESC[#Data],0),0))","v":""},{"$f":"IF('Access Point (Desc)'!P439=\"\",\"\",'Access Point (Desc)'!P439)","v":""},{"$f":"IF('Access Point (Desc)'!Q439=\"\",\"\",INDEX([1]YES_NO!$A$2:$A$100,MATCH('Access Point (Desc)'!$Q439,[1]!MASTER_YES_NO_DESC[#Data],0),0))","v":""}]
[{"$f":"IF('Access Point (Desc)'!A440=\"\",\"\",'Access Point (Desc)'!A440)","v":""},{"$f":"IF('Access Point (Desc)'!B440=\"\",\"\",'Access Point (Desc)'!B440)","v":""},{"$f":"IF('Access Point (Desc)'!C440=\"\",\"\",'Access Point (Desc)'!C440)","v":""},{"$f":"IF('Access Point (Desc)'!D440=\"\",\"\",'Access Point (Desc)'!D440)","v":""},{"$f":"IF('Access Point (Desc)'!E440=\"\",\"\",INDEX([1]OWNER!$A$2:$A$100,MATCH('Access Point (Desc)'!$E440,[1]!MASTER_OWNER_DESC[#Data],0),0))","v":""},{"$f":"IF('Access Point (Desc)'!F440=\"\",\"\",INDEX([1]COUNTY!$A$2:$A$100,MATCH('Access Point (Desc)'!F440,[1]!MASTER_COUNTY_NAME[#Data],0),0))","v":""},{"$f":"IF('Access Point (Desc)'!G440=\"\",\"\",'Access Point (Desc)'!G440)","v":""},{"$f":"IF('Access Point (Desc)'!H440=\"\",\"\",'Access Point (Desc)'!H440)","v":""},{"$f":"IF('Access Point (Desc)'!I440=\"\",\"\",INDEX([1]ROUTE_MH_TYPE!$A$2:$A$100,MATCH('Access Point (Desc)'!$I440,[1]!MASTER_ROUTE_MH_TYPE_DESC[#Data],0),0))","v":""},{"$f":"IF('Access Point (Desc)'!J440=\"\",\"\",INDEX([1]MANHOLE_MTL!$A$2:$A$100,MATCH('Access Point (Desc)'!$J440,[1]!MASTER_MANHOLE_MTL_DESC[#Data],0),0))","v":""},{"$f":"IF('Access Point (Desc)'!K440=\"\",\"\",INDEX([1]MANHOLE_SIZE!$A$2:$A$120,MATCH('Access Point (Desc)'!$K440,[1]!MASTER_MANHOLE_SIZE_DESC[#Data],0),0))","v":""},{"$f":"IF('Access Point (Desc)'!L440=\"\",\"\",INDEX([1]ROUTE_MH_LID_TYPE!$A$2:$A$100,MATCH('Access Point (Desc)'!$L440,[1]!MASTER_ROUTE_MH_LID_TYPE_DESC[#Data],0),0))","v":""},{"$f":"IF('Access Point (Desc)'!M440=\"\",\"\",INDEX([1]MANHOLE_MTL!$A$2:$A$100,MATCH('Access Point (Desc)'!$M440,[1]!MASTER_MANHOLE_MTL_DESC[#Data],0),0))","v":""},{"$f":"IF('Access Point (Desc)'!N440=\"\",\"\",INDEX([1]LID_BOLT_TYPE!$A$2:$A$100,MATCH('Access Point (Desc)'!$N440,[1]!MASTER_LID_BOLT_TYPE_DESC[#Data],0),0))","v":""},{"$f":"IF('Access Point (Desc)'!O440=\"\",\"\",INDEX([1]YES_NO!$A$2:$A$100,MATCH('Access Point (Desc)'!$O440,[1]!MASTER_YES_NO_DESC[#Data],0),0))","v":""},{"$f":"IF('Access Point (Desc)'!P440=\"\",\"\",'Access Point (Desc)'!P440)","v":""},{"$f":"IF('Access Point (Desc)'!Q440=\"\",\"\",INDEX([1]YES_NO!$A$2:$A$100,MATCH('Access Point (Desc)'!$Q440,[1]!MASTER_YES_NO_DESC[#Data],0),0))","v":""}]
[{"$f":"IF('Access Point (Desc)'!A441=\"\",\"\",'Access Point (Desc)'!A441)","v":""},{"$f":"IF('Access Point (Desc)'!B441=\"\",\"\",'Access Point (Desc)'!B441)","v":""},{"$f":"IF('Access Point (Desc)'!C441=\"\",\"\",'Access Point (Desc)'!C441)","v":""},{"$f":"IF('Access Point (Desc)'!D441=\"\",\"\",'Access Point (Desc)'!D441)","v":""},{"$f":"IF('Access Point (Desc)'!E441=\"\",\"\",INDEX([1]OWNER!$A$2:$A$100,MATCH('Access Point (Desc)'!$E441,[1]!MASTER_OWNER_DESC[#Data],0),0))","v":""},{"$f":"IF('Access Point (Desc)'!F441=\"\",\"\",INDEX([1]COUNTY!$A$2:$A$100,MATCH('Access Point (Desc)'!F441,[1]!MASTER_COUNTY_NAME[#Data],0),0))","v":""},{"$f":"IF('Access Point (Desc)'!G441=\"\",\"\",'Access Point (Desc)'!G441)","v":""},{"$f":"IF('Access Point (Desc)'!H441=\"\",\"\",'Access Point (Desc)'!H441)","v":""},{"$f":"IF('Access Point (Desc)'!I441=\"\",\"\",INDEX([1]ROUTE_MH_TYPE!$A$2:$A$100,MATCH('Access Point (Desc)'!$I441,[1]!MASTER_ROUTE_MH_TYPE_DESC[#Data],0),0))","v":""},{"$f":"IF('Access Point (Desc)'!J441=\"\",\"\",INDEX([1]MANHOLE_MTL!$A$2:$A$100,MATCH('Access Point (Desc)'!$J441,[1]!MASTER_MANHOLE_MTL_DESC[#Data],0),0))","v":""},{"$f":"IF('Access Point (Desc)'!K441=\"\",\"\",INDEX([1]MANHOLE_SIZE!$A$2:$A$120,MATCH('Access Point (Desc)'!$K441,[1]!MASTER_MANHOLE_SIZE_DESC[#Data],0),0))","v":""},{"$f":"IF('Access Point (Desc)'!L441=\"\",\"\",INDEX([1]ROUTE_MH_LID_TYPE!$A$2:$A$100,MATCH('Access Point (Desc)'!$L441,[1]!MASTER_ROUTE_MH_LID_TYPE_DESC[#Data],0),0))","v":""},{"$f":"IF('Access Point (Desc)'!M441=\"\",\"\",INDEX([1]MANHOLE_MTL!$A$2:$A$100,MATCH('Access Point (Desc)'!$M441,[1]!MASTER_MANHOLE_MTL_DESC[#Data],0),0))","v":""},{"$f":"IF('Access Point (Desc)'!N441=\"\",\"\",INDEX([1]LID_BOLT_TYPE!$A$2:$A$100,MATCH('Access Point (Desc)'!$N441,[1]!MASTER_LID_BOLT_TYPE_DESC[#Data],0),0))","v":""},{"$f":"IF('Access Point (Desc)'!O441=\"\",\"\",INDEX([1]YES_NO!$A$2:$A$100,MATCH('Access Point (Desc)'!$O441,[1]!MASTER_YES_NO_DESC[#Data],0),0))","v":""},{"$f":"IF('Access Point (Desc)'!P441=\"\",\"\",'Access Point (Desc)'!P441)","v":""},{"$f":"IF('Access Point (Desc)'!Q441=\"\",\"\",INDEX([1]YES_NO!$A$2:$A$100,MATCH('Access Point (Desc)'!$Q441,[1]!MASTER_YES_NO_DESC[#Data],0),0))","v":""}]
[{"$f":"IF('Access Point (Desc)'!A442=\"\",\"\",'Access Point (Desc)'!A442)","v":""},{"$f":"IF('Access Point (Desc)'!B442=\"\",\"\",'Access Point (Desc)'!B442)","v":""},{"$f":"IF('Access Point (Desc)'!C442=\"\",\"\",'Access Point (Desc)'!C442)","v":""},{"$f":"IF('Access Point (Desc)'!D442=\"\",\"\",'Access Point (Desc)'!D442)","v":""},{"$f":"IF('Access Point (Desc)'!E442=\"\",\"\",INDEX([1]OWNER!$A$2:$A$100,MATCH('Access Point (Desc)'!$E442,[1]!MASTER_OWNER_DESC[#Data],0),0))","v":""},{"$f":"IF('Access Point (Desc)'!F442=\"\",\"\",INDEX([1]COUNTY!$A$2:$A$100,MATCH('Access Point (Desc)'!F442,[1]!MASTER_COUNTY_NAME[#Data],0),0))","v":""},{"$f":"IF('Access Point (Desc)'!G442=\"\",\"\",'Access Point (Desc)'!G442)","v":""},{"$f":"IF('Access Point (Desc)'!H442=\"\",\"\",'Access Point (Desc)'!H442)","v":""},{"$f":"IF('Access Point (Desc)'!I442=\"\",\"\",INDEX([1]ROUTE_MH_TYPE!$A$2:$A$100,MATCH('Access Point (Desc)'!$I442,[1]!MASTER_ROUTE_MH_TYPE_DESC[#Data],0),0))","v":""},{"$f":"IF('Access Point (Desc)'!J442=\"\",\"\",INDEX([1]MANHOLE_MTL!$A$2:$A$100,MATCH('Access Point (Desc)'!$J442,[1]!MASTER_MANHOLE_MTL_DESC[#Data],0),0))","v":""},{"$f":"IF('Access Point (Desc)'!K442=\"\",\"\",INDEX([1]MANHOLE_SIZE!$A$2:$A$120,MATCH('Access Point (Desc)'!$K442,[1]!MASTER_MANHOLE_SIZE_DESC[#Data],0),0))","v":""},{"$f":"IF('Access Point (Desc)'!L442=\"\",\"\",INDEX([1]ROUTE_MH_LID_TYPE!$A$2:$A$100,MATCH('Access Point (Desc)'!$L442,[1]!MASTER_ROUTE_MH_LID_TYPE_DESC[#Data],0),0))","v":""},{"$f":"IF('Access Point (Desc)'!M442=\"\",\"\",INDEX([1]MANHOLE_MTL!$A$2:$A$100,MATCH('Access Point (Desc)'!$M442,[1]!MASTER_MANHOLE_MTL_DESC[#Data],0),0))","v":""},{"$f":"IF('Access Point (Desc)'!N442=\"\",\"\",INDEX([1]LID_BOLT_TYPE!$A$2:$A$100,MATCH('Access Point (Desc)'!$N442,[1]!MASTER_LID_BOLT_TYPE_DESC[#Data],0),0))","v":""},{"$f":"IF('Access Point (Desc)'!O442=\"\",\"\",INDEX([1]YES_NO!$A$2:$A$100,MATCH('Access Point (Desc)'!$O442,[1]!MASTER_YES_NO_DESC[#Data],0),0))","v":""},{"$f":"IF('Access Point (Desc)'!P442=\"\",\"\",'Access Point (Desc)'!P442)","v":""},{"$f":"IF('Access Point (Desc)'!Q442=\"\",\"\",INDEX([1]YES_NO!$A$2:$A$100,MATCH('Access Point (Desc)'!$Q442,[1]!MASTER_YES_NO_DESC[#Data],0),0))","v":""}]
[{"$f":"IF('Access Point (Desc)'!A443=\"\",\"\",'Access Point (Desc)'!A443)","v":""},{"$f":"IF('Access Point (Desc)'!B443=\"\",\"\",'Access Point (Desc)'!B443)","v":""},{"$f":"IF('Access Point (Desc)'!C443=\"\",\"\",'Access Point (Desc)'!C443)","v":""},{"$f":"IF('Access Point (Desc)'!D443=\"\",\"\",'Access Point (Desc)'!D443)","v":""},{"$f":"IF('Access Point (Desc)'!E443=\"\",\"\",INDEX([1]OWNER!$A$2:$A$100,MATCH('Access Point (Desc)'!$E443,[1]!MASTER_OWNER_DESC[#Data],0),0))","v":""},{"$f":"IF('Access Point (Desc)'!F443=\"\",\"\",INDEX([1]COUNTY!$A$2:$A$100,MATCH('Access Point (Desc)'!F443,[1]!MASTER_COUNTY_NAME[#Data],0),0))","v":""},{"$f":"IF('Access Point (Desc)'!G443=\"\",\"\",'Access Point (Desc)'!G443)","v":""},{"$f":"IF('Access Point (Desc)'!H443=\"\",\"\",'Access Point (Desc)'!H443)","v":""},{"$f":"IF('Access Point (Desc)'!I443=\"\",\"\",INDEX([1]ROUTE_MH_TYPE!$A$2:$A$100,MATCH('Access Point (Desc)'!$I443,[1]!MASTER_ROUTE_MH_TYPE_DESC[#Data],0),0))","v":""},{"$f":"IF('Access Point (Desc)'!J443=\"\",\"\",INDEX([1]MANHOLE_MTL!$A$2:$A$100,MATCH('Access Point (Desc)'!$J443,[1]!MASTER_MANHOLE_MTL_DESC[#Data],0),0))","v":""},{"$f":"IF('Access Point (Desc)'!K443=\"\",\"\",INDEX([1]MANHOLE_SIZE!$A$2:$A$120,MATCH('Access Point (Desc)'!$K443,[1]!MASTER_MANHOLE_SIZE_DESC[#Data],0),0))","v":""},{"$f":"IF('Access Point (Desc)'!L443=\"\",\"\",INDEX([1]ROUTE_MH_LID_TYPE!$A$2:$A$100,MATCH('Access Point (Desc)'!$L443,[1]!MASTER_ROUTE_MH_LID_TYPE_DESC[#Data],0),0))","v":""},{"$f":"IF('Access Point (Desc)'!M443=\"\",\"\",INDEX([1]MANHOLE_MTL!$A$2:$A$100,MATCH('Access Point (Desc)'!$M443,[1]!MASTER_MANHOLE_MTL_DESC[#Data],0),0))","v":""},{"$f":"IF('Access Point (Desc)'!N443=\"\",\"\",INDEX([1]LID_BOLT_TYPE!$A$2:$A$100,MATCH('Access Point (Desc)'!$N443,[1]!MASTER_LID_BOLT_TYPE_DESC[#Data],0),0))","v":""},{"$f":"IF('Access Point (Desc)'!O443=\"\",\"\",INDEX([1]YES_NO!$A$2:$A$100,MATCH('Access Point (Desc)'!$O443,[1]!MASTER_YES_NO_DESC[#Data],0),0))","v":""},{"$f":"IF('Access Point (Desc)'!P443=\"\",\"\",'Access Point (Desc)'!P443)","v":""},{"$f":"IF('Access Point (Desc)'!Q443=\"\",\"\",INDEX([1]YES_NO!$A$2:$A$100,MATCH('Access Point (Desc)'!$Q443,[1]!MASTER_YES_NO_DESC[#Data],0),0))","v":""}]
[{"$f":"IF('Access Point (Desc)'!A444=\"\",\"\",'Access Point (Desc)'!A444)","v":""},{"$f":"IF('Access Point (Desc)'!B444=\"\",\"\",'Access Point (Desc)'!B444)","v":""},{"$f":"IF('Access Point (Desc)'!C444=\"\",\"\",'Access Point (Desc)'!C444)","v":""},{"$f":"IF('Access Point (Desc)'!D444=\"\",\"\",'Access Point (Desc)'!D444)","v":""},{"$f":"IF('Access Point (Desc)'!E444=\"\",\"\",INDEX([1]OWNER!$A$2:$A$100,MATCH('Access Point (Desc)'!$E444,[1]!MASTER_OWNER_DESC[#Data],0),0))","v":""},{"$f":"IF('Access Point (Desc)'!F444=\"\",\"\",INDEX([1]COUNTY!$A$2:$A$100,MATCH('Access Point (Desc)'!F444,[1]!MASTER_COUNTY_NAME[#Data],0),0))","v":""},{"$f":"IF('Access Point (Desc)'!G444=\"\",\"\",'Access Point (Desc)'!G444)","v":""},{"$f":"IF('Access Point (Desc)'!H444=\"\",\"\",'Access Point (Desc)'!H444)","v":""},{"$f":"IF('Access Point (Desc)'!I444=\"\",\"\",INDEX([1]ROUTE_MH_TYPE!$A$2:$A$100,MATCH('Access Point (Desc)'!$I444,[1]!MASTER_ROUTE_MH_TYPE_DESC[#Data],0),0))","v":""},{"$f":"IF('Access Point (Desc)'!J444=\"\",\"\",INDEX([1]MANHOLE_MTL!$A$2:$A$100,MATCH('Access Point (Desc)'!$J444,[1]!MASTER_MANHOLE_MTL_DESC[#Data],0),0))","v":""},{"$f":"IF('Access Point (Desc)'!K444=\"\",\"\",INDEX([1]MANHOLE_SIZE!$A$2:$A$120,MATCH('Access Point (Desc)'!$K444,[1]!MASTER_MANHOLE_SIZE_DESC[#Data],0),0))","v":""},{"$f":"IF('Access Point (Desc)'!L444=\"\",\"\",INDEX([1]ROUTE_MH_LID_TYPE!$A$2:$A$100,MATCH('Access Point (Desc)'!$L444,[1]!MASTER_ROUTE_MH_LID_TYPE_DESC[#Data],0),0))","v":""},{"$f":"IF('Access Point (Desc)'!M444=\"\",\"\",INDEX([1]MANHOLE_MTL!$A$2:$A$100,MATCH('Access Point (Desc)'!$M444,[1]!MASTER_MANHOLE_MTL_DESC[#Data],0),0))","v":""},{"$f":"IF('Access Point (Desc)'!N444=\"\",\"\",INDEX([1]LID_BOLT_TYPE!$A$2:$A$100,MATCH('Access Point (Desc)'!$N444,[1]!MASTER_LID_BOLT_TYPE_DESC[#Data],0),0))","v":""},{"$f":"IF('Access Point (Desc)'!O444=\"\",\"\",INDEX([1]YES_NO!$A$2:$A$100,MATCH('Access Point (Desc)'!$O444,[1]!MASTER_YES_NO_DESC[#Data],0),0))","v":""},{"$f":"IF('Access Point (Desc)'!P444=\"\",\"\",'Access Point (Desc)'!P444)","v":""},{"$f":"IF('Access Point (Desc)'!Q444=\"\",\"\",INDEX([1]YES_NO!$A$2:$A$100,MATCH('Access Point (Desc)'!$Q444,[1]!MASTER_YES_NO_DESC[#Data],0),0))","v":""}]
[{"$f":"IF('Access Point (Desc)'!A445=\"\",\"\",'Access Point (Desc)'!A445)","v":""},{"$f":"IF('Access Point (Desc)'!B445=\"\",\"\",'Access Point (Desc)'!B445)","v":""},{"$f":"IF('Access Point (Desc)'!C445=\"\",\"\",'Access Point (Desc)'!C445)","v":""},{"$f":"IF('Access Point (Desc)'!D445=\"\",\"\",'Access Point (Desc)'!D445)","v":""},{"$f":"IF('Access Point (Desc)'!E445=\"\",\"\",INDEX([1]OWNER!$A$2:$A$100,MATCH('Access Point (Desc)'!$E445,[1]!MASTER_OWNER_DESC[#Data],0),0))","v":""},{"$f":"IF('Access Point (Desc)'!F445=\"\",\"\",INDEX([1]COUNTY!$A$2:$A$100,MATCH('Access Point (Desc)'!F445,[1]!MASTER_COUNTY_NAME[#Data],0),0))","v":""},{"$f":"IF('Access Point (Desc)'!G445=\"\",\"\",'Access Point (Desc)'!G445)","v":""},{"$f":"IF('Access Point (Desc)'!H445=\"\",\"\",'Access Point (Desc)'!H445)","v":""},{"$f":"IF('Access Point (Desc)'!I445=\"\",\"\",INDEX([1]ROUTE_MH_TYPE!$A$2:$A$100,MATCH('Access Point (Desc)'!$I445,[1]!MASTER_ROUTE_MH_TYPE_DESC[#Data],0),0))","v":""},{"$f":"IF('Access Point (Desc)'!J445=\"\",\"\",INDEX([1]MANHOLE_MTL!$A$2:$A$100,MATCH('Access Point (Desc)'!$J445,[1]!MASTER_MANHOLE_MTL_DESC[#Data],0),0))","v":""},{"$f":"IF('Access Point (Desc)'!K445=\"\",\"\",INDEX([1]MANHOLE_SIZE!$A$2:$A$120,MATCH('Access Point (Desc)'!$K445,[1]!MASTER_MANHOLE_SIZE_DESC[#Data],0),0))","v":""},{"$f":"IF('Access Point (Desc)'!L445=\"\",\"\",INDEX([1]ROUTE_MH_LID_TYPE!$A$2:$A$100,MATCH('Access Point (Desc)'!$L445,[1]!MASTER_ROUTE_MH_LID_TYPE_DESC[#Data],0),0))","v":""},{"$f":"IF('Access Point (Desc)'!M445=\"\",\"\",INDEX([1]MANHOLE_MTL!$A$2:$A$100,MATCH('Access Point (Desc)'!$M445,[1]!MASTER_MANHOLE_MTL_DESC[#Data],0),0))","v":""},{"$f":"IF('Access Point (Desc)'!N445=\"\",\"\",INDEX([1]LID_BOLT_TYPE!$A$2:$A$100,MATCH('Access Point (Desc)'!$N445,[1]!MASTER_LID_BOLT_TYPE_DESC[#Data],0),0))","v":""},{"$f":"IF('Access Point (Desc)'!O445=\"\",\"\",INDEX([1]YES_NO!$A$2:$A$100,MATCH('Access Point (Desc)'!$O445,[1]!MASTER_YES_NO_DESC[#Data],0),0))","v":""},{"$f":"IF('Access Point (Desc)'!P445=\"\",\"\",'Access Point (Desc)'!P445)","v":""},{"$f":"IF('Access Point (Desc)'!Q445=\"\",\"\",INDEX([1]YES_NO!$A$2:$A$100,MATCH('Access Point (Desc)'!$Q445,[1]!MASTER_YES_NO_DESC[#Data],0),0))","v":""}]
[{"$f":"IF('Access Point (Desc)'!A446=\"\",\"\",'Access Point (Desc)'!A446)","v":""},{"$f":"IF('Access Point (Desc)'!B446=\"\",\"\",'Access Point (Desc)'!B446)","v":""},{"$f":"IF('Access Point (Desc)'!C446=\"\",\"\",'Access Point (Desc)'!C446)","v":""},{"$f":"IF('Access Point (Desc)'!D446=\"\",\"\",'Access Point (Desc)'!D446)","v":""},{"$f":"IF('Access Point (Desc)'!E446=\"\",\"\",INDEX([1]OWNER!$A$2:$A$100,MATCH('Access Point (Desc)'!$E446,[1]!MASTER_OWNER_DESC[#Data],0),0))","v":""},{"$f":"IF('Access Point (Desc)'!F446=\"\",\"\",INDEX([1]COUNTY!$A$2:$A$100,MATCH('Access Point (Desc)'!F446,[1]!MASTER_COUNTY_NAME[#Data],0),0))","v":""},{"$f":"IF('Access Point (Desc)'!G446=\"\",\"\",'Access Point (Desc)'!G446)","v":""},{"$f":"IF('Access Point (Desc)'!H446=\"\",\"\",'Access Point (Desc)'!H446)","v":""},{"$f":"IF('Access Point (Desc)'!I446=\"\",\"\",INDEX([1]ROUTE_MH_TYPE!$A$2:$A$100,MATCH('Access Point (Desc)'!$I446,[1]!MASTER_ROUTE_MH_TYPE_DESC[#Data],0),0))","v":""},{"$f":"IF('Access Point (Desc)'!J446=\"\",\"\",INDEX([1]MANHOLE_MTL!$A$2:$A$100,MATCH('Access Point (Desc)'!$J446,[1]!MASTER_MANHOLE_MTL_DESC[#Data],0),0))","v":""},{"$f":"IF('Access Point (Desc)'!K446=\"\",\"\",INDEX([1]MANHOLE_SIZE!$A$2:$A$120,MATCH('Access Point (Desc)'!$K446,[1]!MASTER_MANHOLE_SIZE_DESC[#Data],0),0))","v":""},{"$f":"IF('Access Point (Desc)'!L446=\"\",\"\",INDEX([1]ROUTE_MH_LID_TYPE!$A$2:$A$100,MATCH('Access Point (Desc)'!$L446,[1]!MASTER_ROUTE_MH_LID_TYPE_DESC[#Data],0),0))","v":""},{"$f":"IF('Access Point (Desc)'!M446=\"\",\"\",INDEX([1]MANHOLE_MTL!$A$2:$A$100,MATCH('Access Point (Desc)'!$M446,[1]!MASTER_MANHOLE_MTL_DESC[#Data],0),0))","v":""},{"$f":"IF('Access Point (Desc)'!N446=\"\",\"\",INDEX([1]LID_BOLT_TYPE!$A$2:$A$100,MATCH('Access Point (Desc)'!$N446,[1]!MASTER_LID_BOLT_TYPE_DESC[#Data],0),0))","v":""},{"$f":"IF('Access Point (Desc)'!O446=\"\",\"\",INDEX([1]YES_NO!$A$2:$A$100,MATCH('Access Point (Desc)'!$O446,[1]!MASTER_YES_NO_DESC[#Data],0),0))","v":""},{"$f":"IF('Access Point (Desc)'!P446=\"\",\"\",'Access Point (Desc)'!P446)","v":""},{"$f":"IF('Access Point (Desc)'!Q446=\"\",\"\",INDEX([1]YES_NO!$A$2:$A$100,MATCH('Access Point (Desc)'!$Q446,[1]!MASTER_YES_NO_DESC[#Data],0),0))","v":""}]
[{"$f":"IF('Access Point (Desc)'!A447=\"\",\"\",'Access Point (Desc)'!A447)","v":""},{"$f":"IF('Access Point (Desc)'!B447=\"\",\"\",'Access Point (Desc)'!B447)","v":""},{"$f":"IF('Access Point (Desc)'!C447=\"\",\"\",'Access Point (Desc)'!C447)","v":""},{"$f":"IF('Access Point (Desc)'!D447=\"\",\"\",'Access Point (Desc)'!D447)","v":""},{"$f":"IF('Access Point (Desc)'!E447=\"\",\"\",INDEX([1]OWNER!$A$2:$A$100,MATCH('Access Point (Desc)'!$E447,[1]!MASTER_OWNER_DESC[#Data],0),0))","v":""},{"$f":"IF('Access Point (Desc)'!F447=\"\",\"\",INDEX([1]COUNTY!$A$2:$A$100,MATCH('Access Point (Desc)'!F447,[1]!MASTER_COUNTY_NAME[#Data],0),0))","v":""},{"$f":"IF('Access Point (Desc)'!G447=\"\",\"\",'Access Point (Desc)'!G447)","v":""},{"$f":"IF('Access Point (Desc)'!H447=\"\",\"\",'Access Point (Desc)'!H447)","v":""},{"$f":"IF('Access Point (Desc)'!I447=\"\",\"\",INDEX([1]ROUTE_MH_TYPE!$A$2:$A$100,MATCH('Access Point (Desc)'!$I447,[1]!MASTER_ROUTE_MH_TYPE_DESC[#Data],0),0))","v":""},{"$f":"IF('Access Point (Desc)'!J447=\"\",\"\",INDEX([1]MANHOLE_MTL!$A$2:$A$100,MATCH('Access Point (Desc)'!$J447,[1]!MASTER_MANHOLE_MTL_DESC[#Data],0),0))","v":""},{"$f":"IF('Access Point (Desc)'!K447=\"\",\"\",INDEX([1]MANHOLE_SIZE!$A$2:$A$120,MATCH('Access Point (Desc)'!$K447,[1]!MASTER_MANHOLE_SIZE_DESC[#Data],0),0))","v":""},{"$f":"IF('Access Point (Desc)'!L447=\"\",\"\",INDEX([1]ROUTE_MH_LID_TYPE!$A$2:$A$100,MATCH('Access Point (Desc)'!$L447,[1]!MASTER_ROUTE_MH_LID_TYPE_DESC[#Data],0),0))","v":""},{"$f":"IF('Access Point (Desc)'!M447=\"\",\"\",INDEX([1]MANHOLE_MTL!$A$2:$A$100,MATCH('Access Point (Desc)'!$M447,[1]!MASTER_MANHOLE_MTL_DESC[#Data],0),0))","v":""},{"$f":"IF('Access Point (Desc)'!N447=\"\",\"\",INDEX([1]LID_BOLT_TYPE!$A$2:$A$100,MATCH('Access Point (Desc)'!$N447,[1]!MASTER_LID_BOLT_TYPE_DESC[#Data],0),0))","v":""},{"$f":"IF('Access Point (Desc)'!O447=\"\",\"\",INDEX([1]YES_NO!$A$2:$A$100,MATCH('Access Point (Desc)'!$O447,[1]!MASTER_YES_NO_DESC[#Data],0),0))","v":""},{"$f":"IF('Access Point (Desc)'!P447=\"\",\"\",'Access Point (Desc)'!P447)","v":""},{"$f":"IF('Access Point (Desc)'!Q447=\"\",\"\",INDEX([1]YES_NO!$A$2:$A$100,MATCH('Access Point (Desc)'!$Q447,[1]!MASTER_YES_NO_DESC[#Data],0),0))","v":""}]
[{"$f":"IF('Access Point (Desc)'!A448=\"\",\"\",'Access Point (Desc)'!A448)","v":""},{"$f":"IF('Access Point (Desc)'!B448=\"\",\"\",'Access Point (Desc)'!B448)","v":""},{"$f":"IF('Access Point (Desc)'!C448=\"\",\"\",'Access Point (Desc)'!C448)","v":""},{"$f":"IF('Access Point (Desc)'!D448=\"\",\"\",'Access Point (Desc)'!D448)","v":""},{"$f":"IF('Access Point (Desc)'!E448=\"\",\"\",INDEX([1]OWNER!$A$2:$A$100,MATCH('Access Point (Desc)'!$E448,[1]!MASTER_OWNER_DESC[#Data],0),0))","v":""},{"$f":"IF('Access Point (Desc)'!F448=\"\",\"\",INDEX([1]COUNTY!$A$2:$A$100,MATCH('Access Point (Desc)'!F448,[1]!MASTER_COUNTY_NAME[#Data],0),0))","v":""},{"$f":"IF('Access Point (Desc)'!G448=\"\",\"\",'Access Point (Desc)'!G448)","v":""},{"$f":"IF('Access Point (Desc)'!H448=\"\",\"\",'Access Point (Desc)'!H448)","v":""},{"$f":"IF('Access Point (Desc)'!I448=\"\",\"\",INDEX([1]ROUTE_MH_TYPE!$A$2:$A$100,MATCH('Access Point (Desc)'!$I448,[1]!MASTER_ROUTE_MH_TYPE_DESC[#Data],0),0))","v":""},{"$f":"IF('Access Point (Desc)'!J448=\"\",\"\",INDEX([1]MANHOLE_MTL!$A$2:$A$100,MATCH('Access Point (Desc)'!$J448,[1]!MASTER_MANHOLE_MTL_DESC[#Data],0),0))","v":""},{"$f":"IF('Access Point (Desc)'!K448=\"\",\"\",INDEX([1]MANHOLE_SIZE!$A$2:$A$120,MATCH('Access Point (Desc)'!$K448,[1]!MASTER_MANHOLE_SIZE_DESC[#Data],0),0))","v":""},{"$f":"IF('Access Point (Desc)'!L448=\"\",\"\",INDEX([1]ROUTE_MH_LID_TYPE!$A$2:$A$100,MATCH('Access Point (Desc)'!$L448,[1]!MASTER_ROUTE_MH_LID_TYPE_DESC[#Data],0),0))","v":""},{"$f":"IF('Access Point (Desc)'!M448=\"\",\"\",INDEX([1]MANHOLE_MTL!$A$2:$A$100,MATCH('Access Point (Desc)'!$M448,[1]!MASTER_MANHOLE_MTL_DESC[#Data],0),0))","v":""},{"$f":"IF('Access Point (Desc)'!N448=\"\",\"\",INDEX([1]LID_BOLT_TYPE!$A$2:$A$100,MATCH('Access Point (Desc)'!$N448,[1]!MASTER_LID_BOLT_TYPE_DESC[#Data],0),0))","v":""},{"$f":"IF('Access Point (Desc)'!O448=\"\",\"\",INDEX([1]YES_NO!$A$2:$A$100,MATCH('Access Point (Desc)'!$O448,[1]!MASTER_YES_NO_DESC[#Data],0),0))","v":""},{"$f":"IF('Access Point (Desc)'!P448=\"\",\"\",'Access Point (Desc)'!P448)","v":""},{"$f":"IF('Access Point (Desc)'!Q448=\"\",\"\",INDEX([1]YES_NO!$A$2:$A$100,MATCH('Access Point (Desc)'!$Q448,[1]!MASTER_YES_NO_DESC[#Data],0),0))","v":""}]
[{"$f":"IF('Access Point (Desc)'!A449=\"\",\"\",'Access Point (Desc)'!A449)","v":""},{"$f":"IF('Access Point (Desc)'!B449=\"\",\"\",'Access Point (Desc)'!B449)","v":""},{"$f":"IF('Access Point (Desc)'!C449=\"\",\"\",'Access Point (Desc)'!C449)","v":""},{"$f":"IF('Access Point (Desc)'!D449=\"\",\"\",'Access Point (Desc)'!D449)","v":""},{"$f":"IF('Access Point (Desc)'!E449=\"\",\"\",INDEX([1]OWNER!$A$2:$A$100,MATCH('Access Point (Desc)'!$E449,[1]!MASTER_OWNER_DESC[#Data],0),0))","v":""},{"$f":"IF('Access Point (Desc)'!F449=\"\",\"\",INDEX([1]COUNTY!$A$2:$A$100,MATCH('Access Point (Desc)'!F449,[1]!MASTER_COUNTY_NAME[#Data],0),0))","v":""},{"$f":"IF('Access Point (Desc)'!G449=\"\",\"\",'Access Point (Desc)'!G449)","v":""},{"$f":"IF('Access Point (Desc)'!H449=\"\",\"\",'Access Point (Desc)'!H449)","v":""},{"$f":"IF('Access Point (Desc)'!I449=\"\",\"\",INDEX([1]ROUTE_MH_TYPE!$A$2:$A$100,MATCH('Access Point (Desc)'!$I449,[1]!MASTER_ROUTE_MH_TYPE_DESC[#Data],0),0))","v":""},{"$f":"IF('Access Point (Desc)'!J449=\"\",\"\",INDEX([1]MANHOLE_MTL!$A$2:$A$100,MATCH('Access Point (Desc)'!$J449,[1]!MASTER_MANHOLE_MTL_DESC[#Data],0),0))","v":""},{"$f":"IF('Access Point (Desc)'!K449=\"\",\"\",INDEX([1]MANHOLE_SIZE!$A$2:$A$120,MATCH('Access Point (Desc)'!$K449,[1]!MASTER_MANHOLE_SIZE_DESC[#Data],0),0))","v":""},{"$f":"IF('Access Point (Desc)'!L449=\"\",\"\",INDEX([1]ROUTE_MH_LID_TYPE!$A$2:$A$100,MATCH('Access Point (Desc)'!$L449,[1]!MASTER_ROUTE_MH_LID_TYPE_DESC[#Data],0),0))","v":""},{"$f":"IF('Access Point (Desc)'!M449=\"\",\"\",INDEX([1]MANHOLE_MTL!$A$2:$A$100,MATCH('Access Point (Desc)'!$M449,[1]!MASTER_MANHOLE_MTL_DESC[#Data],0),0))","v":""},{"$f":"IF('Access Point (Desc)'!N449=\"\",\"\",INDEX([1]LID_BOLT_TYPE!$A$2:$A$100,MATCH('Access Point (Desc)'!$N449,[1]!MASTER_LID_BOLT_TYPE_DESC[#Data],0),0))","v":""},{"$f":"IF('Access Point (Desc)'!O449=\"\",\"\",INDEX([1]YES_NO!$A$2:$A$100,MATCH('Access Point (Desc)'!$O449,[1]!MASTER_YES_NO_DESC[#Data],0),0))","v":""},{"$f":"IF('Access Point (Desc)'!P449=\"\",\"\",'Access Point (Desc)'!P449)","v":""},{"$f":"IF('Access Point (Desc)'!Q449=\"\",\"\",INDEX([1]YES_NO!$A$2:$A$100,MATCH('Access Point (Desc)'!$Q449,[1]!MASTER_YES_NO_DESC[#Data],0),0))","v":""}]
[{"$f":"IF('Access Point (Desc)'!A450=\"\",\"\",'Access Point (Desc)'!A450)","v":""},{"$f":"IF('Access Point (Desc)'!B450=\"\",\"\",'Access Point (Desc)'!B450)","v":""},{"$f":"IF('Access Point (Desc)'!C450=\"\",\"\",'Access Point (Desc)'!C450)","v":""},{"$f":"IF('Access Point (Desc)'!D450=\"\",\"\",'Access Point (Desc)'!D450)","v":""},{"$f":"IF('Access Point (Desc)'!E450=\"\",\"\",INDEX([1]OWNER!$A$2:$A$100,MATCH('Access Point (Desc)'!$E450,[1]!MASTER_OWNER_DESC[#Data],0),0))","v":""},{"$f":"IF('Access Point (Desc)'!F450=\"\",\"\",INDEX([1]COUNTY!$A$2:$A$100,MATCH('Access Point (Desc)'!F450,[1]!MASTER_COUNTY_NAME[#Data],0),0))","v":""},{"$f":"IF('Access Point (Desc)'!G450=\"\",\"\",'Access Point (Desc)'!G450)","v":""},{"$f":"IF('Access Point (Desc)'!H450=\"\",\"\",'Access Point (Desc)'!H450)","v":""},{"$f":"IF('Access Point (Desc)'!I450=\"\",\"\",INDEX([1]ROUTE_MH_TYPE!$A$2:$A$100,MATCH('Access Point (Desc)'!$I450,[1]!MASTER_ROUTE_MH_TYPE_DESC[#Data],0),0))","v":""},{"$f":"IF('Access Point (Desc)'!J450=\"\",\"\",INDEX([1]MANHOLE_MTL!$A$2:$A$100,MATCH('Access Point (Desc)'!$J450,[1]!MASTER_MANHOLE_MTL_DESC[#Data],0),0))","v":""},{"$f":"IF('Access Point (Desc)'!K450=\"\",\"\",INDEX([1]MANHOLE_SIZE!$A$2:$A$120,MATCH('Access Point (Desc)'!$K450,[1]!MASTER_MANHOLE_SIZE_DESC[#Data],0),0))","v":""},{"$f":"IF('Access Point (Desc)'!L450=\"\",\"\",INDEX([1]ROUTE_MH_LID_TYPE!$A$2:$A$100,MATCH('Access Point (Desc)'!$L450,[1]!MASTER_ROUTE_MH_LID_TYPE_DESC[#Data],0),0))","v":""},{"$f":"IF('Access Point (Desc)'!M450=\"\",\"\",INDEX([1]MANHOLE_MTL!$A$2:$A$100,MATCH('Access Point (Desc)'!$M450,[1]!MASTER_MANHOLE_MTL_DESC[#Data],0),0))","v":""},{"$f":"IF('Access Point (Desc)'!N450=\"\",\"\",INDEX([1]LID_BOLT_TYPE!$A$2:$A$100,MATCH('Access Point (Desc)'!$N450,[1]!MASTER_LID_BOLT_TYPE_DESC[#Data],0),0))","v":""},{"$f":"IF('Access Point (Desc)'!O450=\"\",\"\",INDEX([1]YES_NO!$A$2:$A$100,MATCH('Access Point (Desc)'!$O450,[1]!MASTER_YES_NO_DESC[#Data],0),0))","v":""},{"$f":"IF('Access Point (Desc)'!P450=\"\",\"\",'Access Point (Desc)'!P450)","v":""},{"$f":"IF('Access Point (Desc)'!Q450=\"\",\"\",INDEX([1]YES_NO!$A$2:$A$100,MATCH('Access Point (Desc)'!$Q450,[1]!MASTER_YES_NO_DESC[#Data],0),0))","v":""}]
[{"$f":"IF('Access Point (Desc)'!A451=\"\",\"\",'Access Point (Desc)'!A451)","v":""},{"$f":"IF('Access Point (Desc)'!B451=\"\",\"\",'Access Point (Desc)'!B451)","v":""},{"$f":"IF('Access Point (Desc)'!C451=\"\",\"\",'Access Point (Desc)'!C451)","v":""},{"$f":"IF('Access Point (Desc)'!D451=\"\",\"\",'Access Point (Desc)'!D451)","v":""},{"$f":"IF('Access Point (Desc)'!E451=\"\",\"\",INDEX([1]OWNER!$A$2:$A$100,MATCH('Access Point (Desc)'!$E451,[1]!MASTER_OWNER_DESC[#Data],0),0))","v":""},{"$f":"IF('Access Point (Desc)'!F451=\"\",\"\",INDEX([1]COUNTY!$A$2:$A$100,MATCH('Access Point (Desc)'!F451,[1]!MASTER_COUNTY_NAME[#Data],0),0))","v":""},{"$f":"IF('Access Point (Desc)'!G451=\"\",\"\",'Access Point (Desc)'!G451)","v":""},{"$f":"IF('Access Point (Desc)'!H451=\"\",\"\",'Access Point (Desc)'!H451)","v":""},{"$f":"IF('Access Point (Desc)'!I451=\"\",\"\",INDEX([1]ROUTE_MH_TYPE!$A$2:$A$100,MATCH('Access Point (Desc)'!$I451,[1]!MASTER_ROUTE_MH_TYPE_DESC[#Data],0),0))","v":""},{"$f":"IF('Access Point (Desc)'!J451=\"\",\"\",INDEX([1]MANHOLE_MTL!$A$2:$A$100,MATCH('Access Point (Desc)'!$J451,[1]!MASTER_MANHOLE_MTL_DESC[#Data],0),0))","v":""},{"$f":"IF('Access Point (Desc)'!K451=\"\",\"\",INDEX([1]MANHOLE_SIZE!$A$2:$A$120,MATCH('Access Point (Desc)'!$K451,[1]!MASTER_MANHOLE_SIZE_DESC[#Data],0),0))","v":""},{"$f":"IF('Access Point (Desc)'!L451=\"\",\"\",INDEX([1]ROUTE_MH_LID_TYPE!$A$2:$A$100,MATCH('Access Point (Desc)'!$L451,[1]!MASTER_ROUTE_MH_LID_TYPE_DESC[#Data],0),0))","v":""},{"$f":"IF('Access Point (Desc)'!M451=\"\",\"\",INDEX([1]MANHOLE_MTL!$A$2:$A$100,MATCH('Access Point (Desc)'!$M451,[1]!MASTER_MANHOLE_MTL_DESC[#Data],0),0))","v":""},{"$f":"IF('Access Point (Desc)'!N451=\"\",\"\",INDEX([1]LID_BOLT_TYPE!$A$2:$A$100,MATCH('Access Point (Desc)'!$N451,[1]!MASTER_LID_BOLT_TYPE_DESC[#Data],0),0))","v":""},{"$f":"IF('Access Point (Desc)'!O451=\"\",\"\",INDEX([1]YES_NO!$A$2:$A$100,MATCH('Access Point (Desc)'!$O451,[1]!MASTER_YES_NO_DESC[#Data],0),0))","v":""},{"$f":"IF('Access Point (Desc)'!P451=\"\",\"\",'Access Point (Desc)'!P451)","v":""},{"$f":"IF('Access Point (Desc)'!Q451=\"\",\"\",INDEX([1]YES_NO!$A$2:$A$100,MATCH('Access Point (Desc)'!$Q451,[1]!MASTER_YES_NO_DESC[#Data],0),0))","v":""}]
[{"$f":"IF('Access Point (Desc)'!A452=\"\",\"\",'Access Point (Desc)'!A452)","v":""},{"$f":"IF('Access Point (Desc)'!B452=\"\",\"\",'Access Point (Desc)'!B452)","v":""},{"$f":"IF('Access Point (Desc)'!C452=\"\",\"\",'Access Point (Desc)'!C452)","v":""},{"$f":"IF('Access Point (Desc)'!D452=\"\",\"\",'Access Point (Desc)'!D452)","v":""},{"$f":"IF('Access Point (Desc)'!E452=\"\",\"\",INDEX([1]OWNER!$A$2:$A$100,MATCH('Access Point (Desc)'!$E452,[1]!MASTER_OWNER_DESC[#Data],0),0))","v":""},{"$f":"IF('Access Point (Desc)'!F452=\"\",\"\",INDEX([1]COUNTY!$A$2:$A$100,MATCH('Access Point (Desc)'!F452,[1]!MASTER_COUNTY_NAME[#Data],0),0))","v":""},{"$f":"IF('Access Point (Desc)'!G452=\"\",\"\",'Access Point (Desc)'!G452)","v":""},{"$f":"IF('Access Point (Desc)'!H452=\"\",\"\",'Access Point (Desc)'!H452)","v":""},{"$f":"IF('Access Point (Desc)'!I452=\"\",\"\",INDEX([1]ROUTE_MH_TYPE!$A$2:$A$100,MATCH('Access Point (Desc)'!$I452,[1]!MASTER_ROUTE_MH_TYPE_DESC[#Data],0),0))","v":""},{"$f":"IF('Access Point (Desc)'!J452=\"\",\"\",INDEX([1]MANHOLE_MTL!$A$2:$A$100,MATCH('Access Point (Desc)'!$J452,[1]!MASTER_MANHOLE_MTL_DESC[#Data],0),0))","v":""},{"$f":"IF('Access Point (Desc)'!K452=\"\",\"\",INDEX([1]MANHOLE_SIZE!$A$2:$A$120,MATCH('Access Point (Desc)'!$K452,[1]!MASTER_MANHOLE_SIZE_DESC[#Data],0),0))","v":""},{"$f":"IF('Access Point (Desc)'!L452=\"\",\"\",INDEX([1]ROUTE_MH_LID_TYPE!$A$2:$A$100,MATCH('Access Point (Desc)'!$L452,[1]!MASTER_ROUTE_MH_LID_TYPE_DESC[#Data],0),0))","v":""},{"$f":"IF('Access Point (Desc)'!M452=\"\",\"\",INDEX([1]MANHOLE_MTL!$A$2:$A$100,MATCH('Access Point (Desc)'!$M452,[1]!MASTER_MANHOLE_MTL_DESC[#Data],0),0))","v":""},{"$f":"IF('Access Point (Desc)'!N452=\"\",\"\",INDEX([1]LID_BOLT_TYPE!$A$2:$A$100,MATCH('Access Point (Desc)'!$N452,[1]!MASTER_LID_BOLT_TYPE_DESC[#Data],0),0))","v":""},{"$f":"IF('Access Point (Desc)'!O452=\"\",\"\",INDEX([1]YES_NO!$A$2:$A$100,MATCH('Access Point (Desc)'!$O452,[1]!MASTER_YES_NO_DESC[#Data],0),0))","v":""},{"$f":"IF('Access Point (Desc)'!P452=\"\",\"\",'Access Point (Desc)'!P452)","v":""},{"$f":"IF('Access Point (Desc)'!Q452=\"\",\"\",INDEX([1]YES_NO!$A$2:$A$100,MATCH('Access Point (Desc)'!$Q452,[1]!MASTER_YES_NO_DESC[#Data],0),0))","v":""}]
[{"$f":"IF('Access Point (Desc)'!A453=\"\",\"\",'Access Point (Desc)'!A453)","v":""},{"$f":"IF('Access Point (Desc)'!B453=\"\",\"\",'Access Point (Desc)'!B453)","v":""},{"$f":"IF('Access Point (Desc)'!C453=\"\",\"\",'Access Point (Desc)'!C453)","v":""},{"$f":"IF('Access Point (Desc)'!D453=\"\",\"\",'Access Point (Desc)'!D453)","v":""},{"$f":"IF('Access Point (Desc)'!E453=\"\",\"\",INDEX([1]OWNER!$A$2:$A$100,MATCH('Access Point (Desc)'!$E453,[1]!MASTER_OWNER_DESC[#Data],0),0))","v":""},{"$f":"IF('Access Point (Desc)'!F453=\"\",\"\",INDEX([1]COUNTY!$A$2:$A$100,MATCH('Access Point (Desc)'!F453,[1]!MASTER_COUNTY_NAME[#Data],0),0))","v":""},{"$f":"IF('Access Point (Desc)'!G453=\"\",\"\",'Access Point (Desc)'!G453)","v":""},{"$f":"IF('Access Point (Desc)'!H453=\"\",\"\",'Access Point (Desc)'!H453)","v":""},{"$f":"IF('Access Point (Desc)'!I453=\"\",\"\",INDEX([1]ROUTE_MH_TYPE!$A$2:$A$100,MATCH('Access Point (Desc)'!$I453,[1]!MASTER_ROUTE_MH_TYPE_DESC[#Data],0),0))","v":""},{"$f":"IF('Access Point (Desc)'!J453=\"\",\"\",INDEX([1]MANHOLE_MTL!$A$2:$A$100,MATCH('Access Point (Desc)'!$J453,[1]!MASTER_MANHOLE_MTL_DESC[#Data],0),0))","v":""},{"$f":"IF('Access Point (Desc)'!K453=\"\",\"\",INDEX([1]MANHOLE_SIZE!$A$2:$A$120,MATCH('Access Point (Desc)'!$K453,[1]!MASTER_MANHOLE_SIZE_DESC[#Data],0),0))","v":""},{"$f":"IF('Access Point (Desc)'!L453=\"\",\"\",INDEX([1]ROUTE_MH_LID_TYPE!$A$2:$A$100,MATCH('Access Point (Desc)'!$L453,[1]!MASTER_ROUTE_MH_LID_TYPE_DESC[#Data],0),0))","v":""},{"$f":"IF('Access Point (Desc)'!M453=\"\",\"\",INDEX([1]MANHOLE_MTL!$A$2:$A$100,MATCH('Access Point (Desc)'!$M453,[1]!MASTER_MANHOLE_MTL_DESC[#Data],0),0))","v":""},{"$f":"IF('Access Point (Desc)'!N453=\"\",\"\",INDEX([1]LID_BOLT_TYPE!$A$2:$A$100,MATCH('Access Point (Desc)'!$N453,[1]!MASTER_LID_BOLT_TYPE_DESC[#Data],0),0))","v":""},{"$f":"IF('Access Point (Desc)'!O453=\"\",\"\",INDEX([1]YES_NO!$A$2:$A$100,MATCH('Access Point (Desc)'!$O453,[1]!MASTER_YES_NO_DESC[#Data],0),0))","v":""},{"$f":"IF('Access Point (Desc)'!P453=\"\",\"\",'Access Point (Desc)'!P453)","v":""},{"$f":"IF('Access Point (Desc)'!Q453=\"\",\"\",INDEX([1]YES_NO!$A$2:$A$100,MATCH('Access Point (Desc)'!$Q453,[1]!MASTER_YES_NO_DESC[#Data],0),0))","v":""}]
[{"$f":"IF('Access Point (Desc)'!A454=\"\",\"\",'Access Point (Desc)'!A454)","v":""},{"$f":"IF('Access Point (Desc)'!B454=\"\",\"\",'Access Point (Desc)'!B454)","v":""},{"$f":"IF('Access Point (Desc)'!C454=\"\",\"\",'Access Point (Desc)'!C454)","v":""},{"$f":"IF('Access Point (Desc)'!D454=\"\",\"\",'Access Point (Desc)'!D454)","v":""},{"$f":"IF('Access Point (Desc)'!E454=\"\",\"\",INDEX([1]OWNER!$A$2:$A$100,MATCH('Access Point (Desc)'!$E454,[1]!MASTER_OWNER_DESC[#Data],0),0))","v":""},{"$f":"IF('Access Point (Desc)'!F454=\"\",\"\",INDEX([1]COUNTY!$A$2:$A$100,MATCH('Access Point (Desc)'!F454,[1]!MASTER_COUNTY_NAME[#Data],0),0))","v":""},{"$f":"IF('Access Point (Desc)'!G454=\"\",\"\",'Access Point (Desc)'!G454)","v":""},{"$f":"IF('Access Point (Desc)'!H454=\"\",\"\",'Access Point (Desc)'!H454)","v":""},{"$f":"IF('Access Point (Desc)'!I454=\"\",\"\",INDEX([1]ROUTE_MH_TYPE!$A$2:$A$100,MATCH('Access Point (Desc)'!$I454,[1]!MASTER_ROUTE_MH_TYPE_DESC[#Data],0),0))","v":""},{"$f":"IF('Access Point (Desc)'!J454=\"\",\"\",INDEX([1]MANHOLE_MTL!$A$2:$A$100,MATCH('Access Point (Desc)'!$J454,[1]!MASTER_MANHOLE_MTL_DESC[#Data],0),0))","v":""},{"$f":"IF('Access Point (Desc)'!K454=\"\",\"\",INDEX([1]MANHOLE_SIZE!$A$2:$A$120,MATCH('Access Point (Desc)'!$K454,[1]!MASTER_MANHOLE_SIZE_DESC[#Data],0),0))","v":""},{"$f":"IF('Access Point (Desc)'!L454=\"\",\"\",INDEX([1]ROUTE_MH_LID_TYPE!$A$2:$A$100,MATCH('Access Point (Desc)'!$L454,[1]!MASTER_ROUTE_MH_LID_TYPE_DESC[#Data],0),0))","v":""},{"$f":"IF('Access Point (Desc)'!M454=\"\",\"\",INDEX([1]MANHOLE_MTL!$A$2:$A$100,MATCH('Access Point (Desc)'!$M454,[1]!MASTER_MANHOLE_MTL_DESC[#Data],0),0))","v":""},{"$f":"IF('Access Point (Desc)'!N454=\"\",\"\",INDEX([1]LID_BOLT_TYPE!$A$2:$A$100,MATCH('Access Point (Desc)'!$N454,[1]!MASTER_LID_BOLT_TYPE_DESC[#Data],0),0))","v":""},{"$f":"IF('Access Point (Desc)'!O454=\"\",\"\",INDEX([1]YES_NO!$A$2:$A$100,MATCH('Access Point (Desc)'!$O454,[1]!MASTER_YES_NO_DESC[#Data],0),0))","v":""},{"$f":"IF('Access Point (Desc)'!P454=\"\",\"\",'Access Point (Desc)'!P454)","v":""},{"$f":"IF('Access Point (Desc)'!Q454=\"\",\"\",INDEX([1]YES_NO!$A$2:$A$100,MATCH('Access Point (Desc)'!$Q454,[1]!MASTER_YES_NO_DESC[#Data],0),0))","v":""}]
[{"$f":"IF('Access Point (Desc)'!A455=\"\",\"\",'Access Point (Desc)'!A455)","v":""},{"$f":"IF('Access Point (Desc)'!B455=\"\",\"\",'Access Point (Desc)'!B455)","v":""},{"$f":"IF('Access Point (Desc)'!C455=\"\",\"\",'Access Point (Desc)'!C455)","v":""},{"$f":"IF('Access Point (Desc)'!D455=\"\",\"\",'Access Point (Desc)'!D455)","v":""},{"$f":"IF('Access Point (Desc)'!E455=\"\",\"\",INDEX([1]OWNER!$A$2:$A$100,MATCH('Access Point (Desc)'!$E455,[1]!MASTER_OWNER_DESC[#Data],0),0))","v":""},{"$f":"IF('Access Point (Desc)'!F455=\"\",\"\",INDEX([1]COUNTY!$A$2:$A$100,MATCH('Access Point (Desc)'!F455,[1]!MASTER_COUNTY_NAME[#Data],0),0))","v":""},{"$f":"IF('Access Point (Desc)'!G455=\"\",\"\",'Access Point (Desc)'!G455)","v":""},{"$f":"IF('Access Point (Desc)'!H455=\"\",\"\",'Access Point (Desc)'!H455)","v":""},{"$f":"IF('Access Point (Desc)'!I455=\"\",\"\",INDEX([1]ROUTE_MH_TYPE!$A$2:$A$100,MATCH('Access Point (Desc)'!$I455,[1]!MASTER_ROUTE_MH_TYPE_DESC[#Data],0),0))","v":""},{"$f":"IF('Access Point (Desc)'!J455=\"\",\"\",INDEX([1]MANHOLE_MTL!$A$2:$A$100,MATCH('Access Point (Desc)'!$J455,[1]!MASTER_MANHOLE_MTL_DESC[#Data],0),0))","v":""},{"$f":"IF('Access Point (Desc)'!K455=\"\",\"\",INDEX([1]MANHOLE_SIZE!$A$2:$A$120,MATCH('Access Point (Desc)'!$K455,[1]!MASTER_MANHOLE_SIZE_DESC[#Data],0),0))","v":""},{"$f":"IF('Access Point (Desc)'!L455=\"\",\"\",INDEX([1]ROUTE_MH_LID_TYPE!$A$2:$A$100,MATCH('Access Point (Desc)'!$L455,[1]!MASTER_ROUTE_MH_LID_TYPE_DESC[#Data],0),0))","v":""},{"$f":"IF('Access Point (Desc)'!M455=\"\",\"\",INDEX([1]MANHOLE_MTL!$A$2:$A$100,MATCH('Access Point (Desc)'!$M455,[1]!MASTER_MANHOLE_MTL_DESC[#Data],0),0))","v":""},{"$f":"IF('Access Point (Desc)'!N455=\"\",\"\",INDEX([1]LID_BOLT_TYPE!$A$2:$A$100,MATCH('Access Point (Desc)'!$N455,[1]!MASTER_LID_BOLT_TYPE_DESC[#Data],0),0))","v":""},{"$f":"IF('Access Point (Desc)'!O455=\"\",\"\",INDEX([1]YES_NO!$A$2:$A$100,MATCH('Access Point (Desc)'!$O455,[1]!MASTER_YES_NO_DESC[#Data],0),0))","v":""},{"$f":"IF('Access Point (Desc)'!P455=\"\",\"\",'Access Point (Desc)'!P455)","v":""},{"$f":"IF('Access Point (Desc)'!Q455=\"\",\"\",INDEX([1]YES_NO!$A$2:$A$100,MATCH('Access Point (Desc)'!$Q455,[1]!MASTER_YES_NO_DESC[#Data],0),0))","v":""}]
[{"$f":"IF('Access Point (Desc)'!A456=\"\",\"\",'Access Point (Desc)'!A456)","v":""},{"$f":"IF('Access Point (Desc)'!B456=\"\",\"\",'Access Point (Desc)'!B456)","v":""},{"$f":"IF('Access Point (Desc)'!C456=\"\",\"\",'Access Point (Desc)'!C456)","v":""},{"$f":"IF('Access Point (Desc)'!D456=\"\",\"\",'Access Point (Desc)'!D456)","v":""},{"$f":"IF('Access Point (Desc)'!E456=\"\",\"\",INDEX([1]OWNER!$A$2:$A$100,MATCH('Access Point (Desc)'!$E456,[1]!MASTER_OWNER_DESC[#Data],0),0))","v":""},{"$f":"IF('Access Point (Desc)'!F456=\"\",\"\",INDEX([1]COUNTY!$A$2:$A$100,MATCH('Access Point (Desc)'!F456,[1]!MASTER_COUNTY_NAME[#Data],0),0))","v":""},{"$f":"IF('Access Point (Desc)'!G456=\"\",\"\",'Access Point (Desc)'!G456)","v":""},{"$f":"IF('Access Point (Desc)'!H456=\"\",\"\",'Access Point (Desc)'!H456)","v":""},{"$f":"IF('Access Point (Desc)'!I456=\"\",\"\",INDEX([1]ROUTE_MH_TYPE!$A$2:$A$100,MATCH('Access Point (Desc)'!$I456,[1]!MASTER_ROUTE_MH_TYPE_DESC[#Data],0),0))","v":""},{"$f":"IF('Access Point (Desc)'!J456=\"\",\"\",INDEX([1]MANHOLE_MTL!$A$2:$A$100,MATCH('Access Point (Desc)'!$J456,[1]!MASTER_MANHOLE_MTL_DESC[#Data],0),0))","v":""},{"$f":"IF('Access Point (Desc)'!K456=\"\",\"\",INDEX([1]MANHOLE_SIZE!$A$2:$A$120,MATCH('Access Point (Desc)'!$K456,[1]!MASTER_MANHOLE_SIZE_DESC[#Data],0),0))","v":""},{"$f":"IF('Access Point (Desc)'!L456=\"\",\"\",INDEX([1]ROUTE_MH_LID_TYPE!$A$2:$A$100,MATCH('Access Point (Desc)'!$L456,[1]!MASTER_ROUTE_MH_LID_TYPE_DESC[#Data],0),0))","v":""},{"$f":"IF('Access Point (Desc)'!M456=\"\",\"\",INDEX([1]MANHOLE_MTL!$A$2:$A$100,MATCH('Access Point (Desc)'!$M456,[1]!MASTER_MANHOLE_MTL_DESC[#Data],0),0))","v":""},{"$f":"IF('Access Point (Desc)'!N456=\"\",\"\",INDEX([1]LID_BOLT_TYPE!$A$2:$A$100,MATCH('Access Point (Desc)'!$N456,[1]!MASTER_LID_BOLT_TYPE_DESC[#Data],0),0))","v":""},{"$f":"IF('Access Point (Desc)'!O456=\"\",\"\",INDEX([1]YES_NO!$A$2:$A$100,MATCH('Access Point (Desc)'!$O456,[1]!MASTER_YES_NO_DESC[#Data],0),0))","v":""},{"$f":"IF('Access Point (Desc)'!P456=\"\",\"\",'Access Point (Desc)'!P456)","v":""},{"$f":"IF('Access Point (Desc)'!Q456=\"\",\"\",INDEX([1]YES_NO!$A$2:$A$100,MATCH('Access Point (Desc)'!$Q456,[1]!MASTER_YES_NO_DESC[#Data],0),0))","v":""}]
[{"$f":"IF('Access Point (Desc)'!A457=\"\",\"\",'Access Point (Desc)'!A457)","v":""},{"$f":"IF('Access Point (Desc)'!B457=\"\",\"\",'Access Point (Desc)'!B457)","v":""},{"$f":"IF('Access Point (Desc)'!C457=\"\",\"\",'Access Point (Desc)'!C457)","v":""},{"$f":"IF('Access Point (Desc)'!D457=\"\",\"\",'Access Point (Desc)'!D457)","v":""},{"$f":"IF('Access Point (Desc)'!E457=\"\",\"\",INDEX([1]OWNER!$A$2:$A$100,MATCH('Access Point (Desc)'!$E457,[1]!MASTER_OWNER_DESC[#Data],0),0))","v":""},{"$f":"IF('Access Point (Desc)'!F457=\"\",\"\",INDEX([1]COUNTY!$A$2:$A$100,MATCH('Access Point (Desc)'!F457,[1]!MASTER_COUNTY_NAME[#Data],0),0))","v":""},{"$f":"IF('Access Point (Desc)'!G457=\"\",\"\",'Access Point (Desc)'!G457)","v":""},{"$f":"IF('Access Point (Desc)'!H457=\"\",\"\",'Access Point (Desc)'!H457)","v":""},{"$f":"IF('Access Point (Desc)'!I457=\"\",\"\",INDEX([1]ROUTE_MH_TYPE!$A$2:$A$100,MATCH('Access Point (Desc)'!$I457,[1]!MASTER_ROUTE_MH_TYPE_DESC[#Data],0),0))","v":""},{"$f":"IF('Access Point (Desc)'!J457=\"\",\"\",INDEX([1]MANHOLE_MTL!$A$2:$A$100,MATCH('Access Point (Desc)'!$J457,[1]!MASTER_MANHOLE_MTL_DESC[#Data],0),0))","v":""},{"$f":"IF('Access Point (Desc)'!K457=\"\",\"\",INDEX([1]MANHOLE_SIZE!$A$2:$A$120,MATCH('Access Point (Desc)'!$K457,[1]!MASTER_MANHOLE_SIZE_DESC[#Data],0),0))","v":""},{"$f":"IF('Access Point (Desc)'!L457=\"\",\"\",INDEX([1]ROUTE_MH_LID_TYPE!$A$2:$A$100,MATCH('Access Point (Desc)'!$L457,[1]!MASTER_ROUTE_MH_LID_TYPE_DESC[#Data],0),0))","v":""},{"$f":"IF('Access Point (Desc)'!M457=\"\",\"\",INDEX([1]MANHOLE_MTL!$A$2:$A$100,MATCH('Access Point (Desc)'!$M457,[1]!MASTER_MANHOLE_MTL_DESC[#Data],0),0))","v":""},{"$f":"IF('Access Point (Desc)'!N457=\"\",\"\",INDEX([1]LID_BOLT_TYPE!$A$2:$A$100,MATCH('Access Point (Desc)'!$N457,[1]!MASTER_LID_BOLT_TYPE_DESC[#Data],0),0))","v":""},{"$f":"IF('Access Point (Desc)'!O457=\"\",\"\",INDEX([1]YES_NO!$A$2:$A$100,MATCH('Access Point (Desc)'!$O457,[1]!MASTER_YES_NO_DESC[#Data],0),0))","v":""},{"$f":"IF('Access Point (Desc)'!P457=\"\",\"\",'Access Point (Desc)'!P457)","v":""},{"$f":"IF('Access Point (Desc)'!Q457=\"\",\"\",INDEX([1]YES_NO!$A$2:$A$100,MATCH('Access Point (Desc)'!$Q457,[1]!MASTER_YES_NO_DESC[#Data],0),0))","v":""}]
[{"$f":"IF('Access Point (Desc)'!A458=\"\",\"\",'Access Point (Desc)'!A458)","v":""},{"$f":"IF('Access Point (Desc)'!B458=\"\",\"\",'Access Point (Desc)'!B458)","v":""},{"$f":"IF('Access Point (Desc)'!C458=\"\",\"\",'Access Point (Desc)'!C458)","v":""},{"$f":"IF('Access Point (Desc)'!D458=\"\",\"\",'Access Point (Desc)'!D458)","v":""},{"$f":"IF('Access Point (Desc)'!E458=\"\",\"\",INDEX([1]OWNER!$A$2:$A$100,MATCH('Access Point (Desc)'!$E458,[1]!MASTER_OWNER_DESC[#Data],0),0))","v":""},{"$f":"IF('Access Point (Desc)'!F458=\"\",\"\",INDEX([1]COUNTY!$A$2:$A$100,MATCH('Access Point (Desc)'!F458,[1]!MASTER_COUNTY_NAME[#Data],0),0))","v":""},{"$f":"IF('Access Point (Desc)'!G458=\"\",\"\",'Access Point (Desc)'!G458)","v":""},{"$f":"IF('Access Point (Desc)'!H458=\"\",\"\",'Access Point (Desc)'!H458)","v":""},{"$f":"IF('Access Point (Desc)'!I458=\"\",\"\",INDEX([1]ROUTE_MH_TYPE!$A$2:$A$100,MATCH('Access Point (Desc)'!$I458,[1]!MASTER_ROUTE_MH_TYPE_DESC[#Data],0),0))","v":""},{"$f":"IF('Access Point (Desc)'!J458=\"\",\"\",INDEX([1]MANHOLE_MTL!$A$2:$A$100,MATCH('Access Point (Desc)'!$J458,[1]!MASTER_MANHOLE_MTL_DESC[#Data],0),0))","v":""},{"$f":"IF('Access Point (Desc)'!K458=\"\",\"\",INDEX([1]MANHOLE_SIZE!$A$2:$A$120,MATCH('Access Point (Desc)'!$K458,[1]!MASTER_MANHOLE_SIZE_DESC[#Data],0),0))","v":""},{"$f":"IF('Access Point (Desc)'!L458=\"\",\"\",INDEX([1]ROUTE_MH_LID_TYPE!$A$2:$A$100,MATCH('Access Point (Desc)'!$L458,[1]!MASTER_ROUTE_MH_LID_TYPE_DESC[#Data],0),0))","v":""},{"$f":"IF('Access Point (Desc)'!M458=\"\",\"\",INDEX([1]MANHOLE_MTL!$A$2:$A$100,MATCH('Access Point (Desc)'!$M458,[1]!MASTER_MANHOLE_MTL_DESC[#Data],0),0))","v":""},{"$f":"IF('Access Point (Desc)'!N458=\"\",\"\",INDEX([1]LID_BOLT_TYPE!$A$2:$A$100,MATCH('Access Point (Desc)'!$N458,[1]!MASTER_LID_BOLT_TYPE_DESC[#Data],0),0))","v":""},{"$f":"IF('Access Point (Desc)'!O458=\"\",\"\",INDEX([1]YES_NO!$A$2:$A$100,MATCH('Access Point (Desc)'!$O458,[1]!MASTER_YES_NO_DESC[#Data],0),0))","v":""},{"$f":"IF('Access Point (Desc)'!P458=\"\",\"\",'Access Point (Desc)'!P458)","v":""},{"$f":"IF('Access Point (Desc)'!Q458=\"\",\"\",INDEX([1]YES_NO!$A$2:$A$100,MATCH('Access Point (Desc)'!$Q458,[1]!MASTER_YES_NO_DESC[#Data],0),0))","v":""}]
[{"$f":"IF('Access Point (Desc)'!A459=\"\",\"\",'Access Point (Desc)'!A459)","v":""},{"$f":"IF('Access Point (Desc)'!B459=\"\",\"\",'Access Point (Desc)'!B459)","v":""},{"$f":"IF('Access Point (Desc)'!C459=\"\",\"\",'Access Point (Desc)'!C459)","v":""},{"$f":"IF('Access Point (Desc)'!D459=\"\",\"\",'Access Point (Desc)'!D459)","v":""},{"$f":"IF('Access Point (Desc)'!E459=\"\",\"\",INDEX([1]OWNER!$A$2:$A$100,MATCH('Access Point (Desc)'!$E459,[1]!MASTER_OWNER_DESC[#Data],0),0))","v":""},{"$f":"IF('Access Point (Desc)'!F459=\"\",\"\",INDEX([1]COUNTY!$A$2:$A$100,MATCH('Access Point (Desc)'!F459,[1]!MASTER_COUNTY_NAME[#Data],0),0))","v":""},{"$f":"IF('Access Point (Desc)'!G459=\"\",\"\",'Access Point (Desc)'!G459)","v":""},{"$f":"IF('Access Point (Desc)'!H459=\"\",\"\",'Access Point (Desc)'!H459)","v":""},{"$f":"IF('Access Point (Desc)'!I459=\"\",\"\",INDEX([1]ROUTE_MH_TYPE!$A$2:$A$100,MATCH('Access Point (Desc)'!$I459,[1]!MASTER_ROUTE_MH_TYPE_DESC[#Data],0),0))","v":""},{"$f":"IF('Access Point (Desc)'!J459=\"\",\"\",INDEX([1]MANHOLE_MTL!$A$2:$A$100,MATCH('Access Point (Desc)'!$J459,[1]!MASTER_MANHOLE_MTL_DESC[#Data],0),0))","v":""},{"$f":"IF('Access Point (Desc)'!K459=\"\",\"\",INDEX([1]MANHOLE_SIZE!$A$2:$A$120,MATCH('Access Point (Desc)'!$K459,[1]!MASTER_MANHOLE_SIZE_DESC[#Data],0),0))","v":""},{"$f":"IF('Access Point (Desc)'!L459=\"\",\"\",INDEX([1]ROUTE_MH_LID_TYPE!$A$2:$A$100,MATCH('Access Point (Desc)'!$L459,[1]!MASTER_ROUTE_MH_LID_TYPE_DESC[#Data],0),0))","v":""},{"$f":"IF('Access Point (Desc)'!M459=\"\",\"\",INDEX([1]MANHOLE_MTL!$A$2:$A$100,MATCH('Access Point (Desc)'!$M459,[1]!MASTER_MANHOLE_MTL_DESC[#Data],0),0))","v":""},{"$f":"IF('Access Point (Desc)'!N459=\"\",\"\",INDEX([1]LID_BOLT_TYPE!$A$2:$A$100,MATCH('Access Point (Desc)'!$N459,[1]!MASTER_LID_BOLT_TYPE_DESC[#Data],0),0))","v":""},{"$f":"IF('Access Point (Desc)'!O459=\"\",\"\",INDEX([1]YES_NO!$A$2:$A$100,MATCH('Access Point (Desc)'!$O459,[1]!MASTER_YES_NO_DESC[#Data],0),0))","v":""},{"$f":"IF('Access Point (Desc)'!P459=\"\",\"\",'Access Point (Desc)'!P459)","v":""},{"$f":"IF('Access Point (Desc)'!Q459=\"\",\"\",INDEX([1]YES_NO!$A$2:$A$100,MATCH('Access Point (Desc)'!$Q459,[1]!MASTER_YES_NO_DESC[#Data],0),0))","v":""}]
[{"$f":"IF('Access Point (Desc)'!A460=\"\",\"\",'Access Point (Desc)'!A460)","v":""},{"$f":"IF('Access Point (Desc)'!B460=\"\",\"\",'Access Point (Desc)'!B460)","v":""},{"$f":"IF('Access Point (Desc)'!C460=\"\",\"\",'Access Point (Desc)'!C460)","v":""},{"$f":"IF('Access Point (Desc)'!D460=\"\",\"\",'Access Point (Desc)'!D460)","v":""},{"$f":"IF('Access Point (Desc)'!E460=\"\",\"\",INDEX([1]OWNER!$A$2:$A$100,MATCH('Access Point (Desc)'!$E460,[1]!MASTER_OWNER_DESC[#Data],0),0))","v":""},{"$f":"IF('Access Point (Desc)'!F460=\"\",\"\",INDEX([1]COUNTY!$A$2:$A$100,MATCH('Access Point (Desc)'!F460,[1]!MASTER_COUNTY_NAME[#Data],0),0))","v":""},{"$f":"IF('Access Point (Desc)'!G460=\"\",\"\",'Access Point (Desc)'!G460)","v":""},{"$f":"IF('Access Point (Desc)'!H460=\"\",\"\",'Access Point (Desc)'!H460)","v":""},{"$f":"IF('Access Point (Desc)'!I460=\"\",\"\",INDEX([1]ROUTE_MH_TYPE!$A$2:$A$100,MATCH('Access Point (Desc)'!$I460,[1]!MASTER_ROUTE_MH_TYPE_DESC[#Data],0),0))","v":""},{"$f":"IF('Access Point (Desc)'!J460=\"\",\"\",INDEX([1]MANHOLE_MTL!$A$2:$A$100,MATCH('Access Point (Desc)'!$J460,[1]!MASTER_MANHOLE_MTL_DESC[#Data],0),0))","v":""},{"$f":"IF('Access Point (Desc)'!K460=\"\",\"\",INDEX([1]MANHOLE_SIZE!$A$2:$A$120,MATCH('Access Point (Desc)'!$K460,[1]!MASTER_MANHOLE_SIZE_DESC[#Data],0),0))","v":""},{"$f":"IF('Access Point (Desc)'!L460=\"\",\"\",INDEX([1]ROUTE_MH_LID_TYPE!$A$2:$A$100,MATCH('Access Point (Desc)'!$L460,[1]!MASTER_ROUTE_MH_LID_TYPE_DESC[#Data],0),0))","v":""},{"$f":"IF('Access Point (Desc)'!M460=\"\",\"\",INDEX([1]MANHOLE_MTL!$A$2:$A$100,MATCH('Access Point (Desc)'!$M460,[1]!MASTER_MANHOLE_MTL_DESC[#Data],0),0))","v":""},{"$f":"IF('Access Point (Desc)'!N460=\"\",\"\",INDEX([1]LID_BOLT_TYPE!$A$2:$A$100,MATCH('Access Point (Desc)'!$N460,[1]!MASTER_LID_BOLT_TYPE_DESC[#Data],0),0))","v":""},{"$f":"IF('Access Point (Desc)'!O460=\"\",\"\",INDEX([1]YES_NO!$A$2:$A$100,MATCH('Access Point (Desc)'!$O460,[1]!MASTER_YES_NO_DESC[#Data],0),0))","v":""},{"$f":"IF('Access Point (Desc)'!P460=\"\",\"\",'Access Point (Desc)'!P460)","v":""},{"$f":"IF('Access Point (Desc)'!Q460=\"\",\"\",INDEX([1]YES_NO!$A$2:$A$100,MATCH('Access Point (Desc)'!$Q460,[1]!MASTER_YES_NO_DESC[#Data],0),0))","v":""}]
[{"$f":"IF('Access Point (Desc)'!A461=\"\",\"\",'Access Point (Desc)'!A461)","v":""},{"$f":"IF('Access Point (Desc)'!B461=\"\",\"\",'Access Point (Desc)'!B461)","v":""},{"$f":"IF('Access Point (Desc)'!C461=\"\",\"\",'Access Point (Desc)'!C461)","v":""},{"$f":"IF('Access Point (Desc)'!D461=\"\",\"\",'Access Point (Desc)'!D461)","v":""},{"$f":"IF('Access Point (Desc)'!E461=\"\",\"\",INDEX([1]OWNER!$A$2:$A$100,MATCH('Access Point (Desc)'!$E461,[1]!MASTER_OWNER_DESC[#Data],0),0))","v":""},{"$f":"IF('Access Point (Desc)'!F461=\"\",\"\",INDEX([1]COUNTY!$A$2:$A$100,MATCH('Access Point (Desc)'!F461,[1]!MASTER_COUNTY_NAME[#Data],0),0))","v":""},{"$f":"IF('Access Point (Desc)'!G461=\"\",\"\",'Access Point (Desc)'!G461)","v":""},{"$f":"IF('Access Point (Desc)'!H461=\"\",\"\",'Access Point (Desc)'!H461)","v":""},{"$f":"IF('Access Point (Desc)'!I461=\"\",\"\",INDEX([1]ROUTE_MH_TYPE!$A$2:$A$100,MATCH('Access Point (Desc)'!$I461,[1]!MASTER_ROUTE_MH_TYPE_DESC[#Data],0),0))","v":""},{"$f":"IF('Access Point (Desc)'!J461=\"\",\"\",INDEX([1]MANHOLE_MTL!$A$2:$A$100,MATCH('Access Point (Desc)'!$J461,[1]!MASTER_MANHOLE_MTL_DESC[#Data],0),0))","v":""},{"$f":"IF('Access Point (Desc)'!K461=\"\",\"\",INDEX([1]MANHOLE_SIZE!$A$2:$A$120,MATCH('Access Point (Desc)'!$K461,[1]!MASTER_MANHOLE_SIZE_DESC[#Data],0),0))","v":""},{"$f":"IF('Access Point (Desc)'!L461=\"\",\"\",INDEX([1]ROUTE_MH_LID_TYPE!$A$2:$A$100,MATCH('Access Point (Desc)'!$L461,[1]!MASTER_ROUTE_MH_LID_TYPE_DESC[#Data],0),0))","v":""},{"$f":"IF('Access Point (Desc)'!M461=\"\",\"\",INDEX([1]MANHOLE_MTL!$A$2:$A$100,MATCH('Access Point (Desc)'!$M461,[1]!MASTER_MANHOLE_MTL_DESC[#Data],0),0))","v":""},{"$f":"IF('Access Point (Desc)'!N461=\"\",\"\",INDEX([1]LID_BOLT_TYPE!$A$2:$A$100,MATCH('Access Point (Desc)'!$N461,[1]!MASTER_LID_BOLT_TYPE_DESC[#Data],0),0))","v":""},{"$f":"IF('Access Point (Desc)'!O461=\"\",\"\",INDEX([1]YES_NO!$A$2:$A$100,MATCH('Access Point (Desc)'!$O461,[1]!MASTER_YES_NO_DESC[#Data],0),0))","v":""},{"$f":"IF('Access Point (Desc)'!P461=\"\",\"\",'Access Point (Desc)'!P461)","v":""},{"$f":"IF('Access Point (Desc)'!Q461=\"\",\"\",INDEX([1]YES_NO!$A$2:$A$100,MATCH('Access Point (Desc)'!$Q461,[1]!MASTER_YES_NO_DESC[#Data],0),0))","v":""}]
[{"$f":"IF('Access Point (Desc)'!A462=\"\",\"\",'Access Point (Desc)'!A462)","v":""},{"$f":"IF('Access Point (Desc)'!B462=\"\",\"\",'Access Point (Desc)'!B462)","v":""},{"$f":"IF('Access Point (Desc)'!C462=\"\",\"\",'Access Point (Desc)'!C462)","v":""},{"$f":"IF('Access Point (Desc)'!D462=\"\",\"\",'Access Point (Desc)'!D462)","v":""},{"$f":"IF('Access Point (Desc)'!E462=\"\",\"\",INDEX([1]OWNER!$A$2:$A$100,MATCH('Access Point (Desc)'!$E462,[1]!MASTER_OWNER_DESC[#Data],0),0))","v":""},{"$f":"IF('Access Point (Desc)'!F462=\"\",\"\",INDEX([1]COUNTY!$A$2:$A$100,MATCH('Access Point (Desc)'!F462,[1]!MASTER_COUNTY_NAME[#Data],0),0))","v":""},{"$f":"IF('Access Point (Desc)'!G462=\"\",\"\",'Access Point (Desc)'!G462)","v":""},{"$f":"IF('Access Point (Desc)'!H462=\"\",\"\",'Access Point (Desc)'!H462)","v":""},{"$f":"IF('Access Point (Desc)'!I462=\"\",\"\",INDEX([1]ROUTE_MH_TYPE!$A$2:$A$100,MATCH('Access Point (Desc)'!$I462,[1]!MASTER_ROUTE_MH_TYPE_DESC[#Data],0),0))","v":""},{"$f":"IF('Access Point (Desc)'!J462=\"\",\"\",INDEX([1]MANHOLE_MTL!$A$2:$A$100,MATCH('Access Point (Desc)'!$J462,[1]!MASTER_MANHOLE_MTL_DESC[#Data],0),0))","v":""},{"$f":"IF('Access Point (Desc)'!K462=\"\",\"\",INDEX([1]MANHOLE_SIZE!$A$2:$A$120,MATCH('Access Point (Desc)'!$K462,[1]!MASTER_MANHOLE_SIZE_DESC[#Data],0),0))","v":""},{"$f":"IF('Access Point (Desc)'!L462=\"\",\"\",INDEX([1]ROUTE_MH_LID_TYPE!$A$2:$A$100,MATCH('Access Point (Desc)'!$L462,[1]!MASTER_ROUTE_MH_LID_TYPE_DESC[#Data],0),0))","v":""},{"$f":"IF('Access Point (Desc)'!M462=\"\",\"\",INDEX([1]MANHOLE_MTL!$A$2:$A$100,MATCH('Access Point (Desc)'!$M462,[1]!MASTER_MANHOLE_MTL_DESC[#Data],0),0))","v":""},{"$f":"IF('Access Point (Desc)'!N462=\"\",\"\",INDEX([1]LID_BOLT_TYPE!$A$2:$A$100,MATCH('Access Point (Desc)'!$N462,[1]!MASTER_LID_BOLT_TYPE_DESC[#Data],0),0))","v":""},{"$f":"IF('Access Point (Desc)'!O462=\"\",\"\",INDEX([1]YES_NO!$A$2:$A$100,MATCH('Access Point (Desc)'!$O462,[1]!MASTER_YES_NO_DESC[#Data],0),0))","v":""},{"$f":"IF('Access Point (Desc)'!P462=\"\",\"\",'Access Point (Desc)'!P462)","v":""},{"$f":"IF('Access Point (Desc)'!Q462=\"\",\"\",INDEX([1]YES_NO!$A$2:$A$100,MATCH('Access Point (Desc)'!$Q462,[1]!MASTER_YES_NO_DESC[#Data],0),0))","v":""}]
[{"$f":"IF('Access Point (Desc)'!A463=\"\",\"\",'Access Point (Desc)'!A463)","v":""},{"$f":"IF('Access Point (Desc)'!B463=\"\",\"\",'Access Point (Desc)'!B463)","v":""},{"$f":"IF('Access Point (Desc)'!C463=\"\",\"\",'Access Point (Desc)'!C463)","v":""},{"$f":"IF('Access Point (Desc)'!D463=\"\",\"\",'Access Point (Desc)'!D463)","v":""},{"$f":"IF('Access Point (Desc)'!E463=\"\",\"\",INDEX([1]OWNER!$A$2:$A$100,MATCH('Access Point (Desc)'!$E463,[1]!MASTER_OWNER_DESC[#Data],0),0))","v":""},{"$f":"IF('Access Point (Desc)'!F463=\"\",\"\",INDEX([1]COUNTY!$A$2:$A$100,MATCH('Access Point (Desc)'!F463,[1]!MASTER_COUNTY_NAME[#Data],0),0))","v":""},{"$f":"IF('Access Point (Desc)'!G463=\"\",\"\",'Access Point (Desc)'!G463)","v":""},{"$f":"IF('Access Point (Desc)'!H463=\"\",\"\",'Access Point (Desc)'!H463)","v":""},{"$f":"IF('Access Point (Desc)'!I463=\"\",\"\",INDEX([1]ROUTE_MH_TYPE!$A$2:$A$100,MATCH('Access Point (Desc)'!$I463,[1]!MASTER_ROUTE_MH_TYPE_DESC[#Data],0),0))","v":""},{"$f":"IF('Access Point (Desc)'!J463=\"\",\"\",INDEX([1]MANHOLE_MTL!$A$2:$A$100,MATCH('Access Point (Desc)'!$J463,[1]!MASTER_MANHOLE_MTL_DESC[#Data],0),0))","v":""},{"$f":"IF('Access Point (Desc)'!K463=\"\",\"\",INDEX([1]MANHOLE_SIZE!$A$2:$A$120,MATCH('Access Point (Desc)'!$K463,[1]!MASTER_MANHOLE_SIZE_DESC[#Data],0),0))","v":""},{"$f":"IF('Access Point (Desc)'!L463=\"\",\"\",INDEX([1]ROUTE_MH_LID_TYPE!$A$2:$A$100,MATCH('Access Point (Desc)'!$L463,[1]!MASTER_ROUTE_MH_LID_TYPE_DESC[#Data],0),0))","v":""},{"$f":"IF('Access Point (Desc)'!M463=\"\",\"\",INDEX([1]MANHOLE_MTL!$A$2:$A$100,MATCH('Access Point (Desc)'!$M463,[1]!MASTER_MANHOLE_MTL_DESC[#Data],0),0))","v":""},{"$f":"IF('Access Point (Desc)'!N463=\"\",\"\",INDEX([1]LID_BOLT_TYPE!$A$2:$A$100,MATCH('Access Point (Desc)'!$N463,[1]!MASTER_LID_BOLT_TYPE_DESC[#Data],0),0))","v":""},{"$f":"IF('Access Point (Desc)'!O463=\"\",\"\",INDEX([1]YES_NO!$A$2:$A$100,MATCH('Access Point (Desc)'!$O463,[1]!MASTER_YES_NO_DESC[#Data],0),0))","v":""},{"$f":"IF('Access Point (Desc)'!P463=\"\",\"\",'Access Point (Desc)'!P463)","v":""},{"$f":"IF('Access Point (Desc)'!Q463=\"\",\"\",INDEX([1]YES_NO!$A$2:$A$100,MATCH('Access Point (Desc)'!$Q463,[1]!MASTER_YES_NO_DESC[#Data],0),0))","v":""}]
[{"$f":"IF('Access Point (Desc)'!A464=\"\",\"\",'Access Point (Desc)'!A464)","v":""},{"$f":"IF('Access Point (Desc)'!B464=\"\",\"\",'Access Point (Desc)'!B464)","v":""},{"$f":"IF('Access Point (Desc)'!C464=\"\",\"\",'Access Point (Desc)'!C464)","v":""},{"$f":"IF('Access Point (Desc)'!D464=\"\",\"\",'Access Point (Desc)'!D464)","v":""},{"$f":"IF('Access Point (Desc)'!E464=\"\",\"\",INDEX([1]OWNER!$A$2:$A$100,MATCH('Access Point (Desc)'!$E464,[1]!MASTER_OWNER_DESC[#Data],0),0))","v":""},{"$f":"IF('Access Point (Desc)'!F464=\"\",\"\",INDEX([1]COUNTY!$A$2:$A$100,MATCH('Access Point (Desc)'!F464,[1]!MASTER_COUNTY_NAME[#Data],0),0))","v":""},{"$f":"IF('Access Point (Desc)'!G464=\"\",\"\",'Access Point (Desc)'!G464)","v":""},{"$f":"IF('Access Point (Desc)'!H464=\"\",\"\",'Access Point (Desc)'!H464)","v":""},{"$f":"IF('Access Point (Desc)'!I464=\"\",\"\",INDEX([1]ROUTE_MH_TYPE!$A$2:$A$100,MATCH('Access Point (Desc)'!$I464,[1]!MASTER_ROUTE_MH_TYPE_DESC[#Data],0),0))","v":""},{"$f":"IF('Access Point (Desc)'!J464=\"\",\"\",INDEX([1]MANHOLE_MTL!$A$2:$A$100,MATCH('Access Point (Desc)'!$J464,[1]!MASTER_MANHOLE_MTL_DESC[#Data],0),0))","v":""},{"$f":"IF('Access Point (Desc)'!K464=\"\",\"\",INDEX([1]MANHOLE_SIZE!$A$2:$A$120,MATCH('Access Point (Desc)'!$K464,[1]!MASTER_MANHOLE_SIZE_DESC[#Data],0),0))","v":""},{"$f":"IF('Access Point (Desc)'!L464=\"\",\"\",INDEX([1]ROUTE_MH_LID_TYPE!$A$2:$A$100,MATCH('Access Point (Desc)'!$L464,[1]!MASTER_ROUTE_MH_LID_TYPE_DESC[#Data],0),0))","v":""},{"$f":"IF('Access Point (Desc)'!M464=\"\",\"\",INDEX([1]MANHOLE_MTL!$A$2:$A$100,MATCH('Access Point (Desc)'!$M464,[1]!MASTER_MANHOLE_MTL_DESC[#Data],0),0))","v":""},{"$f":"IF('Access Point (Desc)'!N464=\"\",\"\",INDEX([1]LID_BOLT_TYPE!$A$2:$A$100,MATCH('Access Point (Desc)'!$N464,[1]!MASTER_LID_BOLT_TYPE_DESC[#Data],0),0))","v":""},{"$f":"IF('Access Point (Desc)'!O464=\"\",\"\",INDEX([1]YES_NO!$A$2:$A$100,MATCH('Access Point (Desc)'!$O464,[1]!MASTER_YES_NO_DESC[#Data],0),0))","v":""},{"$f":"IF('Access Point (Desc)'!P464=\"\",\"\",'Access Point (Desc)'!P464)","v":""},{"$f":"IF('Access Point (Desc)'!Q464=\"\",\"\",INDEX([1]YES_NO!$A$2:$A$100,MATCH('Access Point (Desc)'!$Q464,[1]!MASTER_YES_NO_DESC[#Data],0),0))","v":""}]
[{"$f":"IF('Access Point (Desc)'!A465=\"\",\"\",'Access Point (Desc)'!A465)","v":""},{"$f":"IF('Access Point (Desc)'!B465=\"\",\"\",'Access Point (Desc)'!B465)","v":""},{"$f":"IF('Access Point (Desc)'!C465=\"\",\"\",'Access Point (Desc)'!C465)","v":""},{"$f":"IF('Access Point (Desc)'!D465=\"\",\"\",'Access Point (Desc)'!D465)","v":""},{"$f":"IF('Access Point (Desc)'!E465=\"\",\"\",INDEX([1]OWNER!$A$2:$A$100,MATCH('Access Point (Desc)'!$E465,[1]!MASTER_OWNER_DESC[#Data],0),0))","v":""},{"$f":"IF('Access Point (Desc)'!F465=\"\",\"\",INDEX([1]COUNTY!$A$2:$A$100,MATCH('Access Point (Desc)'!F465,[1]!MASTER_COUNTY_NAME[#Data],0),0))","v":""},{"$f":"IF('Access Point (Desc)'!G465=\"\",\"\",'Access Point (Desc)'!G465)","v":""},{"$f":"IF('Access Point (Desc)'!H465=\"\",\"\",'Access Point (Desc)'!H465)","v":""},{"$f":"IF('Access Point (Desc)'!I465=\"\",\"\",INDEX([1]ROUTE_MH_TYPE!$A$2:$A$100,MATCH('Access Point (Desc)'!$I465,[1]!MASTER_ROUTE_MH_TYPE_DESC[#Data],0),0))","v":""},{"$f":"IF('Access Point (Desc)'!J465=\"\",\"\",INDEX([1]MANHOLE_MTL!$A$2:$A$100,MATCH('Access Point (Desc)'!$J465,[1]!MASTER_MANHOLE_MTL_DESC[#Data],0),0))","v":""},{"$f":"IF('Access Point (Desc)'!K465=\"\",\"\",INDEX([1]MANHOLE_SIZE!$A$2:$A$120,MATCH('Access Point (Desc)'!$K465,[1]!MASTER_MANHOLE_SIZE_DESC[#Data],0),0))","v":""},{"$f":"IF('Access Point (Desc)'!L465=\"\",\"\",INDEX([1]ROUTE_MH_LID_TYPE!$A$2:$A$100,MATCH('Access Point (Desc)'!$L465,[1]!MASTER_ROUTE_MH_LID_TYPE_DESC[#Data],0),0))","v":""},{"$f":"IF('Access Point (Desc)'!M465=\"\",\"\",INDEX([1]MANHOLE_MTL!$A$2:$A$100,MATCH('Access Point (Desc)'!$M465,[1]!MASTER_MANHOLE_MTL_DESC[#Data],0),0))","v":""},{"$f":"IF('Access Point (Desc)'!N465=\"\",\"\",INDEX([1]LID_BOLT_TYPE!$A$2:$A$100,MATCH('Access Point (Desc)'!$N465,[1]!MASTER_LID_BOLT_TYPE_DESC[#Data],0),0))","v":""},{"$f":"IF('Access Point (Desc)'!O465=\"\",\"\",INDEX([1]YES_NO!$A$2:$A$100,MATCH('Access Point (Desc)'!$O465,[1]!MASTER_YES_NO_DESC[#Data],0),0))","v":""},{"$f":"IF('Access Point (Desc)'!P465=\"\",\"\",'Access Point (Desc)'!P465)","v":""},{"$f":"IF('Access Point (Desc)'!Q465=\"\",\"\",INDEX([1]YES_NO!$A$2:$A$100,MATCH('Access Point (Desc)'!$Q465,[1]!MASTER_YES_NO_DESC[#Data],0),0))","v":""}]
[{"$f":"IF('Access Point (Desc)'!A466=\"\",\"\",'Access Point (Desc)'!A466)","v":""},{"$f":"IF('Access Point (Desc)'!B466=\"\",\"\",'Access Point (Desc)'!B466)","v":""},{"$f":"IF('Access Point (Desc)'!C466=\"\",\"\",'Access Point (Desc)'!C466)","v":""},{"$f":"IF('Access Point (Desc)'!D466=\"\",\"\",'Access Point (Desc)'!D466)","v":""},{"$f":"IF('Access Point (Desc)'!E466=\"\",\"\",INDEX([1]OWNER!$A$2:$A$100,MATCH('Access Point (Desc)'!$E466,[1]!MASTER_OWNER_DESC[#Data],0),0))","v":""},{"$f":"IF('Access Point (Desc)'!F466=\"\",\"\",INDEX([1]COUNTY!$A$2:$A$100,MATCH('Access Point (Desc)'!F466,[1]!MASTER_COUNTY_NAME[#Data],0),0))","v":""},{"$f":"IF('Access Point (Desc)'!G466=\"\",\"\",'Access Point (Desc)'!G466)","v":""},{"$f":"IF('Access Point (Desc)'!H466=\"\",\"\",'Access Point (Desc)'!H466)","v":""},{"$f":"IF('Access Point (Desc)'!I466=\"\",\"\",INDEX([1]ROUTE_MH_TYPE!$A$2:$A$100,MATCH('Access Point (Desc)'!$I466,[1]!MASTER_ROUTE_MH_TYPE_DESC[#Data],0),0))","v":""},{"$f":"IF('Access Point (Desc)'!J466=\"\",\"\",INDEX([1]MANHOLE_MTL!$A$2:$A$100,MATCH('Access Point (Desc)'!$J466,[1]!MASTER_MANHOLE_MTL_DESC[#Data],0),0))","v":""},{"$f":"IF('Access Point (Desc)'!K466=\"\",\"\",INDEX([1]MANHOLE_SIZE!$A$2:$A$120,MATCH('Access Point (Desc)'!$K466,[1]!MASTER_MANHOLE_SIZE_DESC[#Data],0),0))","v":""},{"$f":"IF('Access Point (Desc)'!L466=\"\",\"\",INDEX([1]ROUTE_MH_LID_TYPE!$A$2:$A$100,MATCH('Access Point (Desc)'!$L466,[1]!MASTER_ROUTE_MH_LID_TYPE_DESC[#Data],0),0))","v":""},{"$f":"IF('Access Point (Desc)'!M466=\"\",\"\",INDEX([1]MANHOLE_MTL!$A$2:$A$100,MATCH('Access Point (Desc)'!$M466,[1]!MASTER_MANHOLE_MTL_DESC[#Data],0),0))","v":""},{"$f":"IF('Access Point (Desc)'!N466=\"\",\"\",INDEX([1]LID_BOLT_TYPE!$A$2:$A$100,MATCH('Access Point (Desc)'!$N466,[1]!MASTER_LID_BOLT_TYPE_DESC[#Data],0),0))","v":""},{"$f":"IF('Access Point (Desc)'!O466=\"\",\"\",INDEX([1]YES_NO!$A$2:$A$100,MATCH('Access Point (Desc)'!$O466,[1]!MASTER_YES_NO_DESC[#Data],0),0))","v":""},{"$f":"IF('Access Point (Desc)'!P466=\"\",\"\",'Access Point (Desc)'!P466)","v":""},{"$f":"IF('Access Point (Desc)'!Q466=\"\",\"\",INDEX([1]YES_NO!$A$2:$A$100,MATCH('Access Point (Desc)'!$Q466,[1]!MASTER_YES_NO_DESC[#Data],0),0))","v":""}]
[{"$f":"IF('Access Point (Desc)'!A467=\"\",\"\",'Access Point (Desc)'!A467)","v":""},{"$f":"IF('Access Point (Desc)'!B467=\"\",\"\",'Access Point (Desc)'!B467)","v":""},{"$f":"IF('Access Point (Desc)'!C467=\"\",\"\",'Access Point (Desc)'!C467)","v":""},{"$f":"IF('Access Point (Desc)'!D467=\"\",\"\",'Access Point (Desc)'!D467)","v":""},{"$f":"IF('Access Point (Desc)'!E467=\"\",\"\",INDEX([1]OWNER!$A$2:$A$100,MATCH('Access Point (Desc)'!$E467,[1]!MASTER_OWNER_DESC[#Data],0),0))","v":""},{"$f":"IF('Access Point (Desc)'!F467=\"\",\"\",INDEX([1]COUNTY!$A$2:$A$100,MATCH('Access Point (Desc)'!F467,[1]!MASTER_COUNTY_NAME[#Data],0),0))","v":""},{"$f":"IF('Access Point (Desc)'!G467=\"\",\"\",'Access Point (Desc)'!G467)","v":""},{"$f":"IF('Access Point (Desc)'!H467=\"\",\"\",'Access Point (Desc)'!H467)","v":""},{"$f":"IF('Access Point (Desc)'!I467=\"\",\"\",INDEX([1]ROUTE_MH_TYPE!$A$2:$A$100,MATCH('Access Point (Desc)'!$I467,[1]!MASTER_ROUTE_MH_TYPE_DESC[#Data],0),0))","v":""},{"$f":"IF('Access Point (Desc)'!J467=\"\",\"\",INDEX([1]MANHOLE_MTL!$A$2:$A$100,MATCH('Access Point (Desc)'!$J467,[1]!MASTER_MANHOLE_MTL_DESC[#Data],0),0))","v":""},{"$f":"IF('Access Point (Desc)'!K467=\"\",\"\",INDEX([1]MANHOLE_SIZE!$A$2:$A$120,MATCH('Access Point (Desc)'!$K467,[1]!MASTER_MANHOLE_SIZE_DESC[#Data],0),0))","v":""},{"$f":"IF('Access Point (Desc)'!L467=\"\",\"\",INDEX([1]ROUTE_MH_LID_TYPE!$A$2:$A$100,MATCH('Access Point (Desc)'!$L467,[1]!MASTER_ROUTE_MH_LID_TYPE_DESC[#Data],0),0))","v":""},{"$f":"IF('Access Point (Desc)'!M467=\"\",\"\",INDEX([1]MANHOLE_MTL!$A$2:$A$100,MATCH('Access Point (Desc)'!$M467,[1]!MASTER_MANHOLE_MTL_DESC[#Data],0),0))","v":""},{"$f":"IF('Access Point (Desc)'!N467=\"\",\"\",INDEX([1]LID_BOLT_TYPE!$A$2:$A$100,MATCH('Access Point (Desc)'!$N467,[1]!MASTER_LID_BOLT_TYPE_DESC[#Data],0),0))","v":""},{"$f":"IF('Access Point (Desc)'!O467=\"\",\"\",INDEX([1]YES_NO!$A$2:$A$100,MATCH('Access Point (Desc)'!$O467,[1]!MASTER_YES_NO_DESC[#Data],0),0))","v":""},{"$f":"IF('Access Point (Desc)'!P467=\"\",\"\",'Access Point (Desc)'!P467)","v":""},{"$f":"IF('Access Point (Desc)'!Q467=\"\",\"\",INDEX([1]YES_NO!$A$2:$A$100,MATCH('Access Point (Desc)'!$Q467,[1]!MASTER_YES_NO_DESC[#Data],0),0))","v":""}]
[{"$f":"IF('Access Point (Desc)'!A468=\"\",\"\",'Access Point (Desc)'!A468)","v":""},{"$f":"IF('Access Point (Desc)'!B468=\"\",\"\",'Access Point (Desc)'!B468)","v":""},{"$f":"IF('Access Point (Desc)'!C468=\"\",\"\",'Access Point (Desc)'!C468)","v":""},{"$f":"IF('Access Point (Desc)'!D468=\"\",\"\",'Access Point (Desc)'!D468)","v":""},{"$f":"IF('Access Point (Desc)'!E468=\"\",\"\",INDEX([1]OWNER!$A$2:$A$100,MATCH('Access Point (Desc)'!$E468,[1]!MASTER_OWNER_DESC[#Data],0),0))","v":""},{"$f":"IF('Access Point (Desc)'!F468=\"\",\"\",INDEX([1]COUNTY!$A$2:$A$100,MATCH('Access Point (Desc)'!F468,[1]!MASTER_COUNTY_NAME[#Data],0),0))","v":""},{"$f":"IF('Access Point (Desc)'!G468=\"\",\"\",'Access Point (Desc)'!G468)","v":""},{"$f":"IF('Access Point (Desc)'!H468=\"\",\"\",'Access Point (Desc)'!H468)","v":""},{"$f":"IF('Access Point (Desc)'!I468=\"\",\"\",INDEX([1]ROUTE_MH_TYPE!$A$2:$A$100,MATCH('Access Point (Desc)'!$I468,[1]!MASTER_ROUTE_MH_TYPE_DESC[#Data],0),0))","v":""},{"$f":"IF('Access Point (Desc)'!J468=\"\",\"\",INDEX([1]MANHOLE_MTL!$A$2:$A$100,MATCH('Access Point (Desc)'!$J468,[1]!MASTER_MANHOLE_MTL_DESC[#Data],0),0))","v":""},{"$f":"IF('Access Point (Desc)'!K468=\"\",\"\",INDEX([1]MANHOLE_SIZE!$A$2:$A$120,MATCH('Access Point (Desc)'!$K468,[1]!MASTER_MANHOLE_SIZE_DESC[#Data],0),0))","v":""},{"$f":"IF('Access Point (Desc)'!L468=\"\",\"\",INDEX([1]ROUTE_MH_LID_TYPE!$A$2:$A$100,MATCH('Access Point (Desc)'!$L468,[1]!MASTER_ROUTE_MH_LID_TYPE_DESC[#Data],0),0))","v":""},{"$f":"IF('Access Point (Desc)'!M468=\"\",\"\",INDEX([1]MANHOLE_MTL!$A$2:$A$100,MATCH('Access Point (Desc)'!$M468,[1]!MASTER_MANHOLE_MTL_DESC[#Data],0),0))","v":""},{"$f":"IF('Access Point (Desc)'!N468=\"\",\"\",INDEX([1]LID_BOLT_TYPE!$A$2:$A$100,MATCH('Access Point (Desc)'!$N468,[1]!MASTER_LID_BOLT_TYPE_DESC[#Data],0),0))","v":""},{"$f":"IF('Access Point (Desc)'!O468=\"\",\"\",INDEX([1]YES_NO!$A$2:$A$100,MATCH('Access Point (Desc)'!$O468,[1]!MASTER_YES_NO_DESC[#Data],0),0))","v":""},{"$f":"IF('Access Point (Desc)'!P468=\"\",\"\",'Access Point (Desc)'!P468)","v":""},{"$f":"IF('Access Point (Desc)'!Q468=\"\",\"\",INDEX([1]YES_NO!$A$2:$A$100,MATCH('Access Point (Desc)'!$Q468,[1]!MASTER_YES_NO_DESC[#Data],0),0))","v":""}]
[{"$f":"IF('Access Point (Desc)'!A469=\"\",\"\",'Access Point (Desc)'!A469)","v":""},{"$f":"IF('Access Point (Desc)'!B469=\"\",\"\",'Access Point (Desc)'!B469)","v":""},{"$f":"IF('Access Point (Desc)'!C469=\"\",\"\",'Access Point (Desc)'!C469)","v":""},{"$f":"IF('Access Point (Desc)'!D469=\"\",\"\",'Access Point (Desc)'!D469)","v":""},{"$f":"IF('Access Point (Desc)'!E469=\"\",\"\",INDEX([1]OWNER!$A$2:$A$100,MATCH('Access Point (Desc)'!$E469,[1]!MASTER_OWNER_DESC[#Data],0),0))","v":""},{"$f":"IF('Access Point (Desc)'!F469=\"\",\"\",INDEX([1]COUNTY!$A$2:$A$100,MATCH('Access Point (Desc)'!F469,[1]!MASTER_COUNTY_NAME[#Data],0),0))","v":""},{"$f":"IF('Access Point (Desc)'!G469=\"\",\"\",'Access Point (Desc)'!G469)","v":""},{"$f":"IF('Access Point (Desc)'!H469=\"\",\"\",'Access Point (Desc)'!H469)","v":""},{"$f":"IF('Access Point (Desc)'!I469=\"\",\"\",INDEX([1]ROUTE_MH_TYPE!$A$2:$A$100,MATCH('Access Point (Desc)'!$I469,[1]!MASTER_ROUTE_MH_TYPE_DESC[#Data],0),0))","v":""},{"$f":"IF('Access Point (Desc)'!J469=\"\",\"\",INDEX([1]MANHOLE_MTL!$A$2:$A$100,MATCH('Access Point (Desc)'!$J469,[1]!MASTER_MANHOLE_MTL_DESC[#Data],0),0))","v":""},{"$f":"IF('Access Point (Desc)'!K469=\"\",\"\",INDEX([1]MANHOLE_SIZE!$A$2:$A$120,MATCH('Access Point (Desc)'!$K469,[1]!MASTER_MANHOLE_SIZE_DESC[#Data],0),0))","v":""},{"$f":"IF('Access Point (Desc)'!L469=\"\",\"\",INDEX([1]ROUTE_MH_LID_TYPE!$A$2:$A$100,MATCH('Access Point (Desc)'!$L469,[1]!MASTER_ROUTE_MH_LID_TYPE_DESC[#Data],0),0))","v":""},{"$f":"IF('Access Point (Desc)'!M469=\"\",\"\",INDEX([1]MANHOLE_MTL!$A$2:$A$100,MATCH('Access Point (Desc)'!$M469,[1]!MASTER_MANHOLE_MTL_DESC[#Data],0),0))","v":""},{"$f":"IF('Access Point (Desc)'!N469=\"\",\"\",INDEX([1]LID_BOLT_TYPE!$A$2:$A$100,MATCH('Access Point (Desc)'!$N469,[1]!MASTER_LID_BOLT_TYPE_DESC[#Data],0),0))","v":""},{"$f":"IF('Access Point (Desc)'!O469=\"\",\"\",INDEX([1]YES_NO!$A$2:$A$100,MATCH('Access Point (Desc)'!$O469,[1]!MASTER_YES_NO_DESC[#Data],0),0))","v":""},{"$f":"IF('Access Point (Desc)'!P469=\"\",\"\",'Access Point (Desc)'!P469)","v":""},{"$f":"IF('Access Point (Desc)'!Q469=\"\",\"\",INDEX([1]YES_NO!$A$2:$A$100,MATCH('Access Point (Desc)'!$Q469,[1]!MASTER_YES_NO_DESC[#Data],0),0))","v":""}]
[{"$f":"IF('Access Point (Desc)'!A470=\"\",\"\",'Access Point (Desc)'!A470)","v":""},{"$f":"IF('Access Point (Desc)'!B470=\"\",\"\",'Access Point (Desc)'!B470)","v":""},{"$f":"IF('Access Point (Desc)'!C470=\"\",\"\",'Access Point (Desc)'!C470)","v":""},{"$f":"IF('Access Point (Desc)'!D470=\"\",\"\",'Access Point (Desc)'!D470)","v":""},{"$f":"IF('Access Point (Desc)'!E470=\"\",\"\",INDEX([1]OWNER!$A$2:$A$100,MATCH('Access Point (Desc)'!$E470,[1]!MASTER_OWNER_DESC[#Data],0),0))","v":""},{"$f":"IF('Access Point (Desc)'!F470=\"\",\"\",INDEX([1]COUNTY!$A$2:$A$100,MATCH('Access Point (Desc)'!F470,[1]!MASTER_COUNTY_NAME[#Data],0),0))","v":""},{"$f":"IF('Access Point (Desc)'!G470=\"\",\"\",'Access Point (Desc)'!G470)","v":""},{"$f":"IF('Access Point (Desc)'!H470=\"\",\"\",'Access Point (Desc)'!H470)","v":""},{"$f":"IF('Access Point (Desc)'!I470=\"\",\"\",INDEX([1]ROUTE_MH_TYPE!$A$2:$A$100,MATCH('Access Point (Desc)'!$I470,[1]!MASTER_ROUTE_MH_TYPE_DESC[#Data],0),0))","v":""},{"$f":"IF('Access Point (Desc)'!J470=\"\",\"\",INDEX([1]MANHOLE_MTL!$A$2:$A$100,MATCH('Access Point (Desc)'!$J470,[1]!MASTER_MANHOLE_MTL_DESC[#Data],0),0))","v":""},{"$f":"IF('Access Point (Desc)'!K470=\"\",\"\",INDEX([1]MANHOLE_SIZE!$A$2:$A$120,MATCH('Access Point (Desc)'!$K470,[1]!MASTER_MANHOLE_SIZE_DESC[#Data],0),0))","v":""},{"$f":"IF('Access Point (Desc)'!L470=\"\",\"\",INDEX([1]ROUTE_MH_LID_TYPE!$A$2:$A$100,MATCH('Access Point (Desc)'!$L470,[1]!MASTER_ROUTE_MH_LID_TYPE_DESC[#Data],0),0))","v":""},{"$f":"IF('Access Point (Desc)'!M470=\"\",\"\",INDEX([1]MANHOLE_MTL!$A$2:$A$100,MATCH('Access Point (Desc)'!$M470,[1]!MASTER_MANHOLE_MTL_DESC[#Data],0),0))","v":""},{"$f":"IF('Access Point (Desc)'!N470=\"\",\"\",INDEX([1]LID_BOLT_TYPE!$A$2:$A$100,MATCH('Access Point (Desc)'!$N470,[1]!MASTER_LID_BOLT_TYPE_DESC[#Data],0),0))","v":""},{"$f":"IF('Access Point (Desc)'!O470=\"\",\"\",INDEX([1]YES_NO!$A$2:$A$100,MATCH('Access Point (Desc)'!$O470,[1]!MASTER_YES_NO_DESC[#Data],0),0))","v":""},{"$f":"IF('Access Point (Desc)'!P470=\"\",\"\",'Access Point (Desc)'!P470)","v":""},{"$f":"IF('Access Point (Desc)'!Q470=\"\",\"\",INDEX([1]YES_NO!$A$2:$A$100,MATCH('Access Point (Desc)'!$Q470,[1]!MASTER_YES_NO_DESC[#Data],0),0))","v":""}]
[{"$f":"IF('Access Point (Desc)'!A471=\"\",\"\",'Access Point (Desc)'!A471)","v":""},{"$f":"IF('Access Point (Desc)'!B471=\"\",\"\",'Access Point (Desc)'!B471)","v":""},{"$f":"IF('Access Point (Desc)'!C471=\"\",\"\",'Access Point (Desc)'!C471)","v":""},{"$f":"IF('Access Point (Desc)'!D471=\"\",\"\",'Access Point (Desc)'!D471)","v":""},{"$f":"IF('Access Point (Desc)'!E471=\"\",\"\",INDEX([1]OWNER!$A$2:$A$100,MATCH('Access Point (Desc)'!$E471,[1]!MASTER_OWNER_DESC[#Data],0),0))","v":""},{"$f":"IF('Access Point (Desc)'!F471=\"\",\"\",INDEX([1]COUNTY!$A$2:$A$100,MATCH('Access Point (Desc)'!F471,[1]!MASTER_COUNTY_NAME[#Data],0),0))","v":""},{"$f":"IF('Access Point (Desc)'!G471=\"\",\"\",'Access Point (Desc)'!G471)","v":""},{"$f":"IF('Access Point (Desc)'!H471=\"\",\"\",'Access Point (Desc)'!H471)","v":""},{"$f":"IF('Access Point (Desc)'!I471=\"\",\"\",INDEX([1]ROUTE_MH_TYPE!$A$2:$A$100,MATCH('Access Point (Desc)'!$I471,[1]!MASTER_ROUTE_MH_TYPE_DESC[#Data],0),0))","v":""},{"$f":"IF('Access Point (Desc)'!J471=\"\",\"\",INDEX([1]MANHOLE_MTL!$A$2:$A$100,MATCH('Access Point (Desc)'!$J471,[1]!MASTER_MANHOLE_MTL_DESC[#Data],0),0))","v":""},{"$f":"IF('Access Point (Desc)'!K471=\"\",\"\",INDEX([1]MANHOLE_SIZE!$A$2:$A$120,MATCH('Access Point (Desc)'!$K471,[1]!MASTER_MANHOLE_SIZE_DESC[#Data],0),0))","v":""},{"$f":"IF('Access Point (Desc)'!L471=\"\",\"\",INDEX([1]ROUTE_MH_LID_TYPE!$A$2:$A$100,MATCH('Access Point (Desc)'!$L471,[1]!MASTER_ROUTE_MH_LID_TYPE_DESC[#Data],0),0))","v":""},{"$f":"IF('Access Point (Desc)'!M471=\"\",\"\",INDEX([1]MANHOLE_MTL!$A$2:$A$100,MATCH('Access Point (Desc)'!$M471,[1]!MASTER_MANHOLE_MTL_DESC[#Data],0),0))","v":""},{"$f":"IF('Access Point (Desc)'!N471=\"\",\"\",INDEX([1]LID_BOLT_TYPE!$A$2:$A$100,MATCH('Access Point (Desc)'!$N471,[1]!MASTER_LID_BOLT_TYPE_DESC[#Data],0),0))","v":""},{"$f":"IF('Access Point (Desc)'!O471=\"\",\"\",INDEX([1]YES_NO!$A$2:$A$100,MATCH('Access Point (Desc)'!$O471,[1]!MASTER_YES_NO_DESC[#Data],0),0))","v":""},{"$f":"IF('Access Point (Desc)'!P471=\"\",\"\",'Access Point (Desc)'!P471)","v":""},{"$f":"IF('Access Point (Desc)'!Q471=\"\",\"\",INDEX([1]YES_NO!$A$2:$A$100,MATCH('Access Point (Desc)'!$Q471,[1]!MASTER_YES_NO_DESC[#Data],0),0))","v":""}]
[{"$f":"IF('Access Point (Desc)'!A472=\"\",\"\",'Access Point (Desc)'!A472)","v":""},{"$f":"IF('Access Point (Desc)'!B472=\"\",\"\",'Access Point (Desc)'!B472)","v":""},{"$f":"IF('Access Point (Desc)'!C472=\"\",\"\",'Access Point (Desc)'!C472)","v":""},{"$f":"IF('Access Point (Desc)'!D472=\"\",\"\",'Access Point (Desc)'!D472)","v":""},{"$f":"IF('Access Point (Desc)'!E472=\"\",\"\",INDEX([1]OWNER!$A$2:$A$100,MATCH('Access Point (Desc)'!$E472,[1]!MASTER_OWNER_DESC[#Data],0),0))","v":""},{"$f":"IF('Access Point (Desc)'!F472=\"\",\"\",INDEX([1]COUNTY!$A$2:$A$100,MATCH('Access Point (Desc)'!F472,[1]!MASTER_COUNTY_NAME[#Data],0),0))","v":""},{"$f":"IF('Access Point (Desc)'!G472=\"\",\"\",'Access Point (Desc)'!G472)","v":""},{"$f":"IF('Access Point (Desc)'!H472=\"\",\"\",'Access Point (Desc)'!H472)","v":""},{"$f":"IF('Access Point (Desc)'!I472=\"\",\"\",INDEX([1]ROUTE_MH_TYPE!$A$2:$A$100,MATCH('Access Point (Desc)'!$I472,[1]!MASTER_ROUTE_MH_TYPE_DESC[#Data],0),0))","v":""},{"$f":"IF('Access Point (Desc)'!J472=\"\",\"\",INDEX([1]MANHOLE_MTL!$A$2:$A$100,MATCH('Access Point (Desc)'!$J472,[1]!MASTER_MANHOLE_MTL_DESC[#Data],0),0))","v":""},{"$f":"IF('Access Point (Desc)'!K472=\"\",\"\",INDEX([1]MANHOLE_SIZE!$A$2:$A$120,MATCH('Access Point (Desc)'!$K472,[1]!MASTER_MANHOLE_SIZE_DESC[#Data],0),0))","v":""},{"$f":"IF('Access Point (Desc)'!L472=\"\",\"\",INDEX([1]ROUTE_MH_LID_TYPE!$A$2:$A$100,MATCH('Access Point (Desc)'!$L472,[1]!MASTER_ROUTE_MH_LID_TYPE_DESC[#Data],0),0))","v":""},{"$f":"IF('Access Point (Desc)'!M472=\"\",\"\",INDEX([1]MANHOLE_MTL!$A$2:$A$100,MATCH('Access Point (Desc)'!$M472,[1]!MASTER_MANHOLE_MTL_DESC[#Data],0),0))","v":""},{"$f":"IF('Access Point (Desc)'!N472=\"\",\"\",INDEX([1]LID_BOLT_TYPE!$A$2:$A$100,MATCH('Access Point (Desc)'!$N472,[1]!MASTER_LID_BOLT_TYPE_DESC[#Data],0),0))","v":""},{"$f":"IF('Access Point (Desc)'!O472=\"\",\"\",INDEX([1]YES_NO!$A$2:$A$100,MATCH('Access Point (Desc)'!$O472,[1]!MASTER_YES_NO_DESC[#Data],0),0))","v":""},{"$f":"IF('Access Point (Desc)'!P472=\"\",\"\",'Access Point (Desc)'!P472)","v":""},{"$f":"IF('Access Point (Desc)'!Q472=\"\",\"\",INDEX([1]YES_NO!$A$2:$A$100,MATCH('Access Point (Desc)'!$Q472,[1]!MASTER_YES_NO_DESC[#Data],0),0))","v":""}]
[{"$f":"IF('Access Point (Desc)'!A473=\"\",\"\",'Access Point (Desc)'!A473)","v":""},{"$f":"IF('Access Point (Desc)'!B473=\"\",\"\",'Access Point (Desc)'!B473)","v":""},{"$f":"IF('Access Point (Desc)'!C473=\"\",\"\",'Access Point (Desc)'!C473)","v":""},{"$f":"IF('Access Point (Desc)'!D473=\"\",\"\",'Access Point (Desc)'!D473)","v":""},{"$f":"IF('Access Point (Desc)'!E473=\"\",\"\",INDEX([1]OWNER!$A$2:$A$100,MATCH('Access Point (Desc)'!$E473,[1]!MASTER_OWNER_DESC[#Data],0),0))","v":""},{"$f":"IF('Access Point (Desc)'!F473=\"\",\"\",INDEX([1]COUNTY!$A$2:$A$100,MATCH('Access Point (Desc)'!F473,[1]!MASTER_COUNTY_NAME[#Data],0),0))","v":""},{"$f":"IF('Access Point (Desc)'!G473=\"\",\"\",'Access Point (Desc)'!G473)","v":""},{"$f":"IF('Access Point (Desc)'!H473=\"\",\"\",'Access Point (Desc)'!H473)","v":""},{"$f":"IF('Access Point (Desc)'!I473=\"\",\"\",INDEX([1]ROUTE_MH_TYPE!$A$2:$A$100,MATCH('Access Point (Desc)'!$I473,[1]!MASTER_ROUTE_MH_TYPE_DESC[#Data],0),0))","v":""},{"$f":"IF('Access Point (Desc)'!J473=\"\",\"\",INDEX([1]MANHOLE_MTL!$A$2:$A$100,MATCH('Access Point (Desc)'!$J473,[1]!MASTER_MANHOLE_MTL_DESC[#Data],0),0))","v":""},{"$f":"IF('Access Point (Desc)'!K473=\"\",\"\",INDEX([1]MANHOLE_SIZE!$A$2:$A$120,MATCH('Access Point (Desc)'!$K473,[1]!MASTER_MANHOLE_SIZE_DESC[#Data],0),0))","v":""},{"$f":"IF('Access Point (Desc)'!L473=\"\",\"\",INDEX([1]ROUTE_MH_LID_TYPE!$A$2:$A$100,MATCH('Access Point (Desc)'!$L473,[1]!MASTER_ROUTE_MH_LID_TYPE_DESC[#Data],0),0))","v":""},{"$f":"IF('Access Point (Desc)'!M473=\"\",\"\",INDEX([1]MANHOLE_MTL!$A$2:$A$100,MATCH('Access Point (Desc)'!$M473,[1]!MASTER_MANHOLE_MTL_DESC[#Data],0),0))","v":""},{"$f":"IF('Access Point (Desc)'!N473=\"\",\"\",INDEX([1]LID_BOLT_TYPE!$A$2:$A$100,MATCH('Access Point (Desc)'!$N473,[1]!MASTER_LID_BOLT_TYPE_DESC[#Data],0),0))","v":""},{"$f":"IF('Access Point (Desc)'!O473=\"\",\"\",INDEX([1]YES_NO!$A$2:$A$100,MATCH('Access Point (Desc)'!$O473,[1]!MASTER_YES_NO_DESC[#Data],0),0))","v":""},{"$f":"IF('Access Point (Desc)'!P473=\"\",\"\",'Access Point (Desc)'!P473)","v":""},{"$f":"IF('Access Point (Desc)'!Q473=\"\",\"\",INDEX([1]YES_NO!$A$2:$A$100,MATCH('Access Point (Desc)'!$Q473,[1]!MASTER_YES_NO_DESC[#Data],0),0))","v":""}]
[{"$f":"IF('Access Point (Desc)'!A474=\"\",\"\",'Access Point (Desc)'!A474)","v":""},{"$f":"IF('Access Point (Desc)'!B474=\"\",\"\",'Access Point (Desc)'!B474)","v":""},{"$f":"IF('Access Point (Desc)'!C474=\"\",\"\",'Access Point (Desc)'!C474)","v":""},{"$f":"IF('Access Point (Desc)'!D474=\"\",\"\",'Access Point (Desc)'!D474)","v":""},{"$f":"IF('Access Point (Desc)'!E474=\"\",\"\",INDEX([1]OWNER!$A$2:$A$100,MATCH('Access Point (Desc)'!$E474,[1]!MASTER_OWNER_DESC[#Data],0),0))","v":""},{"$f":"IF('Access Point (Desc)'!F474=\"\",\"\",INDEX([1]COUNTY!$A$2:$A$100,MATCH('Access Point (Desc)'!F474,[1]!MASTER_COUNTY_NAME[#Data],0),0))","v":""},{"$f":"IF('Access Point (Desc)'!G474=\"\",\"\",'Access Point (Desc)'!G474)","v":""},{"$f":"IF('Access Point (Desc)'!H474=\"\",\"\",'Access Point (Desc)'!H474)","v":""},{"$f":"IF('Access Point (Desc)'!I474=\"\",\"\",INDEX([1]ROUTE_MH_TYPE!$A$2:$A$100,MATCH('Access Point (Desc)'!$I474,[1]!MASTER_ROUTE_MH_TYPE_DESC[#Data],0),0))","v":""},{"$f":"IF('Access Point (Desc)'!J474=\"\",\"\",INDEX([1]MANHOLE_MTL!$A$2:$A$100,MATCH('Access Point (Desc)'!$J474,[1]!MASTER_MANHOLE_MTL_DESC[#Data],0),0))","v":""},{"$f":"IF('Access Point (Desc)'!K474=\"\",\"\",INDEX([1]MANHOLE_SIZE!$A$2:$A$120,MATCH('Access Point (Desc)'!$K474,[1]!MASTER_MANHOLE_SIZE_DESC[#Data],0),0))","v":""},{"$f":"IF('Access Point (Desc)'!L474=\"\",\"\",INDEX([1]ROUTE_MH_LID_TYPE!$A$2:$A$100,MATCH('Access Point (Desc)'!$L474,[1]!MASTER_ROUTE_MH_LID_TYPE_DESC[#Data],0),0))","v":""},{"$f":"IF('Access Point (Desc)'!M474=\"\",\"\",INDEX([1]MANHOLE_MTL!$A$2:$A$100,MATCH('Access Point (Desc)'!$M474,[1]!MASTER_MANHOLE_MTL_DESC[#Data],0),0))","v":""},{"$f":"IF('Access Point (Desc)'!N474=\"\",\"\",INDEX([1]LID_BOLT_TYPE!$A$2:$A$100,MATCH('Access Point (Desc)'!$N474,[1]!MASTER_LID_BOLT_TYPE_DESC[#Data],0),0))","v":""},{"$f":"IF('Access Point (Desc)'!O474=\"\",\"\",INDEX([1]YES_NO!$A$2:$A$100,MATCH('Access Point (Desc)'!$O474,[1]!MASTER_YES_NO_DESC[#Data],0),0))","v":""},{"$f":"IF('Access Point (Desc)'!P474=\"\",\"\",'Access Point (Desc)'!P474)","v":""},{"$f":"IF('Access Point (Desc)'!Q474=\"\",\"\",INDEX([1]YES_NO!$A$2:$A$100,MATCH('Access Point (Desc)'!$Q474,[1]!MASTER_YES_NO_DESC[#Data],0),0))","v":""}]
[{"$f":"IF('Access Point (Desc)'!A475=\"\",\"\",'Access Point (Desc)'!A475)","v":""},{"$f":"IF('Access Point (Desc)'!B475=\"\",\"\",'Access Point (Desc)'!B475)","v":""},{"$f":"IF('Access Point (Desc)'!C475=\"\",\"\",'Access Point (Desc)'!C475)","v":""},{"$f":"IF('Access Point (Desc)'!D475=\"\",\"\",'Access Point (Desc)'!D475)","v":""},{"$f":"IF('Access Point (Desc)'!E475=\"\",\"\",INDEX([1]OWNER!$A$2:$A$100,MATCH('Access Point (Desc)'!$E475,[1]!MASTER_OWNER_DESC[#Data],0),0))","v":""},{"$f":"IF('Access Point (Desc)'!F475=\"\",\"\",INDEX([1]COUNTY!$A$2:$A$100,MATCH('Access Point (Desc)'!F475,[1]!MASTER_COUNTY_NAME[#Data],0),0))","v":""},{"$f":"IF('Access Point (Desc)'!G475=\"\",\"\",'Access Point (Desc)'!G475)","v":""},{"$f":"IF('Access Point (Desc)'!H475=\"\",\"\",'Access Point (Desc)'!H475)","v":""},{"$f":"IF('Access Point (Desc)'!I475=\"\",\"\",INDEX([1]ROUTE_MH_TYPE!$A$2:$A$100,MATCH('Access Point (Desc)'!$I475,[1]!MASTER_ROUTE_MH_TYPE_DESC[#Data],0),0))","v":""},{"$f":"IF('Access Point (Desc)'!J475=\"\",\"\",INDEX([1]MANHOLE_MTL!$A$2:$A$100,MATCH('Access Point (Desc)'!$J475,[1]!MASTER_MANHOLE_MTL_DESC[#Data],0),0))","v":""},{"$f":"IF('Access Point (Desc)'!K475=\"\",\"\",INDEX([1]MANHOLE_SIZE!$A$2:$A$120,MATCH('Access Point (Desc)'!$K475,[1]!MASTER_MANHOLE_SIZE_DESC[#Data],0),0))","v":""},{"$f":"IF('Access Point (Desc)'!L475=\"\",\"\",INDEX([1]ROUTE_MH_LID_TYPE!$A$2:$A$100,MATCH('Access Point (Desc)'!$L475,[1]!MASTER_ROUTE_MH_LID_TYPE_DESC[#Data],0),0))","v":""},{"$f":"IF('Access Point (Desc)'!M475=\"\",\"\",INDEX([1]MANHOLE_MTL!$A$2:$A$100,MATCH('Access Point (Desc)'!$M475,[1]!MASTER_MANHOLE_MTL_DESC[#Data],0),0))","v":""},{"$f":"IF('Access Point (Desc)'!N475=\"\",\"\",INDEX([1]LID_BOLT_TYPE!$A$2:$A$100,MATCH('Access Point (Desc)'!$N475,[1]!MASTER_LID_BOLT_TYPE_DESC[#Data],0),0))","v":""},{"$f":"IF('Access Point (Desc)'!O475=\"\",\"\",INDEX([1]YES_NO!$A$2:$A$100,MATCH('Access Point (Desc)'!$O475,[1]!MASTER_YES_NO_DESC[#Data],0),0))","v":""},{"$f":"IF('Access Point (Desc)'!P475=\"\",\"\",'Access Point (Desc)'!P475)","v":""},{"$f":"IF('Access Point (Desc)'!Q475=\"\",\"\",INDEX([1]YES_NO!$A$2:$A$100,MATCH('Access Point (Desc)'!$Q475,[1]!MASTER_YES_NO_DESC[#Data],0),0))","v":""}]
[{"$f":"IF('Access Point (Desc)'!A476=\"\",\"\",'Access Point (Desc)'!A476)","v":""},{"$f":"IF('Access Point (Desc)'!B476=\"\",\"\",'Access Point (Desc)'!B476)","v":""},{"$f":"IF('Access Point (Desc)'!C476=\"\",\"\",'Access Point (Desc)'!C476)","v":""},{"$f":"IF('Access Point (Desc)'!D476=\"\",\"\",'Access Point (Desc)'!D476)","v":""},{"$f":"IF('Access Point (Desc)'!E476=\"\",\"\",INDEX([1]OWNER!$A$2:$A$100,MATCH('Access Point (Desc)'!$E476,[1]!MASTER_OWNER_DESC[#Data],0),0))","v":""},{"$f":"IF('Access Point (Desc)'!F476=\"\",\"\",INDEX([1]COUNTY!$A$2:$A$100,MATCH('Access Point (Desc)'!F476,[1]!MASTER_COUNTY_NAME[#Data],0),0))","v":""},{"$f":"IF('Access Point (Desc)'!G476=\"\",\"\",'Access Point (Desc)'!G476)","v":""},{"$f":"IF('Access Point (Desc)'!H476=\"\",\"\",'Access Point (Desc)'!H476)","v":""},{"$f":"IF('Access Point (Desc)'!I476=\"\",\"\",INDEX([1]ROUTE_MH_TYPE!$A$2:$A$100,MATCH('Access Point (Desc)'!$I476,[1]!MASTER_ROUTE_MH_TYPE_DESC[#Data],0),0))","v":""},{"$f":"IF('Access Point (Desc)'!J476=\"\",\"\",INDEX([1]MANHOLE_MTL!$A$2:$A$100,MATCH('Access Point (Desc)'!$J476,[1]!MASTER_MANHOLE_MTL_DESC[#Data],0),0))","v":""},{"$f":"IF('Access Point (Desc)'!K476=\"\",\"\",INDEX([1]MANHOLE_SIZE!$A$2:$A$120,MATCH('Access Point (Desc)'!$K476,[1]!MASTER_MANHOLE_SIZE_DESC[#Data],0),0))","v":""},{"$f":"IF('Access Point (Desc)'!L476=\"\",\"\",INDEX([1]ROUTE_MH_LID_TYPE!$A$2:$A$100,MATCH('Access Point (Desc)'!$L476,[1]!MASTER_ROUTE_MH_LID_TYPE_DESC[#Data],0),0))","v":""},{"$f":"IF('Access Point (Desc)'!M476=\"\",\"\",INDEX([1]MANHOLE_MTL!$A$2:$A$100,MATCH('Access Point (Desc)'!$M476,[1]!MASTER_MANHOLE_MTL_DESC[#Data],0),0))","v":""},{"$f":"IF('Access Point (Desc)'!N476=\"\",\"\",INDEX([1]LID_BOLT_TYPE!$A$2:$A$100,MATCH('Access Point (Desc)'!$N476,[1]!MASTER_LID_BOLT_TYPE_DESC[#Data],0),0))","v":""},{"$f":"IF('Access Point (Desc)'!O476=\"\",\"\",INDEX([1]YES_NO!$A$2:$A$100,MATCH('Access Point (Desc)'!$O476,[1]!MASTER_YES_NO_DESC[#Data],0),0))","v":""},{"$f":"IF('Access Point (Desc)'!P476=\"\",\"\",'Access Point (Desc)'!P476)","v":""},{"$f":"IF('Access Point (Desc)'!Q476=\"\",\"\",INDEX([1]YES_NO!$A$2:$A$100,MATCH('Access Point (Desc)'!$Q476,[1]!MASTER_YES_NO_DESC[#Data],0),0))","v":""}]
[{"$f":"IF('Access Point (Desc)'!A477=\"\",\"\",'Access Point (Desc)'!A477)","v":""},{"$f":"IF('Access Point (Desc)'!B477=\"\",\"\",'Access Point (Desc)'!B477)","v":""},{"$f":"IF('Access Point (Desc)'!C477=\"\",\"\",'Access Point (Desc)'!C477)","v":""},{"$f":"IF('Access Point (Desc)'!D477=\"\",\"\",'Access Point (Desc)'!D477)","v":""},{"$f":"IF('Access Point (Desc)'!E477=\"\",\"\",INDEX([1]OWNER!$A$2:$A$100,MATCH('Access Point (Desc)'!$E477,[1]!MASTER_OWNER_DESC[#Data],0),0))","v":""},{"$f":"IF('Access Point (Desc)'!F477=\"\",\"\",INDEX([1]COUNTY!$A$2:$A$100,MATCH('Access Point (Desc)'!F477,[1]!MASTER_COUNTY_NAME[#Data],0),0))","v":""},{"$f":"IF('Access Point (Desc)'!G477=\"\",\"\",'Access Point (Desc)'!G477)","v":""},{"$f":"IF('Access Point (Desc)'!H477=\"\",\"\",'Access Point (Desc)'!H477)","v":""},{"$f":"IF('Access Point (Desc)'!I477=\"\",\"\",INDEX([1]ROUTE_MH_TYPE!$A$2:$A$100,MATCH('Access Point (Desc)'!$I477,[1]!MASTER_ROUTE_MH_TYPE_DESC[#Data],0),0))","v":""},{"$f":"IF('Access Point (Desc)'!J477=\"\",\"\",INDEX([1]MANHOLE_MTL!$A$2:$A$100,MATCH('Access Point (Desc)'!$J477,[1]!MASTER_MANHOLE_MTL_DESC[#Data],0),0))","v":""},{"$f":"IF('Access Point (Desc)'!K477=\"\",\"\",INDEX([1]MANHOLE_SIZE!$A$2:$A$120,MATCH('Access Point (Desc)'!$K477,[1]!MASTER_MANHOLE_SIZE_DESC[#Data],0),0))","v":""},{"$f":"IF('Access Point (Desc)'!L477=\"\",\"\",INDEX([1]ROUTE_MH_LID_TYPE!$A$2:$A$100,MATCH('Access Point (Desc)'!$L477,[1]!MASTER_ROUTE_MH_LID_TYPE_DESC[#Data],0),0))","v":""},{"$f":"IF('Access Point (Desc)'!M477=\"\",\"\",INDEX([1]MANHOLE_MTL!$A$2:$A$100,MATCH('Access Point (Desc)'!$M477,[1]!MASTER_MANHOLE_MTL_DESC[#Data],0),0))","v":""},{"$f":"IF('Access Point (Desc)'!N477=\"\",\"\",INDEX([1]LID_BOLT_TYPE!$A$2:$A$100,MATCH('Access Point (Desc)'!$N477,[1]!MASTER_LID_BOLT_TYPE_DESC[#Data],0),0))","v":""},{"$f":"IF('Access Point (Desc)'!O477=\"\",\"\",INDEX([1]YES_NO!$A$2:$A$100,MATCH('Access Point (Desc)'!$O477,[1]!MASTER_YES_NO_DESC[#Data],0),0))","v":""},{"$f":"IF('Access Point (Desc)'!P477=\"\",\"\",'Access Point (Desc)'!P477)","v":""},{"$f":"IF('Access Point (Desc)'!Q477=\"\",\"\",INDEX([1]YES_NO!$A$2:$A$100,MATCH('Access Point (Desc)'!$Q477,[1]!MASTER_YES_NO_DESC[#Data],0),0))","v":""}]
[{"$f":"IF('Access Point (Desc)'!A478=\"\",\"\",'Access Point (Desc)'!A478)","v":""},{"$f":"IF('Access Point (Desc)'!B478=\"\",\"\",'Access Point (Desc)'!B478)","v":""},{"$f":"IF('Access Point (Desc)'!C478=\"\",\"\",'Access Point (Desc)'!C478)","v":""},{"$f":"IF('Access Point (Desc)'!D478=\"\",\"\",'Access Point (Desc)'!D478)","v":""},{"$f":"IF('Access Point (Desc)'!E478=\"\",\"\",INDEX([1]OWNER!$A$2:$A$100,MATCH('Access Point (Desc)'!$E478,[1]!MASTER_OWNER_DESC[#Data],0),0))","v":""},{"$f":"IF('Access Point (Desc)'!F478=\"\",\"\",INDEX([1]COUNTY!$A$2:$A$100,MATCH('Access Point (Desc)'!F478,[1]!MASTER_COUNTY_NAME[#Data],0),0))","v":""},{"$f":"IF('Access Point (Desc)'!G478=\"\",\"\",'Access Point (Desc)'!G478)","v":""},{"$f":"IF('Access Point (Desc)'!H478=\"\",\"\",'Access Point (Desc)'!H478)","v":""},{"$f":"IF('Access Point (Desc)'!I478=\"\",\"\",INDEX([1]ROUTE_MH_TYPE!$A$2:$A$100,MATCH('Access Point (Desc)'!$I478,[1]!MASTER_ROUTE_MH_TYPE_DESC[#Data],0),0))","v":""},{"$f":"IF('Access Point (Desc)'!J478=\"\",\"\",INDEX([1]MANHOLE_MTL!$A$2:$A$100,MATCH('Access Point (Desc)'!$J478,[1]!MASTER_MANHOLE_MTL_DESC[#Data],0),0))","v":""},{"$f":"IF('Access Point (Desc)'!K478=\"\",\"\",INDEX([1]MANHOLE_SIZE!$A$2:$A$120,MATCH('Access Point (Desc)'!$K478,[1]!MASTER_MANHOLE_SIZE_DESC[#Data],0),0))","v":""},{"$f":"IF('Access Point (Desc)'!L478=\"\",\"\",INDEX([1]ROUTE_MH_LID_TYPE!$A$2:$A$100,MATCH('Access Point (Desc)'!$L478,[1]!MASTER_ROUTE_MH_LID_TYPE_DESC[#Data],0),0))","v":""},{"$f":"IF('Access Point (Desc)'!M478=\"\",\"\",INDEX([1]MANHOLE_MTL!$A$2:$A$100,MATCH('Access Point (Desc)'!$M478,[1]!MASTER_MANHOLE_MTL_DESC[#Data],0),0))","v":""},{"$f":"IF('Access Point (Desc)'!N478=\"\",\"\",INDEX([1]LID_BOLT_TYPE!$A$2:$A$100,MATCH('Access Point (Desc)'!$N478,[1]!MASTER_LID_BOLT_TYPE_DESC[#Data],0),0))","v":""},{"$f":"IF('Access Point (Desc)'!O478=\"\",\"\",INDEX([1]YES_NO!$A$2:$A$100,MATCH('Access Point (Desc)'!$O478,[1]!MASTER_YES_NO_DESC[#Data],0),0))","v":""},{"$f":"IF('Access Point (Desc)'!P478=\"\",\"\",'Access Point (Desc)'!P478)","v":""},{"$f":"IF('Access Point (Desc)'!Q478=\"\",\"\",INDEX([1]YES_NO!$A$2:$A$100,MATCH('Access Point (Desc)'!$Q478,[1]!MASTER_YES_NO_DESC[#Data],0),0))","v":""}]
[{"$f":"IF('Access Point (Desc)'!A479=\"\",\"\",'Access Point (Desc)'!A479)","v":""},{"$f":"IF('Access Point (Desc)'!B479=\"\",\"\",'Access Point (Desc)'!B479)","v":""},{"$f":"IF('Access Point (Desc)'!C479=\"\",\"\",'Access Point (Desc)'!C479)","v":""},{"$f":"IF('Access Point (Desc)'!D479=\"\",\"\",'Access Point (Desc)'!D479)","v":""},{"$f":"IF('Access Point (Desc)'!E479=\"\",\"\",INDEX([1]OWNER!$A$2:$A$100,MATCH('Access Point (Desc)'!$E479,[1]!MASTER_OWNER_DESC[#Data],0),0))","v":""},{"$f":"IF('Access Point (Desc)'!F479=\"\",\"\",INDEX([1]COUNTY!$A$2:$A$100,MATCH('Access Point (Desc)'!F479,[1]!MASTER_COUNTY_NAME[#Data],0),0))","v":""},{"$f":"IF('Access Point (Desc)'!G479=\"\",\"\",'Access Point (Desc)'!G479)","v":""},{"$f":"IF('Access Point (Desc)'!H479=\"\",\"\",'Access Point (Desc)'!H479)","v":""},{"$f":"IF('Access Point (Desc)'!I479=\"\",\"\",INDEX([1]ROUTE_MH_TYPE!$A$2:$A$100,MATCH('Access Point (Desc)'!$I479,[1]!MASTER_ROUTE_MH_TYPE_DESC[#Data],0),0))","v":""},{"$f":"IF('Access Point (Desc)'!J479=\"\",\"\",INDEX([1]MANHOLE_MTL!$A$2:$A$100,MATCH('Access Point (Desc)'!$J479,[1]!MASTER_MANHOLE_MTL_DESC[#Data],0),0))","v":""},{"$f":"IF('Access Point (Desc)'!K479=\"\",\"\",INDEX([1]MANHOLE_SIZE!$A$2:$A$120,MATCH('Access Point (Desc)'!$K479,[1]!MASTER_MANHOLE_SIZE_DESC[#Data],0),0))","v":""},{"$f":"IF('Access Point (Desc)'!L479=\"\",\"\",INDEX([1]ROUTE_MH_LID_TYPE!$A$2:$A$100,MATCH('Access Point (Desc)'!$L479,[1]!MASTER_ROUTE_MH_LID_TYPE_DESC[#Data],0),0))","v":""},{"$f":"IF('Access Point (Desc)'!M479=\"\",\"\",INDEX([1]MANHOLE_MTL!$A$2:$A$100,MATCH('Access Point (Desc)'!$M479,[1]!MASTER_MANHOLE_MTL_DESC[#Data],0),0))","v":""},{"$f":"IF('Access Point (Desc)'!N479=\"\",\"\",INDEX([1]LID_BOLT_TYPE!$A$2:$A$100,MATCH('Access Point (Desc)'!$N479,[1]!MASTER_LID_BOLT_TYPE_DESC[#Data],0),0))","v":""},{"$f":"IF('Access Point (Desc)'!O479=\"\",\"\",INDEX([1]YES_NO!$A$2:$A$100,MATCH('Access Point (Desc)'!$O479,[1]!MASTER_YES_NO_DESC[#Data],0),0))","v":""},{"$f":"IF('Access Point (Desc)'!P479=\"\",\"\",'Access Point (Desc)'!P479)","v":""},{"$f":"IF('Access Point (Desc)'!Q479=\"\",\"\",INDEX([1]YES_NO!$A$2:$A$100,MATCH('Access Point (Desc)'!$Q479,[1]!MASTER_YES_NO_DESC[#Data],0),0))","v":""}]
[{"$f":"IF('Access Point (Desc)'!A480=\"\",\"\",'Access Point (Desc)'!A480)","v":""},{"$f":"IF('Access Point (Desc)'!B480=\"\",\"\",'Access Point (Desc)'!B480)","v":""},{"$f":"IF('Access Point (Desc)'!C480=\"\",\"\",'Access Point (Desc)'!C480)","v":""},{"$f":"IF('Access Point (Desc)'!D480=\"\",\"\",'Access Point (Desc)'!D480)","v":""},{"$f":"IF('Access Point (Desc)'!E480=\"\",\"\",INDEX([1]OWNER!$A$2:$A$100,MATCH('Access Point (Desc)'!$E480,[1]!MASTER_OWNER_DESC[#Data],0),0))","v":""},{"$f":"IF('Access Point (Desc)'!F480=\"\",\"\",INDEX([1]COUNTY!$A$2:$A$100,MATCH('Access Point (Desc)'!F480,[1]!MASTER_COUNTY_NAME[#Data],0),0))","v":""},{"$f":"IF('Access Point (Desc)'!G480=\"\",\"\",'Access Point (Desc)'!G480)","v":""},{"$f":"IF('Access Point (Desc)'!H480=\"\",\"\",'Access Point (Desc)'!H480)","v":""},{"$f":"IF('Access Point (Desc)'!I480=\"\",\"\",INDEX([1]ROUTE_MH_TYPE!$A$2:$A$100,MATCH('Access Point (Desc)'!$I480,[1]!MASTER_ROUTE_MH_TYPE_DESC[#Data],0),0))","v":""},{"$f":"IF('Access Point (Desc)'!J480=\"\",\"\",INDEX([1]MANHOLE_MTL!$A$2:$A$100,MATCH('Access Point (Desc)'!$J480,[1]!MASTER_MANHOLE_MTL_DESC[#Data],0),0))","v":""},{"$f":"IF('Access Point (Desc)'!K480=\"\",\"\",INDEX([1]MANHOLE_SIZE!$A$2:$A$120,MATCH('Access Point (Desc)'!$K480,[1]!MASTER_MANHOLE_SIZE_DESC[#Data],0),0))","v":""},{"$f":"IF('Access Point (Desc)'!L480=\"\",\"\",INDEX([1]ROUTE_MH_LID_TYPE!$A$2:$A$100,MATCH('Access Point (Desc)'!$L480,[1]!MASTER_ROUTE_MH_LID_TYPE_DESC[#Data],0),0))","v":""},{"$f":"IF('Access Point (Desc)'!M480=\"\",\"\",INDEX([1]MANHOLE_MTL!$A$2:$A$100,MATCH('Access Point (Desc)'!$M480,[1]!MASTER_MANHOLE_MTL_DESC[#Data],0),0))","v":""},{"$f":"IF('Access Point (Desc)'!N480=\"\",\"\",INDEX([1]LID_BOLT_TYPE!$A$2:$A$100,MATCH('Access Point (Desc)'!$N480,[1]!MASTER_LID_BOLT_TYPE_DESC[#Data],0),0))","v":""},{"$f":"IF('Access Point (Desc)'!O480=\"\",\"\",INDEX([1]YES_NO!$A$2:$A$100,MATCH('Access Point (Desc)'!$O480,[1]!MASTER_YES_NO_DESC[#Data],0),0))","v":""},{"$f":"IF('Access Point (Desc)'!P480=\"\",\"\",'Access Point (Desc)'!P480)","v":""},{"$f":"IF('Access Point (Desc)'!Q480=\"\",\"\",INDEX([1]YES_NO!$A$2:$A$100,MATCH('Access Point (Desc)'!$Q480,[1]!MASTER_YES_NO_DESC[#Data],0),0))","v":""}]
[{"$f":"IF('Access Point (Desc)'!A481=\"\",\"\",'Access Point (Desc)'!A481)","v":""},{"$f":"IF('Access Point (Desc)'!B481=\"\",\"\",'Access Point (Desc)'!B481)","v":""},{"$f":"IF('Access Point (Desc)'!C481=\"\",\"\",'Access Point (Desc)'!C481)","v":""},{"$f":"IF('Access Point (Desc)'!D481=\"\",\"\",'Access Point (Desc)'!D481)","v":""},{"$f":"IF('Access Point (Desc)'!E481=\"\",\"\",INDEX([1]OWNER!$A$2:$A$100,MATCH('Access Point (Desc)'!$E481,[1]!MASTER_OWNER_DESC[#Data],0),0))","v":""},{"$f":"IF('Access Point (Desc)'!F481=\"\",\"\",INDEX([1]COUNTY!$A$2:$A$100,MATCH('Access Point (Desc)'!F481,[1]!MASTER_COUNTY_NAME[#Data],0),0))","v":""},{"$f":"IF('Access Point (Desc)'!G481=\"\",\"\",'Access Point (Desc)'!G481)","v":""},{"$f":"IF('Access Point (Desc)'!H481=\"\",\"\",'Access Point (Desc)'!H481)","v":""},{"$f":"IF('Access Point (Desc)'!I481=\"\",\"\",INDEX([1]ROUTE_MH_TYPE!$A$2:$A$100,MATCH('Access Point (Desc)'!$I481,[1]!MASTER_ROUTE_MH_TYPE_DESC[#Data],0),0))","v":""},{"$f":"IF('Access Point (Desc)'!J481=\"\",\"\",INDEX([1]MANHOLE_MTL!$A$2:$A$100,MATCH('Access Point (Desc)'!$J481,[1]!MASTER_MANHOLE_MTL_DESC[#Data],0),0))","v":""},{"$f":"IF('Access Point (Desc)'!K481=\"\",\"\",INDEX([1]MANHOLE_SIZE!$A$2:$A$120,MATCH('Access Point (Desc)'!$K481,[1]!MASTER_MANHOLE_SIZE_DESC[#Data],0),0))","v":""},{"$f":"IF('Access Point (Desc)'!L481=\"\",\"\",INDEX([1]ROUTE_MH_LID_TYPE!$A$2:$A$100,MATCH('Access Point (Desc)'!$L481,[1]!MASTER_ROUTE_MH_LID_TYPE_DESC[#Data],0),0))","v":""},{"$f":"IF('Access Point (Desc)'!M481=\"\",\"\",INDEX([1]MANHOLE_MTL!$A$2:$A$100,MATCH('Access Point (Desc)'!$M481,[1]!MASTER_MANHOLE_MTL_DESC[#Data],0),0))","v":""},{"$f":"IF('Access Point (Desc)'!N481=\"\",\"\",INDEX([1]LID_BOLT_TYPE!$A$2:$A$100,MATCH('Access Point (Desc)'!$N481,[1]!MASTER_LID_BOLT_TYPE_DESC[#Data],0),0))","v":""},{"$f":"IF('Access Point (Desc)'!O481=\"\",\"\",INDEX([1]YES_NO!$A$2:$A$100,MATCH('Access Point (Desc)'!$O481,[1]!MASTER_YES_NO_DESC[#Data],0),0))","v":""},{"$f":"IF('Access Point (Desc)'!P481=\"\",\"\",'Access Point (Desc)'!P481)","v":""},{"$f":"IF('Access Point (Desc)'!Q481=\"\",\"\",INDEX([1]YES_NO!$A$2:$A$100,MATCH('Access Point (Desc)'!$Q481,[1]!MASTER_YES_NO_DESC[#Data],0),0))","v":""}]
[{"$f":"IF('Access Point (Desc)'!A482=\"\",\"\",'Access Point (Desc)'!A482)","v":""},{"$f":"IF('Access Point (Desc)'!B482=\"\",\"\",'Access Point (Desc)'!B482)","v":""},{"$f":"IF('Access Point (Desc)'!C482=\"\",\"\",'Access Point (Desc)'!C482)","v":""},{"$f":"IF('Access Point (Desc)'!D482=\"\",\"\",'Access Point (Desc)'!D482)","v":""},{"$f":"IF('Access Point (Desc)'!E482=\"\",\"\",INDEX([1]OWNER!$A$2:$A$100,MATCH('Access Point (Desc)'!$E482,[1]!MASTER_OWNER_DESC[#Data],0),0))","v":""},{"$f":"IF('Access Point (Desc)'!F482=\"\",\"\",INDEX([1]COUNTY!$A$2:$A$100,MATCH('Access Point (Desc)'!F482,[1]!MASTER_COUNTY_NAME[#Data],0),0))","v":""},{"$f":"IF('Access Point (Desc)'!G482=\"\",\"\",'Access Point (Desc)'!G482)","v":""},{"$f":"IF('Access Point (Desc)'!H482=\"\",\"\",'Access Point (Desc)'!H482)","v":""},{"$f":"IF('Access Point (Desc)'!I482=\"\",\"\",INDEX([1]ROUTE_MH_TYPE!$A$2:$A$100,MATCH('Access Point (Desc)'!$I482,[1]!MASTER_ROUTE_MH_TYPE_DESC[#Data],0),0))","v":""},{"$f":"IF('Access Point (Desc)'!J482=\"\",\"\",INDEX([1]MANHOLE_MTL!$A$2:$A$100,MATCH('Access Point (Desc)'!$J482,[1]!MASTER_MANHOLE_MTL_DESC[#Data],0),0))","v":""},{"$f":"IF('Access Point (Desc)'!K482=\"\",\"\",INDEX([1]MANHOLE_SIZE!$A$2:$A$120,MATCH('Access Point (Desc)'!$K482,[1]!MASTER_MANHOLE_SIZE_DESC[#Data],0),0))","v":""},{"$f":"IF('Access Point (Desc)'!L482=\"\",\"\",INDEX([1]ROUTE_MH_LID_TYPE!$A$2:$A$100,MATCH('Access Point (Desc)'!$L482,[1]!MASTER_ROUTE_MH_LID_TYPE_DESC[#Data],0),0))","v":""},{"$f":"IF('Access Point (Desc)'!M482=\"\",\"\",INDEX([1]MANHOLE_MTL!$A$2:$A$100,MATCH('Access Point (Desc)'!$M482,[1]!MASTER_MANHOLE_MTL_DESC[#Data],0),0))","v":""},{"$f":"IF('Access Point (Desc)'!N482=\"\",\"\",INDEX([1]LID_BOLT_TYPE!$A$2:$A$100,MATCH('Access Point (Desc)'!$N482,[1]!MASTER_LID_BOLT_TYPE_DESC[#Data],0),0))","v":""},{"$f":"IF('Access Point (Desc)'!O482=\"\",\"\",INDEX([1]YES_NO!$A$2:$A$100,MATCH('Access Point (Desc)'!$O482,[1]!MASTER_YES_NO_DESC[#Data],0),0))","v":""},{"$f":"IF('Access Point (Desc)'!P482=\"\",\"\",'Access Point (Desc)'!P482)","v":""},{"$f":"IF('Access Point (Desc)'!Q482=\"\",\"\",INDEX([1]YES_NO!$A$2:$A$100,MATCH('Access Point (Desc)'!$Q482,[1]!MASTER_YES_NO_DESC[#Data],0),0))","v":""}]
[{"$f":"IF('Access Point (Desc)'!A483=\"\",\"\",'Access Point (Desc)'!A483)","v":""},{"$f":"IF('Access Point (Desc)'!B483=\"\",\"\",'Access Point (Desc)'!B483)","v":""},{"$f":"IF('Access Point (Desc)'!C483=\"\",\"\",'Access Point (Desc)'!C483)","v":""},{"$f":"IF('Access Point (Desc)'!D483=\"\",\"\",'Access Point (Desc)'!D483)","v":""},{"$f":"IF('Access Point (Desc)'!E483=\"\",\"\",INDEX([1]OWNER!$A$2:$A$100,MATCH('Access Point (Desc)'!$E483,[1]!MASTER_OWNER_DESC[#Data],0),0))","v":""},{"$f":"IF('Access Point (Desc)'!F483=\"\",\"\",INDEX([1]COUNTY!$A$2:$A$100,MATCH('Access Point (Desc)'!F483,[1]!MASTER_COUNTY_NAME[#Data],0),0))","v":""},{"$f":"IF('Access Point (Desc)'!G483=\"\",\"\",'Access Point (Desc)'!G483)","v":""},{"$f":"IF('Access Point (Desc)'!H483=\"\",\"\",'Access Point (Desc)'!H483)","v":""},{"$f":"IF('Access Point (Desc)'!I483=\"\",\"\",INDEX([1]ROUTE_MH_TYPE!$A$2:$A$100,MATCH('Access Point (Desc)'!$I483,[1]!MASTER_ROUTE_MH_TYPE_DESC[#Data],0),0))","v":""},{"$f":"IF('Access Point (Desc)'!J483=\"\",\"\",INDEX([1]MANHOLE_MTL!$A$2:$A$100,MATCH('Access Point (Desc)'!$J483,[1]!MASTER_MANHOLE_MTL_DESC[#Data],0),0))","v":""},{"$f":"IF('Access Point (Desc)'!K483=\"\",\"\",INDEX([1]MANHOLE_SIZE!$A$2:$A$120,MATCH('Access Point (Desc)'!$K483,[1]!MASTER_MANHOLE_SIZE_DESC[#Data],0),0))","v":""},{"$f":"IF('Access Point (Desc)'!L483=\"\",\"\",INDEX([1]ROUTE_MH_LID_TYPE!$A$2:$A$100,MATCH('Access Point (Desc)'!$L483,[1]!MASTER_ROUTE_MH_LID_TYPE_DESC[#Data],0),0))","v":""},{"$f":"IF('Access Point (Desc)'!M483=\"\",\"\",INDEX([1]MANHOLE_MTL!$A$2:$A$100,MATCH('Access Point (Desc)'!$M483,[1]!MASTER_MANHOLE_MTL_DESC[#Data],0),0))","v":""},{"$f":"IF('Access Point (Desc)'!N483=\"\",\"\",INDEX([1]LID_BOLT_TYPE!$A$2:$A$100,MATCH('Access Point (Desc)'!$N483,[1]!MASTER_LID_BOLT_TYPE_DESC[#Data],0),0))","v":""},{"$f":"IF('Access Point (Desc)'!O483=\"\",\"\",INDEX([1]YES_NO!$A$2:$A$100,MATCH('Access Point (Desc)'!$O483,[1]!MASTER_YES_NO_DESC[#Data],0),0))","v":""},{"$f":"IF('Access Point (Desc)'!P483=\"\",\"\",'Access Point (Desc)'!P483)","v":""},{"$f":"IF('Access Point (Desc)'!Q483=\"\",\"\",INDEX([1]YES_NO!$A$2:$A$100,MATCH('Access Point (Desc)'!$Q483,[1]!MASTER_YES_NO_DESC[#Data],0),0))","v":""}]
[{"$f":"IF('Access Point (Desc)'!A484=\"\",\"\",'Access Point (Desc)'!A484)","v":""},{"$f":"IF('Access Point (Desc)'!B484=\"\",\"\",'Access Point (Desc)'!B484)","v":""},{"$f":"IF('Access Point (Desc)'!C484=\"\",\"\",'Access Point (Desc)'!C484)","v":""},{"$f":"IF('Access Point (Desc)'!D484=\"\",\"\",'Access Point (Desc)'!D484)","v":""},{"$f":"IF('Access Point (Desc)'!E484=\"\",\"\",INDEX([1]OWNER!$A$2:$A$100,MATCH('Access Point (Desc)'!$E484,[1]!MASTER_OWNER_DESC[#Data],0),0))","v":""},{"$f":"IF('Access Point (Desc)'!F484=\"\",\"\",INDEX([1]COUNTY!$A$2:$A$100,MATCH('Access Point (Desc)'!F484,[1]!MASTER_COUNTY_NAME[#Data],0),0))","v":""},{"$f":"IF('Access Point (Desc)'!G484=\"\",\"\",'Access Point (Desc)'!G484)","v":""},{"$f":"IF('Access Point (Desc)'!H484=\"\",\"\",'Access Point (Desc)'!H484)","v":""},{"$f":"IF('Access Point (Desc)'!I484=\"\",\"\",INDEX([1]ROUTE_MH_TYPE!$A$2:$A$100,MATCH('Access Point (Desc)'!$I484,[1]!MASTER_ROUTE_MH_TYPE_DESC[#Data],0),0))","v":""},{"$f":"IF('Access Point (Desc)'!J484=\"\",\"\",INDEX([1]MANHOLE_MTL!$A$2:$A$100,MATCH('Access Point (Desc)'!$J484,[1]!MASTER_MANHOLE_MTL_DESC[#Data],0),0))","v":""},{"$f":"IF('Access Point (Desc)'!K484=\"\",\"\",INDEX([1]MANHOLE_SIZE!$A$2:$A$120,MATCH('Access Point (Desc)'!$K484,[1]!MASTER_MANHOLE_SIZE_DESC[#Data],0),0))","v":""},{"$f":"IF('Access Point (Desc)'!L484=\"\",\"\",INDEX([1]ROUTE_MH_LID_TYPE!$A$2:$A$100,MATCH('Access Point (Desc)'!$L484,[1]!MASTER_ROUTE_MH_LID_TYPE_DESC[#Data],0),0))","v":""},{"$f":"IF('Access Point (Desc)'!M484=\"\",\"\",INDEX([1]MANHOLE_MTL!$A$2:$A$100,MATCH('Access Point (Desc)'!$M484,[1]!MASTER_MANHOLE_MTL_DESC[#Data],0),0))","v":""},{"$f":"IF('Access Point (Desc)'!N484=\"\",\"\",INDEX([1]LID_BOLT_TYPE!$A$2:$A$100,MATCH('Access Point (Desc)'!$N484,[1]!MASTER_LID_BOLT_TYPE_DESC[#Data],0),0))","v":""},{"$f":"IF('Access Point (Desc)'!O484=\"\",\"\",INDEX([1]YES_NO!$A$2:$A$100,MATCH('Access Point (Desc)'!$O484,[1]!MASTER_YES_NO_DESC[#Data],0),0))","v":""},{"$f":"IF('Access Point (Desc)'!P484=\"\",\"\",'Access Point (Desc)'!P484)","v":""},{"$f":"IF('Access Point (Desc)'!Q484=\"\",\"\",INDEX([1]YES_NO!$A$2:$A$100,MATCH('Access Point (Desc)'!$Q484,[1]!MASTER_YES_NO_DESC[#Data],0),0))","v":""}]
[{"$f":"IF('Access Point (Desc)'!A485=\"\",\"\",'Access Point (Desc)'!A485)","v":""},{"$f":"IF('Access Point (Desc)'!B485=\"\",\"\",'Access Point (Desc)'!B485)","v":""},{"$f":"IF('Access Point (Desc)'!C485=\"\",\"\",'Access Point (Desc)'!C485)","v":""},{"$f":"IF('Access Point (Desc)'!D485=\"\",\"\",'Access Point (Desc)'!D485)","v":""},{"$f":"IF('Access Point (Desc)'!E485=\"\",\"\",INDEX([1]OWNER!$A$2:$A$100,MATCH('Access Point (Desc)'!$E485,[1]!MASTER_OWNER_DESC[#Data],0),0))","v":""},{"$f":"IF('Access Point (Desc)'!F485=\"\",\"\",INDEX([1]COUNTY!$A$2:$A$100,MATCH('Access Point (Desc)'!F485,[1]!MASTER_COUNTY_NAME[#Data],0),0))","v":""},{"$f":"IF('Access Point (Desc)'!G485=\"\",\"\",'Access Point (Desc)'!G485)","v":""},{"$f":"IF('Access Point (Desc)'!H485=\"\",\"\",'Access Point (Desc)'!H485)","v":""},{"$f":"IF('Access Point (Desc)'!I485=\"\",\"\",INDEX([1]ROUTE_MH_TYPE!$A$2:$A$100,MATCH('Access Point (Desc)'!$I485,[1]!MASTER_ROUTE_MH_TYPE_DESC[#Data],0),0))","v":""},{"$f":"IF('Access Point (Desc)'!J485=\"\",\"\",INDEX([1]MANHOLE_MTL!$A$2:$A$100,MATCH('Access Point (Desc)'!$J485,[1]!MASTER_MANHOLE_MTL_DESC[#Data],0),0))","v":""},{"$f":"IF('Access Point (Desc)'!K485=\"\",\"\",INDEX([1]MANHOLE_SIZE!$A$2:$A$120,MATCH('Access Point (Desc)'!$K485,[1]!MASTER_MANHOLE_SIZE_DESC[#Data],0),0))","v":""},{"$f":"IF('Access Point (Desc)'!L485=\"\",\"\",INDEX([1]ROUTE_MH_LID_TYPE!$A$2:$A$100,MATCH('Access Point (Desc)'!$L485,[1]!MASTER_ROUTE_MH_LID_TYPE_DESC[#Data],0),0))","v":""},{"$f":"IF('Access Point (Desc)'!M485=\"\",\"\",INDEX([1]MANHOLE_MTL!$A$2:$A$100,MATCH('Access Point (Desc)'!$M485,[1]!MASTER_MANHOLE_MTL_DESC[#Data],0),0))","v":""},{"$f":"IF('Access Point (Desc)'!N485=\"\",\"\",INDEX([1]LID_BOLT_TYPE!$A$2:$A$100,MATCH('Access Point (Desc)'!$N485,[1]!MASTER_LID_BOLT_TYPE_DESC[#Data],0),0))","v":""},{"$f":"IF('Access Point (Desc)'!O485=\"\",\"\",INDEX([1]YES_NO!$A$2:$A$100,MATCH('Access Point (Desc)'!$O485,[1]!MASTER_YES_NO_DESC[#Data],0),0))","v":""},{"$f":"IF('Access Point (Desc)'!P485=\"\",\"\",'Access Point (Desc)'!P485)","v":""},{"$f":"IF('Access Point (Desc)'!Q485=\"\",\"\",INDEX([1]YES_NO!$A$2:$A$100,MATCH('Access Point (Desc)'!$Q485,[1]!MASTER_YES_NO_DESC[#Data],0),0))","v":""}]
[{"$f":"IF('Access Point (Desc)'!A486=\"\",\"\",'Access Point (Desc)'!A486)","v":""},{"$f":"IF('Access Point (Desc)'!B486=\"\",\"\",'Access Point (Desc)'!B486)","v":""},{"$f":"IF('Access Point (Desc)'!C486=\"\",\"\",'Access Point (Desc)'!C486)","v":""},{"$f":"IF('Access Point (Desc)'!D486=\"\",\"\",'Access Point (Desc)'!D486)","v":""},{"$f":"IF('Access Point (Desc)'!E486=\"\",\"\",INDEX([1]OWNER!$A$2:$A$100,MATCH('Access Point (Desc)'!$E486,[1]!MASTER_OWNER_DESC[#Data],0),0))","v":""},{"$f":"IF('Access Point (Desc)'!F486=\"\",\"\",INDEX([1]COUNTY!$A$2:$A$100,MATCH('Access Point (Desc)'!F486,[1]!MASTER_COUNTY_NAME[#Data],0),0))","v":""},{"$f":"IF('Access Point (Desc)'!G486=\"\",\"\",'Access Point (Desc)'!G486)","v":""},{"$f":"IF('Access Point (Desc)'!H486=\"\",\"\",'Access Point (Desc)'!H486)","v":""},{"$f":"IF('Access Point (Desc)'!I486=\"\",\"\",INDEX([1]ROUTE_MH_TYPE!$A$2:$A$100,MATCH('Access Point (Desc)'!$I486,[1]!MASTER_ROUTE_MH_TYPE_DESC[#Data],0),0))","v":""},{"$f":"IF('Access Point (Desc)'!J486=\"\",\"\",INDEX([1]MANHOLE_MTL!$A$2:$A$100,MATCH('Access Point (Desc)'!$J486,[1]!MASTER_MANHOLE_MTL_DESC[#Data],0),0))","v":""},{"$f":"IF('Access Point (Desc)'!K486=\"\",\"\",INDEX([1]MANHOLE_SIZE!$A$2:$A$120,MATCH('Access Point (Desc)'!$K486,[1]!MASTER_MANHOLE_SIZE_DESC[#Data],0),0))","v":""},{"$f":"IF('Access Point (Desc)'!L486=\"\",\"\",INDEX([1]ROUTE_MH_LID_TYPE!$A$2:$A$100,MATCH('Access Point (Desc)'!$L486,[1]!MASTER_ROUTE_MH_LID_TYPE_DESC[#Data],0),0))","v":""},{"$f":"IF('Access Point (Desc)'!M486=\"\",\"\",INDEX([1]MANHOLE_MTL!$A$2:$A$100,MATCH('Access Point (Desc)'!$M486,[1]!MASTER_MANHOLE_MTL_DESC[#Data],0),0))","v":""},{"$f":"IF('Access Point (Desc)'!N486=\"\",\"\",INDEX([1]LID_BOLT_TYPE!$A$2:$A$100,MATCH('Access Point (Desc)'!$N486,[1]!MASTER_LID_BOLT_TYPE_DESC[#Data],0),0))","v":""},{"$f":"IF('Access Point (Desc)'!O486=\"\",\"\",INDEX([1]YES_NO!$A$2:$A$100,MATCH('Access Point (Desc)'!$O486,[1]!MASTER_YES_NO_DESC[#Data],0),0))","v":""},{"$f":"IF('Access Point (Desc)'!P486=\"\",\"\",'Access Point (Desc)'!P486)","v":""},{"$f":"IF('Access Point (Desc)'!Q486=\"\",\"\",INDEX([1]YES_NO!$A$2:$A$100,MATCH('Access Point (Desc)'!$Q486,[1]!MASTER_YES_NO_DESC[#Data],0),0))","v":""}]
[{"$f":"IF('Access Point (Desc)'!A487=\"\",\"\",'Access Point (Desc)'!A487)","v":""},{"$f":"IF('Access Point (Desc)'!B487=\"\",\"\",'Access Point (Desc)'!B487)","v":""},{"$f":"IF('Access Point (Desc)'!C487=\"\",\"\",'Access Point (Desc)'!C487)","v":""},{"$f":"IF('Access Point (Desc)'!D487=\"\",\"\",'Access Point (Desc)'!D487)","v":""},{"$f":"IF('Access Point (Desc)'!E487=\"\",\"\",INDEX([1]OWNER!$A$2:$A$100,MATCH('Access Point (Desc)'!$E487,[1]!MASTER_OWNER_DESC[#Data],0),0))","v":""},{"$f":"IF('Access Point (Desc)'!F487=\"\",\"\",INDEX([1]COUNTY!$A$2:$A$100,MATCH('Access Point (Desc)'!F487,[1]!MASTER_COUNTY_NAME[#Data],0),0))","v":""},{"$f":"IF('Access Point (Desc)'!G487=\"\",\"\",'Access Point (Desc)'!G487)","v":""},{"$f":"IF('Access Point (Desc)'!H487=\"\",\"\",'Access Point (Desc)'!H487)","v":""},{"$f":"IF('Access Point (Desc)'!I487=\"\",\"\",INDEX([1]ROUTE_MH_TYPE!$A$2:$A$100,MATCH('Access Point (Desc)'!$I487,[1]!MASTER_ROUTE_MH_TYPE_DESC[#Data],0),0))","v":""},{"$f":"IF('Access Point (Desc)'!J487=\"\",\"\",INDEX([1]MANHOLE_MTL!$A$2:$A$100,MATCH('Access Point (Desc)'!$J487,[1]!MASTER_MANHOLE_MTL_DESC[#Data],0),0))","v":""},{"$f":"IF('Access Point (Desc)'!K487=\"\",\"\",INDEX([1]MANHOLE_SIZE!$A$2:$A$120,MATCH('Access Point (Desc)'!$K487,[1]!MASTER_MANHOLE_SIZE_DESC[#Data],0),0))","v":""},{"$f":"IF('Access Point (Desc)'!L487=\"\",\"\",INDEX([1]ROUTE_MH_LID_TYPE!$A$2:$A$100,MATCH('Access Point (Desc)'!$L487,[1]!MASTER_ROUTE_MH_LID_TYPE_DESC[#Data],0),0))","v":""},{"$f":"IF('Access Point (Desc)'!M487=\"\",\"\",INDEX([1]MANHOLE_MTL!$A$2:$A$100,MATCH('Access Point (Desc)'!$M487,[1]!MASTER_MANHOLE_MTL_DESC[#Data],0),0))","v":""},{"$f":"IF('Access Point (Desc)'!N487=\"\",\"\",INDEX([1]LID_BOLT_TYPE!$A$2:$A$100,MATCH('Access Point (Desc)'!$N487,[1]!MASTER_LID_BOLT_TYPE_DESC[#Data],0),0))","v":""},{"$f":"IF('Access Point (Desc)'!O487=\"\",\"\",INDEX([1]YES_NO!$A$2:$A$100,MATCH('Access Point (Desc)'!$O487,[1]!MASTER_YES_NO_DESC[#Data],0),0))","v":""},{"$f":"IF('Access Point (Desc)'!P487=\"\",\"\",'Access Point (Desc)'!P487)","v":""},{"$f":"IF('Access Point (Desc)'!Q487=\"\",\"\",INDEX([1]YES_NO!$A$2:$A$100,MATCH('Access Point (Desc)'!$Q487,[1]!MASTER_YES_NO_DESC[#Data],0),0))","v":""}]
[{"$f":"IF('Access Point (Desc)'!A488=\"\",\"\",'Access Point (Desc)'!A488)","v":""},{"$f":"IF('Access Point (Desc)'!B488=\"\",\"\",'Access Point (Desc)'!B488)","v":""},{"$f":"IF('Access Point (Desc)'!C488=\"\",\"\",'Access Point (Desc)'!C488)","v":""},{"$f":"IF('Access Point (Desc)'!D488=\"\",\"\",'Access Point (Desc)'!D488)","v":""},{"$f":"IF('Access Point (Desc)'!E488=\"\",\"\",INDEX([1]OWNER!$A$2:$A$100,MATCH('Access Point (Desc)'!$E488,[1]!MASTER_OWNER_DESC[#Data],0),0))","v":""},{"$f":"IF('Access Point (Desc)'!F488=\"\",\"\",INDEX([1]COUNTY!$A$2:$A$100,MATCH('Access Point (Desc)'!F488,[1]!MASTER_COUNTY_NAME[#Data],0),0))","v":""},{"$f":"IF('Access Point (Desc)'!G488=\"\",\"\",'Access Point (Desc)'!G488)","v":""},{"$f":"IF('Access Point (Desc)'!H488=\"\",\"\",'Access Point (Desc)'!H488)","v":""},{"$f":"IF('Access Point (Desc)'!I488=\"\",\"\",INDEX([1]ROUTE_MH_TYPE!$A$2:$A$100,MATCH('Access Point (Desc)'!$I488,[1]!MASTER_ROUTE_MH_TYPE_DESC[#Data],0),0))","v":""},{"$f":"IF('Access Point (Desc)'!J488=\"\",\"\",INDEX([1]MANHOLE_MTL!$A$2:$A$100,MATCH('Access Point (Desc)'!$J488,[1]!MASTER_MANHOLE_MTL_DESC[#Data],0),0))","v":""},{"$f":"IF('Access Point (Desc)'!K488=\"\",\"\",INDEX([1]MANHOLE_SIZE!$A$2:$A$120,MATCH('Access Point (Desc)'!$K488,[1]!MASTER_MANHOLE_SIZE_DESC[#Data],0),0))","v":""},{"$f":"IF('Access Point (Desc)'!L488=\"\",\"\",INDEX([1]ROUTE_MH_LID_TYPE!$A$2:$A$100,MATCH('Access Point (Desc)'!$L488,[1]!MASTER_ROUTE_MH_LID_TYPE_DESC[#Data],0),0))","v":""},{"$f":"IF('Access Point (Desc)'!M488=\"\",\"\",INDEX([1]MANHOLE_MTL!$A$2:$A$100,MATCH('Access Point (Desc)'!$M488,[1]!MASTER_MANHOLE_MTL_DESC[#Data],0),0))","v":""},{"$f":"IF('Access Point (Desc)'!N488=\"\",\"\",INDEX([1]LID_BOLT_TYPE!$A$2:$A$100,MATCH('Access Point (Desc)'!$N488,[1]!MASTER_LID_BOLT_TYPE_DESC[#Data],0),0))","v":""},{"$f":"IF('Access Point (Desc)'!O488=\"\",\"\",INDEX([1]YES_NO!$A$2:$A$100,MATCH('Access Point (Desc)'!$O488,[1]!MASTER_YES_NO_DESC[#Data],0),0))","v":""},{"$f":"IF('Access Point (Desc)'!P488=\"\",\"\",'Access Point (Desc)'!P488)","v":""},{"$f":"IF('Access Point (Desc)'!Q488=\"\",\"\",INDEX([1]YES_NO!$A$2:$A$100,MATCH('Access Point (Desc)'!$Q488,[1]!MASTER_YES_NO_DESC[#Data],0),0))","v":""}]
[{"$f":"IF('Access Point (Desc)'!A489=\"\",\"\",'Access Point (Desc)'!A489)","v":""},{"$f":"IF('Access Point (Desc)'!B489=\"\",\"\",'Access Point (Desc)'!B489)","v":""},{"$f":"IF('Access Point (Desc)'!C489=\"\",\"\",'Access Point (Desc)'!C489)","v":""},{"$f":"IF('Access Point (Desc)'!D489=\"\",\"\",'Access Point (Desc)'!D489)","v":""},{"$f":"IF('Access Point (Desc)'!E489=\"\",\"\",INDEX([1]OWNER!$A$2:$A$100,MATCH('Access Point (Desc)'!$E489,[1]!MASTER_OWNER_DESC[#Data],0),0))","v":""},{"$f":"IF('Access Point (Desc)'!F489=\"\",\"\",INDEX([1]COUNTY!$A$2:$A$100,MATCH('Access Point (Desc)'!F489,[1]!MASTER_COUNTY_NAME[#Data],0),0))","v":""},{"$f":"IF('Access Point (Desc)'!G489=\"\",\"\",'Access Point (Desc)'!G489)","v":""},{"$f":"IF('Access Point (Desc)'!H489=\"\",\"\",'Access Point (Desc)'!H489)","v":""},{"$f":"IF('Access Point (Desc)'!I489=\"\",\"\",INDEX([1]ROUTE_MH_TYPE!$A$2:$A$100,MATCH('Access Point (Desc)'!$I489,[1]!MASTER_ROUTE_MH_TYPE_DESC[#Data],0),0))","v":""},{"$f":"IF('Access Point (Desc)'!J489=\"\",\"\",INDEX([1]MANHOLE_MTL!$A$2:$A$100,MATCH('Access Point (Desc)'!$J489,[1]!MASTER_MANHOLE_MTL_DESC[#Data],0),0))","v":""},{"$f":"IF('Access Point (Desc)'!K489=\"\",\"\",INDEX([1]MANHOLE_SIZE!$A$2:$A$120,MATCH('Access Point (Desc)'!$K489,[1]!MASTER_MANHOLE_SIZE_DESC[#Data],0),0))","v":""},{"$f":"IF('Access Point (Desc)'!L489=\"\",\"\",INDEX([1]ROUTE_MH_LID_TYPE!$A$2:$A$100,MATCH('Access Point (Desc)'!$L489,[1]!MASTER_ROUTE_MH_LID_TYPE_DESC[#Data],0),0))","v":""},{"$f":"IF('Access Point (Desc)'!M489=\"\",\"\",INDEX([1]MANHOLE_MTL!$A$2:$A$100,MATCH('Access Point (Desc)'!$M489,[1]!MASTER_MANHOLE_MTL_DESC[#Data],0),0))","v":""},{"$f":"IF('Access Point (Desc)'!N489=\"\",\"\",INDEX([1]LID_BOLT_TYPE!$A$2:$A$100,MATCH('Access Point (Desc)'!$N489,[1]!MASTER_LID_BOLT_TYPE_DESC[#Data],0),0))","v":""},{"$f":"IF('Access Point (Desc)'!O489=\"\",\"\",INDEX([1]YES_NO!$A$2:$A$100,MATCH('Access Point (Desc)'!$O489,[1]!MASTER_YES_NO_DESC[#Data],0),0))","v":""},{"$f":"IF('Access Point (Desc)'!P489=\"\",\"\",'Access Point (Desc)'!P489)","v":""},{"$f":"IF('Access Point (Desc)'!Q489=\"\",\"\",INDEX([1]YES_NO!$A$2:$A$100,MATCH('Access Point (Desc)'!$Q489,[1]!MASTER_YES_NO_DESC[#Data],0),0))","v":""}]
[{"$f":"IF('Access Point (Desc)'!A490=\"\",\"\",'Access Point (Desc)'!A490)","v":""},{"$f":"IF('Access Point (Desc)'!B490=\"\",\"\",'Access Point (Desc)'!B490)","v":""},{"$f":"IF('Access Point (Desc)'!C490=\"\",\"\",'Access Point (Desc)'!C490)","v":""},{"$f":"IF('Access Point (Desc)'!D490=\"\",\"\",'Access Point (Desc)'!D490)","v":""},{"$f":"IF('Access Point (Desc)'!E490=\"\",\"\",INDEX([1]OWNER!$A$2:$A$100,MATCH('Access Point (Desc)'!$E490,[1]!MASTER_OWNER_DESC[#Data],0),0))","v":""},{"$f":"IF('Access Point (Desc)'!F490=\"\",\"\",INDEX([1]COUNTY!$A$2:$A$100,MATCH('Access Point (Desc)'!F490,[1]!MASTER_COUNTY_NAME[#Data],0),0))","v":""},{"$f":"IF('Access Point (Desc)'!G490=\"\",\"\",'Access Point (Desc)'!G490)","v":""},{"$f":"IF('Access Point (Desc)'!H490=\"\",\"\",'Access Point (Desc)'!H490)","v":""},{"$f":"IF('Access Point (Desc)'!I490=\"\",\"\",INDEX([1]ROUTE_MH_TYPE!$A$2:$A$100,MATCH('Access Point (Desc)'!$I490,[1]!MASTER_ROUTE_MH_TYPE_DESC[#Data],0),0))","v":""},{"$f":"IF('Access Point (Desc)'!J490=\"\",\"\",INDEX([1]MANHOLE_MTL!$A$2:$A$100,MATCH('Access Point (Desc)'!$J490,[1]!MASTER_MANHOLE_MTL_DESC[#Data],0),0))","v":""},{"$f":"IF('Access Point (Desc)'!K490=\"\",\"\",INDEX([1]MANHOLE_SIZE!$A$2:$A$120,MATCH('Access Point (Desc)'!$K490,[1]!MASTER_MANHOLE_SIZE_DESC[#Data],0),0))","v":""},{"$f":"IF('Access Point (Desc)'!L490=\"\",\"\",INDEX([1]ROUTE_MH_LID_TYPE!$A$2:$A$100,MATCH('Access Point (Desc)'!$L490,[1]!MASTER_ROUTE_MH_LID_TYPE_DESC[#Data],0),0))","v":""},{"$f":"IF('Access Point (Desc)'!M490=\"\",\"\",INDEX([1]MANHOLE_MTL!$A$2:$A$100,MATCH('Access Point (Desc)'!$M490,[1]!MASTER_MANHOLE_MTL_DESC[#Data],0),0))","v":""},{"$f":"IF('Access Point (Desc)'!N490=\"\",\"\",INDEX([1]LID_BOLT_TYPE!$A$2:$A$100,MATCH('Access Point (Desc)'!$N490,[1]!MASTER_LID_BOLT_TYPE_DESC[#Data],0),0))","v":""},{"$f":"IF('Access Point (Desc)'!O490=\"\",\"\",INDEX([1]YES_NO!$A$2:$A$100,MATCH('Access Point (Desc)'!$O490,[1]!MASTER_YES_NO_DESC[#Data],0),0))","v":""},{"$f":"IF('Access Point (Desc)'!P490=\"\",\"\",'Access Point (Desc)'!P490)","v":""},{"$f":"IF('Access Point (Desc)'!Q490=\"\",\"\",INDEX([1]YES_NO!$A$2:$A$100,MATCH('Access Point (Desc)'!$Q490,[1]!MASTER_YES_NO_DESC[#Data],0),0))","v":""}]
[{"$f":"IF('Access Point (Desc)'!A491=\"\",\"\",'Access Point (Desc)'!A491)","v":""},{"$f":"IF('Access Point (Desc)'!B491=\"\",\"\",'Access Point (Desc)'!B491)","v":""},{"$f":"IF('Access Point (Desc)'!C491=\"\",\"\",'Access Point (Desc)'!C491)","v":""},{"$f":"IF('Access Point (Desc)'!D491=\"\",\"\",'Access Point (Desc)'!D491)","v":""},{"$f":"IF('Access Point (Desc)'!E491=\"\",\"\",INDEX([1]OWNER!$A$2:$A$100,MATCH('Access Point (Desc)'!$E491,[1]!MASTER_OWNER_DESC[#Data],0),0))","v":""},{"$f":"IF('Access Point (Desc)'!F491=\"\",\"\",INDEX([1]COUNTY!$A$2:$A$100,MATCH('Access Point (Desc)'!F491,[1]!MASTER_COUNTY_NAME[#Data],0),0))","v":""},{"$f":"IF('Access Point (Desc)'!G491=\"\",\"\",'Access Point (Desc)'!G491)","v":""},{"$f":"IF('Access Point (Desc)'!H491=\"\",\"\",'Access Point (Desc)'!H491)","v":""},{"$f":"IF('Access Point (Desc)'!I491=\"\",\"\",INDEX([1]ROUTE_MH_TYPE!$A$2:$A$100,MATCH('Access Point (Desc)'!$I491,[1]!MASTER_ROUTE_MH_TYPE_DESC[#Data],0),0))","v":""},{"$f":"IF('Access Point (Desc)'!J491=\"\",\"\",INDEX([1]MANHOLE_MTL!$A$2:$A$100,MATCH('Access Point (Desc)'!$J491,[1]!MASTER_MANHOLE_MTL_DESC[#Data],0),0))","v":""},{"$f":"IF('Access Point (Desc)'!K491=\"\",\"\",INDEX([1]MANHOLE_SIZE!$A$2:$A$120,MATCH('Access Point (Desc)'!$K491,[1]!MASTER_MANHOLE_SIZE_DESC[#Data],0),0))","v":""},{"$f":"IF('Access Point (Desc)'!L491=\"\",\"\",INDEX([1]ROUTE_MH_LID_TYPE!$A$2:$A$100,MATCH('Access Point (Desc)'!$L491,[1]!MASTER_ROUTE_MH_LID_TYPE_DESC[#Data],0),0))","v":""},{"$f":"IF('Access Point (Desc)'!M491=\"\",\"\",INDEX([1]MANHOLE_MTL!$A$2:$A$100,MATCH('Access Point (Desc)'!$M491,[1]!MASTER_MANHOLE_MTL_DESC[#Data],0),0))","v":""},{"$f":"IF('Access Point (Desc)'!N491=\"\",\"\",INDEX([1]LID_BOLT_TYPE!$A$2:$A$100,MATCH('Access Point (Desc)'!$N491,[1]!MASTER_LID_BOLT_TYPE_DESC[#Data],0),0))","v":""},{"$f":"IF('Access Point (Desc)'!O491=\"\",\"\",INDEX([1]YES_NO!$A$2:$A$100,MATCH('Access Point (Desc)'!$O491,[1]!MASTER_YES_NO_DESC[#Data],0),0))","v":""},{"$f":"IF('Access Point (Desc)'!P491=\"\",\"\",'Access Point (Desc)'!P491)","v":""},{"$f":"IF('Access Point (Desc)'!Q491=\"\",\"\",INDEX([1]YES_NO!$A$2:$A$100,MATCH('Access Point (Desc)'!$Q491,[1]!MASTER_YES_NO_DESC[#Data],0),0))","v":""}]
[{"$f":"IF('Access Point (Desc)'!A492=\"\",\"\",'Access Point (Desc)'!A492)","v":""},{"$f":"IF('Access Point (Desc)'!B492=\"\",\"\",'Access Point (Desc)'!B492)","v":""},{"$f":"IF('Access Point (Desc)'!C492=\"\",\"\",'Access Point (Desc)'!C492)","v":""},{"$f":"IF('Access Point (Desc)'!D492=\"\",\"\",'Access Point (Desc)'!D492)","v":""},{"$f":"IF('Access Point (Desc)'!E492=\"\",\"\",INDEX([1]OWNER!$A$2:$A$100,MATCH('Access Point (Desc)'!$E492,[1]!MASTER_OWNER_DESC[#Data],0),0))","v":""},{"$f":"IF('Access Point (Desc)'!F492=\"\",\"\",INDEX([1]COUNTY!$A$2:$A$100,MATCH('Access Point (Desc)'!F492,[1]!MASTER_COUNTY_NAME[#Data],0),0))","v":""},{"$f":"IF('Access Point (Desc)'!G492=\"\",\"\",'Access Point (Desc)'!G492)","v":""},{"$f":"IF('Access Point (Desc)'!H492=\"\",\"\",'Access Point (Desc)'!H492)","v":""},{"$f":"IF('Access Point (Desc)'!I492=\"\",\"\",INDEX([1]ROUTE_MH_TYPE!$A$2:$A$100,MATCH('Access Point (Desc)'!$I492,[1]!MASTER_ROUTE_MH_TYPE_DESC[#Data],0),0))","v":""},{"$f":"IF('Access Point (Desc)'!J492=\"\",\"\",INDEX([1]MANHOLE_MTL!$A$2:$A$100,MATCH('Access Point (Desc)'!$J492,[1]!MASTER_MANHOLE_MTL_DESC[#Data],0),0))","v":""},{"$f":"IF('Access Point (Desc)'!K492=\"\",\"\",INDEX([1]MANHOLE_SIZE!$A$2:$A$120,MATCH('Access Point (Desc)'!$K492,[1]!MASTER_MANHOLE_SIZE_DESC[#Data],0),0))","v":""},{"$f":"IF('Access Point (Desc)'!L492=\"\",\"\",INDEX([1]ROUTE_MH_LID_TYPE!$A$2:$A$100,MATCH('Access Point (Desc)'!$L492,[1]!MASTER_ROUTE_MH_LID_TYPE_DESC[#Data],0),0))","v":""},{"$f":"IF('Access Point (Desc)'!M492=\"\",\"\",INDEX([1]MANHOLE_MTL!$A$2:$A$100,MATCH('Access Point (Desc)'!$M492,[1]!MASTER_MANHOLE_MTL_DESC[#Data],0),0))","v":""},{"$f":"IF('Access Point (Desc)'!N492=\"\",\"\",INDEX([1]LID_BOLT_TYPE!$A$2:$A$100,MATCH('Access Point (Desc)'!$N492,[1]!MASTER_LID_BOLT_TYPE_DESC[#Data],0),0))","v":""},{"$f":"IF('Access Point (Desc)'!O492=\"\",\"\",INDEX([1]YES_NO!$A$2:$A$100,MATCH('Access Point (Desc)'!$O492,[1]!MASTER_YES_NO_DESC[#Data],0),0))","v":""},{"$f":"IF('Access Point (Desc)'!P492=\"\",\"\",'Access Point (Desc)'!P492)","v":""},{"$f":"IF('Access Point (Desc)'!Q492=\"\",\"\",INDEX([1]YES_NO!$A$2:$A$100,MATCH('Access Point (Desc)'!$Q492,[1]!MASTER_YES_NO_DESC[#Data],0),0))","v":""}]
[{"$f":"IF('Access Point (Desc)'!A493=\"\",\"\",'Access Point (Desc)'!A493)","v":""},{"$f":"IF('Access Point (Desc)'!B493=\"\",\"\",'Access Point (Desc)'!B493)","v":""},{"$f":"IF('Access Point (Desc)'!C493=\"\",\"\",'Access Point (Desc)'!C493)","v":""},{"$f":"IF('Access Point (Desc)'!D493=\"\",\"\",'Access Point (Desc)'!D493)","v":""},{"$f":"IF('Access Point (Desc)'!E493=\"\",\"\",INDEX([1]OWNER!$A$2:$A$100,MATCH('Access Point (Desc)'!$E493,[1]!MASTER_OWNER_DESC[#Data],0),0))","v":""},{"$f":"IF('Access Point (Desc)'!F493=\"\",\"\",INDEX([1]COUNTY!$A$2:$A$100,MATCH('Access Point (Desc)'!F493,[1]!MASTER_COUNTY_NAME[#Data],0),0))","v":""},{"$f":"IF('Access Point (Desc)'!G493=\"\",\"\",'Access Point (Desc)'!G493)","v":""},{"$f":"IF('Access Point (Desc)'!H493=\"\",\"\",'Access Point (Desc)'!H493)","v":""},{"$f":"IF('Access Point (Desc)'!I493=\"\",\"\",INDEX([1]ROUTE_MH_TYPE!$A$2:$A$100,MATCH('Access Point (Desc)'!$I493,[1]!MASTER_ROUTE_MH_TYPE_DESC[#Data],0),0))","v":""},{"$f":"IF('Access Point (Desc)'!J493=\"\",\"\",INDEX([1]MANHOLE_MTL!$A$2:$A$100,MATCH('Access Point (Desc)'!$J493,[1]!MASTER_MANHOLE_MTL_DESC[#Data],0),0))","v":""},{"$f":"IF('Access Point (Desc)'!K493=\"\",\"\",INDEX([1]MANHOLE_SIZE!$A$2:$A$120,MATCH('Access Point (Desc)'!$K493,[1]!MASTER_MANHOLE_SIZE_DESC[#Data],0),0))","v":""},{"$f":"IF('Access Point (Desc)'!L493=\"\",\"\",INDEX([1]ROUTE_MH_LID_TYPE!$A$2:$A$100,MATCH('Access Point (Desc)'!$L493,[1]!MASTER_ROUTE_MH_LID_TYPE_DESC[#Data],0),0))","v":""},{"$f":"IF('Access Point (Desc)'!M493=\"\",\"\",INDEX([1]MANHOLE_MTL!$A$2:$A$100,MATCH('Access Point (Desc)'!$M493,[1]!MASTER_MANHOLE_MTL_DESC[#Data],0),0))","v":""},{"$f":"IF('Access Point (Desc)'!N493=\"\",\"\",INDEX([1]LID_BOLT_TYPE!$A$2:$A$100,MATCH('Access Point (Desc)'!$N493,[1]!MASTER_LID_BOLT_TYPE_DESC[#Data],0),0))","v":""},{"$f":"IF('Access Point (Desc)'!O493=\"\",\"\",INDEX([1]YES_NO!$A$2:$A$100,MATCH('Access Point (Desc)'!$O493,[1]!MASTER_YES_NO_DESC[#Data],0),0))","v":""},{"$f":"IF('Access Point (Desc)'!P493=\"\",\"\",'Access Point (Desc)'!P493)","v":""},{"$f":"IF('Access Point (Desc)'!Q493=\"\",\"\",INDEX([1]YES_NO!$A$2:$A$100,MATCH('Access Point (Desc)'!$Q493,[1]!MASTER_YES_NO_DESC[#Data],0),0))","v":""}]
[{"$f":"IF('Access Point (Desc)'!A494=\"\",\"\",'Access Point (Desc)'!A494)","v":""},{"$f":"IF('Access Point (Desc)'!B494=\"\",\"\",'Access Point (Desc)'!B494)","v":""},{"$f":"IF('Access Point (Desc)'!C494=\"\",\"\",'Access Point (Desc)'!C494)","v":""},{"$f":"IF('Access Point (Desc)'!D494=\"\",\"\",'Access Point (Desc)'!D494)","v":""},{"$f":"IF('Access Point (Desc)'!E494=\"\",\"\",INDEX([1]OWNER!$A$2:$A$100,MATCH('Access Point (Desc)'!$E494,[1]!MASTER_OWNER_DESC[#Data],0),0))","v":""},{"$f":"IF('Access Point (Desc)'!F494=\"\",\"\",INDEX([1]COUNTY!$A$2:$A$100,MATCH('Access Point (Desc)'!F494,[1]!MASTER_COUNTY_NAME[#Data],0),0))","v":""},{"$f":"IF('Access Point (Desc)'!G494=\"\",\"\",'Access Point (Desc)'!G494)","v":""},{"$f":"IF('Access Point (Desc)'!H494=\"\",\"\",'Access Point (Desc)'!H494)","v":""},{"$f":"IF('Access Point (Desc)'!I494=\"\",\"\",INDEX([1]ROUTE_MH_TYPE!$A$2:$A$100,MATCH('Access Point (Desc)'!$I494,[1]!MASTER_ROUTE_MH_TYPE_DESC[#Data],0),0))","v":""},{"$f":"IF('Access Point (Desc)'!J494=\"\",\"\",INDEX([1]MANHOLE_MTL!$A$2:$A$100,MATCH('Access Point (Desc)'!$J494,[1]!MASTER_MANHOLE_MTL_DESC[#Data],0),0))","v":""},{"$f":"IF('Access Point (Desc)'!K494=\"\",\"\",INDEX([1]MANHOLE_SIZE!$A$2:$A$120,MATCH('Access Point (Desc)'!$K494,[1]!MASTER_MANHOLE_SIZE_DESC[#Data],0),0))","v":""},{"$f":"IF('Access Point (Desc)'!L494=\"\",\"\",INDEX([1]ROUTE_MH_LID_TYPE!$A$2:$A$100,MATCH('Access Point (Desc)'!$L494,[1]!MASTER_ROUTE_MH_LID_TYPE_DESC[#Data],0),0))","v":""},{"$f":"IF('Access Point (Desc)'!M494=\"\",\"\",INDEX([1]MANHOLE_MTL!$A$2:$A$100,MATCH('Access Point (Desc)'!$M494,[1]!MASTER_MANHOLE_MTL_DESC[#Data],0),0))","v":""},{"$f":"IF('Access Point (Desc)'!N494=\"\",\"\",INDEX([1]LID_BOLT_TYPE!$A$2:$A$100,MATCH('Access Point (Desc)'!$N494,[1]!MASTER_LID_BOLT_TYPE_DESC[#Data],0),0))","v":""},{"$f":"IF('Access Point (Desc)'!O494=\"\",\"\",INDEX([1]YES_NO!$A$2:$A$100,MATCH('Access Point (Desc)'!$O494,[1]!MASTER_YES_NO_DESC[#Data],0),0))","v":""},{"$f":"IF('Access Point (Desc)'!P494=\"\",\"\",'Access Point (Desc)'!P494)","v":""},{"$f":"IF('Access Point (Desc)'!Q494=\"\",\"\",INDEX([1]YES_NO!$A$2:$A$100,MATCH('Access Point (Desc)'!$Q494,[1]!MASTER_YES_NO_DESC[#Data],0),0))","v":""}]
[{"$f":"IF('Access Point (Desc)'!A495=\"\",\"\",'Access Point (Desc)'!A495)","v":""},{"$f":"IF('Access Point (Desc)'!B495=\"\",\"\",'Access Point (Desc)'!B495)","v":""},{"$f":"IF('Access Point (Desc)'!C495=\"\",\"\",'Access Point (Desc)'!C495)","v":""},{"$f":"IF('Access Point (Desc)'!D495=\"\",\"\",'Access Point (Desc)'!D495)","v":""},{"$f":"IF('Access Point (Desc)'!E495=\"\",\"\",INDEX([1]OWNER!$A$2:$A$100,MATCH('Access Point (Desc)'!$E495,[1]!MASTER_OWNER_DESC[#Data],0),0))","v":""},{"$f":"IF('Access Point (Desc)'!F495=\"\",\"\",INDEX([1]COUNTY!$A$2:$A$100,MATCH('Access Point (Desc)'!F495,[1]!MASTER_COUNTY_NAME[#Data],0),0))","v":""},{"$f":"IF('Access Point (Desc)'!G495=\"\",\"\",'Access Point (Desc)'!G495)","v":""},{"$f":"IF('Access Point (Desc)'!H495=\"\",\"\",'Access Point (Desc)'!H495)","v":""},{"$f":"IF('Access Point (Desc)'!I495=\"\",\"\",INDEX([1]ROUTE_MH_TYPE!$A$2:$A$100,MATCH('Access Point (Desc)'!$I495,[1]!MASTER_ROUTE_MH_TYPE_DESC[#Data],0),0))","v":""},{"$f":"IF('Access Point (Desc)'!J495=\"\",\"\",INDEX([1]MANHOLE_MTL!$A$2:$A$100,MATCH('Access Point (Desc)'!$J495,[1]!MASTER_MANHOLE_MTL_DESC[#Data],0),0))","v":""},{"$f":"IF('Access Point (Desc)'!K495=\"\",\"\",INDEX([1]MANHOLE_SIZE!$A$2:$A$120,MATCH('Access Point (Desc)'!$K495,[1]!MASTER_MANHOLE_SIZE_DESC[#Data],0),0))","v":""},{"$f":"IF('Access Point (Desc)'!L495=\"\",\"\",INDEX([1]ROUTE_MH_LID_TYPE!$A$2:$A$100,MATCH('Access Point (Desc)'!$L495,[1]!MASTER_ROUTE_MH_LID_TYPE_DESC[#Data],0),0))","v":""},{"$f":"IF('Access Point (Desc)'!M495=\"\",\"\",INDEX([1]MANHOLE_MTL!$A$2:$A$100,MATCH('Access Point (Desc)'!$M495,[1]!MASTER_MANHOLE_MTL_DESC[#Data],0),0))","v":""},{"$f":"IF('Access Point (Desc)'!N495=\"\",\"\",INDEX([1]LID_BOLT_TYPE!$A$2:$A$100,MATCH('Access Point (Desc)'!$N495,[1]!MASTER_LID_BOLT_TYPE_DESC[#Data],0),0))","v":""},{"$f":"IF('Access Point (Desc)'!O495=\"\",\"\",INDEX([1]YES_NO!$A$2:$A$100,MATCH('Access Point (Desc)'!$O495,[1]!MASTER_YES_NO_DESC[#Data],0),0))","v":""},{"$f":"IF('Access Point (Desc)'!P495=\"\",\"\",'Access Point (Desc)'!P495)","v":""},{"$f":"IF('Access Point (Desc)'!Q495=\"\",\"\",INDEX([1]YES_NO!$A$2:$A$100,MATCH('Access Point (Desc)'!$Q495,[1]!MASTER_YES_NO_DESC[#Data],0),0))","v":""}]
[{"$f":"IF('Access Point (Desc)'!A496=\"\",\"\",'Access Point (Desc)'!A496)","v":""},{"$f":"IF('Access Point (Desc)'!B496=\"\",\"\",'Access Point (Desc)'!B496)","v":""},{"$f":"IF('Access Point (Desc)'!C496=\"\",\"\",'Access Point (Desc)'!C496)","v":""},{"$f":"IF('Access Point (Desc)'!D496=\"\",\"\",'Access Point (Desc)'!D496)","v":""},{"$f":"IF('Access Point (Desc)'!E496=\"\",\"\",INDEX([1]OWNER!$A$2:$A$100,MATCH('Access Point (Desc)'!$E496,[1]!MASTER_OWNER_DESC[#Data],0),0))","v":""},{"$f":"IF('Access Point (Desc)'!F496=\"\",\"\",INDEX([1]COUNTY!$A$2:$A$100,MATCH('Access Point (Desc)'!F496,[1]!MASTER_COUNTY_NAME[#Data],0),0))","v":""},{"$f":"IF('Access Point (Desc)'!G496=\"\",\"\",'Access Point (Desc)'!G496)","v":""},{"$f":"IF('Access Point (Desc)'!H496=\"\",\"\",'Access Point (Desc)'!H496)","v":""},{"$f":"IF('Access Point (Desc)'!I496=\"\",\"\",INDEX([1]ROUTE_MH_TYPE!$A$2:$A$100,MATCH('Access Point (Desc)'!$I496,[1]!MASTER_ROUTE_MH_TYPE_DESC[#Data],0),0))","v":""},{"$f":"IF('Access Point (Desc)'!J496=\"\",\"\",INDEX([1]MANHOLE_MTL!$A$2:$A$100,MATCH('Access Point (Desc)'!$J496,[1]!MASTER_MANHOLE_MTL_DESC[#Data],0),0))","v":""},{"$f":"IF('Access Point (Desc)'!K496=\"\",\"\",INDEX([1]MANHOLE_SIZE!$A$2:$A$120,MATCH('Access Point (Desc)'!$K496,[1]!MASTER_MANHOLE_SIZE_DESC[#Data],0),0))","v":""},{"$f":"IF('Access Point (Desc)'!L496=\"\",\"\",INDEX([1]ROUTE_MH_LID_TYPE!$A$2:$A$100,MATCH('Access Point (Desc)'!$L496,[1]!MASTER_ROUTE_MH_LID_TYPE_DESC[#Data],0),0))","v":""},{"$f":"IF('Access Point (Desc)'!M496=\"\",\"\",INDEX([1]MANHOLE_MTL!$A$2:$A$100,MATCH('Access Point (Desc)'!$M496,[1]!MASTER_MANHOLE_MTL_DESC[#Data],0),0))","v":""},{"$f":"IF('Access Point (Desc)'!N496=\"\",\"\",INDEX([1]LID_BOLT_TYPE!$A$2:$A$100,MATCH('Access Point (Desc)'!$N496,[1]!MASTER_LID_BOLT_TYPE_DESC[#Data],0),0))","v":""},{"$f":"IF('Access Point (Desc)'!O496=\"\",\"\",INDEX([1]YES_NO!$A$2:$A$100,MATCH('Access Point (Desc)'!$O496,[1]!MASTER_YES_NO_DESC[#Data],0),0))","v":""},{"$f":"IF('Access Point (Desc)'!P496=\"\",\"\",'Access Point (Desc)'!P496)","v":""},{"$f":"IF('Access Point (Desc)'!Q496=\"\",\"\",INDEX([1]YES_NO!$A$2:$A$100,MATCH('Access Point (Desc)'!$Q496,[1]!MASTER_YES_NO_DESC[#Data],0),0))","v":""}]
[{"$f":"IF('Access Point (Desc)'!A497=\"\",\"\",'Access Point (Desc)'!A497)","v":""},{"$f":"IF('Access Point (Desc)'!B497=\"\",\"\",'Access Point (Desc)'!B497)","v":""},{"$f":"IF('Access Point (Desc)'!C497=\"\",\"\",'Access Point (Desc)'!C497)","v":""},{"$f":"IF('Access Point (Desc)'!D497=\"\",\"\",'Access Point (Desc)'!D497)","v":""},{"$f":"IF('Access Point (Desc)'!E497=\"\",\"\",INDEX([1]OWNER!$A$2:$A$100,MATCH('Access Point (Desc)'!$E497,[1]!MASTER_OWNER_DESC[#Data],0),0))","v":""},{"$f":"IF('Access Point (Desc)'!F497=\"\",\"\",INDEX([1]COUNTY!$A$2:$A$100,MATCH('Access Point (Desc)'!F497,[1]!MASTER_COUNTY_NAME[#Data],0),0))","v":""},{"$f":"IF('Access Point (Desc)'!G497=\"\",\"\",'Access Point (Desc)'!G497)","v":""},{"$f":"IF('Access Point (Desc)'!H497=\"\",\"\",'Access Point (Desc)'!H497)","v":""},{"$f":"IF('Access Point (Desc)'!I497=\"\",\"\",INDEX([1]ROUTE_MH_TYPE!$A$2:$A$100,MATCH('Access Point (Desc)'!$I497,[1]!MASTER_ROUTE_MH_TYPE_DESC[#Data],0),0))","v":""},{"$f":"IF('Access Point (Desc)'!J497=\"\",\"\",INDEX([1]MANHOLE_MTL!$A$2:$A$100,MATCH('Access Point (Desc)'!$J497,[1]!MASTER_MANHOLE_MTL_DESC[#Data],0),0))","v":""},{"$f":"IF('Access Point (Desc)'!K497=\"\",\"\",INDEX([1]MANHOLE_SIZE!$A$2:$A$120,MATCH('Access Point (Desc)'!$K497,[1]!MASTER_MANHOLE_SIZE_DESC[#Data],0),0))","v":""},{"$f":"IF('Access Point (Desc)'!L497=\"\",\"\",INDEX([1]ROUTE_MH_LID_TYPE!$A$2:$A$100,MATCH('Access Point (Desc)'!$L497,[1]!MASTER_ROUTE_MH_LID_TYPE_DESC[#Data],0),0))","v":""},{"$f":"IF('Access Point (Desc)'!M497=\"\",\"\",INDEX([1]MANHOLE_MTL!$A$2:$A$100,MATCH('Access Point (Desc)'!$M497,[1]!MASTER_MANHOLE_MTL_DESC[#Data],0),0))","v":""},{"$f":"IF('Access Point (Desc)'!N497=\"\",\"\",INDEX([1]LID_BOLT_TYPE!$A$2:$A$100,MATCH('Access Point (Desc)'!$N497,[1]!MASTER_LID_BOLT_TYPE_DESC[#Data],0),0))","v":""},{"$f":"IF('Access Point (Desc)'!O497=\"\",\"\",INDEX([1]YES_NO!$A$2:$A$100,MATCH('Access Point (Desc)'!$O497,[1]!MASTER_YES_NO_DESC[#Data],0),0))","v":""},{"$f":"IF('Access Point (Desc)'!P497=\"\",\"\",'Access Point (Desc)'!P497)","v":""},{"$f":"IF('Access Point (Desc)'!Q497=\"\",\"\",INDEX([1]YES_NO!$A$2:$A$100,MATCH('Access Point (Desc)'!$Q497,[1]!MASTER_YES_NO_DESC[#Data],0),0))","v":""}]
[{"$f":"IF('Access Point (Desc)'!A498=\"\",\"\",'Access Point (Desc)'!A498)","v":""},{"$f":"IF('Access Point (Desc)'!B498=\"\",\"\",'Access Point (Desc)'!B498)","v":""},{"$f":"IF('Access Point (Desc)'!C498=\"\",\"\",'Access Point (Desc)'!C498)","v":""},{"$f":"IF('Access Point (Desc)'!D498=\"\",\"\",'Access Point (Desc)'!D498)","v":""},{"$f":"IF('Access Point (Desc)'!E498=\"\",\"\",INDEX([1]OWNER!$A$2:$A$100,MATCH('Access Point (Desc)'!$E498,[1]!MASTER_OWNER_DESC[#Data],0),0))","v":""},{"$f":"IF('Access Point (Desc)'!F498=\"\",\"\",INDEX([1]COUNTY!$A$2:$A$100,MATCH('Access Point (Desc)'!F498,[1]!MASTER_COUNTY_NAME[#Data],0),0))","v":""},{"$f":"IF('Access Point (Desc)'!G498=\"\",\"\",'Access Point (Desc)'!G498)","v":""},{"$f":"IF('Access Point (Desc)'!H498=\"\",\"\",'Access Point (Desc)'!H498)","v":""},{"$f":"IF('Access Point (Desc)'!I498=\"\",\"\",INDEX([1]ROUTE_MH_TYPE!$A$2:$A$100,MATCH('Access Point (Desc)'!$I498,[1]!MASTER_ROUTE_MH_TYPE_DESC[#Data],0),0))","v":""},{"$f":"IF('Access Point (Desc)'!J498=\"\",\"\",INDEX([1]MANHOLE_MTL!$A$2:$A$100,MATCH('Access Point (Desc)'!$J498,[1]!MASTER_MANHOLE_MTL_DESC[#Data],0),0))","v":""},{"$f":"IF('Access Point (Desc)'!K498=\"\",\"\",INDEX([1]MANHOLE_SIZE!$A$2:$A$120,MATCH('Access Point (Desc)'!$K498,[1]!MASTER_MANHOLE_SIZE_DESC[#Data],0),0))","v":""},{"$f":"IF('Access Point (Desc)'!L498=\"\",\"\",INDEX([1]ROUTE_MH_LID_TYPE!$A$2:$A$100,MATCH('Access Point (Desc)'!$L498,[1]!MASTER_ROUTE_MH_LID_TYPE_DESC[#Data],0),0))","v":""},{"$f":"IF('Access Point (Desc)'!M498=\"\",\"\",INDEX([1]MANHOLE_MTL!$A$2:$A$100,MATCH('Access Point (Desc)'!$M498,[1]!MASTER_MANHOLE_MTL_DESC[#Data],0),0))","v":""},{"$f":"IF('Access Point (Desc)'!N498=\"\",\"\",INDEX([1]LID_BOLT_TYPE!$A$2:$A$100,MATCH('Access Point (Desc)'!$N498,[1]!MASTER_LID_BOLT_TYPE_DESC[#Data],0),0))","v":""},{"$f":"IF('Access Point (Desc)'!O498=\"\",\"\",INDEX([1]YES_NO!$A$2:$A$100,MATCH('Access Point (Desc)'!$O498,[1]!MASTER_YES_NO_DESC[#Data],0),0))","v":""},{"$f":"IF('Access Point (Desc)'!P498=\"\",\"\",'Access Point (Desc)'!P498)","v":""},{"$f":"IF('Access Point (Desc)'!Q498=\"\",\"\",INDEX([1]YES_NO!$A$2:$A$100,MATCH('Access Point (Desc)'!$Q498,[1]!MASTER_YES_NO_DESC[#Data],0),0))","v":""}]
[{"$f":"IF('Access Point (Desc)'!A499=\"\",\"\",'Access Point (Desc)'!A499)","v":""},{"$f":"IF('Access Point (Desc)'!B499=\"\",\"\",'Access Point (Desc)'!B499)","v":""},{"$f":"IF('Access Point (Desc)'!C499=\"\",\"\",'Access Point (Desc)'!C499)","v":""},{"$f":"IF('Access Point (Desc)'!D499=\"\",\"\",'Access Point (Desc)'!D499)","v":""},{"$f":"IF('Access Point (Desc)'!E499=\"\",\"\",INDEX([1]OWNER!$A$2:$A$100,MATCH('Access Point (Desc)'!$E499,[1]!MASTER_OWNER_DESC[#Data],0),0))","v":""},{"$f":"IF('Access Point (Desc)'!F499=\"\",\"\",INDEX([1]COUNTY!$A$2:$A$100,MATCH('Access Point (Desc)'!F499,[1]!MASTER_COUNTY_NAME[#Data],0),0))","v":""},{"$f":"IF('Access Point (Desc)'!G499=\"\",\"\",'Access Point (Desc)'!G499)","v":""},{"$f":"IF('Access Point (Desc)'!H499=\"\",\"\",'Access Point (Desc)'!H499)","v":""},{"$f":"IF('Access Point (Desc)'!I499=\"\",\"\",INDEX([1]ROUTE_MH_TYPE!$A$2:$A$100,MATCH('Access Point (Desc)'!$I499,[1]!MASTER_ROUTE_MH_TYPE_DESC[#Data],0),0))","v":""},{"$f":"IF('Access Point (Desc)'!J499=\"\",\"\",INDEX([1]MANHOLE_MTL!$A$2:$A$100,MATCH('Access Point (Desc)'!$J499,[1]!MASTER_MANHOLE_MTL_DESC[#Data],0),0))","v":""},{"$f":"IF('Access Point (Desc)'!K499=\"\",\"\",INDEX([1]MANHOLE_SIZE!$A$2:$A$120,MATCH('Access Point (Desc)'!$K499,[1]!MASTER_MANHOLE_SIZE_DESC[#Data],0),0))","v":""},{"$f":"IF('Access Point (Desc)'!L499=\"\",\"\",INDEX([1]ROUTE_MH_LID_TYPE!$A$2:$A$100,MATCH('Access Point (Desc)'!$L499,[1]!MASTER_ROUTE_MH_LID_TYPE_DESC[#Data],0),0))","v":""},{"$f":"IF('Access Point (Desc)'!M499=\"\",\"\",INDEX([1]MANHOLE_MTL!$A$2:$A$100,MATCH('Access Point (Desc)'!$M499,[1]!MASTER_MANHOLE_MTL_DESC[#Data],0),0))","v":""},{"$f":"IF('Access Point (Desc)'!N499=\"\",\"\",INDEX([1]LID_BOLT_TYPE!$A$2:$A$100,MATCH('Access Point (Desc)'!$N499,[1]!MASTER_LID_BOLT_TYPE_DESC[#Data],0),0))","v":""},{"$f":"IF('Access Point (Desc)'!O499=\"\",\"\",INDEX([1]YES_NO!$A$2:$A$100,MATCH('Access Point (Desc)'!$O499,[1]!MASTER_YES_NO_DESC[#Data],0),0))","v":""},{"$f":"IF('Access Point (Desc)'!P499=\"\",\"\",'Access Point (Desc)'!P499)","v":""},{"$f":"IF('Access Point (Desc)'!Q499=\"\",\"\",INDEX([1]YES_NO!$A$2:$A$100,MATCH('Access Point (Desc)'!$Q499,[1]!MASTER_YES_NO_DESC[#Data],0),0))","v":""}]
[{"$f":"IF('Access Point (Desc)'!A500=\"\",\"\",'Access Point (Desc)'!A500)","v":""},{"$f":"IF('Access Point (Desc)'!B500=\"\",\"\",'Access Point (Desc)'!B500)","v":""},{"$f":"IF('Access Point (Desc)'!C500=\"\",\"\",'Access Point (Desc)'!C500)","v":""},{"$f":"IF('Access Point (Desc)'!D500=\"\",\"\",'Access Point (Desc)'!D500)","v":""},{"$f":"IF('Access Point (Desc)'!E500=\"\",\"\",INDEX([1]OWNER!$A$2:$A$100,MATCH('Access Point (Desc)'!$E500,[1]!MASTER_OWNER_DESC[#Data],0),0))","v":""},{"$f":"IF('Access Point (Desc)'!F500=\"\",\"\",INDEX([1]COUNTY!$A$2:$A$100,MATCH('Access Point (Desc)'!F500,[1]!MASTER_COUNTY_NAME[#Data],0),0))","v":""},{"$f":"IF('Access Point (Desc)'!G500=\"\",\"\",'Access Point (Desc)'!G500)","v":""},{"$f":"IF('Access Point (Desc)'!H500=\"\",\"\",'Access Point (Desc)'!H500)","v":""},{"$f":"IF('Access Point (Desc)'!I500=\"\",\"\",INDEX([1]ROUTE_MH_TYPE!$A$2:$A$100,MATCH('Access Point (Desc)'!$I500,[1]!MASTER_ROUTE_MH_TYPE_DESC[#Data],0),0))","v":""},{"$f":"IF('Access Point (Desc)'!J500=\"\",\"\",INDEX([1]MANHOLE_MTL!$A$2:$A$100,MATCH('Access Point (Desc)'!$J500,[1]!MASTER_MANHOLE_MTL_DESC[#Data],0),0))","v":""},{"$f":"IF('Access Point (Desc)'!K500=\"\",\"\",INDEX([1]MANHOLE_SIZE!$A$2:$A$120,MATCH('Access Point (Desc)'!$K500,[1]!MASTER_MANHOLE_SIZE_DESC[#Data],0),0))","v":""},{"$f":"IF('Access Point (Desc)'!L500=\"\",\"\",INDEX([1]ROUTE_MH_LID_TYPE!$A$2:$A$100,MATCH('Access Point (Desc)'!$L500,[1]!MASTER_ROUTE_MH_LID_TYPE_DESC[#Data],0),0))","v":""},{"$f":"IF('Access Point (Desc)'!M500=\"\",\"\",INDEX([1]MANHOLE_MTL!$A$2:$A$100,MATCH('Access Point (Desc)'!$M500,[1]!MASTER_MANHOLE_MTL_DESC[#Data],0),0))","v":""},{"$f":"IF('Access Point (Desc)'!N500=\"\",\"\",INDEX([1]LID_BOLT_TYPE!$A$2:$A$100,MATCH('Access Point (Desc)'!$N500,[1]!MASTER_LID_BOLT_TYPE_DESC[#Data],0),0))","v":""},{"$f":"IF('Access Point (Desc)'!O500=\"\",\"\",INDEX([1]YES_NO!$A$2:$A$100,MATCH('Access Point (Desc)'!$O500,[1]!MASTER_YES_NO_DESC[#Data],0),0))","v":""},{"$f":"IF('Access Point (Desc)'!P500=\"\",\"\",'Access Point (Desc)'!P500)","v":""},{"$f":"IF('Access Point (Desc)'!Q500=\"\",\"\",INDEX([1]YES_NO!$A$2:$A$100,MATCH('Access Point (Desc)'!$Q500,[1]!MASTER_YES_NO_DESC[#Data],0),0))","v":""}]
[{"$f":"IF('Access Point (Desc)'!A501=\"\",\"\",'Access Point (Desc)'!A501)","v":""},{"$f":"IF('Access Point (Desc)'!B501=\"\",\"\",'Access Point (Desc)'!B501)","v":""},{"$f":"IF('Access Point (Desc)'!C501=\"\",\"\",'Access Point (Desc)'!C501)","v":""},{"$f":"IF('Access Point (Desc)'!D501=\"\",\"\",'Access Point (Desc)'!D501)","v":""},{"$f":"IF('Access Point (Desc)'!E501=\"\",\"\",INDEX([1]OWNER!$A$2:$A$100,MATCH('Access Point (Desc)'!$E501,[1]!MASTER_OWNER_DESC[#Data],0),0))","v":""},{"$f":"IF('Access Point (Desc)'!F501=\"\",\"\",INDEX([1]COUNTY!$A$2:$A$100,MATCH('Access Point (Desc)'!F501,[1]!MASTER_COUNTY_NAME[#Data],0),0))","v":""},{"$f":"IF('Access Point (Desc)'!G501=\"\",\"\",'Access Point (Desc)'!G501)","v":""},{"$f":"IF('Access Point (Desc)'!H501=\"\",\"\",'Access Point (Desc)'!H501)","v":""},{"$f":"IF('Access Point (Desc)'!I501=\"\",\"\",INDEX([1]ROUTE_MH_TYPE!$A$2:$A$100,MATCH('Access Point (Desc)'!$I501,[1]!MASTER_ROUTE_MH_TYPE_DESC[#Data],0),0))","v":""},{"$f":"IF('Access Point (Desc)'!J501=\"\",\"\",INDEX([1]MANHOLE_MTL!$A$2:$A$100,MATCH('Access Point (Desc)'!$J501,[1]!MASTER_MANHOLE_MTL_DESC[#Data],0),0))","v":""},{"$f":"IF('Access Point (Desc)'!K501=\"\",\"\",INDEX([1]MANHOLE_SIZE!$A$2:$A$120,MATCH('Access Point (Desc)'!$K501,[1]!MASTER_MANHOLE_SIZE_DESC[#Data],0),0))","v":""},{"$f":"IF('Access Point (Desc)'!L501=\"\",\"\",INDEX([1]ROUTE_MH_LID_TYPE!$A$2:$A$100,MATCH('Access Point (Desc)'!$L501,[1]!MASTER_ROUTE_MH_LID_TYPE_DESC[#Data],0),0))","v":""},{"$f":"IF('Access Point (Desc)'!M501=\"\",\"\",INDEX([1]MANHOLE_MTL!$A$2:$A$100,MATCH('Access Point (Desc)'!$M501,[1]!MASTER_MANHOLE_MTL_DESC[#Data],0),0))","v":""},{"$f":"IF('Access Point (Desc)'!N501=\"\",\"\",INDEX([1]LID_BOLT_TYPE!$A$2:$A$100,MATCH('Access Point (Desc)'!$N501,[1]!MASTER_LID_BOLT_TYPE_DESC[#Data],0),0))","v":""},{"$f":"IF('Access Point (Desc)'!O501=\"\",\"\",INDEX([1]YES_NO!$A$2:$A$100,MATCH('Access Point (Desc)'!$O501,[1]!MASTER_YES_NO_DESC[#Data],0),0))","v":""},{"$f":"IF('Access Point (Desc)'!P501=\"\",\"\",'Access Point (Desc)'!P501)","v":""},{"$f":"IF('Access Point (Desc)'!Q501=\"\",\"\",INDEX([1]YES_NO!$A$2:$A$100,MATCH('Access Point (Desc)'!$Q501,[1]!MASTER_YES_NO_DESC[#Data],0),0))","v":""}]
[{"$f":"IF('Access Point (Desc)'!A502=\"\",\"\",'Access Point (Desc)'!A502)","v":""},{"$f":"IF('Access Point (Desc)'!B502=\"\",\"\",'Access Point (Desc)'!B502)","v":""},{"$f":"IF('Access Point (Desc)'!C502=\"\",\"\",'Access Point (Desc)'!C502)","v":""},{"$f":"IF('Access Point (Desc)'!D502=\"\",\"\",'Access Point (Desc)'!D502)","v":""},{"$f":"IF('Access Point (Desc)'!E502=\"\",\"\",INDEX([1]OWNER!$A$2:$A$100,MATCH('Access Point (Desc)'!$E502,[1]!MASTER_OWNER_DESC[#Data],0),0))","v":""},{"$f":"IF('Access Point (Desc)'!F502=\"\",\"\",INDEX([1]COUNTY!$A$2:$A$100,MATCH('Access Point (Desc)'!F502,[1]!MASTER_COUNTY_NAME[#Data],0),0))","v":""},{"$f":"IF('Access Point (Desc)'!G502=\"\",\"\",'Access Point (Desc)'!G502)","v":""},{"$f":"IF('Access Point (Desc)'!H502=\"\",\"\",'Access Point (Desc)'!H502)","v":""},{"$f":"IF('Access Point (Desc)'!I502=\"\",\"\",INDEX([1]ROUTE_MH_TYPE!$A$2:$A$100,MATCH('Access Point (Desc)'!$I502,[1]!MASTER_ROUTE_MH_TYPE_DESC[#Data],0),0))","v":""},{"$f":"IF('Access Point (Desc)'!J502=\"\",\"\",INDEX([1]MANHOLE_MTL!$A$2:$A$100,MATCH('Access Point (Desc)'!$J502,[1]!MASTER_MANHOLE_MTL_DESC[#Data],0),0))","v":""},{"$f":"IF('Access Point (Desc)'!K502=\"\",\"\",INDEX([1]MANHOLE_SIZE!$A$2:$A$120,MATCH('Access Point (Desc)'!$K502,[1]!MASTER_MANHOLE_SIZE_DESC[#Data],0),0))","v":""},{"$f":"IF('Access Point (Desc)'!L502=\"\",\"\",INDEX([1]ROUTE_MH_LID_TYPE!$A$2:$A$100,MATCH('Access Point (Desc)'!$L502,[1]!MASTER_ROUTE_MH_LID_TYPE_DESC[#Data],0),0))","v":""},{"$f":"IF('Access Point (Desc)'!M502=\"\",\"\",INDEX([1]MANHOLE_MTL!$A$2:$A$100,MATCH('Access Point (Desc)'!$M502,[1]!MASTER_MANHOLE_MTL_DESC[#Data],0),0))","v":""},{"$f":"IF('Access Point (Desc)'!N502=\"\",\"\",INDEX([1]LID_BOLT_TYPE!$A$2:$A$100,MATCH('Access Point (Desc)'!$N502,[1]!MASTER_LID_BOLT_TYPE_DESC[#Data],0),0))","v":""},{"$f":"IF('Access Point (Desc)'!O502=\"\",\"\",INDEX([1]YES_NO!$A$2:$A$100,MATCH('Access Point (Desc)'!$O502,[1]!MASTER_YES_NO_DESC[#Data],0),0))","v":""},{"$f":"IF('Access Point (Desc)'!P502=\"\",\"\",'Access Point (Desc)'!P502)","v":""},{"$f":"IF('Access Point (Desc)'!Q502=\"\",\"\",INDEX([1]YES_NO!$A$2:$A$100,MATCH('Access Point (Desc)'!$Q502,[1]!MASTER_YES_NO_DESC[#Data],0),0))","v":""}]