{"text_format":"1","workbook":"xlsx","n_sheets":2,"sheets":["32% Range","Data"],"not_rendered":{"charts":1,"images":0,"macros":1,"external_links":0,"defined_names":1,"comments":0,"pivot_tables":0},"unopened":[],"bounds":{"document_bytes":16777216,"sheet_cells":100000,"rows_first":2000,"rows_last":500,"rows_between":2000,"halvings":0,"cell_chars":16384,"cell_head_chars":4096},"cells_cut":0,"cells_raw":0,"read":"whole","date_system":"1900"}

{"sheet":"32% Range","index":0,"n_rows":10,"n_cols":2,"rows_kept":10,"cut":false,"hidden":false,"merged":[[0,0,1,1],[2,0,2,1],[5,0,5,1]]}
["Please enter your specific information below"]
[]
[]
["Mean"]
["Standard Deviation"]
[]
["Lower Limit",3]
["Upper Limit",35]
[]
[{"$f":"IF(B8-B7=32,\"In 32% Range\",\"Out-of 32% Range\")","v":"In 32% Range"}]

{"sheet":"Data","index":1,"n_rows":327,"n_cols":26,"rows_kept":327,"cut":false,"hidden":true,"merged":[[4,0,4,7],[4,9,4,16],[4,18,4,25]]}
["Z = 3.5 for 100% compliance"]
["Z = 1.645 for 95% compliance"]
["Z = 1.281 for 90% compliance"]
[]
[1,null,null,null,null,null,null,null,null,0.95,null,null,null,null,null,null,null,null,0.9]
["Mean","Std Dev","ZUpper","ZLower","% ComplianceUpper","% ComplianceLower","∑Compliance","Smooth Values",null,"Mean","Std Dev","ZUpper","ZLower","% ComplianceUpper","% ComplianceLower","∑Compliance","Smooth Values",null,"Mean","Std Dev","ZUpper","ZLower","% ComplianceUpper","% ComplianceLower","∑Compliance","Smooth Values"]
[{"$f":"'32% Range'!$B$7+0.05","v":3.05},1.5899213620450728E-2,{"$f":"('32% Range'!$B$8-Data!A7)/Data!B7","v":2009.5333494295328},{"$f":"(A7-'32% Range'!$B$7)/Data!B7","v":3.1448096235203846},{"$f":"NORMSDIST(C7)-0.5","v":0.5},{"$f":"NORMSDIST(D7)-0.5","v":0.49916902528932383},{"$f":"E7+F7","v":0.99916902528932383},1.5899213620450728E-2,null,{"$f":"'32% Range'!$B$7+0.05","v":3.05},3.0344794195102033E-2,{"$f":"('32% Range'!$B$8-Data!J7)/Data!K7","v":1052.8988858707455},{"$f":"(J7-'32% Range'!$B$7)/Data!K7","v":1.6477290858697056},{"$f":"NORMSDIST(L7)-0.5","v":0.5},{"$f":"NORMSDIST(M7)-0.5","v":0.4502958616673739},{"$f":"N7+O7","v":0.9502958616673739},3.0344794195102033E-2,null,{"$f":"'32% Range'!$B$7+0.05","v":3.05},3.9097910278621098E-2,{"$f":"('32% Range'!$B$8-Data!S7)/Data!T7","v":817.17922447303772},{"$f":"(S7-'32% Range'!$B$7)/Data!T7","v":1.2788407268748589},{"$f":"NORMSDIST(U7)-0.5","v":0.5},{"$f":"NORMSDIST(V7)-0.5","v":0.39952342556909493},{"$f":"W7+X7","v":0.89952342556909493},3.9097910278621098E-2]
[{"$f":"'32% Range'!$B$7+0.1","v":3.1},3.1798316656964545E-2,{"$f":"('32% Range'!$B$8-Data!A8)/Data!B8","v":1003.1977586779954},{"$f":"(A8-'32% Range'!$B$7)/Data!B8","v":3.1448205601191108},{"$f":"NORMSDIST(C8)-0.5","v":0.5},{"$f":"NORMSDIST(D8)-0.5","v":0.49916905635180231},{"$f":"E8+F8","v":0.99916905635180231},3.1798316656964545E-2,null,{"$f":"'32% Range'!$B$7+0.1","v":3.1},6.0688476176049375E-2,{"$f":"('32% Range'!$B$8-Data!J8)/Data!K8","v":525.6352113284612},{"$f":"(J8-'32% Range'!$B$7)/Data!K8","v":1.6477592831613221},{"$f":"NORMSDIST(L8)-0.5","v":0.5},{"$f":"NORMSDIST(M8)-0.5","v":0.45029896129894642},{"$f":"N8+O8","v":0.95029896129894642},6.0688476176049375E-2,null,{"$f":"'32% Range'!$B$7+0.1","v":3.1},7.8183915379149996E-2,{"$f":"('32% Range'!$B$8-Data!S8)/Data!T8","v":408.01231103996435},{"$f":"(S8-'32% Range'!$B$7)/Data!T8","v":1.2790354578055321},{"$f":"NORMSDIST(U8)-0.5","v":0.5},{"$f":"NORMSDIST(V8)-0.5","v":0.39955771505962845},{"$f":"W8+X8","v":0.89955771505962845},7.8183915379149996E-2]
[{"$f":"A8+0.1","v":3.2},6.3596691567920971E-2,{"$f":"('32% Range'!$B$8-Data!A9)/Data!B9","v":500.02601103923382},{"$f":"(A9-'32% Range'!$B$7)/Data!B9","v":3.1448176794920393},0.5,0.49916904817025665,0.99916904817025665,6.3596691567920971E-2,null,{"$f":"A8+0.1","v":3.2},0.12137753823455054,{"$f":"('32% Range'!$B$8-Data!J9)/Data!K9","v":261.99246139388271},{"$f":"(J9-'32% Range'!$B$7)/Data!K9","v":1.6477513295212762},0.5,0.45029814490447229,0.95029814490447229,0.12137753823455054,null,{"$f":"S8+0.1","v":3.2},0.15636793767397289,{"$f":"('32% Range'!$B$8-Data!S9)/Data!T9","v":203.36649874031716},{"$f":"(S9-'32% Range'!$B$7)/Data!T9","v":1.2790345832724361},0.5,0.39955756108523466,0.89955756108523466,0.15636793767397289]
[{"$f":"A9+0.1","v":3.3000000000000003},9.539502552019552E-2,{"$f":"('32% Range'!$B$8-Data!A10)/Data!B10","v":332.30244268123789},{"$f":"(A10-'32% Range'!$B$7)/Data!B10","v":3.1448180695385322},0.5,0.49916904927806949,0.99916904927806949,9.539502552019552E-2,null,{"$f":"A9+0.1","v":3.3000000000000003},0.18206618835510782,{"$f":"('32% Range'!$B$8-Data!J10)/Data!K10","v":174.11250428427317},{"$f":"(J10-'32% Range'!$B$7)/Data!K10","v":1.6477524064757729},0.5,0.45029825544815749,0.95029825544815749,0.18206618835510782,null,{"$f":"S9+0.1","v":3.3000000000000003},0.23455190877876761,{"$f":"('32% Range'!$B$8-Data!S10)/Data!T10","v":135.15131965905189},{"$f":"(S10-'32% Range'!$B$7)/Data!T10","v":1.279034570905855},0.5,0.39955755890791522,0.89955755890791522,0.23455190877876761]
[3.4000000000000004,0.127193371888804,{"$f":"('32% Range'!$B$8-Data!A11)/Data!B11","v":248.44061864816041},{"$f":"(A11-'32% Range'!$B$7)/Data!B11","v":3.1448179575716533},0.5,0.49916904896006042,0.99916904896006042,0.127193371888804,null,3.4000000000000004,0.24275496335242097,{"$f":"('32% Range'!$B$8-Data!J11)/Data!K11","v":130.17241568867331},{"$f":"(J11-'32% Range'!$B$7)/Data!K11","v":1.6477520973249802},0.5,0.45029822371548311,0.95029822371548311,0.24275496335242097,null,3.4000000000000004,0.31273587750336479,{"$f":"('32% Range'!$B$8-Data!S11)/Data!T11","v":101.04373138211496},{"$f":"(S11-'32% Range'!$B$7)/Data!T11","v":1.2790345744571525},0.5,0.39955755953317373,0.89955755953317373,0.31273587750336479]
[3.5000000000000004,0.1589917218694778,{"$f":"('32% Range'!$B$8-Data!A12)/Data!B12","v":198.12352259358207},{"$f":"(A12-'32% Range'!$B$7)/Data!B12","v":3.1448178189457496},0.5,0.49916904856633415,0.99916904856633415,0.1589917218694778,null,3.5000000000000004,0.30344377467795691,{"$f":"('32% Range'!$B$8-Data!J12)/Data!K12","v":103.80835801766163},{"$f":"(J12-'32% Range'!$B$7)/Data!K12","v":1.6477517145660592},0.5,0.45029818442730607,0.95029818442730607,0.30344377467795691,null,3.5000000000000004,0.39091984553582443,{"$f":"('32% Range'!$B$8-Data!S12)/Data!T12","v":80.579178467707891},{"$f":"(S12-'32% Range'!$B$7)/Data!T12","v":1.2790345788525075},0.5,0.39955756030704093,0.89955756030704093,0.39091984553582443]
[3.6000000000000005,0.19079007329131858,{"$f":"('32% Range'!$B$8-Data!A13)/Data!B13","v":164.57879311181529},{"$f":"(A13-'32% Range'!$B$7)/Data!B13","v":3.1448177027735436},0.5,0.49916904823638097,0.99916904823638097,0.19079007329131858,null,3.6000000000000005,0.36413260049804047,{"$f":"('32% Range'!$B$8-Data!J13)/Data!K13","v":86.232322942391903},{"$f":"(J13-'32% Range'!$B$7)/Data!K13","v":1.6477513938036683},0.5,0.45029815150272545,0.95029815150272545,0.36413260049804047,null,3.6000000000000005,0.46910381329251,{"$f":"('32% Range'!$B$8-Data!S13)/Data!T13","v":66.936143152646906},{"$f":"(S13-'32% Range'!$B$7)/Data!T13","v":1.2790345825346556},0.5,0.39955756095533745,0.89955756095533745,0.46910381329251]
[3.7000000000000006,0.22258842541132612,{"$f":"('32% Range'!$B$8-Data!A14)/Data!B14","v":140.61827312970129},{"$f":"(A14-'32% Range'!$B$7)/Data!B14","v":3.1448176099294245},0.5,0.49916904797268424,0.99916904797268424,0.22258842541132612,null,3.7000000000000006,0.42482143333995021,{"$f":"('32% Range'!$B$8-Data!J14)/Data!K14","v":73.678015146079375},{"$f":"(J14-'32% Range'!$B$7)/Data!K14","v":1.6477511374522558},0.5,0.45029812518958223,0.95029812518958223,0.42482143333995021,null,3.7000000000000006,0.54728778091577635,{"$f":"('32% Range'!$B$8-Data!S14)/Data!T14","v":57.191117893452194},{"$f":"(S14-'32% Range'!$B$7)/Data!T14","v":1.2790345854765677},0.5,0.39955756147330468,0.89955756147330468,0.54728778091577635]
[3.8000000000000007,0.25438677791587877,{"$f":"('32% Range'!$B$8-Data!A15)/Data!B15","v":122.6478838861558},{"$f":"(A15-'32% Range'!$B$7)/Data!B15","v":3.144817535542459},0.5,0.49916904776140958,0.99916904776140958,0.25438677791587877,null,3.8000000000000007,0.48551027004945879,{"$f":"('32% Range'!$B$8-Data!J15)/Data!K15","v":64.262286350444583},{"$f":"(J15-'32% Range'!$B$7)/Data!K15","v":1.6477509320626831},0.5,0.45029810410739957,0.95029810410739957,0.48551027004945879,null,3.8000000000000007,0.62547174846564113,{"$f":"('32% Range'!$B$8-Data!S15)/Data!T15","v":49.882348925490916},{"$f":"(S15-'32% Range'!$B$7)/Data!T15","v":1.2790345878331015},0.5,0.39955756188820724,0.89955756188820724,0.62547174846564113]
[3.9000000000000008,0.28618513065235679,{"$f":"('32% Range'!$B$8-Data!A16)/Data!B16","v":108.67091497419096},{"$f":"(A16-'32% Range'!$B$7)/Data!B16","v":3.1448174751373621},0.5,0.49916904758984648,0.99916904758984648,0.28599999999999998,null,3.9000000000000008,0.54619910909157532,{"$f":"('32% Range'!$B$8-Data!J16)/Data!K16","v":56.93894311128544},{"$f":"(J16-'32% Range'!$B$7)/Data!K16","v":1.6477507652783585},0.5,0.45029808698784168,0.95029808698784168,0.54619910909157532,null,3.9000000000000008,0.70365571597128229,{"$f":"('32% Range'!$B$8-Data!S16)/Data!T16","v":44.197750823457042},{"$f":"(S16-'32% Range'!$B$7)/Data!T16","v":1.2790345897463467},0.5,0.39955756222506233,0.89955756222506233,0.70365571597128229]
[4.0000000000000009,0.31798348353846284,{"$f":"('32% Range'!$B$8-Data!A17)/Data!B17","v":97.489340185337909},{"$f":"(A17-'32% Range'!$B$7)/Data!B17","v":3.1448174253334837},0.5,0.49916904744839286,0.99916904744839286,0.318,null,4.0000000000000009,0.60688794963860293,{"$f":"('32% Range'!$B$8-Data!J17)/Data!K17","v":51.080269460713893},{"$f":"(J17-'32% Range'!$B$7)/Data!K17","v":1.6477506277649658},0.5,0.45029807287279167,0.95029807287279167,0.60688794963860293,null,4.0000000000000009,0.78183968344841737,{"$f":"('32% Range'!$B$8-Data!S17)/Data!T17","v":39.650072331030835},{"$f":"(S17-'32% Range'!$B$7)/Data!T17","v":1.2790345913235766},0.5,0.39955756250275698,0.89955756250275698,0.78183968344841737]
[4.1000000000000005,0.34978183652625466,{"$f":"('32% Range'!$B$8-Data!A18)/Data!B18","v":88.340779232201896},{"$f":"(A18-'32% Range'!$B$7)/Data!B18","v":3.1448173836706195},0.5,0.49916904733006151,0.99916904733006151,0.35,null,4.1000000000000005,0.66757679120831537,{"$f":"('32% Range'!$B$8-Data!J18)/Data!K18","v":46.286809857590967},{"$f":"(J18-'32% Range'!$B$7)/Data!K18","v":1.6477505127297765},0.5,0.45029806106501247,0.95029806106501247,0.66800000000000004,null,4.1000000000000005,0.86002365090619393,{"$f":"('32% Range'!$B$8-Data!S18)/Data!T18","v":35.929244466057575},{"$f":"(S18-'32% Range'!$B$7)/Data!T18","v":1.2790345926428268},0.5,0.39955756273503051,0.89955756273503051,0.86]
[4.2,0.38158018958605217,{"$f":"('32% Range'!$B$8-Data!A19)/Data!B19","v":80.716978607858593},{"$f":"(A19-'32% Range'!$B$7)/Data!B19","v":3.1448173483581274},0.5,0.49916904722976663,0.99916904722976663,0.38200000000000001,null,4.2,0.72826563350225659,{"$f":"('32% Range'!$B$8-Data!J19)/Data!K19","v":42.292260657531855},{"$f":"(J19-'32% Range'!$B$7)/Data!K19","v":1.6477504152285141},0.5,0.45029805105700016,0.95029805105700016,0.72799999999999998,null,4.2,0.93820761835027522,{"$f":"('32% Range'!$B$8-Data!S19)/Data!T19","v":32.828554573195731},{"$f":"(S19-'32% Range'!$B$7)/Data!T19","v":1.2790345937608727},0.5,0.39955756293187905,0.89955756293187905,0.93799999999999994]
[4.3,0.41337854269857544,{"$f":"('32% Range'!$B$8-Data!A20)/Data!B20","v":74.266070511515679},{"$f":"(A20-'32% Range'!$B$7)/Data!B20","v":3.144817318077211},0.5,0.49916904714376242,0.99916904714376242,0.41299999999999998,null,4.3,0.78895447632652815,{"$f":"('32% Range'!$B$8-Data!J20)/Data!K20","v":38.912257831330244},{"$f":"(J20-'32% Range'!$B$7)/Data!K20","v":1.6477503316198474},0.5,0.4502980424749915,0.9502980424749915,0.78900000000000003,null,4.3,1.0163915857843289,{"$f":"('32% Range'!$B$8-Data!S20)/Data!T20","v":30.204893890684296},{"$f":"(S20-'32% Range'!$B$7)/Data!T20","v":1.2790345947195303},0.5,0.39955756310066481,0.89955756310066481,1.016]
[4.3999999999999995,0.44517689585079917,{"$f":"('32% Range'!$B$8-Data!A21)/Data!B21","v":68.736720807396921},{"$f":"(A21-'32% Range'!$B$7)/Data!B21","v":3.1448172918416879},0.5,0.49916904706924792,0.99916904706924792,0.44500000000000001,null,4.3999999999999995,0.84964331955005101,{"$f":"('32% Range'!$B$8-Data!J21)/Data!K21","v":36.015112807813239},{"$f":"(J21-'32% Range'!$B$7)/Data!K21","v":1.6477502591809974},0.5,0.45029803503950727,0.95029803503950727,0.85,null,4.3999999999999995,1.0945755532108412,{"$f":"('32% Range'!$B$8-Data!S21)/Data!T21","v":27.956041874165368},{"$f":"(S21-'32% Range'!$B$7)/Data!T21","v":1.2790345955500491},0.5,0.39955756324688996,0.89955756324688996,1.095]
[4.4999999999999991,0.47697524903361005,{"$f":"('32% Range'!$B$8-Data!A22)/Data!B22","v":63.944617801018893},{"$f":"(A22-'32% Range'!$B$7)/Data!B22","v":3.1448172689025666},0.5,0.49916904700409592,0.99916904700409592,0.47699999999999998,null,4.4999999999999991,0.910332163081227,{"$f":"('32% Range'!$B$8-Data!J22)/Data!K22","v":33.504253982157223},{"$f":"(J22-'32% Range'!$B$7)/Data!K22","v":1.647750195843797},0.5,0.45029802853826095,0.95029802853826095,0.91,null,4.4999999999999991,1.1727595206315446,{"$f":"('32% Range'!$B$8-Data!S22)/Data!T22","v":26.007036790948749},{"$f":"(S22-'32% Range'!$B$7)/Data!T22","v":1.2790345962761671},0.5,0.3995575633747338,0.8995575633747338,1.173]
[4.5999999999999988,0.50877360224046497,{"$f":"('32% Range'!$B$8-Data!A23)/Data!B23","v":59.751527724962138},{"$f":"(A23-'32% Range'!$B$7)/Data!B23","v":3.144817248682215},0.5,0.49916904694666586,0.99916904694666586,0.50900000000000001,null,4.5999999999999988,0.97102100685422221,{"$f":"('32% Range'!$B$8-Data!J23)/Data!K23","v":31.307252660254655},{"$f":"(J23-'32% Range'!$B$7)/Data!K23","v":1.6477501400134016},0.5,0.45029802280754994,0.95029802280754994,0.97099999999999997,null,4.5999999999999988,1.2509434880476831,{"$f":"('32% Range'!$B$8-Data!S23)/Data!T23","v":24.301657341407594},{"$f":"(S23-'32% Range'!$B$7)/Data!T23","v":1.2790345969161883},0.5,0.399557563487419,0.899557563487419,1.2509999999999999]
[4.6999999999999984,0.54057195546654413,{"$f":"('32% Range'!$B$8-Data!A24)/Data!B24","v":56.051742406520866},{"$f":"(A24-'32% Range'!$B$7)/Data!B24","v":3.1448172307288904},0.5,0.49916904689567454,0.99916904689567454,0.54100000000000004,null,4.6999999999999984,1.0317098508205689,{"$f":"('32% Range'!$B$8-Data!J24)/Data!K24","v":29.36872220023967},{"$f":"(J24-'32% Range'!$B$7)/Data!K24","v":1.6477500904424882},0.5,0.45029801771934308,0.95029801771934308,1.032,null,4.6999999999999984,1.3291274554601744,{"$f":"('32% Range'!$B$8-Data!S24)/Data!T24","v":22.796910766928253},{"$f":"(S24-'32% Range'!$B$7)/Data!T24","v":1.2790345974844222},0.5,0.39955756358746486,0.89955756358746486,1.329]
[4.799999999999998,0.5723703087082268,{"$f":"('32% Range'!$B$8-Data!A25)/Data!B25","v":52.763044379709157},{"$f":"(A25-'32% Range'!$B$7)/Data!B25","v":3.144817214684648},0.5,0.49916904685010555,0.99916904685010555,0.57199999999999995,null,4.799999999999998,1.0923986949438449,{"$f":"('32% Range'!$B$8-Data!J25)/Data!K25","v":27.645584107506135},{"$f":"(J25-'32% Range'!$B$7)/Data!K25","v":1.6477500461427479},0.5,0.45029801317219542,0.95029801317219542,1.0920000000000001,null,4.799999999999998,1.4073114228697068,{"$f":"('32% Range'!$B$8-Data!S25)/Data!T25","v":21.459358255202631},{"$f":"(S25-'32% Range'!$B$7)/Data!T25","v":1.2790345979922082},0.5,0.39955756367686812,0.89955756367686812,1.407]
[4.8999999999999977,0.60416866196275099,{"$f":"('32% Range'!$B$8-Data!A26)/Data!B26","v":49.820525119947},{"$f":"(A26-'32% Range'!$B$7)/Data!B26","v":3.1448172002624313},0.5,0.49916904680914331,0.99916904680914331,0.60399999999999998,null,4.8999999999999977,1.1530875391962752,{"$f":"('32% Range'!$B$8-Data!J26)/Data!K26","v":26.103829047515593},{"$f":"(J26-'32% Range'!$B$7)/Data!K26","v":1.6477500063215802},0.5,0.45029800908475071,0.95029800908475071,1.153,null,4.8999999999999977,1.4854953902768018,{"$f":"('32% Range'!$B$8-Data!S26)/Data!T26","v":20.262600743844299},{"$f":"(S26-'32% Range'!$B$7)/Data!T26","v":1.2790345984486418},0.5,0.39955756375723006,0.89955756375723006,1.4850000000000001]
[4.9999999999999973,0.63596701522802834,{"$f":"('32% Range'!$B$8-Data!A27)/Data!B27","v":47.172257808438999},{"$f":"(A27-'32% Range'!$B$7)/Data!B27","v":3.1448171872292621},0.5,0.49916904677212637,0.99916904677212637,0.63600000000000001,null,4.9999999999999973,1.2137763835568864,{"$f":"('32% Range'!$B$8-Data!J27)/Data!K27","v":24.716249555035098},{"$f":"(J27-'32% Range'!$B$7)/Data!K27","v":1.6477499703356708},0.5,0.45029800539097598,0.95029800539097598,1.214,null,4.9999999999999973,1.5636793576818602,{"$f":"('32% Range'!$B$8-Data!S27)/Data!T27","v":19.185518982916498},{"$f":"(S27-'32% Range'!$B$7)/Data!T27","v":1.279034598861098},0.5,0.39955756382984908,0.89955756382984908,1.5640000000000001]
[5.099999999999997,0.66776536850268431,{"$f":"('32% Range'!$B$8-Data!A28)/Data!B28","v":44.776206449645805},{"$f":"(A28-'32% Range'!$B$7)/Data!B28","v":3.1448171753931788},0.5,0.49916904673850937,0.99916904673850937,0.66800000000000004,null,5.099999999999997,1.2744652280118032,{"$f":"('32% Range'!$B$8-Data!J28)/Data!K28","v":23.460820540898343},{"$f":"(J28-'32% Range'!$B$7)/Data!K28","v":1.6477499376550651},0.5,0.45029800203647397,0.95029800203647397,1.274,null,5.099999999999997,1.6418633250851389,{"$f":"('32% Range'!$B$8-Data!S28)/Data!T28","v":18.211016436736315},{"$f":"(S28-'32% Range'!$B$7)/Data!T28","v":1.2790345992356589},0.5,0.399557563895796,0.899557563895796,1.6419999999999999]
[5.1999999999999966,0.69956372178649495,{"$f":"('32% Range'!$B$8-Data!A29)/Data!B29","v":42.597977956745574},{"$f":"(A29-'32% Range'!$B$7)/Data!B29","v":3.1448171645919496},0.5,0.49916904670783158,0.99916904670783158,0.7,null,5.1999999999999966,1.3351540725587936,{"$f":"('32% Range'!$B$8-Data!J29)/Data!K29","v":22.319521478812522},{"$f":"(J29-'32% Range'!$B$7)/Data!K29","v":1.6477499078317941},0.5,0.45029799897526313,0.95029799897526313,1.335,null,5.1999999999999966,1.7200472924866823,{"$f":"('32% Range'!$B$8-Data!S29)/Data!T29","v":17.325105030640159},{"$f":"(S29-'32% Range'!$B$7)/Data!T29","v":1.2790345995774592},0.5,0.39955756395597508,0.89955756395597508,1.72]
[5.2999999999999963,0.73136207508164808,{"$f":"('32% Range'!$B$8-Data!A30)/Data!B30","v":40.609160649578861},{"$f":"(A30-'32% Range'!$B$7)/Data!B30","v":3.1448171546811858},0.5,0.49916904667968287,0.99916904667968287,0.73099999999999998,null,5.2999999999999963,1.3958429172198901,{"$f":"('32% Range'!$B$8-Data!J30)/Data!K30","v":21.277465847771538},{"$f":"(J30-'32% Range'!$B$7)/Data!K30","v":1.6477498804671531},0.5,0.45029799616641819,0.95029799616641819,1.3959999999999999,null,5.2999999999999963,1.7982312598860664,{"$f":"('32% Range'!$B$8-Data!S30)/Data!T30","v":16.51622939859346},{"$f":"(S30-'32% Range'!$B$7)/Data!T30","v":1.2790345998910737},0.5,0.39955756401119147,0.89955756401119147,1.798]
[5.3999999999999959,0.76316042839531284,{"$f":"('32% Range'!$B$8-Data!A31)/Data!B31","v":38.786078128080526},{"$f":"(A31-'32% Range'!$B$7)/Data!B31","v":3.1448171455200367},0.5,0.49916904665366324,0.99916904665366324,0.76300000000000001,null,5.3999999999999959,1.4565317620671407,{"$f":"('32% Range'!$B$8-Data!J31)/Data!K31","v":20.32224821379182},{"$f":"(J31-'32% Range'!$B$7)/Data!K31","v":1.6477498551723067},0.5,0.45029799357002742,0.95029799357002742,1.4570000000000001,null,5.3999999999999959,1.8764152272819223,{"$f":"('32% Range'!$B$8-Data!S31)/Data!T31","v":15.774760068898518},{"$f":"(S31-'32% Range'!$B$7)/Data!T31","v":1.2790346001809585},0.5,0.39955756406222998,0.89955756406222998,1.8759999999999999]
[5.4999999999999956,0.7949587817439373,{"$f":"('32% Range'!$B$8-Data!A32)/Data!B32","v":37.108842216051137},{"$f":"(A32-'32% Range'!$B$7)/Data!B32","v":3.1448171369534803},0.5,0.49916904662933237,0.99916904662933237,0.79500000000000004,null,5.4999999999999956,1.5172206072660213,{"$f":"('32% Range'!$B$8-Data!J32)/Data!K32","v":19.443448011926215},{"$f":"(J32-'32% Range'!$B$7)/Data!K32","v":1.6477498315191674},0.5,0.45029799114214963,0.95029799114214963,1.5169999999999999,null,5.4999999999999956,1.9545991946710961,{"$f":"('32% Range'!$B$8-Data!S32)/Data!T32","v":15.092608285333926},{"$f":"(S32-'32% Range'!$B$7)/Data!T32","v":1.2790346004520252},0.5,0.39955756410995524,0.89955756410995524,1.9550000000000001]
[5.5999999999999952,0.82675713515952842,{"$f":"('32% Range'!$B$8-Data!A33)/Data!B33","v":35.560624456330906},{"$f":"(A33-'32% Range'!$B$7)/Data!B33","v":3.1448171287911624},0.5,0.49916904660614969,0.99916904660614969,0.82699999999999996,null,5.5999999999999952,1.577909453138409,{"$f":"('32% Range'!$B$8-Data!J33)/Data!K33","v":18.632247840029343},{"$f":"(J33-'32% Range'!$B$7)/Data!K33","v":1.6477498089821836},0.5,0.45029798882883965,0.95029798882883965,1.5780000000000001,null,5.5999999999999952,2.0327831620474726,{"$f":"('32% Range'!$B$8-Data!S33)/Data!T33","v":14.462929715724108},{"$f":"(S33-'32% Range'!$B$7)/Data!T33","v":1.2790346007102926},0.5,0.39955756415542709,0.89955756415542709,2.0329999999999999]
[5.6999999999999948,0.85855548869761189,{"$f":"('32% Range'!$B$8-Data!A34)/Data!B34","v":34.127089495923812},{"$f":"(A34-'32% Range'!$B$7)/Data!B34","v":3.1448171207847815},0.5,0.49916904658340988,0.99916904658340988,0.85899999999999999,null,5.6999999999999948,1.6385983002427396,{"$f":"('32% Range'!$B$8-Data!J34)/Data!K34","v":17.881136576096498},{"$f":"(J34-'32% Range'!$B$7)/Data!K34","v":1.6477497868757833},0.5,0.45029798655972675,0.95029798655972675,1.639,null,5.6999999999999948,2.1109671294004286,{"$f":"('32% Range'!$B$8-Data!S34)/Data!T34","v":13.879894003049678},{"$f":"(S34-'32% Range'!$B$7)/Data!T34","v":1.2790346009636195},0.5,0.39955756420002908,0.89955756420002908,2.1110000000000002]
[5.7999999999999945,0.89035384244621263,{"$f":"('32% Range'!$B$8-Data!A35)/Data!B35","v":32.795949888612981},{"$f":"(A35-'32% Range'!$B$7)/Data!B35","v":3.1448171126067175},0.5,0.49916904656018235,0.99916904656018235,0.89,null,5.7999999999999945,1.6992871494643489,{"$f":"('32% Range'!$B$8-Data!J35)/Data!K35","v":17.183676113365809},{"$f":"(J35-'32% Range'!$B$7)/Data!K35","v":1.6477497642953478},0.5,0.45029798424195644,0.95029798424195644,1.6990000000000001,null,5.7999999999999945,2.1891510967131271,{"$f":"('32% Range'!$B$8-Data!S35)/Data!T35","v":13.338503698461917},{"$f":"(S35-'32% Range'!$B$7)/Data!T35","v":1.2790346012223728},0.5,0.39955756424558642,0.89955756424558642,2.1890000000000001]
[5.8999999999999941,0.92215219653482172,{"$f":"('32% Range'!$B$8-Data!A36)/Data!B36","v":31.556613007429029},{"$f":"(A36-'32% Range'!$B$7)/Data!B36","v":3.1448171038331267},0.5,0.49916904653526351,0.99916904653526351,0.92200000000000004,null,5.8999999999999941,1.759976002105611,{"$f":"('32% Range'!$B$8-Data!J36)/Data!K36","v":16.534316357260082},{"$f":"(J36-'32% Range'!$B$7)/Data!K36","v":1.6477497400705885},0.5,0.45029798175540425,0.95029798175540425,1.76,null,5.8999999999999941,2.2673350639608008,{"$f":"('32% Range'!$B$8-Data!S36)/Data!T36","v":12.834450656430683},{"$f":"(S36-'32% Range'!$B$7)/Data!T36","v":1.2790346014999623},0.5,0.3995575642944601,0.8995575642944601,2.2669999999999999]
[5.9999999999999938,0.95395055114217542,{"$f":"('32% Range'!$B$8-Data!A37)/Data!B37","v":30.399898574698646},{"$f":"(A37-'32% Range'!$B$7)/Data!B37","v":3.1448170939343356},0.5,0.49916904650714888,0.99916904650714888,0.95399999999999996,null,5.9999999999999938,1.8206648599641653,{"$f":"('32% Range'!$B$8-Data!J37)/Data!K37","v":15.928247223143963},{"$f":"(J37-'32% Range'!$B$7)/Data!K37","v":1.6477497127390268},0.5,0.45029797894995405,0.95029797894995405,1.821,null,5.9999999999999938,2.3455190311092657,{"$f":"('32% Range'!$B$8-Data!S37)/Data!T37","v":12.364001150860432},{"$f":"(S37-'32% Range'!$B$7)/Data!T37","v":1.2790346018131451},0.5,0.39955756434960055,0.89955756434960055,2.3460000000000001]
[6.0999999999999934,0.98574890650177083,{"$f":"('32% Range'!$B$8-Data!A38)/Data!B38","v":29.31781086378318},{"$f":"(A38-'32% Range'!$B$7)/Data!B38","v":3.1448170822743129},0.5,0.49916904647403182,0.99916904647403182,0.98599999999999999,null,6.0999999999999934,1.8813537253884534,{"$f":"('32% Range'!$B$8-Data!J38)/Data!K38","v":15.361279279914713},{"$f":"(J38-'32% Range'!$B$7)/Data!K38","v":1.6477496805444811},0.5,0.45029797564534235,0.95029797564534235,1.881,null,6.0999999999999934,2.4237029981138685,{"$f":"('32% Range'!$B$8-Data!S38)/Data!T38","v":11.9239032267939},{"$f":"(S38-'32% Range'!$B$7)/Data!T38","v":1.2790346021820416},0.5,0.39955756441455026,0.89955756441455026,2.4239999999999999]
[6.1999999999999931,1.0175472629043534,{"$f":"('32% Range'!$B$8-Data!A39)/Data!B39","v":28.303353613076474},{"$f":"(A39-'32% Range'!$B$7)/Data!B39","v":3.1448170681196008},0.5,0.49916904643382942,0.99916904643382942,1.018,null,6.1999999999999931,1.9420426013025174,{"$f":"('32% Range'!$B$8-Data!J39)/Data!K39","v":14.829746773157297},{"$f":"(J39-'32% Range'!$B$7)/Data!K39","v":1.6477496414619177},0.5,0.45029797163370933,0.95029797163370933,1.9419999999999999,null,6.1999999999999931,2.5018869649190192,{"$f":"('32% Range'!$B$8-Data!S39)/Data!T39","v":11.511311423668657},{"$f":"(S39-'32% Range'!$B$7)/Data!T39","v":1.2790346026298476},0.5,0.39955756449339308,0.89955756449339308,2.5019999999999998]
[6.2999999999999927,1.0493454593828833,{"$f":"('32% Range'!$B$8-Data!A40)/Data!B40","v":27.350382796603881},{"$f":"(A40-'32% Range'!$B$7)/Data!B40","v":3.1448175341042712},0.5,0.49916904775732485,0.99916904775732485,1.0489999999999999,null,6.2999999999999927,2.0027298687804747,{"$f":"('32% Range'!$B$8-Data!J40)/Data!K40","v":14.330439889767231},{"$f":"(J40-'32% Range'!$B$7)/Data!K40","v":1.6477509280916984},0.5,0.45029810369979828,0.95029810369979828,2.0030000000000001,null,6.2999999999999927,2.5800709623288749,{"$f":"('32% Range'!$B$8-Data!S40)/Data!T40","v":11.123725052156798},{"$f":"(S40-'32% Range'!$B$7)/Data!T40","v":1.2790345878786533},0.5,0.39955756189622738,0.89955756189622738,2.58]
[6.3999999999999924,1.0811485232156013,{"$f":"('32% Range'!$B$8-Data!A41)/Data!B41","v":26.453349734906528},{"$f":"(A41-'32% Range'!$B$7)/Data!B41","v":3.1448038146392294},0.5,0.49916900879031889,0.99916900879031889,1.081,null,6.3999999999999924,2.0634660917502496,{"$f":"('32% Range'!$B$8-Data!J41)/Data!K41","v":13.86017444839195},{"$f":"(J41-'32% Range'!$B$7)/Data!K41","v":1.6477130463123255},0.5,0.45029421520804946,0.95029421520804946,2.0630000000000002,null,6.3999999999999924,2.6582544492753666,{"$f":"('32% Range'!$B$8-Data!S41)/Data!T41","v":10.758939953169756},{"$f":"(S41-'32% Range'!$B$7)/Data!T41","v":1.2790348196075902},0.5,0.39955760269552609,0.89955760269552609,2.6579999999999999]
[6.499999999999992,1.1129565855441037,{"$f":"('32% Range'!$B$8-Data!A42)/Data!B42","v":25.607467865484519},{"$f":"(A42-'32% Range'!$B$7)/Data!B42","v":3.1447767554103714},0.5,0.49916893192983336,0.99916893192983336,1.113,null,6.499999999999992,2.1242526022829393,{"$f":"('32% Range'!$B$8-Data!J42)/Data!K42","v":13.416483505479052},{"$f":"(J42-'32% Range'!$B$7)/Data!K42","v":1.6476383252342652},0.5,0.45028654452162353,0.95028654452162353,2.1240000000000001,null,6.499999999999992,2.7364375442438904,{"$f":"('32% Range'!$B$8-Data!S42)/Data!T42","v":10.415001087801143},{"$f":"(S42-'32% Range'!$B$7)/Data!T42","v":1.2790352213089091},0.5,0.39955767342094206,0.89955767342094206,2.7360000000000002]
[6.5999999999999917,1.1447435484873776,{"$f":"('32% Range'!$B$8-Data!A43)/Data!B43","v":24.809050059750707},{"$f":"(A43-'32% Range'!$B$7)/Data!B43","v":3.1448091625036021},0.5,0.49916902397990581,0.99916902397990581,1.145,null,6.5999999999999917,2.1848268699340738,{"$f":"('32% Range'!$B$8-Data!J43)/Data!K43","v":12.99874163523857},{"$f":"(J43-'32% Range'!$B$7)/Data!K43","v":1.6477278129175608},0.5,0.45029573100052434,0.95029573100052434,2.1850000000000001,null,6.5999999999999917,2.8146225362055151,{"$f":"('32% Range'!$B$8-Data!S43)/Data!T43","v":10.09016293825565},{"$f":"(S43-'32% Range'!$B$7)/Data!T43","v":1.2790347386521213},0.5,0.39955758844212252,0.89955758844212252,2.8149999999999999]
[6.6999999999999913,1.176541525360953,{"$f":"('32% Range'!$B$8-Data!A44)/Data!B44","v":24.053549653776823},{"$f":"(A44-'32% Range'!$B$7)/Data!B44","v":3.1448103787623327},0.5,0.4991690274344206,0.9991690274344206,1.177,null,6.6999999999999913,2.2455119285297225,{"$f":"('32% Range'!$B$8-Data!J44)/Data!K44","v":12.60291679614002},{"$f":"(J44-'32% Range'!$B$7)/Data!K44","v":1.6477311712267828},0.5,0.45029607572592012,0.95029607572592012,2.246,null,6.6999999999999913,2.8928065373485841,{"$f":"('32% Range'!$B$8-Data!S44)/Data!T44","v":9.7828871839934752},{"$f":"(S44-'32% Range'!$B$7)/Data!T44","v":1.2790347201687551},0.5,0.39955758518785334,0.89955758518785334,2.8929999999999998]
[6.7999999999999909,1.2083390293333487,{"$f":"('32% Range'!$B$8-Data!A45)/Data!B45","v":23.337821021603681},{"$f":"(A45-'32% Range'!$B$7)/Data!B45","v":3.1448127617763739},0.5,0.49916903420280845,0.99916903420280845,1.208,null,6.7999999999999909,2.3061922307945326,{"$f":"('32% Range'!$B$8-Data!J45)/Data!K45","v":12.227948574037345},{"$f":"(J45-'32% Range'!$B$7)/Data!K45","v":1.6477377511114109},0.5,0.45029675113566081,0.95029675113566081,2.306,null,6.7999999999999909,2.9709905821165723,{"$f":"('32% Range'!$B$8-Data!S45)/Data!T45","v":9.4917837066686239},{"$f":"(S45-'32% Range'!$B$7)/Data!T45","v":1.2790346838773288},0.5,0.39955757879821219,0.89955757879821219,2.9710000000000001]
[6.8999999999999906,1.2401360262342591,{"$f":"('32% Range'!$B$8-Data!A46)/Data!B46","v":22.658804683972608},{"$f":"(A46-'32% Range'!$B$7)/Data!B46","v":3.144816308451706},0.5,0.49916904427620712,0.99916904427620712,1.24,null,6.8999999999999906,2.3668674332706083,{"$f":"('32% Range'!$B$8-Data!J46)/Data!K46","v":11.872232303763031},{"$f":"(J46-'32% Range'!$B$7)/Data!K46","v":1.6477475439386369},0.5,0.45029775633287228,0.95029775633287228,2.367,null,6.8999999999999906,3.0491746812610989,{"$f":"('32% Range'!$B$8-Data!S46)/Data!T46","v":9.2156084637231128},{"$f":"(S46-'32% Range'!$B$7)/Data!T46","v":1.2790346266377239},0.5,0.39955756872033443,0.89955756872033443,3.0489999999999999]
[6.9999999999999902,1.2719334734461849,{"$f":"('32% Range'!$B$8-Data!A47)/Data!B47","v":22.01372995093574},{"$f":"(A47-'32% Range'!$B$7)/Data!B47","v":3.1448185644193827},0.5,0.49916905068363171,0.99916905068363171,1.272,null,6.9999999999999902,2.4275471650084621,{"$f":"('32% Range'!$B$8-Data!J47)/Data!K47","v":11.534276410197949},{"$f":"(J47-'32% Range'!$B$7)/Data!K47","v":1.6477537728854166},0.5,0.45029839570260077,0.95029839570260077,2.4279999999999999,null,6.9999999999999902,3.1273588221275412,{"$f":"('32% Range'!$B$8-Data!S47)/Data!T47","v":8.9532418863760626},{"$f":"(S47-'32% Range'!$B$7)/Data!T47","v":1.2790345551965769},0.5,0.39955755614206456,0.89955755614206456,3.1269999999999998]
[7.0999999999999899,1.3037309284796357,{"$f":"('32% Range'!$B$8-Data!A48)/Data!B48","v":21.400121290775843},{"$f":"(A48-'32% Range'!$B$7)/Data!B48","v":3.1448206914760113},0.5,0.49916905672487999,0.99916905672487999,1.304,null,7.0999999999999899,2.4882269755398072,{"$f":"('32% Range'!$B$8-Data!J48)/Data!K48","v":11.212803443683933},{"$f":"(J48-'32% Range'!$B$7)/Data!K48","v":1.6477596458460215},0.5,0.45029899852614719,0.95029899852614719,2.488,null,7.0999999999999899,3.205542962504031,{"$f":"('32% Range'!$B$8-Data!S48)/Data!T48","v":8.7036737071855494},{"$f":"(S48-'32% Range'!$B$7)/Data!T48","v":1.2790344874358657},0.5,0.39955754421178868,0.89955754421178868,3.206]
[7.1999999999999895,1.3355286874219525,{"$f":"('32% Range'!$B$8-Data!A49)/Data!B49","v":20.815726582155225},{"$f":"(A49-'32% Range'!$B$7)/Data!B49","v":3.1448220016205641},0.5,0.49916906044592135,0.99916906044592135,1.3360000000000001,null,7.1999999999999895,2.5489098426510308,{"$f":"('32% Range'!$B$8-Data!J49)/Data!K49","v":10.906623504221795},{"$f":"(J49-'32% Range'!$B$7)/Data!K49","v":1.6477632632277486},0.5,0.45029936982539109,0.95029936982539109,2.5489999999999999,null,7.1999999999999895,3.2837270448501639,{"$f":"('32% Range'!$B$8-Data!S49)/Data!T49","v":8.4659899012003663},{"$f":"(S49-'32% Range'!$B$7)/Data!T49","v":1.2790344455050877},0.5,0.39955753682925421,0.89955753682925421,3.2839999999999998]
[7.2999999999999892,1.367326977861232,{"$f":"('32% Range'!$B$8-Data!A50)/Data!B50","v":20.258504694559782},{"$f":"(A50-'32% Range'!$B$7)/Data!B50","v":3.1448220283973582},0.5,0.49916906052197196,0.99916906052197196,1.367,null,7.2999999999999892,2.609598055150208,{"$f":"('32% Range'!$B$8-Data!J50)/Data!K50","v":10.61466149751771},{"$f":"(J50-'32% Range'!$B$7)/Data!K50","v":1.6477633371597842},0.5,0.45029937741398063,0.95029937741398063,2.61,null,7.2999999999999892,3.3619110243651118,{"$f":"('32% Range'!$B$8-Data!S50)/Data!T50","v":8.2393614224906742},{"$f":"(S50-'32% Range'!$B$7)/Data!T50","v":1.2790344446465631},0.49999999999999989,0.39955753667809835,0.89955753667809824,3.3620000000000001]
[7.3999999999999888,1.3991412257786895,{"$f":"('32% Range'!$B$8-Data!A51)/Data!B51","v":19.726386079889313},{"$f":"(A51-'32% Range'!$B$7)/Data!B51","v":3.1447861866490117},0.5,0.49916895871957212,0.99916895871957212,1.399,null,7.3999999999999888,2.6704467739716984,{"$f":"('32% Range'!$B$8-Data!J51)/Data!K51","v":10.335349226583206},{"$f":"(J51-'32% Range'!$B$7)/Data!K51","v":1.6476643694552888},0.5,0.45028921826602508,0.95028921826602508,2.67,null,7.3999999999999888,3.4400932852811001,{"$f":"('32% Range'!$B$8-Data!S51)/Data!T51","v":8.0230382466924102},{"$f":"(S51-'32% Range'!$B$7)/Data!T51","v":1.2790350828060326},0.49999999999999944,0.39955764903548097,0.89955764903548041,3.44]
[7.4999999999999885,1.430935459020205,{"$f":"('32% Range'!$B$8-Data!A52)/Data!B52","v":19.218197317459659},{"$f":"(A52-'32% Range'!$B$7)/Data!B52","v":3.1447959246752077},0.5,0.49916898637991725,0.99916898637991725,1.431,null,7.4999999999999885,2.7310941737841206,{"$f":"('32% Range'!$B$8-Data!J52)/Data!K52","v":10.069224365814106},{"$f":"(J52-'32% Range'!$B$7)/Data!K52","v":1.6476912598604851},0.5,0.45029197876075933,0.95029197876075933,2.7309999999999999,null,7.4999999999999885,3.5182776216172189,{"$f":"('32% Range'!$B$8-Data!S52)/Data!T52","v":7.8163246217503728},{"$f":"(S52-'32% Range'!$B$7)/Data!T52","v":1.2790349381046027},0.49999999999999734,0.39955762355866897,0.89955762355866631,3.5179999999999998]
[7.5999999999999881,1.4627285354390864,{"$f":"('32% Range'!$B$8-Data!A53)/Data!B53","v":18.73211558819764},{"$f":"(A53-'32% Range'!$B$7)/Data!B53","v":3.1448077264857255},0.5,0.49916901990119644,0.99916901990119644,1.4630000000000001,null,7.5999999999999881,2.7917299407670217,{"$f":"('32% Range'!$B$8-Data!J53)/Data!K53","v":9.8147029194635937},{"$f":"(J53-'32% Range'!$B$7)/Data!K53","v":1.6477238477931531},0.5,0.45029532398400574,0.95029532398400574,2.7919999999999998,null,7.5999999999999881,3.5964620683281781,{"$f":"('32% Range'!$B$8-Data!S53)/Data!T53","v":7.6185983556715096},{"$f":"(S53-'32% Range'!$B$7)/Data!T53","v":1.2790347604411985},0.49999999999998723,0.39955759227841092,0.89955759227839815,3.5960000000000001]
[7.6999999999999877,1.4945246374778152,{"$f":"('32% Range'!$B$8-Data!A54)/Data!B54","v":18.266677788645861},{"$f":"(A54-'32% Range'!$B$7)/Data!B54","v":3.1448126595837098},0.5,0.4991690339125554,0.9991690339125554,1.4950000000000001,null,7.6999999999999877,2.8523961423399515,{"$f":"('32% Range'!$B$8-Data!J54)/Data!K54","v":9.5709006174733382},{"$f":"(J54-'32% Range'!$B$7)/Data!K54","v":1.6477374689422914},0.5,0.45029672217181216,0.95029672217181216,2.8519999999999999,null,7.6999999999999877,3.674646241821991,{"$f":"('32% Range'!$B$8-Data!S54)/Data!T54","v":7.4292865771111396},{"$f":"(S54-'32% Range'!$B$7)/Data!T54","v":1.2790346854367125},0.49999999999994538,0.39955757907276468,0.89955757907271006,3.6749999999999998]
[7.7999999999999874,1.5263238720203958,{"$f":"('32% Range'!$B$8-Data!A55)/Data!B55","v":17.820595286893703},{"$f":"(A55-'32% Range'!$B$7)/Data!B55","v":3.1448109329812319},0.5,0.49916902900855287,0.99916902900855287,1.526,null,7.7999999999999874,2.913093850460732,{"$f":"('32% Range'!$B$8-Data!J55)/Data!K55","v":9.337151975278136},{"$f":"(J55-'32% Range'!$B$7)/Data!K55","v":1.6477327015196659},0.5,0.4502962328075526,0.9502962328075526,2.9129999999999998,null,7.7999999999999874,3.7528301272348159,{"$f":"('32% Range'!$B$8-Data!S55)/Data!T55","v":7.2478633665312451},{"$f":"(S55-'32% Range'!$B$7)/Data!T55","v":1.2790347117408039},0.49999999999978828,0.3995575837039882,0.89955758370377648,3.7530000000000001]
[7.899999999999987,1.5581139261982493,{"$f":"('32% Range'!$B$8-Data!A56)/Data!B56","v":17.392823171873697},{"$f":"(A56-'32% Range'!$B$7)/Data!B56","v":3.1448278059845332},0.5,0.49916907693115331,0.99916907693115331,1.5580000000000001,null,7.899999999999987,2.9736992279161854,{"$f":"('32% Range'!$B$8-Data!J56)/Data!K56","v":9.1132283136079941},{"$f":"(J56-'32% Range'!$B$7)/Data!K56","v":1.6477792891763481},0.5,0.45030101475167905,0.95030101475167905,2.9740000000000002,null,7.899999999999987,3.8310154473734923,{"$f":"('32% Range'!$B$8-Data!S56)/Data!T56","v":7.0738425287685835},{"$f":"(S56-'32% Range'!$B$7)/Data!T56","v":1.2790342579692233},0.49999999999924649,0.39955750381078314,0.89955750381002964,3.831]
[7.9999999999999867,1.589916524331668,{"$f":"('32% Range'!$B$8-Data!A57)/Data!B57","v":16.98202363885088},{"$f":"(A57-'32% Range'!$B$7)/Data!B57","v":3.1448191923797824},0.5,0.4991690524671637,0.9991690524671637,1.59,null,7.9999999999999867,3.0344307632785883,{"$f":"('32% Range'!$B$8-Data!J57)/Data!K57","v":8.8978797363718822},{"$f":"(J57-'32% Range'!$B$7)/Data!K57","v":1.6477555067355285},0.5,0.45029857367233495,0.95029857367233495,3.0339999999999998,null,7.9999999999999867,3.9091985885866318,{"$f":"('32% Range'!$B$8-Data!S57)/Data!T57","v":6.906786490415123},{"$f":"(S57-'32% Range'!$B$7)/Data!T57","v":1.2790345352620558},0.49999999999752121,0.3995575526322972,0.8995575526298184,3.9089999999999998]
[8.0999999999999872,1.6217173152350752,{"$f":"('32% Range'!$B$8-Data!A58)/Data!B58","v":16.587354495934907},{"$f":"(A58-'32% Range'!$B$7)/Data!B58","v":3.144814421162371},0.5,0.49916903891587205,0.99916903891587205,1.6220000000000001,null,8.0999999999999872,3.0951441242657376,{"$f":"('32% Range'!$B$8-Data!J58)/Data!K58","v":8.6910330892528354},{"$f":"(J58-'32% Range'!$B$7)/Data!K58","v":1.6477423329066663},0.5,0.450297221441884,0.950297221441884,3.0950000000000002,null,8.0999999999999872,3.9873821757709704,{"$f":"('32% Range'!$B$8-Data!S58)/Data!T58","v":6.7462808464801416},{"$f":"(S58-'32% Range'!$B$7)/Data!T58","v":1.2790346586263428},0.49999999999241584,0.39955757435240336,0.8995575743448192,3.9870000000000001]
[8.1999999999999869,1.653517417984556,{"$f":"('32% Range'!$B$8-Data!A59)/Data!B59","v":16.207872810112924},{"$f":"(A59-'32% Range'!$B$7)/Data!B59","v":3.1448111422607075},0.5,0.49916902960296272,0.99916902960296272,1.6539999999999999,null,8.1999999999999869,3.1558505645840107,{"$f":"('32% Range'!$B$8-Data!J59)/Data!K59","v":8.4921638244720441},{"$f":"(J59-'32% Range'!$B$7)/Data!K59","v":1.6477332793751678},0.5,0.45029629212320976,0.95029629212320976,3.1560000000000001,null,8.1999999999999869,4.0655659806492146,{"$f":"('32% Range'!$B$8-Data!S59)/Data!T59","v":6.5919481143730998},{"$f":"(S59-'32% Range'!$B$7)/Data!T59","v":1.2790347087589558},0.49999999997829536,0.39955758317898982,0.89955758315728518,4.0659999999999998]
[8.2999999999999865,1.6853164528117592,{"$f":"('32% Range'!$B$8-Data!A60)/Data!B60","v":15.842721973937946},{"$f":"(A60-'32% Range'!$B$7)/Data!B60","v":3.1448099798453506},0.5,0.49916902630138626,0.99916902630138626,1.6850000000000001,null,8.2999999999999865,3.2165462640454248,{"$f":"('32% Range'!$B$8-Data!J60)/Data!K60","v":8.3008288419329723},{"$f":"(J60-'32% Range'!$B$7)/Data!K60","v":1.6477300697469897},0.5,0.45029596266088456,0.95029596266088456,3.2170000000000001,null,8.2999999999999865,4.1437498835654747,{"$f":"('32% Range'!$B$8-Data!S60)/Data!T60","v":6.44343909508025},{"$f":"(S60-'32% Range'!$B$7)/Data!T60","v":1.2790347267387723},0.49999999994160194,0.39955758634460181,0.89955758628620375,4.1440000000000001]
[8.3999999999999861,1.7171149710962055,{"$f":"('32% Range'!$B$8-Data!A61)/Data!B61","v":15.491100157969379},{"$f":"(A61-'32% Range'!$B$7)/Data!B61","v":3.144809806505052},0.5,0.49916902580905165,0.99916902580905165,1.7170000000000001,null,8.3999999999999861,3.2772367681509116,{"$f":"('32% Range'!$B$8-Data!J61)/Data!K61","v":8.1165939118302752},{"$f":"(J61-'32% Range'!$B$7)/Data!K61","v":1.6477295911234342},0.49999999999999978,0.45029591353092313,0.95029591353092291,3.2770000000000001,null,8.3999999999999861,4.2219338327182108,{"$f":"('32% Range'!$B$8-Data!S61)/Data!T61","v":6.300430336889983},{"$f":"(S61-'32% Range'!$B$7)/Data!T61","v":1.2790347300453309},0.49999999985158983,0.39955758692677013,0.89955758677835995,4.2220000000000004]
[8.4999999999999858,1.7489130780285078,{"$f":"('32% Range'!$B$8-Data!A62)/Data!B62","v":15.152268190408064},{"$f":"(A62-'32% Range'!$B$7)/Data!B62","v":3.1448103791412865},0.5,0.49916902743549696,0.99916902743549696,1.7490000000000001,null,8.4999999999999858,3.337923134883765,{"$f":"('32% Range'!$B$8-Data!J62)/Data!K62","v":7.9390683754983504},{"$f":"(J62-'32% Range'!$B$7)/Data!K62","v":1.6477311722732375},0.499999999999999,0.45029607583333686,0.95029607583333586,3.3380000000000001,null,8.4999999999999858,4.3001178169751135,{"$f":"('32% Range'!$B$8-Data!S62)/Data!T62","v":6.1626218461710067},{"$f":"(S62-'32% Range'!$B$7)/Data!T62","v":1.279034722790205},0.49999999964224884,0.39955758564939825,0.89955758529164709,4.3]
[8.5999999999999854,1.7807105418832163,{"$f":"('32% Range'!$B$8-Data!A63)/Data!B63","v":14.825542601707916},{"$f":"(A63-'32% Range'!$B$7)/Data!B63","v":3.1448120670289423},0.5,0.49916903222954789,0.99916903222954789,1.7809999999999999,null,8.5999999999999854,3.3986030336274671,{"$f":"('32% Range'!$B$8-Data!J63)/Data!K63","v":7.7678974975262767},{"$f":"(J63-'32% Range'!$B$7)/Data!K63","v":1.6477358328085989},0.499999999999996,0.45029655422712789,0.95029655422712389,3.399,null,8.5999999999999854,4.3783018549323494,{"$f":"('32% Range'!$B$8-Data!S63)/Data!T63","v":6.0297350147887254},{"$f":"(S63-'32% Range'!$B$7)/Data!T63","v":1.2790347001066953},0.49999999917885629,0.39955758165563171,0.899557580834488,4.3780000000000001]
[8.6999999999999851,1.812506768143592,{"$f":"('32% Range'!$B$8-Data!A64)/Data!B64","v":14.51029064401069},{"$f":"(A64-'32% Range'!$B$7)/Data!B64","v":3.1448158429985043},0.5,0.49916904295421616,0.99916904295421616,1.8129999999999999,null,8.6999999999999851,3.4592704851613481,{"$f":"('32% Range'!$B$8-Data!J64)/Data!K64","v":7.6027590536255287},{"$f":"(J64-'32% Range'!$B$7)/Data!K64","v":1.6477462587705467},0.49999999999998546,0.45029762441608301,0.95029762441606846,3.4590000000000001,null,8.6999999999999851,4.456485996532245,{"$f":"('32% Range'!$B$8-Data!S64)/Data!T64","v":5.9015107464636953},{"$f":"(S64-'32% Range'!$B$7)/Data!T64","v":1.2790346484731163},0.49999999819906016,0.39955757256477786,0.89955757076383802,4.4560000000000004]
[8.7999999999999847,1.8443028904884122,{"$f":"('32% Range'!$B$8-Data!A65)/Data!B65","v":14.205909525556118},{"$f":"(A65-'32% Range'!$B$7)/Data!B65","v":3.1448196659627943},0.5,0.49916905381223098,0.99916905381223098,1.8440000000000001,null,8.7999999999999847,3.5199368921063066,{"$f":"('32% Range'!$B$8-Data!J65)/Data!K65","v":7.4433152647580885},{"$f":"(J65-'32% Range'!$B$7)/Data!K65","v":1.6477568143357546},0.49999999999995093,0.45029870788963555,0.95029870788958648,3.52,null,8.7999999999999847,4.5346703334524916,{"$f":"('32% Range'!$B$8-Data!S65)/Data!T65","v":5.7777077655946227},{"$f":"(S65-'32% Range'!$B$7)/Data!T65","v":1.2790345435285764},0.4999999962137408,0.39955755408774052,0.89955755030148132,4.5350000000000001]
[8.8999999999999844,1.8760971644824185,{"$f":"('32% Range'!$B$8-Data!A66)/Data!B66","v":13.911859414381951},{"$f":"(A66-'32% Range'!$B$7)/Data!B66","v":3.1448264576572122},0.5,0.49916907310173586,0.99916907310173586,1.8759999999999999,null,8.8999999999999844,3.5805847107446254,{"$f":"('32% Range'!$B$8-Data!J66)/Data!K66","v":7.2893122516216655},{"$f":"(J66-'32% Range'!$B$7)/Data!K66","v":1.6477755664585321},0.49999999999984424,0.4503006326504706,0.95030063265031484,3.581,null,8.8999999999999844,4.6128550127602894,{"$f":"('32% Range'!$B$8-Data!S66)/Data!T66","v":5.6581010952655149},{"$f":"(S66-'32% Range'!$B$7)/Data!T66","v":1.2790343472056105},0.49999999234715131,0.399557519522174,0.89955751186932531,4.6130000000000004]
[8.999999999999984,1.9078884345258853,{"$f":"('32% Range'!$B$8-Data!A67)/Data!B67","v":13.627631222818893},{"$f":"(A67-'32% Range'!$B$7)/Data!B67","v":3.1448379744966575},0.5,0.49916910581047114,0.99916910581047114,1.9079999999999999,null,8.999999999999984,3.641202322541143,{"$f":"('32% Range'!$B$8-Data!J67)/Data!K67","v":7.1404985762655961},{"$f":"(J67-'32% Range'!$B$7)/Data!K67","v":1.6478073637535939},0.49999999999953504,0.45030389626174727,0.95030389626128231,3.641,null,8.999999999999984,4.6910402391382808,{"$f":"('32% Range'!$B$8-Data!S67)/Data!T67","v":5.5424807024840348},{"$f":"(S67-'32% Range'!$B$7)/Data!T67","v":1.2790340082655425},0.49999998508918608,0.39955745984673352,0.8995574449359196,4.6909999999999998]
[9.0999999999999837,1.9397026713383745,{"$f":"('32% Range'!$B$8-Data!A68)/Data!B68","v":13.352561906887146},{"$f":"(A68-'32% Range'!$B$7)/Data!B68","v":3.1448118776838347},0.5,0.49916903169175864,0.99916903169175864,1.94,null,9.0999999999999837,3.7020509075928447,{"$f":"('32% Range'!$B$8-Data!J68)/Data!K68","v":6.9961220540969729},{"$f":"(J68-'32% Range'!$B$7)/Data!K68","v":1.6477353100382779},0.49999999999868427,0.4502965005660774,0.95029650056476167,3.702,null,9.0999999999999837,4.7692210919913851,{"$f":"('32% Range'!$B$8-Data!S68)/Data!T68","v":5.4306561806270732},{"$f":"(S68-'32% Range'!$B$7)/Data!T68","v":1.2790348533523181},0.49999997192639178,0.39955760863678236,0.89955758056317414,4.7690000000000001]
[9.1999999999999833,1.9715001666355501,{"$f":"('32% Range'!$B$8-Data!A69)/Data!B69","v":13.08648126772864},{"$f":"(A69-'32% Range'!$B$7)/Data!B69","v":3.1448133279037709},0.5,0.499169035810752,0.999169035810752,1.9710000000000001,null,9.1999999999999833,3.7627311225010796,{"$f":"('32% Range'!$B$8-Data!J69)/Data!K69","v":6.8567216630804095},{"$f":"(J69-'32% Range'!$B$7)/Data!K69","v":1.6477393143836587},0.49999999999647704,0.45029691160081786,0.9502969115972949,3.7629999999999999,null,9.1999999999999833,4.8474046627362437,{"$f":"('32% Range'!$B$8-Data!S69)/Data!T69","v":5.3224357764751868},{"$f":"(S69-'32% Range'!$B$7)/Data!T69","v":1.2790349540366683},0.49999994880653142,0.39955762636374337,0.89955757517027479,4.8470000000000004]
[9.2999999999999829,2.0032997695866781,{"$f":"('32% Range'!$B$8-Data!A70)/Data!B70","v":12.828833902028778},{"$f":"(A70-'32% Range'!$B$7)/Data!B70","v":3.1448114234545148},0.5,0.49916903040162797,0.99916903040162797,2.0030000000000001,null,9.2999999999999829,3.8234325355590428,{"$f":"('32% Range'!$B$8-Data!J70)/Data!K70","v":6.7217087684907444},{"$f":"(J70-'32% Range'!$B$7)/Data!K70","v":1.6477340560891651},0.49999999999101974,0.45029637185118598,0.95029637184220572,3.823,null,9.2999999999999829,4.9255876982327722,{"$f":"('32% Range'!$B$8-Data!S70)/Data!T70","v":5.2176514914597494},{"$f":"(S70-'32% Range'!$B$7)/Data!T70","v":1.2790351905134751},0.49999990939699823,0.39955766799895498,0.89955757739595321,4.9260000000000002]
[9.3999999999999826,2.0351044530622611,{"$f":"('32% Range'!$B$8-Data!A71)/Data!B71","v":12.579206910721069},{"$f":"(A71-'32% Range'!$B$7)/Data!B71","v":3.1448017276802567},0.5,0.49916900286264143,0.99916900286264143,2.0350000000000001,null,9.3999999999999826,3.8841850494695551,{"$f":"('32% Range'!$B$8-Data!J71)/Data!K71","v":6.5908291376323813},{"$f":"(J71-'32% Range'!$B$7)/Data!K71","v":1.6477072844080898},0.49999999997813116,0.45029362373840176,0.95029362371653292,3.8839999999999999,null,9.3999999999999826,5.0037697173575042,{"$f":"('32% Range'!$B$8-Data!S71)/Data!T71","v":5.1161427175988026},{"$f":"(S71-'32% Range'!$B$7)/Data!T71","v":1.2790356793996964},0.49999984407643072,0.39955775407450778,0.8995575981509385,5.0039999999999996]
[9.4999999999999822,2.0669036215132035,{"$f":"('32% Range'!$B$8-Data!A72)/Data!B72","v":12.337295137801917},{"$f":"(A72-'32% Range'!$B$7)/Data!B72","v":3.1448007214004776},{"$f":"NORMSDIST(C72)-0.5","v":0.5},{"$f":"NORMSDIST(D72)-0.5","v":0.49916900000444864},{"$f":"E72+F72","v":0.99916900000444864},2.0670000000000002,null,9.4999999999999822,3.9448820909593381,{"$f":"('32% Range'!$B$8-Data!J72)/Data!K72","v":6.4640715266089961},{"$f":"(J72-'32% Range'!$B$7)/Data!K72","v":1.6477045067826797},{"$f":"NORMSDIST(L72)-0.5","v":0.49999999994903865},{"$f":"NORMSDIST(M72)-0.5","v":0.45029333860824106},{"$f":"N72+O72","v":0.95029333855727971},3.9449999999999998,null,9.4999999999999822,5.0819513565560435,{"$f":"('32% Range'!$B$8-Data!S72)/Data!T72","v":5.0177575916981931},{"$f":"(S72-'32% Range'!$B$7)/Data!T72","v":1.2790362488642408},{"$f":"NORMSDIST(U72)-0.5","v":0.4999997386095929},{"$f":"NORMSDIST(V72)-0.5","v":0.39955785433698221},{"$f":"W72+X72","v":0.89955759294657511},5.0819999999999999]
[9.5999999999999819,2.0987005964765806,{"$f":"('32% Range'!$B$8-Data!A73)/Data!B73","v":12.102726821845385},{"$f":"(A73-'32% Range'!$B$7)/Data!B73","v":3.1448030324480025},0.5,0.49916900656863272,0.99916900656863272,2.0990000000000002,null,9.5999999999999819,4.0055570662236573,{"$f":"('32% Range'!$B$8-Data!J73)/Data!K73","v":6.3411903962577991},{"$f":"(J73-'32% Range'!$B$7)/Data!K73","v":1.6477108903661939},0.49999999988600174,0.45029399389702818,0.95029399378302992,4.0060000000000002,null,9.5999999999999819,5.1601318168179864,{"$f":"('32% Range'!$B$8-Data!S73)/Data!T73","v":4.9223548741944771},{"$f":"(S73-'32% Range'!$B$7)/Data!T73","v":1.2790370932946236},0.49999957245513715,0.39955800301103739,0.89955757546617454,5.16]
[{"$f":"A73+0.1","v":9.6999999999999815},2.1304940721945984,{"$f":"('32% Range'!$B$8-Data!A74)/Data!B74","v":11.875179720138235},{"$f":"(A74-'32% Range'!$B$7)/Data!B74","v":3.1448104397203909},0.5,0.49916902760755821,0.99916902760755821,2.13,null,{"$f":"A73+0.1","v":9.6999999999999815},4.0661968397494812,{"$f":"('32% Range'!$B$8-Data!J74)/Data!K74","v":6.2220303140953588},{"$f":"(J74-'32% Range'!$B$7)/Data!K74","v":1.6477313480015319},0.49999999975461895,0.45029609387152969,0.95029609362614864,4.0659999999999998,null,{"$f":"S73+0.1","v":9.6999999999999815},5.2383104887316421,{"$f":"('32% Range'!$B$8-Data!S74)/Data!T74","v":4.8298015275008899},{"$f":"(S74-'32% Range'!$B$7)/Data!T74","v":1.2790383491800732},0.4999993166539588,0.3995582241273492,0.89955754078130801,5.2380000000000004]
[9.7999999999999812,2.1622855057466941,{"$f":"('32% Range'!$B$8-Data!A75)/Data!B75","v":11.65433516204318},{"$f":"(A75-'32% Range'!$B$7)/Data!B75","v":3.1448205992814819},0.5,0.49916905646303067,0.99916905646303067,2.1619999999999999,null,9.7999999999999812,4.126816064625034,{"$f":"('32% Range'!$B$8-Data!J75)/Data!K75","v":6.106402515976856},{"$f":"(J75-'32% Range'!$B$7)/Data!K75","v":1.6477594090731142},0.4999999994904909,0.45029897422296694,0.95029897371345784,4.1269999999999998,null,9.7999999999999812,5.3164864910253549,{"$f":"('32% Range'!$B$8-Data!S75)/Data!T75","v":4.7399725443748588},{"$f":"(S75-'32% Range'!$B$7)/Data!T75","v":1.2790402103868623},0.49999893126409756,0.39955855181835043,0.89955748308244798,5.3159999999999998]
[9.8999999999999808,2.1940753837208495,{"$f":"('32% Range'!$B$8-Data!A76)/Data!B76","v":11.439898640781374},{"$f":"(A76-'32% Range'!$B$7)/Data!B76","v":3.144832694079331},0.5,0.49916909081381522,0.99916909081381522,2.194,null,9.8999999999999808,4.1874196267784889,{"$f":"('32% Range'!$B$8-Data!J76)/Data!K76","v":5.994144899996618},{"$f":"(J76-'32% Range'!$B$7)/Data!K76","v":1.6477928211146022},0.49999999897720537,0.45030240365535423,0.95030240263255961,4.1879999999999997,null,9.8999999999999808,5.3946585358973085,{"$f":"('32% Range'!$B$8-Data!S76)/Data!T76","v":4.6527504628844998},{"$f":"(S76-'32% Range'!$B$7)/Data!T76","v":1.2790429559323877},0.49999836231736638,0.39955903520789993,0.89955739752526631,5.3949999999999996]
[9.9999999999999805,2.2258948793323143,{"$f":"('32% Range'!$B$8-Data!A77)/Data!B77","v":11.231437850964054},{"$f":"(A77-'32% Range'!$B$7)/Data!B77","v":3.1448025982699237},0.5,0.49916900533541864,0.99916900533541864,2.226,null,9.9999999999999805,4.2483210181538773,{"$f":"('32% Range'!$B$8-Data!J77)/Data!K77","v":5.8846777098929914},{"$f":"(J77-'32% Range'!$B$7)/Data!K77","v":1.6477097587700316},0.49999999800584805,0.45029387773671381,0.95029387574256186,4.2480000000000002,null,9.9999999999999805,5.4728193173426671,{"$f":"('32% Range'!$B$8-Data!S77)/Data!T77","v":4.5680294835932562},{"$f":"(S77-'32% Range'!$B$7)/Data!T77","v":1.2790482554061071},0.49999753834603999,0.39955996824543683,0.89955750659147682,5.4729999999999999]
[10.09999999999998,2.2576918555711409,{"$f":"('32% Range'!$B$8-Data!A78)/Data!B78","v":11.02896302635637},{"$f":"(A78-'32% Range'!$B$7)/Data!B78","v":3.1448047183586323},0.5,0.49916901135717906,0.99916901135717906,2.258,null,10.09999999999998,4.3089958403509829,{"$f":"('32% Range'!$B$8-Data!J78)/Data!K78","v":5.7786085024328608},{"$f":"(J78-'32% Range'!$B$7)/Data!K78","v":1.6477156774005286},0.49999999623395186,0.45029448529203353,0.95029448152598539,4.3090000000000002,null,10.09999999999998,5.5509737534560495,{"$f":"('32% Range'!$B$8-Data!S78)/Data!T78","v":4.4856994657013498},{"$f":"(S78-'32% Range'!$B$7)/Data!T78","v":1.2790548677300992},0.49999636624396948,0.39956113241754498,0.89955749866151447,5.5510000000000002]
[10.19999999999998,2.2894665792399969,{"$f":"('32% Range'!$B$8-Data!A79)/Data!B79","v":10.832217523888266},{"$f":"(A79-'32% Range'!$B$7)/Data!B79","v":3.1448373456449694},0.5,0.4991691040245132,0.9991691040245132,2.2890000000000001,null,10.19999999999998,4.3694467254962035,{"$f":"('32% Range'!$B$8-Data!J79)/Data!K79","v":5.6757758036708132},{"$f":"(J79-'32% Range'!$B$7)/Data!K79","v":1.6478058784850691},0.49999999309692489,0.45030374382053995,0.95030373691746484,4.37,null,10.19999999999998,5.62911827066086,{"$f":"('32% Range'!$B$8-Data!S79)/Data!T79","v":4.4056633397202525},{"$f":"(S79-'32% Range'!$B$7)/Data!T79","v":1.2790635502413592},0.49999472696758906,0.39956266105385796,0.89955738802144702,5.6289999999999996]
[10.299999999999979,2.3212694246626477,{"$f":"('32% Range'!$B$8-Data!A80)/Data!B80","v":10.640729480848478},{"$f":"(A80-'32% Range'!$B$7)/Data!B80","v":3.1448309801697816},0.5,0.4991690859461706,0.9991690859461706,2.3210000000000002,null,10.299999999999979,4.4301801932649161,{"$f":"('32% Range'!$B$8-Data!J80)/Data!K80","v":5.5753939845496054},{"$f":"(J80-'32% Range'!$B$7)/Data!K80","v":1.6477885055551404},0.49999998765148623,0.45030196071430839,0.95030194836579462,4.43,null,10.299999999999979,5.7072403187491636,{"$f":"('32% Range'!$B$8-Data!S80)/Data!T80","v":4.3278359803523108},{"$f":"(S80-'32% Range'!$B$7)/Data!T80","v":1.2790770306304353},0.49999247092316201,0.399565034367242,0.89955750529040401,5.7069999999999999]
[10.399999999999979,2.3530713311535476,{"$f":"('32% Range'!$B$8-Data!A81)/Data!B81","v":10.45442170592438},{"$f":"(A81-'32% Range'!$B$7)/Data!B81","v":3.1448260416195173},0.5,0.49916907192013371,0.99916907192013371,2.3530000000000002,null,10.399999999999979,4.4909038208756584,{"$f":"('32% Range'!$B$8-Data!J81)/Data!K81","v":5.4777392215902312},{"$f":"(J81-'32% Range'!$B$7)/Data!K81","v":1.6477752129986811},0.49999997846028066,0.45030059637109188,0.95030057483137254,4.4909999999999997,null,10.399999999999979,5.7853380031920869,{"$f":"('32% Range'!$B$8-Data!S81)/Data!T81","v":4.2521283953378104},{"$f":"(S81-'32% Range'!$B$7)/Data!T81","v":1.2790955335568976},0.49998941258029606,0.39956829186556442,0.89955770444586047,5.7850000000000001]
[10.499999999999979,2.3848725128220938,{"$f":"('32% Range'!$B$8-Data!A82)/Data!B82","v":10.273085822524077},{"$f":"(A82-'32% Range'!$B$7)/Data!B82","v":3.1448221905685831},0.5,0.49916906098256575,0.99916906098256575,2.3849999999999998,null,10.499999999999979,4.5516195116943354,{"$f":"('32% Range'!$B$8-Data!J82)/Data!K82","v":5.382699484667584},{"$f":"(J82-'32% Range'!$B$7)/Data!K82","v":1.6477651483676217},0.49999996331150709,0.45029956332109844,0.95029952663260553,4.5519999999999996,null,10.499999999999979,5.8634030746094652,{"$f":"('32% Range'!$B$8-Data!S82)/Data!T82","v":4.1784608167385553},{"$f":"(S82-'32% Range'!$B$7)/Data!T82","v":1.2791206581852672},0.49998532557269537,0.39957271501189062,0.89955804058458599,5.8630000000000004]
[{"$f":"A82+0.1","v":10.599999999999978},2.4166731716131125,{"$f":"('32% Range'!$B$8-Data!A83)/Data!B83","v":10.096524547302849},{"$f":"(A83-'32% Range'!$B$7)/Data!B83","v":3.1448191212910399},0.5,0.49916905226525776,0.99916905226525776,2.4169999999999998,null,10.599999999999978,4.6123289164728787,{"$f":"('32% Range'!$B$8-Data!J83)/Data!K83","v":5.2901691188708826},{"$f":"(J83-'32% Range'!$B$7)/Data!K83","v":1.6477575944023999},0.49999993889834471,0.45029878795864831,0.95029872685699301,4.6120000000000001,null,10.599999999999978,5.9414251534311253,{"$f":"('32% Range'!$B$8-Data!S83)/Data!T83","v":4.1067587943793615},{"$f":"(S83-'32% Range'!$B$7)/Data!T83","v":1.2791543785771735},0.49997993750739944,0.3995786512037508,0.89955858871115024,5.9409999999999998]
[{"$f":"A83+0.1","v":10.699999999999978},2.4484735002683307,{"$f":"('32% Range'!$B$8-Data!A84)/Data!B84","v":9.9245509487184407},{"$f":"(A84-'32% Range'!$B$7)/Data!B84","v":3.1448165557667367},0.5,0.49916904497863634,0.99916904497863634,2.448,null,10.699999999999978,4.6730334073280186,{"$f":"('32% Range'!$B$8-Data!J84)/Data!K84","v":5.2000484229138983},{"$f":"(J84-'32% Range'!$B$7)/Data!K84","v":1.6477519694006939},0.49999990038169329,0.45029821058473507,0.95029811096642836,4.673,null,10.699999999999978,6.0193913501244536,{"$f":"('32% Range'!$B$8-Data!S84)/Data!T84","v":4.03695300514023},{"$f":"(S84-'32% Range'!$B$7)/Data!T84","v":1.2791991003942247},0.49997292504465363,0.3995865237091607,0.89955944875381433,6.0190000000000001]
[10.799999999999978,2.4802736912263166,{"$f":"('32% Range'!$B$8-Data!A85)/Data!B85","v":9.7569877411532229},{"$f":"(A85-'32% Range'!$B$7)/Data!B85","v":3.1448142306196214},0.5,0.49916903837468518,0.99916903837468518,2.48,null,10.799999999999978,4.7337340936050838,{"$f":"('32% Range'!$B$8-Data!J85)/Data!K85","v":5.1122432146521266},{"$f":"(J85-'32% Range'!$B$7)/Data!K85","v":1.6477478129870426},0.49999984082221205,0.4502977839494593,0.95029762477167135,4.734,null,10.799999999999978,6.0972858616596985,{"$f":"('32% Range'!$B$8-Data!S85)/Data!T85","v":3.9689790751278169},{"$f":"(S85-'32% Range'!$B$7)/Data!T85","v":1.2792577184296219},0.49996390939038227,0.39959684172239718,0.89956075111277944,6.0970000000000004]
[10.899999999999977,2.5120746423887068,{"$f":"('32% Range'!$B$8-Data!A86)/Data!B86","v":9.5936639753202453},{"$f":"(A86-'32% Range'!$B$7)/Data!B86","v":3.1448110126568318},0.5,0.49916902923485296,0.99916902923485296,2.512,null,10.899999999999977,4.7944388240473037,{"$f":"('32% Range'!$B$8-Data!J86)/Data!K86","v":5.0266571092997312},{"$f":"(J86-'32% Range'!$B$7)/Data!K86","v":1.6477423719281215},0.49999975044819667,0.45029722544729289,0.95029697589548956,4.7939999999999996,null,10.899999999999977,6.175089553214308,{"$f":"('32% Range'!$B$8-Data!S86)/Data!T86","v":3.9027774078928612},{"$f":"(S86-'32% Range'!$B$7)/Data!T86","v":1.2793336731267007},0.49995245242508013,0.39961021020376775,0.89956266262884788,6.1749999999999998]
[10.999999999999977,2.5438740025452637,{"$f":"('32% Range'!$B$8-Data!A87)/Data!B87","v":9.4344295259855286},{"$f":"(A87-'32% Range'!$B$7)/Data!B87","v":3.1448098419951642},0.5,0.49916902590985346,0.99916902590985346,2.544,null,10.999999999999977,4.8551222993734848,{"$f":"('32% Range'!$B$8-Data!J87)/Data!K87","v":4.9432328415490234},{"$f":"(J87-'32% Range'!$B$7)/Data!K87","v":1.6477442805163349},0.49999961581189289,0.4502974213565395,0.95029703716843239,4.8550000000000004,null,10.999999999999977,6.252779607035337,{"$f":"('32% Range'!$B$8-Data!S87)/Data!T87","v":3.8382929686177225},{"$f":"(S87-'32% Range'!$B$7)/Data!T87","v":1.2794309895392362},0.49993805369475286,0.3996273365766092,0.89956539027136206,6.2519999999999998]
[11.099999999999977,2.5756739695520099,{"$f":"('32% Range'!$B$8-Data!A88)/Data!B88","v":9.2791247194057629},{"$f":"(A88-'32% Range'!$B$7)/Data!B88","v":3.1448079592965019},0.5,0.49916902056244816,0.99916902056244816,2.5760000000000001,null,11.099999999999977,4.9158043438860579,{"$f":"('32% Range'!$B$8-Data!J88)/Data!K88","v":4.8618696612132686},{"$f":"(J88-'32% Range'!$B$7)/Data!K88","v":1.6477466215827332},0.49999941858908858,0.45029766165716878,0.95029708024625736,4.9160000000000004,null,11.099999999999977,6.3303288512147482,{"$f":"('32% Range'!$B$8-Data!S88)/Data!T88","v":3.7754752654617256},{"$f":"(S88-'32% Range'!$B$7)/Data!T88","v":1.2795543786711239},0.49992014856400457,0.3996490483298567,0.89956919689386128,6.33]
[11.199999999999976,2.6074769505656543,{"$f":"('32% Range'!$B$8-Data!A89)/Data!B89","v":9.1275974634548387},{"$f":"(A89-'32% Range'!$B$7)/Data!B89","v":3.1448024874087976},0.5,0.49916900502053485,0.99916900502053485,2.6070000000000002,null,11.199999999999976,4.9765060744575003,{"$f":"('32% Range'!$B$8-Data!J89)/Data!K89","v":4.7824718073100145},{"$f":"(J89-'32% Range'!$B$7)/Data!K89","v":1.6477423873925194},0.49999913423660758,0.45029722703465636,0.95029636127126393,4.976,null,11.199999999999976,6.4077056486199755,{"$f":"('32% Range'!$B$8-Data!S89)/Data!T89","v":3.7142779810938755},{"$f":"(S89-'32% Range'!$B$7)/Data!T89","v":1.2797092203768765},0.49989810765470688,0.39967628967981872,0.8995743973345256,6.407]
[11.299999999999976,2.6392818096495763,{"$f":"('32% Range'!$B$8-Data!A90)/Data!B90","v":8.9797155852586759},{"$f":"(A90-'32% Range'!$B$7)/Data!B90","v":3.1447949096053471},0.5,0.49916898349670491,0.99916898349670491,2.6389999999999998,null,11.299999999999976,5.0372119623649381,{"$f":"('32% Range'!$B$8-Data!J90)/Data!K90","v":4.704983664986182},{"$f":"(J90-'32% Range'!$B$7)/Data!K90","v":1.647736895332707},0.49999873056859157,0.45029666329239615,0.95029539386098771,5.0369999999999999,null,11.299999999999976,6.4848735829927469,{"$f":"('32% Range'!$B$8-Data!S90)/Data!T90","v":3.6546587526633876},{"$f":"(S90-'32% Range'!$B$7)/Data!T90","v":1.2799015884854852},0.49987123786187226,0.39971012554364782,0.89958136340552008,6.4829999999999997]
[11.399999999999975,2.6710883879303071,{"$f":"('32% Range'!$B$8-Data!A91)/Data!B91","v":8.835349704876851},{"$f":"(A91-'32% Range'!$B$7)/Data!B91","v":3.1447854881764941},0.5,0.49916895673556561,0.99916895673556561,2.6709999999999998,null,11.399999999999975,5.0979150359818783,{"$f":"('32% Range'!$B$8-Data!J91)/Data!K91","v":4.6293435322926229},{"$f":"(J91-'32% Range'!$B$7)/Data!K91","v":1.6477324436973679},0.49999816586610035,0.45029620634261547,0.95029437220871582,5.0979999999999999,null,11.399999999999975,6.5617909996046127,{"$f":"('32% Range'!$B$8-Data!S91)/Data!T91","v":3.5965790439564542},{"$f":"(S91-'32% Range'!$B$7)/Data!T91","v":1.2801383037811058},0.49983878518138602,0.39975175025741239,0.89959053543879841,6.5590000000000002]
[11.499999999999975,2.702874036250547,{"$f":"('32% Range'!$B$8-Data!A92)/Data!B92","v":8.6944488292171584},{"$f":"(A92-'32% Range'!$B$7)/Data!B92","v":3.1448006403551299},0.5,0.49916899977425067,0.99916899977425067,2.7029999999999998,null,11.499999999999975,5.1583808923566261,{"$f":"('32% Range'!$B$8-Data!J92)/Data!K92","v":4.5556930537682652},{"$f":"(J92-'32% Range'!$B$7)/Data!K92","v":1.6478038705119189},0.49999738934322713,0.45030353773071363,0.95030092707394076,5.1589999999999998,null,11.499999999999975,6.63840944071059,{"$f":"('32% Range'!$B$8-Data!S92)/Data!T92","v":3.54000460650775},{"$f":"(S92-'32% Range'!$B$7)/Data!T92","v":1.2804271980985427},0.49979993997600658,0.39980253319609482,0.8996024731721014,6.6349999999999998]
[11.599999999999975,2.7346925879613666,{"$f":"('32% Range'!$B$8-Data!A93)/Data!B93","v":8.5567204529720264},{"$f":"(A93-'32% Range'!$B$7)/Data!B93","v":3.1447776023743215},0.5,0.49916893433569431,0.99916893433569431,2.7349999999999999,null,11.599999999999975,5.2191414877181748,{"$f":"('32% Range'!$B$8-Data!J93)/Data!K93","v":4.4834960031387423},{"$f":"(J93-'32% Range'!$B$7)/Data!K93","v":1.6477805823501295},0.49999632850106535,0.45030114748299188,0.95029747598405723,5.2190000000000003,null,11.599999999999975,6.7146791347336068,{"$f":"('32% Range'!$B$8-Data!S93)/Data!T93","v":3.484902186756297},{"$f":"(S93-'32% Range'!$B$7)/Data!T93","v":1.2807760173548732},0.49975384151298807,0.39986382493869033,0.8996176664516784,6.7080000000000002]
[11.699999999999974,2.7665135647358312,{"$f":"('32% Range'!$B$8-Data!A94)/Data!B94","v":8.4221528124785809},{"$f":"(A94-'32% Range'!$B$7)/Data!B94","v":3.1447523377065818},0.5,0.49916886256686321,0.99916886256686321,2.7669999999999999,null,11.699999999999974,5.2798795791734543,{"$f":"('32% Range'!$B$8-Data!J94)/Data!K94","v":4.412979434589217},{"$f":"(J94-'32% Range'!$B$7)/Data!K94","v":1.6477648532586282},0.49999490211575959,0.45029953303037595,0.95029443514613554,5.28,null,11.699999999999974,6.790541053194187,{"$f":"('32% Range'!$B$8-Data!S94)/Data!T94","v":3.431243522051898},{"$f":"(S94-'32% Range'!$B$7)/Data!T94","v":1.2811939331266691},0.49969958951177618,0.39993722172323753,0.89963681123501371,6.7809999999999997]
[11.799999999999974,2.7983389456452743,{"$f":"('32% Range'!$B$8-Data!A95)/Data!B95","v":8.2906325683325299},{"$f":"(A95-'32% Range'!$B$7)/Data!B95","v":3.1447226983330161},0.49999999999999989,0.49916877836362461,0.9991687783636245,2.798,null,11.799999999999974,5.3406014032272413,{"$f":"('32% Range'!$B$8-Data!J95)/Data!K95","v":4.3440800479849759},{"$f":"(J95-'32% Range'!$B$7)/Data!K95","v":1.6477545009598118},0.49999300697429117,0.45029847043530868,0.95029147740959985,5.3410000000000002,null,11.799999999999974,6.8659319570852455,{"$f":"('32% Range'!$B$8-Data!S95)/Data!T95","v":3.3790023182590621},{"$f":"(S95-'32% Range'!$B$7)/Data!T95","v":1.2816905345120528},0.49963625302657977,0.40002438665025419,0.89966063967683396,6.8529999999999998]
[11.899999999999974,2.8301708851515479,{"$f":"('32% Range'!$B$8-Data!A96)/Data!B96","v":8.162051316828201},{"$f":"(A96-'32% Range'!$B$7)/Data!B96","v":3.1446864380853112},0.49999999999999989,0.49916867534030451,0.9991686753403044,2.83,null,11.899999999999974,5.4013119354543333,{"$f":"('32% Range'!$B$8-Data!J96)/Data!K96","v":4.2767387397811829},{"$f":"(J96-'32% Range'!$B$7)/Data!K96","v":1.6477478261494534},0.49999051744227718,0.45029778530052011,0.9502883027427973,5.4009999999999998,null,11.899999999999974,6.9096055480939906,{"$f":"('32% Range'!$B$8-Data!S96)/Data!T96","v":3.3431720290273508},{"$f":"(S96-'32% Range'!$B$7)/Data!T96","v":1.2880619505776321},0.49958586731874766,0.40113780049974868,0.90072366781849633,6.9249999999999998]
[11.999999999999973,2.862012956854604,{"$f":"('32% Range'!$B$8-Data!A97)/Data!B97","v":8.0363018430487401},{"$f":"(A97-'32% Range'!$B$7)/Data!B97","v":3.1446398516277547},0.49999999999999956,0.49916854296071311,0.99916854296071267,2.8620000000000001,null,11.999999999999973,5.4620269124784029,{"$f":"('32% Range'!$B$8-Data!J97)/Data!K97","v":4.2108910059477802},{"$f":"(J97-'32% Range'!$B$7)/Data!K97","v":1.6477399588491244},0.49998728172725504,0.45029697775312383,0.95028425948037887,5.4619999999999997,null,11.999999999999973,6.9813967865179976,{"$f":"('32% Range'!$B$8-Data!S97)/Data!T97","v":3.2944696746668343},{"$f":"(S97-'32% Range'!$B$7)/Data!T97","v":1.289140307478321},0.49950696208051903,0.40132534362818972,0.90083230570870876,6.9989999999999997]
[12.099999999999973,2.8938663449108599,{"$f":"('32% Range'!$B$8-Data!A98)/Data!B98","v":7.91328875304551},{"$f":"(A98-'32% Range'!$B$7)/Data!B98","v":3.1445819935682899},0.49999999999999878,0.49916837852485396,0.99916837852485274,2.8940000000000001,null,12.099999999999973,5.5227342834570603,{"$f":"('32% Range'!$B$8-Data!J98)/Data!K98","v":4.1464967939151576},{"$f":"(J98-'32% Range'!$B$7)/Data!K98","v":1.6477345338265406},0.49998311995475631,0.45029642088982169,0.950279540844578,5.5229999999999997,null,12.099999999999973,7.0523209641639415,{"$f":"('32% Range'!$B$8-Data!S98)/Data!T98","v":3.2471579379845825},{"$f":"(S98-'32% Range'!$B$7)/Data!T98","v":1.2903553378017283},0.4994171815702737,0.4015363442536215,0.90095352582389521,7.0750000000000002]
[12.199999999999973,2.9257339450646924,{"$f":"('32% Range'!$B$8-Data!A99)/Data!B99","v":7.7929163854630268},{"$f":"(A99-'32% Range'!$B$7)/Data!B99","v":3.1445101204499806},0.49999999999999678,0.49916817421573945,0.99916817421573623,2.9260000000000002,null,12.199999999999973,5.583434889043124,{"$f":"('32% Range'!$B$8-Data!J99)/Data!K99","v":4.0835078142923305},{"$f":"(J99-'32% Range'!$B$7)/Data!K99","v":1.6477312233109334},0.49997781953157439,0.45029608107226493,0.95027390060383932,5.5839999999999996,null,12.199999999999973,7.1558080322976672,{"$f":"('32% Range'!$B$8-Data!S99)/Data!T99","v":3.1862229809816665},{"$f":"(S99-'32% Range'!$B$7)/Data!T99","v":1.2856689221504918},0.49927928272563138,0.40072068412258055,0.89999996684821193,7.1529999999999996]
[12.299999999999972,2.9576192731709332,{"$f":"('32% Range'!$B$8-Data!A100)/Data!B100","v":7.6750919923722378},{"$f":"(A100-'32% Range'!$B$7)/Data!B100","v":3.1444209484168066},0.49999999999999178,0.49916792066791515,0.99916792066790694,2.9580000000000002,null,12.299999999999972,5.6441311136104764,{"$f":"('32% Range'!$B$8-Data!J100)/Data!K100","v":4.02187680319126},{"$f":"(J100-'32% Range'!$B$7)/Data!K100","v":1.6477292629814344},0.4999711318723824,0.4502958798476363,0.95026701172001871,5.6440000000000001,null,12.299999999999972,7.2295777372571779,{"$f":"('32% Range'!$B$8-Data!S100)/Data!T100","v":3.1398790946000892},{"$f":"(S100-'32% Range'!$B$7)/Data!T100","v":1.2863821841313086},0.49915491212548202,0.40084514350368006,0.90000005562916208,7.2309999999999999]
[12.399999999999972,2.9895789102546857,{"$f":"('32% Range'!$B$8-Data!A101)/Data!B101","v":7.559593065926034},{"$f":"(A101-'32% Range'!$B$7)/Data!B101","v":3.1442555229957705},0.49999999999997979,0.49916745011625541,0.9991674501162352,2.99,null,12.399999999999972,5.7053468031148542,{"$f":"('32% Range'!$B$8-Data!J101)/Data!K101","v":3.96119653719586},{"$f":"(J101-'32% Range'!$B$7)/Data!K101","v":1.6475773207805717},0.49996271244147639,0.45028028125063535,0.95024299369211174,5.7050000000000001,null,12.399999999999972,7.3324825545885357,{"$f":"('32% Range'!$B$8-Data!S101)/Data!T101","v":3.0821757613125662},{"$f":"(S101-'32% Range'!$B$7)/Data!T101","v":1.2819669095724777},0.49897253268044539,0.40007287278571679,0.89904540546616218,7.3090000000000002]
[12.499999999999972,3.0214965354438124,{"$f":"('32% Range'!$B$8-Data!A102)/Data!B102","v":7.4466410058931665},{"$f":"(A102-'32% Range'!$B$7)/Data!B102","v":3.1441373135993236},0.49999999999995215,0.4991671137203384,0.99916711372029055,3.0219999999999998,null,12.499999999999972,5.7658840054843914,{"$f":"('32% Range'!$B$8-Data!J102)/Data!K102","v":3.902263725492654},{"$f":"(J102-'32% Range'!$B$7)/Data!K102","v":1.6476224618746691},0.49995235137778338,0.45028491590569264,0.95023726728347602,5.766,null,12.499999999999972,7.4003881046333184,{"$f":"('32% Range'!$B$8-Data!S102)/Data!T102","v":3.0403810829749558},{"$f":"(S102-'32% Range'!$B$7)/Data!T102","v":1.2837164572560869},0.49881860511404386,0.40037940802556204,0.8991980131396059,7.3840000000000003]
[12.599999999999971,3.0534526150767327,{"$f":"('32% Range'!$B$8-Data!A103)/Data!B103","v":7.3359579544145372},{"$f":"(A103-'32% Range'!$B$7)/Data!B103","v":3.14398198046336},0.49999999999988998,0.49916667148892824,0.99916667148881821,3.0539999999999998,null,12.599999999999971,5.8264942725719937,{"$f":"('32% Range'!$B$8-Data!J103)/Data!K103","v":3.8445073404512211},{"$f":"(J103-'32% Range'!$B$7)/Data!K103","v":1.6476460030505165},0.49993960256525127,0.45028733275133526,0.95022693531658653,5.8259999999999996,null,12.599999999999971,7.4672295552708405,{"$f":"('32% Range'!$B$8-Data!S103)/Data!T103","v":2.9997738564483662},{"$f":"(S103-'32% Range'!$B$7)/Data!T103","v":1.2856173670492943},0.49864909939438828,0.40071168368243582,0.8993607830768241,7.4560000000000004]
[12.699999999999971,3.085452324225646,{"$f":"('32% Range'!$B$8-Data!A104)/Data!B104","v":7.2274654270007712},{"$f":"(A104-'32% Range'!$B$7)/Data!B104","v":3.1437854099509943},0.49999999999975397,0.49916611154557478,0.99916611154532875,3.0859999999999999,null,12.699999999999971,5.887174266877361,{"$f":"('32% Range'!$B$8-Data!J104)/Data!K104","v":3.7878953448796513},{"$f":"(J104-'32% Range'!$B$7)/Data!K104","v":1.6476495446337425},0.49992403559191778,0.45028769633848453,0.95021173193040231,5.8869999999999996,null,12.699999999999971,7.5329658391694005,{"$f":"('32% Range'!$B$8-Data!S104)/Data!T104","v":2.960321402766227},{"$f":"(S104-'32% Range'!$B$7)/Data!T104","v":1.2876734352839587},0.49846340875676265,0.4010701677446431,0.89953357650140575,7.5259999999999998]
[12.799999999999971,3.1174948225463046,{"$f":"('32% Range'!$B$8-Data!A105)/Data!B105","v":7.1211024440026289},{"$f":"(A105-'32% Range'!$B$7)/Data!B105","v":3.1435497275326783},0.49999999999946465,0.49916543973320582,0.99916543973267047,3.1179999999999999,null,12.799999999999971,5.9478560783558887,{"$f":"('32% Range'!$B$8-Data!J105)/Data!K105","v":3.7324373198580445},{"$f":"(J105-'32% Range'!$B$7)/Data!K105","v":1.6476525105679583},0.4999051820526571,0.45028800082653875,0.95019318287919585,5.9480000000000004,null,12.799999999999971,7.5975596185679821,{"$f":"('32% Range'!$B$8-Data!S105)/Data!T105","v":2.921990891094103},{"$f":"(S105-'32% Range'!$B$7)/Data!T105","v":1.289887870843337},0.49826099143930491,0.40145520366883614,0.89971619510814105,7.593]
[12.89999999999997,3.1495866985644456,{"$f":"('32% Range'!$B$8-Data!A106)/Data!B106","v":7.0167936669509743},{"$f":"(A106-'32% Range'!$B$7)/Data!B106","v":3.1432695612133186},0.49999999999886491,0.49916464047176434,0.99916464047062925,3.15,null,12.89999999999997,6.008539537418307,{"$f":"('32% Range'!$B$8-Data!J106)/Data!K106","v":3.6780984567667088},{"$f":"(J106-'32% Range'!$B$7)/Data!K106","v":1.6476549647959393},0.49988251037010734,0.45028825278080042,0.95017076315090776,6.0090000000000003,null,12.89999999999997,7.6609773122865219,{"$f":"('32% Range'!$B$8-Data!S106)/Data!T106","v":2.8847494385026429},{"$f":"(S106-'32% Range'!$B$7)/Data!T106","v":1.2922633231301375},0.4980413735165693,0.40186701555574356,0.89990838907231285,7.6580000000000004]
[12.99999999999997,3.1817351079345086,{"$f":"('32% Range'!$B$8-Data!A107)/Data!B107","v":6.9144662436345303},{"$f":"(A107-'32% Range'!$B$7)/Data!B107","v":3.1429392016520454},0.49999999999765188,0.49916369711376363,0.99916369711141551,3.1819999999999999,null,12.99999999999997,6.0692244868771494,{"$f":"('32% Range'!$B$8-Data!J107)/Data!K107","v":3.6248453237424867},{"$f":"(J107-'32% Range'!$B$7)/Data!K107","v":1.6476569653374868},0.49985543277632771,0.45028845815826446,0.95014389093459217,6.069,null,12.99999999999997,7.7231890648180395,{"$f":"('32% Range'!$B$8-Data!S107)/Data!T107","v":2.8485642155541813},{"$f":"(S107-'32% Range'!$B$7)/Data!T107","v":1.2948019161609858},0.49780415051993521,0.40230571459149522,0.90010986511143043,7.7220000000000004]
[13.099999999999969,3.213947748441317,{"$f":"('32% Range'!$B$8-Data!A108)/Data!B108","v":6.8140497961178657},{"$f":"(A108-'32% Range'!$B$7)/Data!B108","v":3.14255264569818},0.49999999999525557,0.49916259203989755,0.99916259203515312,3.214,null,13.099999999999969,6.1299107794838825,{"$f":"('32% Range'!$B$8-Data!J108)/Data!K108","v":3.5726457998861667},{"$f":"(J108-'32% Range'!$B$7)/Data!K108","v":1.6476585652442979},0.49982330369507866,0.45028862240570489,0.95011192610078354,6.13,null,13.099999999999969,7.7841686398122842,{"$f":"('32% Range'!$B$8-Data!S108)/Data!T108","v":2.8134025627338093},{"$f":"(S108-'32% Range'!$B$7)/Data!T108","v":1.2975052914891025},{"$f":"NORMSDIST(U108)-0.5","v":0.49754898800741987},{"$f":"NORMSDIST(V108)-0.5","v":0.40277130718286203},{"$f":"W108+X108","v":0.90032029519028189},7.7859999999999996]
[13.199999999999969,3.2462328235076212,{"$f":"('32% Range'!$B$8-Data!A109)/Data!B109","v":6.7154764261315938},{"$f":"(A109-'32% Range'!$B$7)/Data!B109","v":3.1421036489239427},0.49999999999062739,0.4991613067758881,0.99916130676651549,3.2469999999999999,null,13.199999999999969,6.1905982756025182,{"$f":"('32% Range'!$B$8-Data!J109)/Data!K109","v":3.5214690130863455},{"$f":"(J109-'32% Range'!$B$7)/Data!K109","v":1.6476598134624112},0.49978541858911252,0.45028875054826167,0.95007416913737419,6.1909999999999998,null,13.199999999999969,7.8438932599404865,{"$f":"('32% Range'!$B$8-Data!S109)/Data!T109","v":2.7792321080316991},{"$f":"(S109-'32% Range'!$B$7)/Data!T109","v":1.300374656051523},{"$f":"NORMSDIST(U109)-0.5","v":0.49727562119596413},{"$f":"NORMSDIST(V109)-0.5","v":0.40326370406003875},{"$f":"W109+X109","v":0.90053932525600289},7.851]
[13.299999999999969,3.2785989945588643,{"$f":"('32% Range'!$B$8-Data!A110)/Data!B110","v":6.6186807340614608},{"$f":"(A110-'32% Range'!$B$7)/Data!B110","v":3.1415857862134904},0.49999999998187905,0.49915982212801646,0.99915982210989551,3.2789999999999999,null,13.299999999999969,6.2512868410231253,{"$f":"('32% Range'!$B$8-Data!J110)/Data!K110","v":3.4712852812315473},{"$f":"(J110-'32% Range'!$B$7)/Data!K110","v":1.6476607556075935},0.49974101330441356,0.45028884726907781,0.95002986057349137,6.2510000000000003,null,13.299999999999969,7.9023434268283834,{"$f":"('32% Range'!$B$8-Data!S110)/Data!T110","v":2.7460208735460334},{"$f":"(S110-'32% Range'!$B$7)/Data!T110","v":1.303410829378987},0.49698385372614651,0.40378272934706094,0.90076658307320745,7.9160000000000004]
[13.399999999999968,3.3110553230454971,{"$f":"('32% Range'!$B$8-Data!A111)/Data!B111","v":6.5235998473539327},{"$f":"(A111-'32% Range'!$B$7)/Data!B111","v":3.1409925190963239},0.49999999996568012,0.49915811833393875,0.99915811829961887,3.3109999999999999,null,13.399999999999968,6.3119763449235515,{"$f":"('32% Range'!$B$8-Data!J111)/Data!K111","v":3.4220660565960408},{"$f":"(J111-'32% Range'!$B$7)/Data!K111","v":1.6476614346573457},0.49968926393506519,0.45028891698037044,0.94997818091543562,6.3120000000000003,null,13.399999999999968,7.9915408004922197,{"$f":"('32% Range'!$B$8-Data!S111)/Data!T111","v":2.7028580018848967},{"$f":"(S111-'32% Range'!$B$7)/Data!T111","v":1.3013760749816112},0.49656269459097457,0.40343512057258357,0.89999781516355815,7.9820000000000002]
[13.499999999999968,3.3436112033599179,{"$f":"('32% Range'!$B$8-Data!A112)/Data!B112","v":6.4301734538977433},{"$f":"(A112-'32% Range'!$B$7)/Data!B112","v":3.1403172681826046},0.49999999993627076,0.49915617522468048,0.99915617516095123,3.3439999999999999,null,13.499999999999968,6.372666657993828,{"$f":"('32% Range'!$B$8-Data!J112)/Data!K112","v":3.3737838731970364},{"$f":"(J112-'32% Range'!$B$7)/Data!K112","v":1.6476618915613359},0.49962928722383548,0.4502889638861205,0.94991825110995598,6.3719999999999999,null,13.499999999999968,8.0551752021625056,{"$f":"('32% Range'!$B$8-Data!S112)/Data!T112","v":2.6690915418237093},{"$f":"(S112-'32% Range'!$B$7)/Data!T112","v":1.3035098227511079},0.49619716409629888,0.40379961745928794,0.89999678155558682,8.0470000000000006]
[13.599999999999968,3.3762762882724529,{"$f":"('32% Range'!$B$8-Data!A113)/Data!B113","v":6.3383438358801563},{"$f":"(A113-'32% Range'!$B$7)/Data!B113","v":3.1395534888004364},0.499999999883876,0.49915397239319381,0.99915397227706981,3.3769999999999998,null,13.599999999999968,6.4333576507460162,{"$f":"('32% Range'!$B$8-Data!J113)/Data!K113","v":3.3264122969315215},{"$f":"(J113-'32% Range'!$B$7)/Data!K113","v":1.6476621657698116},0.49956014150490513,0.45028899203633754,0.94984913354124267,6.4320000000000004,null,13.599999999999968,8.1177137145137905,{"$f":"('32% Range'!$B$8-Data!S113)/Data!T113","v":2.6362102375868011},{"$f":"(S113-'32% Range'!$B$7)/Data!T113","v":1.3057863793654187},0.49580811150850479,0.40418739336419451,0.8999955048726993,8.1110000000000007]
[13.699999999999967,3.4089885209653277,{"$f":"('32% Range'!$B$8-Data!A114)/Data!B114","v":6.2481876571319415},{"$f":"(A114-'32% Range'!$B$7)/Data!B114","v":3.1387609357423223},0.49999999979237875,0.49915168098364737,0.99915168077602612,3.4089999999999998,null,13.699999999999967,6.4933997871229625,{"$f":"('32% Range'!$B$8-Data!J114)/Data!K114","v":3.2802539037007987},{"$f":"(J114-'32% Range'!$B$7)/Data!K114","v":1.6478270783849007},0.49948143148562085,0.45030591964651312,0.94978735113213397,6.4909999999999997,null,13.699999999999967,8.1791295443858498,{"$f":"('32% Range'!$B$8-Data!S114)/Data!T114","v":2.6041890991469065},{"$f":"(S114-'32% Range'!$B$7)/Data!T114","v":1.3082076695244962},0.49539540346811828,0.40459855928345279,0.89999396275157106,8.1739999999999995]
[13.799999999999967,3.441900041869701,{"$f":"('32% Range'!$B$8-Data!A115)/Data!B115","v":6.1593886347971383},{"$f":"(A115-'32% Range'!$B$7)/Data!B115","v":3.1378017573494712},0.49999999963486841,0.49914890019665559,0.999148899831524,3.4420000000000002,null,13.799999999999967,6.5540856737718842,{"$f":"('32% Range'!$B$8-Data!J115)/Data!K115","v":3.2346235699722561},{"$f":"(J115-'32% Range'!$B$7)/Data!K115","v":1.6478271016839721},0.49939098399580428,0.45030592203774322,0.94969690603354751,6.5490000000000004,null,13.799999999999967,8.239398779712614,{"$f":"('32% Range'!$B$8-Data!S115)/Data!T115","v":2.5730032696317044},{"$f":"(S115-'32% Range'!$B$7)/Data!T115","v":1.3107752505670887},0.49495898723760579,0.40503314674952429,0.89999213398713007,8.2349999999999994]
[13.899999999999967,3.4749503876033154,{"$f":"('32% Range'!$B$8-Data!A116)/Data!B116","v":6.0720291360915724},{"$f":"(A116-'32% Range'!$B$7)/Data!B116","v":3.1367354304927879},0.49999999936847994,0.49914579893210453,0.99914579830058448,3.4740000000000002,null,13.899999999999967,6.6147718372077753,{"$f":"('32% Range'!$B$8-Data!J116)/Data!K116","v":3.1898303553440108},{"$f":"(J116-'32% Range'!$B$7)/Data!K116","v":1.6478270556042445},0.49928821833976889,0.45030591730848901,0.9495941356482579,6.6040000000000001,null,13.899999999999967,8.2985003339570991,{"$f":"('32% Range'!$B$8-Data!S116)/Data!T116","v":2.5426280834935633},{"$f":"(S116-'32% Range'!$B$7)/Data!T116","v":1.3134903369706024},0.49449888656920471,0.40549111255032444,0.89998999911952915,8.2940000000000005]
[13.999999999999966,3.5081494202760921,{"$f":"('32% Range'!$B$8-Data!A117)/Data!B117","v":5.9860620185178233},{"$f":"(A117-'32% Range'!$B$7)/Data!B117","v":3.1355562954140832},0.49999999892508784,0.49914235748171865,0.99914235640680649,3.5059999999999998,null,13.999999999999966,6.6754581355047753,{"$f":"('32% Range'!$B$8-Data!J117)/Data!K117","v":3.1458515016830506},{"$f":"(J117-'32% Range'!$B$7)/Data!K117","v":1.6478269770720664},0.49917197967277782,0.45030590924857417,0.94947788892135199,6.657,null,13.999999999999966,8.3564158727933293,{"$f":"('32% Range'!$B$8-Data!S117)/Data!T117","v":2.5130391210388972},{"$f":"(S117-'32% Range'!$B$7)/Data!T117","v":1.3163538253060827},0.49401519696269003,0.40597234361294965,0.89998754057563968,8.3520000000000003]
[14.099999999999966,3.5415068456089838,{"$f":"('32% Range'!$B$8-Data!A118)/Data!B118","v":5.9014427787746238},{"$f":"(A118-'32% Range'!$B$7)/Data!B118","v":3.1342590834640198},0.49999999819831797,0.49913855668175355,0.99913855488007153,3.5390000000000001,null,14.099999999999966,6.7361444225877101,{"$f":"('32% Range'!$B$8-Data!J118)/Data!K118","v":3.1026650690442348},{"$f":"(J118-'32% Range'!$B$7)/Data!K118","v":1.6478269026981265},0.49904106720924379,0.45030590161542672,0.94934696882467051,6.7089999999999996,null,14.099999999999966,8.4131297160093439,{"$f":"('32% Range'!$B$8-Data!S118)/Data!T118","v":2.4842122617257911},{"$f":"(S118-'32% Range'!$B$7)/Data!T118","v":1.3193663208208684},0.49350808051027439,0.40647666223161782,0.89998474274189222,8.4090000000000007]
[14.199999999999966,3.5669813122909235,{"$f":"('32% Range'!$B$8-Data!A119)/Data!B119","v":5.8312612763987426},{"$f":"(A119-'32% Range'!$B$7)/Data!B119","v":3.1399099180608467},0.4999999972495015,0.49915500103543586,0.99915499828493737,3.5710000000000002,null,14.199999999999966,6.7295351969913577,{"$f":"('32% Range'!$B$8-Data!J119)/Data!K119","v":3.0908523978445497},{"$f":"(J119-'32% Range'!$B$7)/Data!K119","v":1.6643051373009037},0.49900208590522532,0.45197426684941611,0.95097635275464143,6.7590000000000003,null,14.199999999999966,8.4686287193533847,{"$f":"('32% Range'!$B$8-Data!S119)/Data!T119","v":2.4561237349401948},{"$f":"(S119-'32% Range'!$B$7)/Data!T119","v":1.3225281649677909},0.49297776047289599,0.4070038315029737,0.89998159197586969,8.4649999999999999]
[14.299999999999965,3.6004963834460719,{"$f":"('32% Range'!$B$8-Data!A120)/Data!B120","v":5.7492072746335747},{"$f":"(A120-'32% Range'!$B$7)/Data!B120","v":3.138456145089811},0.49999999551685781,0.49915079826179254,0.99915079377865035,3.6030000000000002,null,14.299999999999965,6.7896201616865506,{"$f":"('32% Range'!$B$8-Data!J120)/Data!K120","v":3.0487714344918713},{"$f":"(J120-'32% Range'!$B$7)/Data!K120","v":1.6643051792153614},0.49885110384759845,0.45197427103537779,0.95082537488297625,6.8090000000000002,null,14.299999999999965,8.5229021408111549,{"$f":"('32% Range'!$B$8-Data!S120)/Data!T120","v":2.4287501672558149},{"$f":"(S120-'32% Range'!$B$7)/Data!T120","v":1.3258394632845689},0.49242451571775958,0.40755356084759142,0.899978076565351,8.5190000000000001]
[14.399999999999965,3.6368032966671904,{"$f":"('32% Range'!$B$8-Data!A121)/Data!B121","v":5.6643151470078461},{"$f":"(A121-'32% Range'!$B$7)/Data!B121","v":3.1346210036839386},0.49999999261935524,0.49913961865435363,0.99913961127370887,3.6360000000000001,null,14.399999999999965,6.8707682902980114,{"$f":"('32% Range'!$B$8-Data!J121)/Data!K121","v":2.9982090982588696},{"$f":"(J121-'32% Range'!$B$7)/Data!K121","v":1.6592030932112112},0.49864214360776205,0.45146256273943286,0.95010470634719491,6.859,null,14.399999999999965,8.5759413719932418,{"$f":"('32% Range'!$B$8-Data!S121)/Data!T121","v":2.4020686600393741},{"$f":"(S121-'32% Range'!$B$7)/Data!T121","v":1.3293001322547928},0.49184867590153214,0.40812551466918667,0.89997419057071881,8.5719999999999992]
[14.499999999999964,3.6690439086924953,{"$f":"('32% Range'!$B$8-Data!A122)/Data!B122","v":5.5872866365628857},{"$f":"(A122-'32% Range'!$B$7)/Data!B122","v":3.1343315278279453},0.49999998846775684,0.49913876934971646,0.9991387578174733,3.669,null,14.499999999999964,6.9174742510140845,{"$f":"('32% Range'!$B$8-Data!J122)/Data!K122","v":2.9635094047505541},{"$f":"(J122-'32% Range'!$B$7)/Data!K122","v":1.6624564953478638},0.49847923616271306,0.4517893603262142,0.95026859648892725,6.9089999999999998,null,14.499999999999964,8.6277402261487381,{"$f":"('32% Range'!$B$8-Data!S122)/Data!T122","v":2.376056703453953},{"$f":"(S122-'32% Range'!$B$7)/Data!T122","v":1.332909858035138},0.4912506132543869,0.40871930644914112,0.89996991970352802,8.6240000000000006]
[14.599999999999964,3.7012894986203513,{"$f":"('32% Range'!$B$8-Data!A123)/Data!B123","v":5.5115926510488027},{"$f":"(A123-'32% Range'!$B$7)/Data!B123","v":3.1340428800081277},0.49999998221994224,0.49913792170685745,0.99913790392679969,3.7010000000000001,null,14.599999999999964,6.9631107486124968,{"$f":"('32% Range'!$B$8-Data!J123)/Data!K123","v":2.9297250519913152},{"$f":"(J123-'32% Range'!$B$7)/Data!K123","v":1.6659220883872106},0.49830368978392114,0.45213553323999733,0.95043922302391848,6.9589999999999996,null,14.599999999999964,8.6782941882940658,{"$f":"('32% Range'!$B$8-Data!S123)/Data!T123","v":2.3506923777160131},{"$f":"(S123-'32% Range'!$B$7)/Data!T123","v":1.3366682147796873},0.49063074080006686,0.40933451920090935,0.89996526000097621,8.6739999999999995]
[14.699999999999964,3.7335345344111706,{"$f":"('32% Range'!$B$8-Data!A124)/Data!B124","v":5.4372069718116656},{"$f":"(A124-'32% Range'!$B$7)/Data!B124","v":3.1337596832608954},0.49999997293887177,0.49913708932605627,0.99913706226492804,3.734,null,14.699999999999964,7.0076436812677709,{"$f":"('32% Range'!$B$8-Data!J124)/Data!K124","v":2.8968367861317272},{"$f":"(J124-'32% Range'!$B$7)/Data!K124","v":1.6696054383123666},0.49811527097061326,0.45250127313504729,0.95061654410566054,7.01,null,14.699999999999964,8.7276006133677697,{"$f":"('32% Range'!$B$8-Data!S124)/Data!T124","v":2.3259542799090984},{"$f":"(S124-'32% Range'!$B$7)/Data!T124","v":1.3405746342333162},0.48998950506946182,0.40997070127597446,0.89996020634543628,8.7230000000000008]
[14.799999999999963,3.7657788324658323,{"$f":"('32% Range'!$B$8-Data!A125)/Data!B125","v":5.3640962198444022},{"$f":"(A125-'32% Range'!$B$7)/Data!B125","v":3.1334819502061202},0.49999995932223507,0.49913627228652446,0.99913623160875953,3.7679999999999998,null,14.799999999999963,7.0510853541775775,{"$f":"('32% Range'!$B$8-Data!J125)/Data!K125","v":2.8648071871704239},{"$f":"(J125-'32% Range'!$B$7)/Data!K125","v":1.6735012281490511},0.49791368388013646,0.45288566751180959,0.95079935139194605,7.0609999999999999,null,14.799999999999963,8.7756584879131836,{"$f":"('32% Range'!$B$8-Data!S125)/Data!T125","v":2.3018215701786633},{"$f":"(S125-'32% Range'!$B$7)/Data!T125","v":1.344628441985549},0.48932738169655443,0.41062737315813669,0.89995475485469112,8.7710000000000008]
[14.899999999999963,3.7980167898859447,{"$f":"('32% Range'!$B$8-Data!A126)/Data!B126","v":5.2922356882481409},{"$f":"(A126-'32% Range'!$B$7)/Data!B126","v":3.1332141636891824},0.49999993958498501,0.49913548383428463,0.99913542341926964,3.8010000000000002,null,14.899999999999963,7.0934111869690106,{"$f":"('32% Range'!$B$8-Data!J126)/Data!K126","v":2.8336155158923892},{"$f":"(J126-'32% Range'!$B$7)/Data!K126","v":1.6776131661253364},0.49769876649128264,0.45328867957830243,0.95098744606958507,7.1130000000000004,null,14.899999999999963,8.8224682757595083,{"$f":"('32% Range'!$B$8-Data!S126)/Data!T126","v":2.2782739899701898},{"$f":"(S126-'32% Range'!$B$7)/Data!T126","v":1.3488288796340859},0.48864487083132924,0.41130403186695019,0.89994890269827943,8.8179999999999996]
[14.999999999999963,3.8365423431278045,{"$f":"('32% Range'!$B$8-Data!A127)/Data!B127","v":5.2130273072119166},{"$f":"(A127-'32% Range'!$B$7)/Data!B127","v":3.1278163843271347},0.49999990710823228,0.49911944918231577,0.99911935629054804,3.835,null,14.999999999999963,7.1804354173418057,{"$f":"('32% Range'!$B$8-Data!J127)/Data!K127","v":2.7853464083385666},{"$f":"(J127-'32% Range'!$B$7)/Data!K127","v":1.6712078450031318},0.49732647174036348,0.45265968437622472,0.94998615611658821,7.165,null,14.999999999999963,8.8680317683628687,{"$f":"('32% Range'!$B$8-Data!S127)/Data!T127","v":2.2552918756280285},{"$f":"(S127-'32% Range'!$B$7)/Data!T127","v":1.3531751253768105},0.48794249287487335,0.4120001550380874,0.89994264791296075,8.8640000000000008]
[15.099999999999962,3.8699466931048718,{"$f":"('32% Range'!$B$8-Data!A128)/Data!B128","v":5.142189693583143},{"$f":"(A128-'32% Range'!$B$7)/Data!B128","v":3.1266580548922471},0.49999986422263754,0.49911597280848619,0.99911583703112372,3.8690000000000002,null,15.099999999999962,7.2282214819353729,{"$f":"('32% Range'!$B$8-Data!J128)/Data!K128","v":2.753097708714892},{"$f":"(J128-'32% Range'!$B$7)/Data!K128","v":1.6739940841934688},0.49704828628546516,0.45293411899782643,0.94998240528329159,7.2160000000000002,null,15.099999999999962,8.9123519411202832,{"$f":"('32% Range'!$B$8-Data!S128)/Data!T128","v":2.232856167650243},{"$f":"(S128-'32% Range'!$B$7)/Data!T128","v":1.3576663129933568},0.48722078454920448,0.41271520467012612,0.8999359892193306,8.9079999999999995]
[15.199999999999962,3.9033902343092208,{"$f":"('32% Range'!$B$8-Data!A129)/Data!B129","v":5.0725135872826783},{"$f":"(A129-'32% Range'!$B$7)/Data!B129","v":3.1254881699418364},0.49999980370245301,0.4991124489515687,0.9991122526540217,3.903,null,15.199999999999962,7.2750151341024241,{"$f":"('32% Range'!$B$8-Data!J129)/Data!K129","v":2.7216438227304005},{"$f":"(J129-'32% Range'!$B$7)/Data!K129","v":1.6769724564298343},0.49675209438203105,0.45322606598677262,0.94997816036880367,7.266,null,15.199999999999962,8.9554328165772645,{"$f":"('32% Range'!$B$8-Data!S129)/Data!T129","v":2.2109484159546775},{"$f":"(S129-'32% Range'!$B$7)/Data!T129","v":1.3623015492245922},0.48648029530624859,0.4134486305367131,0.89992892584296169,8.9510000000000005]
[15.299999999999962,3.9368644651316123,{"$f":"('32% Range'!$B$8-Data!A130)/Data!B130","v":5.0039822743406157},{"$f":"(A130-'32% Range'!$B$7)/Data!B130","v":3.1243138058065618},0.49999971921038411,0.49910889862000596,0.99910861783039007,3.9369999999999998,null,15.299999999999962,7.3207886232089709,{"$f":"('32% Range'!$B$8-Data!J130)/Data!K130","v":2.6909669181740155},{"$f":"(J130-'32% Range'!$B$7)/Data!K130","v":1.6801468575401128},0.4964377370324522,0.45353562700874017,0.94997336404119237,7.3140000000000001,null,15.299999999999962,8.9972793351862368,{"$f":"('32% Range'!$B$8-Data!S130)/Data!T130","v":2.1895507815299218},{"$f":"(S130-'32% Range'!$B$7)/Data!T130","v":1.367079929584665},0.48572158407326793,0.41419987326881247,0.8999214573420804,8.9930000000000003]
[15.399999999999961,3.9703723207210344,{"$f":"('32% Range'!$B$8-Data!A131)/Data!B131","v":4.9365647392082872},{"$f":"(A131-'32% Range'!$B$7)/Data!B131","v":3.1231327941929825},0.49999960244674169,0.49910531503033972,0.99910491747708141,3.97,null,15.399999999999961,7.3656037567919954,{"$f":"('32% Range'!$B$8-Data!J131)/Data!K131","v":2.661017432810775},{"$f":"(J131-'32% Range'!$B$7)/Data!K131","v":1.6835008248394616},0.49610475382480568,0.45386091008270313,0.94996566390750881,7.3609999999999998,null,15.399999999999961,9.0378972340246015,{"$f":"('32% Range'!$B$8-Data!S131)/Data!T131","v":2.1686460348556209},{"$f":"(S131-'32% Range'!$B$7)/Data!T131","v":1.3720005526637533},0.48494521632653664,0.4149683671167943,0.89991358344333094,9.0340000000000007]
[15.499999999999961,4.0038787886368894,{"$f":"('32% Range'!$B$8-Data!A132)/Data!B132","v":4.8702773059318227},{"$f":"(A132-'32% Range'!$B$7)/Data!B132","v":3.1219726320075627},0.49999944279131492,0.49910178181144438,0.9991012246027593,4.0039999999999996,null,15.499999999999961,7.4092737383581886,{"$f":"('32% Range'!$B$8-Data!J132)/Data!K132","v":2.6318368963812935},{"$f":"(J132-'32% Range'!$B$7)/Data!K132","v":1.6870749335777435},0.49575376889506151,0.45420552787290636,0.94995929676796786,7.4050000000000002,null,15.499999999999961,9.0772929336762029,{"$f":"('32% Range'!$B$8-Data!S132)/Data!T132","v":2.1482175514746502},{"$f":"(S132-'32% Range'!$B$7)/Data!T132","v":1.3770625329965638},0.48415176148083161,0.41575354240584961,0.89990530388668122,9.0730000000000004]
[15.599999999999961,4.0373809383675088,{"$f":"('32% Range'!$B$8-Data!A133)/Data!B133","v":4.8050952575815939},{"$f":"(A133-'32% Range'!$B$7)/Data!B133","v":3.120835064202462},0.499999226610781,0.49909830495451424,0.99909753156529524,4.0369999999999999,null,15.599999999999961,7.451849279481193,{"$f":"('32% Range'!$B$8-Data!J133)/Data!K133","v":2.6033806203539713},{"$f":"(J133-'32% Range'!$B$7)/Data!K133","v":1.6908554544566941},0.49538452953710177,0.45456779357799004,0.94995232311509181,7.4480000000000004,null,15.599999999999961,9.1154734838472482,{"$f":"('32% Range'!$B$8-Data!S133)/Data!T133","v":2.1282492932898247},{"$f":"(S133-'32% Range'!$B$7)/Data!T133","v":1.3822650049201881},0.4833417900903294,0.41655482652483844,0.89989661661516784,9.1110000000000007]
[15.69999999999996,4.0708629884974696,{"$f":"('32% Range'!$B$8-Data!A134)/Data!B134","v":4.7410094750262157},{"$f":"(A134-'32% Range'!$B$7)/Data!B134","v":3.1197316234628305},0.49999893672006812,0.49909492058930194,0.99909385730937006,4.0709999999999997,null,15.69999999999996,7.4933091221576396,{"$f":"('32% Range'!$B$8-Data!J134)/Data!K134","v":2.575631097738933},{"$f":"(J134-'32% Range'!$B$7)/Data!K134","v":1.6948453337452993},0.49499713326320438,0.45494761748088453,0.94994475074408891,7.4889999999999999,null,15.69999999999996,9.1524462138516345,{"$f":"('32% Range'!$B$8-Data!S134)/Data!T134","v":2.1087258585350375},{"$f":"(S134-'32% Range'!$B$7)/Data!T134","v":1.3876071711603541},0.48251587426548825,0.41737165169922741,0.89988752596471566,9.1479999999999997]
[15.79999999999996,4.104306568882282,{"$f":"('32% Range'!$B$8-Data!A135)/Data!B135","v":4.6780131254251645},{"$f":"(A135-'32% Range'!$B$7)/Data!B135","v":3.1186754169500936},0.49999855165995621,0.49909167016488132,0.99909022182483753,4.1040000000000001,null,15.79999999999996,7.5336340720843182,{"$f":"('32% Range'!$B$8-Data!J135)/Data!K135","v":2.5485708246893926},{"$f":"(J135-'32% Range'!$B$7)/Data!K135","v":1.6990472164595865},0.49459173394523492,0.45534485623210996,0.94993659017734489,7.53,null,15.79999999999996,9.1882191490443379,{"$f":"('32% Range'!$B$8-Data!S135)/Data!T135","v":2.0896323529676608},{"$f":"(S135-'32% Range'!$B$7)/Data!T135","v":1.3930882353117668},0.4816745810202675,0.41820344486918715,0.89987802588945465,9.1839999999999993]
[15.899999999999959,4.1376902868483825,{"$f":"('32% Range'!$B$8-Data!A136)/Data!B136","v":4.6161019012730957},{"$f":"(A136-'32% Range'!$B$7)/Data!B136","v":3.1176813888179384},{"$f":"NORMSDIST(C136)-0.5","v":0.49999804492496902},{"$f":"NORMSDIST(D136)-0.5","v":0.49908860129597887},{"$f":"E136+F136","v":0.99908664622094789},4.1369999999999996,null,15.899999999999959,7.5728068343143544,{"$f":"('32% Range'!$B$8-Data!J136)/Data!K136","v":2.5221823846678593},{"$f":"(J136-'32% Range'!$B$7)/Data!K136","v":1.7034634954039378},{"$f":"NORMSDIST(L136)-0.5","v":0.49416853897205881},{"$f":"NORMSDIST(M136)-0.5","v":0.45575931805479331},{"$f":"N136+O136","v":0.94992785702685212},7.569,null,15.899999999999959,9.2228004240991446,{"$f":"('32% Range'!$B$8-Data!S136)/Data!T136","v":2.0709544955664234},{"$f":"(S136-'32% Range'!$B$7)/Data!T136","v":1.3987074865343834},0.48081847564119651,0.41904964085566365,0.89986811649686016,9.2189999999999994]
[15.999999999999959,4.1709892745064607,{"$f":"('32% Range'!$B$8-Data!A137)/Data!B137","v":4.5552742406052458},{"$f":"(A137-'32% Range'!$B$7)/Data!B137","v":3.1167665856772566},0.49999738413611106,0.4990857686026291,0.99908315273874015,4.1710000000000003,null,15.999999999999959,7.6108119003073416,{"$f":"('32% Range'!$B$8-Data!J137)/Data!K137","v":2.4964485062668254},{"$f":"(J137-'32% Range'!$B$7)/Data!K137","v":1.7080963463930821},0.49372780597895671,0.45619076663031044,0.94991857260926715,7.6070000000000002,null,15.999999999999959,9.2561984615948933,{"$f":"('32% Range'!$B$8-Data!S137)/Data!T137","v":2.0526785460395409},{"$f":"(S137-'32% Range'!$B$7)/Data!T137","v":1.4044642683428363},0.47994811794739944,0.41990967767057819,0.89985779561797763,9.2520000000000007]
[16.099999999999959,4.2041744684075448,{"$f":"('32% Range'!$B$8-Data!A138)/Data!B138","v":4.495531796319332},{"$f":"(A138-'32% Range'!$B$7)/Data!B138","v":3.1159506101472449},0.49999653018566503,0.49908323510548203,0.99907976529114706,4.2039999999999997,null,{"$f":"A137+0.1","v":16.099999999999959},7.6476338619233193,{"$f":"('32% Range'!$B$8-Data!J138)/Data!K138","v":2.471352622423642},{"$f":"(J138-'32% Range'!$B$7)/Data!K138","v":1.712948113955002},0.49326984900475335,0.45663895722166226,0.9499088062264156,7.6440000000000001,null,{"$f":"S137+0.1","v":16.099999999999959},9.2884218542325208,{"$f":"('32% Range'!$B$8-Data!S138)/Data!T138","v":2.0347913021831308},{"$f":"(S138-'32% Range'!$B$7)/Data!T138","v":1.4103579925184588},0.47906406168878668,0.42078299868820301,0.89984706037698969,9.2840000000000007]
[16.19999999999996,4.2372131007054739,{"$f":"('32% Range'!$B$8-Data!A139)/Data!B139","v":4.4368785692817614},{"$f":"(A139-'32% Range'!$B$7)/Data!B139","v":3.1152551656659018},0.49999543636264765,0.49908107075101926,0.99907650711366691,4.2370000000000001,null,16.19999999999996,7.683263200138172,{"$f":"('32% Range'!$B$8-Data!J139)/Data!K139","v":2.4468769987811885},{"$f":"(J139-'32% Range'!$B$7)/Data!K139","v":1.7180200204208256},0.49279499966980855,0.45710351819281403,0.94989851786262258,7.6790000000000003,null,16.19999999999996,9.3194793040313453,{"$f":"('32% Range'!$B$8-Data!S139)/Data!T139","v":2.0172800847218673},{"$f":"(S139-'32% Range'!$B$7)/Data!T139","v":1.416388144591942},0.47816685364130107,0.42166905346341432,0.89983590710471539,9.3160000000000007]
[16.299999999999962,4.2700991201560257,{"$f":"('32% Range'!$B$8-Data!A140)/Data!B140","v":4.3792894435941703},{"$f":"(A140-'32% Range'!$B$7)/Data!B140","v":3.1146817967808653},0.49999404665494374,0.49907928278878544,0.99907332944372917,4.2690000000000001,null,16.299999999999962,7.7178816163091506,{"$f":"('32% Range'!$B$8-Data!J140)/Data!K140","v":2.4229446536837087},{"$f":"(J140-'32% Range'!$B$7)/Data!K140","v":1.723270796470223},0.49230236400028327,0.45758021686267392,0.94988258086295718,7.7140000000000004,null,16.299999999999962,9.3493795675399145,{"$f":"('32% Range'!$B$8-Data!S140)/Data!T140","v":2.0001327216326223},{"$f":"(S140-'32% Range'!$B$7)/Data!T140","v":1.4225542886477938},0.47725703287005383,0.4225672983904023,0.89982433126045613,9.3460000000000001]
[16.399999999999963,4.3027378738129736,{"$f":"('32% Range'!$B$8-Data!A141)/Data!B141","v":4.3228289859817099},{"$f":"(A141-'32% Range'!$B$7)/Data!B141","v":3.1142961511911098},0.49999229794319566,0.49907807841527596,0.99907037635847162,4.3019999999999996,null,16.399999999999963,7.7511672704236538,{"$f":"('32% Range'!$B$8-Data!J141)/Data!K141","v":2.3996385771434166},{"$f":"(J141-'32% Range'!$B$7)/Data!K141","v":1.7287718781570769},0.49179436666907161,0.45807503443610254,0.94986940110517415,7.7469999999999999,null,16.399999999999963,9.3781314066327131,{"$f":"('32% Range'!$B$8-Data!S141)/Data!T141","v":1.9833375321276825},{"$f":"(S141-'32% Range'!$B$7)/Data!T141","v":1.4288560715328398},0.47633513014326301,0.42347719721828436,0.89981232736154737,9.3740000000000006]
[16.499999999999964,4.3351026950986498,{"$f":"('32% Range'!$B$8-Data!A142)/Data!B142","v":4.2674882929339804},{"$f":"(A142-'32% Range'!$B$7)/Data!B142","v":3.1141130786274851},0.49999011569290541,0.49907750617202618,0.99906762186493159,4.3339999999999996,null,16.499999999999964,7.7832464224482543,{"$f":"('32% Range'!$B$8-Data!J142)/Data!K142","v":2.3769002028051913},{"$f":"(J142-'32% Range'!$B$7)/Data!K142","v":1.7344947425875641},0.49127059453404931,0.45858483110963322,0.94985542564368253,7.7789999999999999,null,16.499999999999964,9.4057435444987991,{"$f":"('32% Range'!$B$8-Data!S142)/Data!T142","v":1.9668833104449521},{"$f":"(S142-'32% Range'!$B$7)/Data!T142","v":1.4352932265409044},0.47540166748063328,0.4243982214383204,0.89979988891895368,9.4019999999999992]
[16.599999999999966,4.3671394179498142,{"$f":"('32% Range'!$B$8-Data!A143)/Data!B143","v":4.2132843124660422},{"$f":"(A143-'32% Range'!$B$7)/Data!B143","v":3.1141666657357567},0.4999874158037757,0.49907767370692768,0.99906508951070339,4.3659999999999997,null,16.599999999999966,7.8141139736219873,{"$f":"('32% Range'!$B$8-Data!J143)/Data!K143","v":2.3547135429701562},{"$f":"(J143-'32% Range'!$B$7)/Data!K143","v":1.7404404448040207},0.49073150528044807,0.45910914552926052,0.94984065080970859,7.81,null,16.599999999999966,9.4322246262413945,{"$f":"('32% Range'!$B$8-Data!S143)/Data!T143","v":1.9507593096128553},{"$f":"(S143-'32% Range'!$B$7)/Data!T143","v":1.441865576670365},0.47445715782333153,0.42532985056061323,0.89978700838394476,9.4280000000000008]
[16.699999999999967,4.3987880436107067,{"$f":"('32% Range'!$B$8-Data!A144)/Data!B144","v":4.1602368239999663},{"$f":"(A144-'32% Range'!$B$7)/Data!B144","v":3.1144942343606177},0.49998410411172045,0.49907869721089704,0.99906280132261749,4.3970000000000002,null,16.699999999999967,7.8437659680279079,{"$f":"('32% Range'!$B$8-Data!J144)/Data!K144","v":2.3330629795168467},{"$f":"(J144-'32% Range'!$B$7)/Data!K144","v":1.7466099901300909},0.49017757994715838,0.4596474934441549,0.94982507339131328,7.84,null,16.699999999999967,9.4575831840800415,{"$f":"('32% Range'!$B$8-Data!S144)/Data!T144","v":1.9349552252212214},{"$f":"(S144-'32% Range'!$B$7)/Data!T144","v":1.4485730374606898},0.47350210480721056,0.42627157228487844,0.899773677092089,9.4540000000000006]
[16.799999999999969,4.4299827813656121,{"$f":"('32% Range'!$B$8-Data!A145)/Data!B145","v":4.1083681129770877},{"$f":"(A145-'32% Range'!$B$7)/Data!B145","v":3.1151362614881091},0.49998007676783718,0.49908070022912976,0.99906077699696694,4.4279999999999999,null,16.799999999999969,7.8721994813762963,{"$f":"('32% Range'!$B$8-Data!J145)/Data!K145","v":2.3119332840912876},{"$f":"(J145-'32% Range'!$B$7)/Data!K145","v":1.7530043582670132},0.48960931991697554,0.46019937050705584,0.94980869042403138,7.8689999999999998,null,16.799999999999969,9.4818276062954876,{"$f":"('32% Range'!$B$8-Data!S145)/Data!T145","v":1.9194611793950027},{"$f":"(S145-'32% Range'!$B$7)/Data!T145","v":1.45541561954126},0.47253700263244536,0.42722288258774554,0.8997598852201909,9.4779999999999998]
[16.89999999999997,4.4606522450292783,{"$f":"('32% Range'!$B$8-Data!A146)/Data!B146","v":4.0577025523946055},{"$f":"(A146-'32% Range'!$B$7)/Data!B146","v":3.1161362142698787},0.49997522108488257,0.49908381194812723,0.9990590330330098,4.4589999999999996,null,16.89999999999997,7.8994125147389793,{"$f":"('32% Range'!$B$8-Data!J146)/Data!K146","v":2.2913096342580497},{"$f":"(J146-'32% Range'!$B$7)/Data!K146","v":1.7596245257561749},0.48902724410496134,0.46076425485316552,0.94979149895812687,7.8959999999999999,null,16.89999999999997,9.5049661098958396,{"$f":"('32% Range'!$B$8-Data!S146)/Data!T146","v":1.9042677049795793},{"$f":"(S146-'32% Range'!$B$7)/Data!T146","v":1.4623934308959143},0.47156233601415132,0.42818328573009123,0.89974562174424255,9.5009999999999994]
[16.999999999999972,4.4907198129603945,{"$f":"('32% Range'!$B$8-Data!A147)/Data!B147","v":4.008266102029193},{"$f":"(A147-'32% Range'!$B$7)/Data!B147","v":3.1175403015782504},0.49996941691127061,0.49908816494518971,0.99905758185646032,4.4889999999999999,null,16.999999999999972,7.9254038919868046,{"$f":"('32% Range'!$B$8-Data!J147)/Data!K147","v":2.2711776264424097},{"$f":"(J147-'32% Range'!$B$7)/Data!K147","v":1.7664714872329792},0.48843188636668999,0.46134160949101455,0.94977349585770454,7.923,null,16.999999999999972,9.5270067165405177,{"$f":"('32% Range'!$B$8-Data!S147)/Data!T147","v":1.8893657300302875},{"$f":"(S147-'32% Range'!$B$7)/Data!T147","v":1.4695066789124407},0.47057858020512577,0.42915229419701695,0.89973087440214272,9.5229999999999997]
[{"$f":"A147+0.1","v":17.099999999999973},4.520568150115067,{"$f":"('32% Range'!$B$8-Data!A148)/Data!B148","v":3.9596792716296951},{"$f":"(A148-'32% Range'!$B$7)/Data!B148","v":3.1190769681552242},0.49996247475583144,0.49909290718113519,0.99905538193696664,4.5179999999999998,null,17.099999999999973,7.9527796517190072,{"$f":"('32% Range'!$B$8-Data!J148)/Data!K148","v":2.2507853585671658},{"$f":"(J148-'32% Range'!$B$7)/Data!K148","v":1.7729650031171471},0.48780043233913217,0.46188274692330533,0.9496831792624375,7.9480000000000004,null,17.099999999999973,9.5479572314283097,{"$f":"('32% Range'!$B$8-Data!S148)/Data!T148","v":1.8747465626552988},{"$f":"(S148-'32% Range'!$B$7)/Data!T148","v":1.4767556722591968},0.46958620108113169,0.43012942857887948,0.89971562966001117,9.5440000000000005]
[17.199999999999974,4.5492416269692928,{"$f":"('32% Range'!$B$8-Data!A149)/Data!B149","v":3.9127400695703196},{"$f":"(A149-'32% Range'!$B$7)/Data!B149","v":3.1213993813426044},0.49995437262797493,0.49910003127390501,0.99905440390187994,4.5460000000000003,null,17.199999999999974,7.976637612139081,{"$f":"('32% Range'!$B$8-Data!J149)/Data!K149","v":2.2315166948178096},{"$f":"(J149-'32% Range'!$B$7)/Data!K149","v":1.7801987115962241},0.48717653854621101,0.46247827690404053,0.94965481545025154,7.9720000000000004,null,17.199999999999974,9.5678252248558682,{"$f":"('32% Range'!$B$8-Data!S149)/Data!T149","v":1.8604018762548171},{"$f":"(S149-'32% Range'!$B$7)/Data!T149","v":1.4841408226302426},0.46858565528036511,0.4311142174013618,0.89969987268172691,9.5640000000000001]
[17.299999999999976,4.5770623135974811,{"$f":"('32% Range'!$B$8-Data!A150)/Data!B150","v":3.8671092476536923},{"$f":"(A150-'32% Range'!$B$7)/Data!B150","v":3.124274702906646},0.49994493345086433,0.49910878018005567,0.99905371363091999,4.5739999999999998,null,17.299999999999976,7.9992986630935627,{"$f":"('32% Range'!$B$8-Data!J150)/Data!K150","v":2.2126939804938996},{"$f":"(J150-'32% Range'!$B$7)/Data!K150","v":1.7876567187041055},0.48654062465845993,0.46308429569392762,0.94962492035238755,7.9950000000000001,null,17.299999999999976,9.5866180161761587,{"$f":"('32% Range'!$B$8-Data!S150)/Data!T150","v":1.8463236951898572},{"$f":"(S150-'32% Range'!$B$7)/Data!T150","v":1.4916626463963207},0.46757739038963286,0.43210619691169838,0.89968358730133124,9.5830000000000002]
[17.399999999999977,4.6039394309267836,{"$f":"('32% Range'!$B$8-Data!A151)/Data!B151","v":3.8228131069172435},{"$f":"(A151-'32% Range'!$B$7)/Data!B151","v":3.1277561783868264},0.49993403110905144,0.49911926880258217,0.99905329991163361,4.5999999999999996,null,17.399999999999977,8.0207649501960407,{"$f":"('32% Range'!$B$8-Data!J151)/Data!K151","v":2.1943044222446453},{"$f":"(J151-'32% Range'!$B$7)/Data!K151","v":1.7953399818365225},0.48589323412352414,0.46370022571491998,0.94959345983844412,8.0169999999999995,null,17.399999999999977,9.6043426599898272,{"$f":"('32% Range'!$B$8-Data!S151)/Data!T151","v":1.8325043808899946},{"$f":"(S151-'32% Range'!$B$7)/Data!T151","v":1.4993217661827185},0.46656184516942389,0.43310491082573288,0.89966675599515677,9.6010000000000009]
[17.499999999999979,4.6297809361331357,{"$f":"('32% Range'!$B$8-Data!A152)/Data!B152","v":3.779876465303408},{"$f":"(A152-'32% Range'!$B$7)/Data!B152","v":3.1318976426799585},0.49992154690590773,0.49913159792581363,0.99905314483172136,4.6260000000000003,null,17.499999999999979,8.0410390276985524,{"$f":"('32% Range'!$B$8-Data!J152)/Data!K152","v":2.1763356625578703},{"$f":"(J152-'32% Range'!$B$7)/Data!K152","v":1.8032495489765161},0.48523491462621149,0.46432548399275986,0.94956039861897135,8.0370000000000008,null,17.499999999999979,9.621005933869478,{"$f":"('32% Range'!$B$8-Data!S152)/Data!T152","v":1.8189366185082152},{"$f":"(S152-'32% Range'!$B$7)/Data!T152","v":1.5071189124782314},0.46553944981866013,0.43410991005099286,0.899649359869653,9.6170000000000009]
[17.59999999999998,4.6544945983138302,{"$f":"('32% Range'!$B$8-Data!A153)/Data!B153","v":3.7383220954437171},{"$f":"(A153-'32% Range'!$B$7)/Data!B153","v":3.1367530226136857},0.4999073737433738,0.49914585018057123,0.99905322392394502,4.6500000000000004,null,17.59999999999998,8.0601237957249889,{"$f":"('32% Range'!$B$8-Data!J153)/Data!K153","v":2.15877577578012},{"$f":"(J153-'32% Range'!$B$7)/Data!K153","v":1.8113865704821652},0.4845662166500978,0.46495948333592652,0.94952569998602432,8.0559999999999992,null,17.59999999999998,9.6366143284985508,{"$f":"('32% Range'!$B$8-Data!S153)/Data!T153","v":1.8056134039257599},{"$f":"(S153-'32% Range'!$B$7)/Data!T153","v":1.5150549251331051},0.46451062625856432,0.43512075236859571,0.89963137862716003,9.6329999999999991]
[17.699999999999982,4.6779890906825674,{"$f":"('32% Range'!$B$8-Data!A154)/Data!B154","v":3.6981702318326204},{"$f":"(A154-'32% Range'!$B$7)/Data!B154","v":3.1423758617306006},0.49989142038054923,0.49916208620798297,0.9990535065885322,4.6740000000000004,null,17.699999999999982,8.0780224363755071,{"$f":"('32% Range'!$B$8-Data!J154)/Data!K154","v":2.1416132644170127},{"$f":"(J154-'32% Range'!$B$7)/Data!K154","v":1.8197523113832377},0.48388769227075323,0.46560163348058592,0.94948932575133915,8.0739999999999998,null,17.699999999999982,9.6511740386645908,{"$f":"('32% Range'!$B$8-Data!S154)/Data!T154","v":1.7925280313765617},{"$f":"(S154-'32% Range'!$B$7)/Data!T154","v":1.5231307549847048},0.46347578845035553,0.43613700210623374,0.89961279055658927,9.6479999999999997]
[17.799999999999983,4.7001750673668621,{"$f":"('32% Range'!$B$8-Data!A155)/Data!B155","v":3.6594381599568422},{"$f":"(A155-'32% Range'!$B$7)/Data!B155","v":3.1488188818233227},0.49987361558499532,0.49918034119140398,0.9990539567763993,4.6950000000000003,null,17.799999999999983,8.0947383573770288,{"$f":"('32% Range'!$B$8-Data!J155)/Data!K155","v":2.1248370534824059},{"$f":"(J155-'32% Range'!$B$7)/Data!K155","v":1.8283481622988105},0.48319989408519493,0.46625134205302099,0.94945123613821591,8.0909999999999993,null,17.799999999999983,9.6646909558871013,{"$f":"('32% Range'!$B$8-Data!S155)/Data!T155","v":1.7796740815103762},{"$f":"(S155-'32% Range'!$B$7)/Data!T155","v":1.5313474654856694},0.46243534272943609,0.43715822978666452,0.89959357251610061,9.6609999999999996]
[17.899999999999984,4.7209661940092875,{"$f":"('32% Range'!$B$8-Data!A156)/Data!B156","v":3.622139896214299},{"$f":"(A156-'32% Range'!$B$7)/Data!B156","v":3.1561335937773656},0.49985391198463669,0.49920062192017123,0.99905453390480792,4.7160000000000002,null,17.899999999999984,8.1102751397220008,{"$f":"('32% Range'!$B$8-Data!J156)/Data!K156","v":2.1084364840162695},{"$f":"(J156-'32% Range'!$B$7)/Data!K156","v":1.8371756498153424},0.48250337429900791,0.46690801542072047,0.94941138971972838,8.1059999999999999,null,17.899999999999984,9.6771864407752215,{"$f":"('32% Range'!$B$8-Data!S156)/Data!T156","v":1.7670425288024281},{"$f":"(S156-'32% Range'!$B$7)/Data!T156","v":1.5397037239272588},0.46138944691879535,0.43818370565170628,0.89957315257050163,9.6739999999999995]
[17.999999999999986,4.7402801070613609,{"$f":"('32% Range'!$B$8-Data!A157)/Data!B157","v":3.5862859611768414},{"$f":"(A157-'32% Range'!$B$7)/Data!B157","v":3.1643699657442661},0.49983228943438818,0.49922290452773932,0.9990551939621275,4.7350000000000003,null,17.999999999999986,8.124636489532751,{"$f":"('32% Range'!$B$8-Data!J157)/Data!K157","v":2.0924013058186297},{"$f":"(J157-'32% Range'!$B$7)/Data!K157","v":1.8462364463105521},0.481798683956147,0.46757105943437682,0.94936974339052382,8.1210000000000004,null,17.999999999999986,9.6886346171518447,{"$f":"('32% Range'!$B$8-Data!S157)/Data!T157","v":1.7546332039299757},{"$f":"(S157-'32% Range'!$B$7)/Data!T157","v":1.5482057681735051},0.46033896592939183,0.43921361845307472,0.89955258438246655,9.6850000000000005]
[18.099999999999987,4.7580392826676619,{"$f":"('32% Range'!$B$8-Data!A158)/Data!B158","v":3.5518832434953729},{"$f":"(A158-'32% Range'!$B$7)/Data!B158","v":3.1735761524721919},0.49980875773014877,0.49924713301939116,0.99905589074953993,4.7530000000000001,null,18.099999999999987,8.137826193799798,{"$f":"('32% Range'!$B$8-Data!J158)/Data!K158","v":2.0767216695874025},{"$f":"(J158-'32% Range'!$B$7)/Data!K158","v":1.8555323793354868},0.48108637230230689,0.46823988007301465,0.94932625237532153,8.1340000000000003,null,18.099999999999987,9.6990558303755883,{"$f":"('32% Range'!$B$8-Data!S158)/Data!T158","v":1.7424376450202961},{"$f":"(S158-'32% Range'!$B$7)/Data!T158","v":1.5568525704027474},0.45928405323131505,0.44024725376532314,0.89953130699663819,9.6959999999999997]
[18.199999999999989,4.7741718026371442,{"$f":"('32% Range'!$B$8-Data!A159)/Data!B159","v":3.5189349471504299},{"$f":"(A159-'32% Range'!$B$7)/Data!B159","v":3.1837982855170508},0.49978335853159117,0.49927321867162877,0.99905657720321994,4.7679999999999998,null,18.199999999999989,8.1498480796539887,{"$f":"('32% Range'!$B$8-Data!J159)/Data!K159","v":2.0613881186253074},{"$f":"(J159-'32% Range'!$B$7)/Data!K159","v":1.8650654406609899},0.48036698627305874,0.46891388400366441,0.94928087027672314,8.1449999999999996,null,18.199999999999989,9.7084543893734754,{"$f":"('32% Range'!$B$8-Data!S159)/Data!T159","v":1.730450525511938},{"$f":"(S159-'32% Range'!$B$7)/Data!T159","v":1.5656457135584179},0.45822509333075401,0.4412842091315855,0.89950930246233951,9.7050000000000001]
[18.29999999999999,4.7885969422288222,{"$f":"('32% Range'!$B$8-Data!A160)/Data!B160","v":3.4874515858140067},{"$f":"(A160-'32% Range'!$B$7)/Data!B160","v":3.1950903750271999},0.49975617639834624,0.49930106469998359,0.99905724109832983,4.7830000000000004,null,18.29999999999999,8.1606221643764894,{"$f":"('32% Range'!$B$8-Data!J160)/Data!K160","v":2.0464125974243008},{"$f":"(J160-'32% Range'!$B$7)/Data!K160","v":1.8748570503348361},0.47964210315303624,0.46959380394178785,0.94923590709482408,8.1560000000000006,null,18.29999999999999,9.7168349635683544,{"$f":"('32% Range'!$B$8-Data!S160)/Data!T160","v":1.7186666298865694},{"$f":"(S160-'32% Range'!$B$7)/Data!T160","v":1.5745867926505677},0.45716245419306889,0.44232407331222356,0.89948652750529245,9.7129999999999992]
[18.399999999999991,4.8012285354637081,{"$f":"('32% Range'!$B$8-Data!A161)/Data!B161","v":3.4574484170845166},{"$f":"(A161-'32% Range'!$B$7)/Data!B161","v":3.2075123869338249},0.4997273416861725,0.49933055852714892,0.99905790021332141,4.7949999999999999,null,18.399999999999991,8.1699996542555393,{"$f":"('32% Range'!$B$8-Data!J161)/Data!K161","v":2.0318238313943504},{"$f":"(J161-'32% Range'!$B$7)/Data!K161","v":1.8849450002092147},0.47891425315026104,0.47028136812878141,0.94919562127904245,8.1639999999999997,null,18.399999999999991,9.7242013965704874,{"$f":"('32% Range'!$B$8-Data!S161)/Data!T161","v":1.7070810571503039},{"$f":"(S161-'32% Range'!$B$7)/Data!T161","v":1.5836776072358223},0.4560965062665121,0.44336644842870565,0.89946295469521775,9.7210000000000001]
[18.499999999999993,4.8120510171236441,{"$f":"('32% Range'!$B$8-Data!A162)/Data!B162","v":3.428891327478635},{"$f":"(A162-'32% Range'!$B$7)/Data!B162","v":3.2210797318738664},0.49969697392957535,0.49936145693123191,0.99905843086080726,4.8049999999999997,null,18.499999999999993,8.1781841761349678,{"$f":"('32% Range'!$B$8-Data!J162)/Data!K162","v":2.017562779785421},{"$f":"(J162-'32% Range'!$B$7)/Data!K162","v":1.8952862476772119},0.47818159173665298,0.47097275544300554,0.94915434717965852,8.1709999999999994,null,18.499999999999993,9.7305573232978517,{"$f":"('32% Range'!$B$8-Data!S162)/Data!T162","v":1.6956891010234423},{"$f":"(S162-'32% Range'!$B$7)/Data!T162","v":1.5929200645977777},0.45502761317206597,0.44441093776120488,0.89943855093327085,9.7270000000000003]
[18.599999999999994,4.8210201023657735,{"$f":"('32% Range'!$B$8-Data!A163)/Data!B163","v":3.401769677739404},{"$f":"(A163-'32% Range'!$B$7)/Data!B163","v":3.2358296934594306},0.49966524481683683,0.49939355136862518,0.99905879618546201,4.8129999999999997,null,18.599999999999994,8.1851776440709472,{"$f":"('32% Range'!$B$8-Data!J163)/Data!K163","v":2.0036217554642306},{"$f":"(J163-'32% Range'!$B$7)/Data!K163","v":1.905884108856218},0.47744470320591781,0.47166737838272499,0.9491120815886428,8.1739999999999995,null,18.599999999999994,9.7359060454592043,{"$f":"('32% Range'!$B$8-Data!S163)/Data!T163","v":1.6844862638797664},{"$f":"(S163-'32% Range'!$B$7)/Data!T163","v":1.6023162022270936},0.45395613405123658,0.44545714768937561,0.89941328174061219,9.7330000000000005]
[18.699999999999996,4.8280993483878731,{"$f":"('32% Range'!$B$8-Data!A164)/Data!B164","v":3.3760697168426446},{"$f":"(A164-'32% Range'!$B$7)/Data!B164","v":3.2517972119281899},0.49963235357631708,0.49942661095586161,0.99905896453217868,4.82,null,18.699999999999996,8.1909818259489739,{"$f":"('32% Range'!$B$8-Data!J164)/Data!K164","v":1.9899934276940667},{"$f":"(J164-'32% Range'!$B$7)/Data!K164","v":1.9167421358771062},0.47670417025202405,0.47236465031186892,0.94906882056389297,8.1760000000000002,null,18.699999999999996,9.7402505297855448,{"$f":"('32% Range'!$B$8-Data!S164)/Data!T164","v":1.6734682491127759},{"$f":"(S164-'32% Range'!$B$7)/Data!T164","v":1.6118681908632251},0.45288242399564649,0.44650468730019177,0.89938711129583826,9.7370000000000001]
[18.799999999999997,4.8332603428483312,{"$f":"('32% Range'!$B$8-Data!A165)/Data!B165","v":3.3517747546893033},{"$f":"(A165-'32% Range'!$B$7)/Data!B165","v":3.2690148842031466},0.49959852340532052,0.49946038687878358,0.9990589102841041,4.8239999999999998,null,18.799999999999997,8.1955983200952076,{"$f":"('32% Range'!$B$8-Data!J165)/Data!K165","v":1.9766708136828024},{"$f":"(J165-'32% Range'!$B$7)/Data!K165","v":1.9278641269252017},0.47596057402387015,0.47306398560078611,0.94902455962465626,8.1739999999999995,null,18.799999999999997,9.7435934063357124,{"$f":"('32% Range'!$B$8-Data!S165)/Data!T165","v":1.6626309539421105},{"$f":"(S165-'32% Range'!$B$7)/Data!T165","v":1.6215783377953912},0.45180683448383407,0.44755316800052503,0.8993600024843591,9.74]
[18.899999999999999,4.8295990044616897,{"$f":"('32% Range'!$B$8-Data!A166)/Data!B166","v":3.3336100958126065},{"$f":"(A166-'32% Range'!$B$7)/Data!B166","v":3.2921987902745609},0.49957136631492582,0.49950296340560896,0.99907432972053478,4.8259999999999996,null,18.899999999999999,8.1606526311490715,{"$f":"('32% Range'!$B$8-Data!J166)/Data!K166","v":1.972881425996075},{"$f":"(J166-'32% Range'!$B$7)/Data!K166","v":1.9483735821948811},0.47574546337002255,0.47431486076659168,0.95006032413661423,8.1709999999999994,null,18.899999999999999,9.7459369667743285,{"$f":"('32% Range'!$B$8-Data!S166)/Data!T166","v":1.6519704626541121},{"$f":"(S166-'32% Range'!$B$7)/Data!T166","v":1.6314490904472285},0.45072971382591021,0.44860220313593036,0.89933191696184056,9.7430000000000003]
[19,4.8305528334624857,{"$f":"('32% Range'!$B$8-Data!A167)/Data!B167","v":3.3122502851358693},{"$f":"(A167-'32% Range'!$B$7)/Data!B167","v":3.3122502851358693},0.4995372564629903,0.4995372564629903,0.9990745129259806,4.8259999999999996,null,19,8.1611106159109656,{"$f":"('32% Range'!$B$8-Data!J167)/Data!K167","v":1.9605174777077856},{"$f":"(J167-'32% Range'!$B$7)/Data!K167","v":1.9605174777077856},0.47503233140501733,0.47503233140501733,0.95006466281003465,8.1669999999999998,null,19,9.7472831625165632,{"$f":"('32% Range'!$B$8-Data!S167)/Data!T167","v":1.6414830402720242},{"$f":"(S167-'32% Range'!$B$7)/Data!T167","v":1.6414830402720242},0.44965140761710687,0.44965140761710687,0.89930281523421374,9.7439999999999998]
[19.100000000000001,4.8295418294848069,{"$f":"('32% Range'!$B$8-Data!A168)/Data!B168","v":3.2922377652739239},{"$f":"(A168-'32% Range'!$B$7)/Data!B168","v":3.3336495610635337},0.49950303228703408,0.49957142712122526,0.99907445940825934,4.8239999999999998,null,19.100000000000001,8.1603355834333993,{"$f":"('32% Range'!$B$8-Data!J168)/Data!K168","v":1.948449280968197},{"$f":"(J168-'32% Range'!$B$7)/Data!K168","v":1.9729580769552186},0.47431938600322243,0.47574983054967879,0.95006921655290122,8.1620000000000008,null,19.100000000000001,9.7476336026327406,{"$f":"('32% Range'!$B$8-Data!S168)/Data!T168","v":1.6311651266524383},{"$f":"(S168-'32% Range'!$B$7)/Data!T168","v":1.6516829269876894},0.44857225920158328,0.45070039755545455,0.89927265675703782,9.7439999999999998]
[19.200000000000003,4.8265700928293445,{"$f":"('32% Range'!$B$8-Data!A169)/Data!B169","v":3.2735461613773036},{"$f":"(A169-'32% Range'!$B$7)/Data!B169","v":3.3564207477412875},0.49946896479271707,0.4996052082651401,0.99907417305785717,4.8209999999999997,null,19.200000000000003,8.1583271250343632,{"$f":"('32% Range'!$B$8-Data!J169)/Data!K169","v":1.9366715452628345},{"$f":"(J169-'32% Range'!$B$7)/Data!K169","v":1.9857012046365776},0.47360724691470724,0.47646674441032966,0.95007399132503689,8.157,null,19.200000000000003,9.7469895513987304,{"$f":"('32% Range'!$B$8-Data!S169)/Data!T169","v":1.6210133310066632},{"$f":"(S169-'32% Range'!$B$7)/Data!T169","v":1.6620516431840475},0.4474926101482759,0.45174878990918999,0.89924140005746589,9.7430000000000003]
[19.300000000000004,4.8216500532673416,{"$f":"('32% Range'!$B$8-Data!A170)/Data!B170","v":3.2561467187692421},{"$f":"(A170-'32% Range'!$B$7)/Data!B170","v":3.3805854468750747},0.49943532311800543,0.49963834209349822,0.99907366521150365,4.8150000000000004,null,19.300000000000004,8.1550845656649056,{"$f":"('32% Range'!$B$8-Data!J170)/Data!K170","v":1.9251793005435172},{"$f":"(J170-'32% Range'!$B$7)/Data!K170","v":1.9987530317744806},0.47289653461823189,0.4771824590275997,0.95007899364583159,8.1519999999999992,null,19.300000000000004,9.7453519253728889,{"$f":"('32% Range'!$B$8-Data!S170)/Data!T170","v":1.611024426847393},{"$f":"(S170-'32% Range'!$B$7)/Data!T170","v":1.672592239338377},0.44641280074095835,0.45279620214148131,0.89920900288243966,9.7409999999999997]
[19.400000000000006,4.8146699146145053,{"$f":"('32% Range'!$B$8-Data!A171)/Data!B171","v":3.2400975096231566},{"$f":"(A171-'32% Range'!$B$7)/Data!B171","v":3.4062563562705002},0.4994025558470887,0.49967069847167234,0.99907325431876104,4.8079999999999998,null,19.400000000000006,8.1498738094082004,{"$f":"('32% Range'!$B$8-Data!J171)/Data!K171","v":1.9141400670512692},{"$f":"(J171-'32% Range'!$B$7)/Data!K171","v":2.0123010961308228},0.4721988694141952,0.47790589651663828,0.95010476593083348,8.1460000000000008,null,19.400000000000006,9.7427212898700812,{"$f":"('32% Range'!$B$8-Data!S171)/Data!T171","v":1.6011953473635721},{"$f":"(S171-'32% Range'!$B$7)/Data!T171","v":1.683307929279654},0.44533317048514531,0.4538422518921239,0.89917542237726922,9.7379999999999995]
[19.500000000000007,4.8059036330923668,{"$f":"('32% Range'!$B$8-Data!A172)/Data!B172","v":3.2251999172997339},{"$f":"(A172-'32% Range'!$B$7)/Data!B172","v":3.4332773313190748},0.49937057635292137,0.49970183410274127,0.99907241045566264,4.8,null,19.500000000000007,8.144050592475601,{"$f":"('32% Range'!$B$8-Data!J172)/Data!K172","v":1.9032298269758605},{"$f":"(J172-'32% Range'!$B$7)/Data!K172","v":2.0260188480710792},0.47149471860854564,0.47861857339447511,0.95011329200302075,8.14,null,19.500000000000007,9.7390978546949469,{"$f":"('32% Range'!$B$8-Data!S172)/Data!T172","v":1.5915231812285238},{"$f":"(S172-'32% Range'!$B$7)/Data!T172","v":1.6942020961464945},0.44425405863491696,0.4548865566642929,0.89914061529920986,9.7330000000000005]
[19.600000000000009,4.7952736584532856,{"$f":"('32% Range'!$B$8-Data!A173)/Data!B173","v":3.2114955468396058},{"$f":"(A173-'32% Range'!$B$7)/Data!B173","v":3.4617419530868516},0.49933976991462703,0.4997316542663971,0.99907142418102413,4.7889999999999997,null,19.600000000000009,8.1369795501546474,{"$f":"('32% Range'!$B$8-Data!J173)/Data!K173","v":1.8925941628681255},{"$f":"(J173-'32% Range'!$B$7)/Data!K173","v":2.0400690327020077},0.47079406969025195,0.47932827472648565,0.9501223444167376,8.1329999999999991,null,19.600000000000009,9.734481468981997,{"$f":"('32% Range'!$B$8-Data!S173)/Data!T173","v":1.582005168849582},{"$f":"(S173-'32% Range'!$B$7)/Data!T173","v":1.705278298889811},{"$f":"NORMSDIST(U173)-0.5","v":0.44317580474329321},{"$f":"NORMSDIST(V173)-0.5","v":0.45592873352799679},{"$f":"W173+X173","v":0.89910453827129},9.7260000000000009]
[19.70000000000001,4.782824658740414,{"$f":"('32% Range'!$B$8-Data!A174)/Data!B174","v":3.1989464577255355},{"$f":"(A174-'32% Range'!$B$7)/Data!B174","v":3.4916605126808173},0.49931034608612668,0.49975998602807203,0.99907033211419871,4.7770000000000001,null,19.70000000000001,8.1286585781531251,{"$f":"('32% Range'!$B$8-Data!J174)/Data!K174","v":1.8822293805180623},{"$f":"(J174-'32% Range'!$B$7)/Data!K174","v":2.0544595199118745},0.47009756093444166,0.48003438127943898,0.95013194221388064,8.125,null,19.70000000000001,9.7288716149804273,{"$f":"('32% Range'!$B$8-Data!S174)/Data!T174","v":1.5726386990698069},{"$f":"(S174-'32% Range'!$B$7)/Data!T174","v":1.7165402793768501},0.44209874924027304,0.45696839884183971,0.89906714808211274,9.7170000000000005]
[19.800000000000011,4.7686088726405149,{"$f":"('32% Range'!$B$8-Data!A175)/Data!B175","v":3.187512418392854},{"$f":"(A175-'32% Range'!$B$7)/Data!B175","v":3.5230400413815803},0.49928248852194823,0.49978668654974878,0.99906917507169701,4.7629999999999999,null,19.800000000000011,8.1190854276191917,{"$f":"('32% Range'!$B$8-Data!J175)/Data!K175","v":1.8721320443671174},{"$f":"(J175-'32% Range'!$B$7)/Data!K175","v":2.0691985753531328},0.46940583114940371,0.48073627181946599,0.9501421029688697,8.1150000000000002,null,19.800000000000011,9.7222674006029113,{"$f":"('32% Range'!$B$8-Data!S175)/Data!T175","v":1.563421306336152},{"$f":"(S175-'32% Range'!$B$7)/Data!T175","v":1.7279919701610127},0.44102323404331001,0.45800516799479285,0.89902840203810286,9.7050000000000001]
[19.900000000000013,4.7526857535635401,{"$f":"('32% Range'!$B$8-Data!A176)/Data!B176","v":3.1771509380097522},{"$f":"(A176-'32% Range'!$B$7)/Data!B176","v":3.5558841624082715},0.49925635195829621,0.49981164497837771,0.99906799693667392,4.7469999999999999,null,19.900000000000013,8.1082577345278768,{"$f":"('32% Range'!$B$8-Data!J176)/Data!K176","v":1.8622989666076792},{"$f":"(J176-'32% Range'!$B$7)/Data!K176","v":2.084294869911909},0.46871951946505086,0.48143332314699916,0.95015284261205002,8.1050000000000004,null,19.900000000000013,9.6846884496400598,{"$f":"('32% Range'!$B$8-Data!S176)/Data!T176","v":1.5591621845678674},{"$f":"(S176-'32% Range'!$B$7)/Data!T176","v":1.7450225774302648},0.44052100069119626,0.45950953049420662,0.90003053118540288,9.6929999999999996]
[20.000000000000014,4.7351216254138384,{"$f":"('32% Range'!$B$8-Data!A177)/Data!B177","v":3.1678172572154408},{"$f":"(A177-'32% Range'!$B$7)/Data!B177","v":3.5901928915108394},0.49923205985274388,0.4998347833280109,0.99906684318075478,4.7300000000000004,null,20.000000000000014,8.0961736292808606,{"$f":"('32% Range'!$B$8-Data!J177)/Data!K177","v":1.8527270642702798},{"$f":"(J177-'32% Range'!$B$7)/Data!K177","v":2.0997573395063207},0.46803925559584103,0.48212490363628002,0.95016415923212105,8.093,null,20.000000000000014,9.6748084819259788,{"$f":"('32% Range'!$B$8-Data!S177)/Data!T177","v":1.5504182876614332},{"$f":"(S177-'32% Range'!$B$7)/Data!T177","v":1.7571407260162941},0.43947942401132134,0.46055308726080324,0.90003251127212458,9.6790000000000003]
[20.100000000000016,4.7159889330534988,{"$f":"('32% Range'!$B$8-Data!A178)/Data!B178","v":3.1594645813455213},{"$f":"(A178-'32% Range'!$B$7)/Data!B178","v":3.6259627074502365},0.49920970344564142,0.4998560565486887,0.99906575999433012,4.7110000000000003,null,20.100000000000016,8.0828306802492094,{"$f":"('32% Range'!$B$8-Data!J178)/Data!K178","v":1.8434135996945797},{"$f":"(J178-'32% Range'!$B$7)/Data!K178","v":2.1155954734749916},0.46736567702046472,0.48281038641803886,0.95017606343850358,8.0809999999999995,null,20.100000000000016,9.6638773812596348,{"$f":"('32% Range'!$B$8-Data!S178)/Data!T178","v":1.5418241987314878},{"$f":"(S178-'32% Range'!$B$7)/Data!T178","v":1.7694760938462075},0.43844184001537956,0.46159277158715217,0.90003461160253173,9.6649999999999991]
[20.200000000000017,4.695478011668663,{"$f":"('32% Range'!$B$8-Data!A179)/Data!B179","v":3.1519687587122593},{"$f":"(A179-'32% Range'!$B$7)/Data!B179","v":3.6630988276926337},0.49918913188128355,0.49987540882806691,0.99906454070935047,4.6909999999999998,null,20.200000000000017,8.0688435471956215,{"$f":"('32% Range'!$B$8-Data!J179)/Data!K179","v":1.8342157600941238},{"$f":"(J179-'32% Range'!$B$7)/Data!K179","v":2.1316561536229051},0.46668901355226466,0.48348243808789326,0.95017145164015793,8.0670000000000002,null,20.200000000000017,9.6518909015468051,{"$f":"('32% Range'!$B$8-Data!S179)/Data!T179","v":1.5333782935350155},{"$f":"(S179-'32% Range'!$B$7)/Data!T179","v":1.7820342330271841},0.43740866308129434,0.46262817530032307,0.90003683838161741,9.6509999999999998]
[20.300000000000018,4.6737799104125006,{"$f":"('32% Range'!$B$8-Data!A180)/Data!B180","v":3.1452058680064336},{"$f":"(A180-'32% Range'!$B$7)/Data!B180","v":3.7015007834361517},0.49917015003402132,0.49989283600275469,0.99906298603677601,4.67,null,20.300000000000018,8.0548060302142748,{"$f":"('32% Range'!$B$8-Data!J180)/Data!K180","v":1.824997392222607},{"$f":"(J180-'32% Range'!$B$7)/Data!K180","v":2.1477860466293315},0.46599928856620332,0.48413462200433455,0.95013391057053787,8.0530000000000008,null,20.300000000000018,9.6388444236663684,{"$f":"('32% Range'!$B$8-Data!S180)/Data!T180","v":1.5250790814619746},{"$f":"(S180-'32% Range'!$B$7)/Data!T180","v":1.7948209598157974},0.43638031295562663,0.46365888487568774,0.90003919783131436,9.6359999999999992]
[20.40000000000002,4.650782944034022,{"$f":"('32% Range'!$B$8-Data!A181)/Data!B181","v":3.1392563737528785},{"$f":"(A181-'32% Range'!$B$7)/Data!B181","v":3.7413055413219332},0.49915311404954155,0.49990846660197297,0.99906158065151451,4.6470000000000002,null,20.40000000000002,8.039629371799272,{"$f":"('32% Range'!$B$8-Data!J181)/Data!K181","v":1.8160041122309218},{"$f":"(J181-'32% Range'!$B$7)/Data!K181","v":2.164278873480693},0.46531512933752817,0.48477852343853878,0.95009365277606694,8.0359999999999996,null,20.40000000000002,9.6247329624783333,{"$f":"('32% Range'!$B$8-Data!S181)/Data!T181","v":1.5169252026957571},{"$f":"(S181-'32% Range'!$B$7)/Data!T181","v":1.8078423648565918},0.43535721515569281,0.46468448096275117,0.90004169611844398,9.6219999999999999]
[20.500000000000021,4.6304356700293301,{"$f":"('32% Range'!$B$8-Data!A182)/Data!B182","v":3.1314547989191981},{"$f":"(A182-'32% Range'!$B$7)/Data!B182","v":3.7793419986955943},0.49913028720059482,0.49992137833386951,0.99905166553446434,4.6230000000000002,null,20.500000000000021,8.0446708346880538,{"$f":"('32% Range'!$B$8-Data!J182)/Data!K182","v":1.8024354629249715},{"$f":"(J182-'32% Range'!$B$7)/Data!K182","v":2.1753531449094541},0.46426154003414299,0.48519816858533082,0.94945970861947382,8.0180000000000007,null,20.500000000000021,9.6095511752167795,{"$f":"('32% Range'!$B$8-Data!S182)/Data!T182","v":1.5089154254566812},{"$f":"(S182-'32% Range'!$B$7)/Data!T182","v":1.821104823827034},0.43433980134857819,0.46570453791842081,0.90004433926699901,9.6059999999999999]
[20.600000000000023,4.601618494637016,{"$f":"('32% Range'!$B$8-Data!A183)/Data!B183","v":3.1293337369846164},{"$f":"(A183-'32% Range'!$B$7)/Data!B183","v":3.8247412340923197},0.49912398404034453,0.49993454524481706,0.99905852928516159,4.5970000000000004,null,20.600000000000023,8.0078913877504139,{"$f":"('32% Range'!$B$8-Data!J183)/Data!K183","v":1.7982261874864467},{"$f":"(J183-'32% Range'!$B$7)/Data!K183","v":2.1978320069278854},0.46392941437514634,0.48601946017227793,0.94994887454742427,7.9989999999999997,null,20.600000000000023,9.5932933714719528,{"$f":"('32% Range'!$B$8-Data!S183)/Data!T183","v":1.5010486432971979},{"$f":"(S183-'32% Range'!$B$7)/Data!T183","v":1.8346150084743584},0.43332850970254189,0.46671862335001146,0.90004713305255335,9.59]
[20.700000000000024,4.5717271949555185,{"$f":"('32% Range'!$B$8-Data!A184)/Data!B184","v":3.1279206720336932},{"$f":"(A184-'32% Range'!$B$7)/Data!B184","v":3.8716220905591983},0.49911976155265658,0.49994594325922637,0.99906570481188295,4.5709999999999997,null,20.700000000000024,7.9696838396819283,{"$f":"('32% Range'!$B$8-Data!J184)/Data!K184","v":1.7942995340415777},{"$f":"(J184-'32% Range'!$B$7)/Data!K184","v":2.2209162064710504},0.46361731377690529,0.48682168133163539,0.95043899510854069,7.9779999999999998,null,20.700000000000024,9.5759535249845662,{"$f":"('32% Range'!$B$8-Data!S184)/Data!T184","v":1.493323872415413},{"$f":"(S184-'32% Range'!$B$7)/Data!T184","v":1.8483798980246775},0.43232378520572967,0.46772629767082785,0.90005008287655752,9.5730000000000004]
[20.800000000000026,4.5407469612880451,{"$f":"('32% Range'!$B$8-Data!A185)/Data!B185","v":3.1272387827512742},{"$f":"(A185-'32% Range'!$B$7)/Data!B185","v":3.9200598826037227},0.49911771726077059,0.49995573651557956,0.99907345377635015,4.5439999999999996,null,20.800000000000026,7.9294118314233755,{"$f":"('32% Range'!$B$8-Data!J185)/Data!K185","v":1.7908011718759462},{"$f":"(J185-'32% Range'!$B$7)/Data!K185","v":2.244807102774081},0.46333739642250593,0.48760974069680274,0.95094713711930867,7.9569999999999999,null,20.800000000000026,9.5575252874978389,{"$f":"('32% Range'!$B$8-Data!S185)/Data!T185","v":1.4857402489507339},{"$f":"(S185-'32% Range'!$B$7)/Data!T185","v":1.86240679093825},0.43132607994642946,0.46872711367174469,0.90005319361817415,9.5549999999999997]
[20.900000000000027,4.5194959539177262,{"$f":"('32% Range'!$B$8-Data!A186)/Data!B186","v":3.119816931748193},{"$f":"(A186-'32% Range'!$B$7)/Data!B186","v":3.9606186580349534},0.49909518265430042,0.49996262208278275,0.99905780473708317,4.516,null,20.900000000000027,7.9467592669677778,{"$f":"('32% Range'!$B$8-Data!J186)/Data!K186","v":1.7743081835395864},{"$f":"(J186-'32% Range'!$B$7)/Data!K186","v":2.252490530876504},0.46199390616419311,0.48785435477755801,0.94984826094175112,7.9370000000000003,null,20.900000000000027,9.5380020049330767,{"$f":"('32% Range'!$B$8-Data!S186)/Data!T186","v":1.4782970262228317},{"$f":"(S186-'32% Range'!$B$7)/Data!T186","v":1.8767033169779275},0.43033585334841873,0.46972061611290783,0.90005646946132656,9.5359999999999996]
[21.000000000000028,4.4906074741828323,{"$f":"('32% Range'!$B$8-Data!A187)/Data!B187","v":3.1176182911750905},{"$f":"(A187-'32% Range'!$B$7)/Data!B187","v":4.0083663743679878},0.49908840617302397,0.49996942989123661,0.99905783606426057,4.4870000000000001,null,21.000000000000028,7.9247695399547773,{"$f":"('32% Range'!$B$8-Data!J187)/Data!K187","v":1.7666128875313467},{"$f":"(J187-'32% Range'!$B$7)/Data!K187","v":2.2713594268260255},0.46135345940586836,0.4884373857744384,0.94979084518030676,7.9160000000000004,null,21.000000000000028,9.5177593545828092,{"$f":"('32% Range'!$B$8-Data!S187)/Data!T187","v":1.4709344372379998},{"$f":"(S187-'32% Range'!$B$7)/Data!T187","v":1.8912014193060065},0.42934557580023991,0.47070126901503928,0.90004684481527919,9.516]
[21.10000000000003,4.4610442603045559,{"$f":"('32% Range'!$B$8-Data!A188)/Data!B188","v":3.1158623830939116},{"$f":"(A188-'32% Range'!$B$7)/Data!B188","v":4.0573459808633103},0.49908296078591108,0.49997518323605106,0.99905814402196214,4.4580000000000002,null,21.10000000000003,7.9016414251795384,{"$f":"('32% Range'!$B$8-Data!J188)/Data!K188","v":1.7591281674344188},{"$f":"(J188-'32% Range'!$B$7)/Data!K188","v":2.2906632971628129},0.46072212919500144,0.48900855252347408,0.94973068171847552,7.8940000000000001,null,21.10000000000003,9.5150712015622201,{"$f":"('32% Range'!$B$8-Data!S188)/Data!T188","v":1.4608403558470289},{"$f":"(S188-'32% Range'!$B$7)/Data!T188","v":1.9022453554554908},0.42797037100016155,0.47143045706512654,0.89940082806528809,9.4939999999999998]
[21.200000000000031,4.4308856957496268,{"$f":"('32% Range'!$B$8-Data!A189)/Data!B189","v":3.1145014671079787},{"$f":"(A189-'32% Range'!$B$7)/Data!B189","v":4.1075309203887995},0.49907871979818508,0.49998000443727664,0.99905872423546171,4.4290000000000003,null,21.200000000000031,7.877373371327006,{"$f":"('32% Range'!$B$8-Data!J189)/Data!K189","v":1.7518529780790686},{"$f":"(J189-'32% Range'!$B$7)/Data!K189","v":2.3104147971767519},0.46010045409925193,0.48956739967434482,0.94966785377359675,7.8710000000000004,null,21.200000000000031,9.4741453976680781,{"$f":"('32% Range'!$B$8-Data!S189)/Data!T189","v":1.4565957583252456},{"$f":"(S189-'32% Range'!$B$7)/Data!T189","v":1.9210175943130126},0.42738600037691488,0.47263525530113704,0.90002125567805191,9.4710000000000001]
[21.300000000000033,4.4002062544268412,{"$f":"('32% Range'!$B$8-Data!A190)/Data!B190","v":3.1134904156406393},{"$f":"(A190-'32% Range'!$B$7)/Data!B190","v":4.1588959566586814},0.49907555742548326,0.49998401052451857,0.99905956795000184,4.3979999999999997,null,21.300000000000033,7.8519634040786004,{"$f":"('32% Range'!$B$8-Data!J190)/Data!K190","v":1.7447865323574585},{"$f":"(J190-'32% Range'!$B$7)/Data!K190","v":2.3306272658497535},0.45948898301448871,0.49011348876405902,0.94960247177854773,7.8470000000000004,null,21.300000000000033,9.4317812925648212,{"$f":"('32% Range'!$B$8-Data!S190)/Data!T190","v":1.4525358015669672},{"$f":"(S190-'32% Range'!$B$7)/Data!T190","v":1.9402485524580735},0.42682365903758634,0.47382525475073478,0.90064891378832113,9.4469999999999992]
[21.400000000000034,4.3690750096764139,{"$f":"('32% Range'!$B$8-Data!A191)/Data!B191","v":3.1127870246858547},{"$f":"(A191-'32% Range'!$B$7)/Data!B191","v":4.21141773928088},0.49907335147569054,0.49998731135172703,0.99906066282741757,4.3680000000000003,null,21.400000000000034,7.8254091417851317,{"$f":"('32% Range'!$B$8-Data!J191)/Data!K191","v":1.7379282991582385},{"$f":"(J191-'32% Range'!$B$7)/Data!K191","v":2.351314757684686},0.4588882757342031,0.49064639913627983,0.94953467487048293,7.8209999999999997,null,21.400000000000034,9.4275688785430418,{"$f":"('32% Range'!$B$8-Data!S191)/Data!T191","v":1.4425776332383309},{"$f":"(S191-'32% Range'!$B$7)/Data!T191","v":1.9517226802636325},0.42543025608890006,0.47451443081108835,0.89994468689998841,9.4220000000000006]
[21.500000000000036,4.3375553084493221,{"$f":"('32% Range'!$B$8-Data!A192)/Data!B192","v":3.1123522445241671},{"$f":"(A192-'32% Range'!$B$7)/Data!B192","v":4.2650752980516557},0.49907198551607312,0.49999000826019691,0.99906199377627003,4.3360000000000003,null,21.500000000000036,7.7977078335759966,{"$f":"('32% Range'!$B$8-Data!J192)/Data!K192","v":1.7312779970891676},{"$f":"(J192-'32% Range'!$B$7)/Data!K192","v":2.3724920700851664},0.4582989030734036,0.49116572879964249,0.94946463187304608,7.7930000000000001,null,21.500000000000036,9.4023403467013864,{"$f":"('32% Range'!$B$8-Data!S192)/Data!T192","v":1.4358127340855253},{"$f":"(S192-'32% Range'!$B$7)/Data!T192","v":1.9675952281912845},0.42447218234254969,0.47544268538798207,0.89991486773053175,9.3970000000000002]
[21.600000000000037,4.3057046095673384,{"$f":"('32% Range'!$B$8-Data!A193)/Data!B193","v":3.1121503249955809},{"$f":"(A193-'32% Range'!$B$7)/Data!B193","v":4.3198504511132896},0.49907135051164297,0.49999219325131128,0.99906354376295425,4.3049999999999997,null,21.600000000000037,7.7688564240308535,{"$f":"('32% Range'!$B$8-Data!J193)/Data!K193","v":1.7248355830789577},{"$f":"(J193-'32% Range'!$B$7)/Data!K193","v":2.3941747645722957},0.45772144643076307,0.49167109523895758,0.94939254166972065,7.7640000000000002,null,21.600000000000037,9.3760264741787616,{"$f":"('32% Range'!$B$8-Data!S193)/Data!T193","v":1.429176851932221},{"$f":"(S193-'32% Range'!$B$7)/Data!T193","v":1.9837827944730921},0.42352329543296963,0.47635997050150702,0.89988326593447665,9.3710000000000004]
[21.700000000000038,4.2735744791350951,{"$f":"('32% Range'!$B$8-Data!A194)/Data!B194","v":3.1121488732522744},{"$f":"(A194-'32% Range'!$B$7)/Data!B194","v":4.3757281150238958},0.49907134594469893,0.49999394861022028,0.99906529455491921,4.2720000000000002,null,21.700000000000038,7.7388516591394358,{"$f":"('32% Range'!$B$8-Data!J194)/Data!K194","v":1.7186012325605073},{"$f":"(J194-'32% Range'!$B$7)/Data!K194","v":2.4163791766076423},0.45715649645110545,0.49216213612946424,0.9493186325805697,7.7329999999999997,null,21.700000000000038,9.3486199707639042,{"$f":"('32% Range'!$B$8-Data!S194)/Data!T194","v":1.4226698744406421},{"$f":"(S194-'32% Range'!$B$7)/Data!T194","v":2.0002952369954992},0.42258406118711678,0.47726580347713665,0.89984986466425343,9.3439999999999994]
[21.80000000000004,4.2412107248559092,{"$f":"('32% Range'!$B$8-Data!A195)/Data!B195","v":3.1123188297719908},{"$f":"(A195-'32% Range'!$B$7)/Data!B195","v":4.4326965151298277},0.4990718804596066,0.49999534690923997,0.99906722736884657,4.24,null,21.80000000000004,7.7076902190345917,{"$f":"('32% Range'!$B$8-Data!J195)/Data!K195","v":1.7125753143791105},{"$f":"(J195-'32% Range'!$B$7)/Data!K195","v":2.4391224174490485},0.45660465102226055,0.49263851012281379,0.94924316114507434,7.7,null,21.80000000000004,9.3201130276989019,{"$f":"('32% Range'!$B$8-Data!S195)/Data!T195","v":1.4162918368876247},{"$f":"(S195-'32% Range'!$B$7)/Data!T195","v":2.017142919203597},0.4216549615614813,0.478159699590753,0.8998146611522343,9.3160000000000007]
[21.900000000000041,4.2086536538023829,{"$f":"('32% Range'!$B$8-Data!A196)/Data!B196","v":3.1126343666137819},{"$f":"(A196-'32% Range'!$B$7)/Data!B196","v":4.4907472922901368},0.49907287207660511,0.49999645131406512,0.99906932339067023,4.2069999999999999,null,21.900000000000041,7.6753689082012828,{"$f":"('32% Range'!$B$8-Data!J196)/Data!K196","v":1.7067583534652453},{"$f":"(J196-'32% Range'!$B$7)/Data!K196","v":2.4624223572895656},0.45606651193082626,0.49309989755861872,0.94916640948944497,7.6639999999999997,null,21.900000000000041,9.290497275368546,{"$f":"('32% Range'!$B$8-Data!S196)/Data!T196","v":1.4100429300734383},{"$f":"(S196-'32% Range'!$B$7)/Data!T196","v":2.0343367464418414},0.42073649648660327,0.47904117268391821,0.89977766917052149,9.2870000000000008]
[22.000000000000043,4.1759384276884122,{"$f":"('32% Range'!$B$8-Data!A197)/Data!B197","v":3.1130727200870387},{"$f":"(A197-'32% Range'!$B$7)/Data!B197","v":4.5498755139733893},0.49907424804606815,0.49999731611690612,0.99907156416297427,4.1740000000000004,null,22.000000000000043,7.6418848896136602,{"$f":"('32% Range'!$B$8-Data!J197)/Data!K197","v":1.7011509840548227},{"$f":"(J197-'32% Range'!$B$7)/Data!K197","v":2.4862975920801391},0.45554268037113155,0.49354600127878834,0.94908868164991989,7.625,null,22.000000000000043,9.2597637384264111,{"$f":"('32% Range'!$B$8-Data!S197)/Data!T197","v":1.4039235089824393},{"$f":"(S197-'32% Range'!$B$7)/Data!T197","v":2.0518882054358842},0.41982918584651241,0.47990973581613494,0.89973892166264735,9.2560000000000002]
[22.100000000000044,4.1430954923000103,{"$f":"('32% Range'!$B$8-Data!A198)/Data!B198","v":3.1136139690660647},{"$f":"(A198-'32% Range'!$B$7)/Data!B198","v":4.6100795976094711},0.4990759444108116,0.49999798742586321,0.99907393183667481,4.1399999999999997,null,22.100000000000044,7.607235972185399,{"$f":"('32% Range'!$B$8-Data!J198)/Data!K198","v":1.6957538910540797},{"$f":"(J198-'32% Range'!$B$7)/Data!K198","v":2.5107673890800859},0.45503375104045751,0.49397654755599685,0.94901029859645436,7.5839999999999996,null,22.100000000000044,9.2279027898222079,{"$f":"('32% Range'!$B$8-Data!S198)/Data!T198","v":1.3979341020180489},{"$f":"(S198-'32% Range'!$B$7)/Data!T198","v":2.0698094068639445},0.41893357156716038,0.48076490193901189,0.89969847350617227,9.2240000000000002]
[22.200000000000045,4.1037246610361331,{"$f":"('32% Range'!$B$8-Data!A199)/Data!B199","v":3.1191176448880307},{"$f":"(A199-'32% Range'!$B$7)/Data!B199","v":4.6786764673320738},0.49909303240323954,0.49999855633693646,0.99909158874017601,4.1059999999999999,null,22.200000000000045,7.5298904671318061,{"$f":"('32% Range'!$B$8-Data!J199)/Data!K199","v":1.6998919248390574},{"$f":"(J199-'32% Range'!$B$7)/Data!K199","v":2.5498378872586009},0.45542437193850716,0.49461134899218429,0.95003572093069144,7.54,null,22.200000000000045,9.1949041053877618,{"$f":"('32% Range'!$B$8-Data!S199)/Data!T199","v":1.3920754206125743},{"$f":"(S199-'32% Range'!$B$7)/Data!T199","v":2.0881131309188738},0.41805021978208023,0.48160618457886184,0.89965640436094207,9.1910000000000007]
[22.300000000000047,4.0703078112536009,{"$f":"('32% Range'!$B$8-Data!A200)/Data!B200","v":3.1201571450903418},{"$f":"(A200-'32% Range'!$B$7)/Data!B200","v":4.7416561338774779},{"$f":"NORMSDIST(C200)-0.5","v":0.49909622708802348},{"$f":"NORMSDIST(D200)-0.5","v":0.49999894010900958},{"$f":"E200+F200","v":0.99909516719703306},4.0720000000000001,null,22.300000000000047,7.489683598134703,{"$f":"('32% Range'!$B$8-Data!J200)/Data!K200","v":1.695665755915627},{"$f":"(J200-'32% Range'!$B$7)/Data!K200","v":2.5768778810371495},{"$f":"NORMSDIST(L200)-0.5","v":0.45502540141347214},{"$f":"NORMSDIST(M200)-0.5","v":0.49501514170050409},{"$f":"N200+O200","v":0.95004054311397623},7.4960000000000004,null,22.300000000000047,9.1607566212346061,{"$f":"('32% Range'!$B$8-Data!S200)/Data!T200","v":1.3863483689285436},{"$f":"(S200-'32% Range'!$B$7)/Data!T200","v":2.1068128756158311},0.41717972302806527,0.48243309851252103,0.8996128215405863,9.157]
[22.400000000000048,4.0368476874254053,{"$f":"('32% Range'!$B$8-Data!A201)/Data!B201","v":3.1212473136522765},{"$f":"(A201-'32% Range'!$B$7)/Data!B201","v":4.8057299908614723},0.49909956637834085,0.49999922906063088,0.99909879543897173,4.0380000000000003,null,22.400000000000048,7.4483129922438298,{"$f":"('32% Range'!$B$8-Data!J201)/Data!K201","v":1.6916582336323327},{"$f":"(J201-'32% Range'!$B$7)/Data!K201","v":2.6046166454339255},0.45464442186857967,0.49540114466041807,0.95004556652899774,7.45,null,22.400000000000048,9.125448496863779,{"$f":"('32% Range'!$B$8-Data!S201)/Data!T201","v":1.3807540532753324},{"$f":"(S201-'32% Range'!$B$7)/Data!T201","v":2.1259229074239379},0.41632270240604474,0.48324516042059151,0.89956786282663626,9.1210000000000004]
[22.50000000000005,4.0033629750536255,{"$f":"('32% Range'!$B$8-Data!A202)/Data!B202","v":3.1223748827902651},{"$f":"(A202-'32% Range'!$B$7)/Data!B202","v":4.8709048171528453},0.49910300829695586,0.49999944455825629,0.99910245285521215,4.0039999999999996,null,{"$f":"A201+0.1","v":22.50000000000005},7.4057988583067074,{"$f":"('32% Range'!$B$8-Data!J202)/Data!K202","v":1.6878665271848881},{"$f":"(J202-'32% Range'!$B$7)/Data!K202","v":2.6330717824084422},0.45428157330253083,0.49576917691082556,0.95005075021335639,7.4050000000000002,null,{"$f":"S201+0.1","v":22.50000000000005},9.0889670876270241,{"$f":"('32% Range'!$B$8-Data!S202)/Data!T202","v":1.3752937907560945},{"$f":"(S202-'32% Range'!$B$7)/Data!T202","v":2.1454583135795215},0.41547980962146291,0.48404188950268379,0.8995216991241467,9.0850000000000009]
[22.600000000000051,3.9698698036899729,{"$f":"('32% Range'!$B$8-Data!A203)/Data!B203","v":3.1235281289260959},{"$f":"(A203-'32% Range'!$B$7)/Data!B203","v":4.9371896231412817},0.49910651608225565,0.49999960371799701,0.99910611980025266,3.97,null,22.600000000000051,7.362163706659663,{"$f":"('32% Range'!$B$8-Data!J203)/Data!K203","v":1.684287458696845},{"$f":"(J203-'32% Range'!$B$7)/Data!K203","v":2.6622608218111603},0.45393693602861074,0.49611911454093505,0.95005605056954578,7.36,null,22.600000000000051,9.0512989336934755,{"$f":"('32% Range'!$B$8-Data!S203)/Data!T203","v":1.3699691161277336},{"$f":"(S203-'32% Range'!$B$7)/Data!T203","v":2.1654350545244969},0.4146517287306748,0.48482280801627586,0.89947453674695066,9.0470000000000006]
[22.700000000000053,3.9363821153468672,{"$f":"('32% Range'!$B$8-Data!A204)/Data!B204","v":3.1246966477277809},{"$f":"(A204-'32% Range'!$B$7)/Data!B204","v":5.0045954439217653},0.4991100574573698,0.49999972010264659,0.9991097775600164,3.9369999999999998,null,22.700000000000053,7.3174323559280543,{"$f":"('32% Range'!$B$8-Data!J204)/Data!K204","v":1.6809174860407663},{"$f":"(J204-'32% Range'!$B$7)/Data!K204","v":2.6922011768295389},0.45361052849534944,0.49645089431367695,0.95006142280902639,7.3140000000000001,null,22.700000000000053,9.0124297640226612,{"$f":"('32% Range'!$B$8-Data!S204)/Data!T204","v":1.3647817871603465},{"$f":"(S204-'32% Range'!$B$7)/Data!T204","v":2.1858700168340661},0.41383917761577016,0.48558744179482904,0.8994266194105992,9.0079999999999991]
[22.800000000000054,3.9029119872020743,{"$f":"('32% Range'!$B$8-Data!A205)/Data!B205","v":3.1258711546672364},{"$f":"(A205-'32% Range'!$B$7)/Data!B205","v":5.0731351526566986},0.49911360397421578,0.4999998043428191,0.99911340831703488,3.903,null,22.800000000000054,7.271631907138099,{"$f":"('32% Range'!$B$8-Data!J205)/Data!K205","v":1.6777526909776581},{"$f":"(J205-'32% Range'!$B$7)/Data!K205","v":2.7229101050293334},0.45330230577546904,0.49676451684699174,0.95006682262246078,7.2679999999999998,null,22.800000000000054,8.9723445214581137,{"$f":"('32% Range'!$B$8-Data!S205)/Data!T205","v":1.3597337876206852},{"$f":"(S205-'32% Range'!$B$7)/Data!T205","v":2.2067810651548987},0.41304290902957974,0.48633532073362584,0.89937822976320558,8.968]
[22.900000000000055,3.8694699061313127,{"$f":"('32% Range'!$B$8-Data!A206)/Data!B206","v":3.1270433143379832},{"$f":"(A206-'32% Range'!$B$7)/Data!B206","v":5.1428233020930847},0.49911713044554751,0.4999998646799273,0.9991169951254748,3.87,null,22.900000000000055,7.2247916883877572,{"$f":"('32% Range'!$B$8-Data!J206)/Data!K206","v":1.6747887720344932},{"$f":"(J206-'32% Range'!$B$7)/Data!K206","v":2.7544046746683191},0.4530121586900353,0.49706004921223323,0.95007220790226854,7.2210000000000001,null,22.900000000000055,8.931027431072625,{"$f":"('32% Range'!$B$8-Data!S206)/Data!T206","v":1.3548273245586395},{"$f":"(S206-'32% Range'!$B$7)/Data!T206","v":2.2281870874972833},0.41226371065613621,0.48706597911363958,0.89932968976977579,8.9269999999999996]
[23.000000000000057,3.8360649944624821,{"$f":"('32% Range'!$B$8-Data!A207)/Data!B207","v":3.1282056006148067},{"$f":"(A207-'32% Range'!$B$7)/Data!B207","v":5.2136760010247167},0.49912061447272738,0.49999990743264466,0.99912052190537204,3.8359999999999999,null,23.000000000000057,7.1769431682662992,{"$f":"('32% Range'!$B$8-Data!J207)/Data!K207","v":1.672021042755272},{"$f":"(J207-'32% Range'!$B$7)/Data!K207","v":2.7867017379254744},0.45273991364609589,0.49733762684109051,0.9500775404871864,7.1740000000000004,null,23.000000000000057,8.8884621037252796,{"$f":"('32% Range'!$B$8-Data!S207)/Data!T207","v":1.3500648211089941},{"$f":"(S207-'32% Range'!$B$7)/Data!T207","v":2.250108035181674},0.41150240433286744,0.4877789559272756,0.89928136026014305,8.8840000000000003]
[23.100000000000058,3.8027051883687646,{"$f":"('32% Range'!$B$8-Data!A208)/Data!B208","v":3.1293511883061988},{"$f":"(A208-'32% Range'!$B$7)/Data!B208","v":5.2857108306684948},0.49912403607136058,0.49999993739121851,0.99912397346257908,3.8029999999999999,null,23.100000000000058,7.1281198349217307,{"$f":"('32% Range'!$B$8-Data!J208)/Data!K208","v":1.6694444363435155},{"$f":"(J208-'32% Range'!$B$7)/Data!K208","v":2.8198179134878085},0.45248533330032847,0.49759745464578031,0.95008278794610879,7.125,null,23.100000000000058,8.8446316895926174,{"$f":"('32% Range'!$B$8-Data!S208)/Data!T208","v":1.3454489025249681},{"$f":"(S208-'32% Range'!$B$7)/Data!T208","v":2.2725649530043759},{"$f":"NORMSDIST(U208)-0.5","v":0.41075984403057397},{"$f":"NORMSDIST(V208)-0.5","v":0.48847379517635681},{"$f":"W208+X208","v":0.89923363920693078},8.84]
[23.20000000000006,3.7693973750804939,{"$f":"('32% Range'!$B$8-Data!A209)/Data!B209","v":3.130473873094358},{"$f":"(A209-'32% Range'!$B$7)/Data!B209","v":5.3589467997039444},0.49912737738465585,0.49999995814575104,0.99912733553040689,3.77,null,23.20000000000006,7.0783570602650778,{"$f":"('32% Range'!$B$8-Data!J209)/Data!K209","v":1.6670535124937653},{"$f":"(J209-'32% Range'!$B$7)/Data!K209","v":2.8537695722351124},0.45224811763932249,0.49783980720656007,0.95008792484588256,7.0750000000000002,null,23.20000000000006,8.7995190583308478,{"$f":"('32% Range'!$B$8-Data!S209)/Data!T209","v":1.3409823788981308},{"$f":"(S209-'32% Range'!$B$7)/Data!T209","v":2.2955800045544459},0.41003691310462154,0.48915004643093729,0.89918695953555883,8.7940000000000005]
[23.300000000000061,3.7361474893342055,{"$f":"('32% Range'!$B$8-Data!A210)/Data!B210","v":3.1315680211770549},{"$f":"(A210-'32% Range'!$B$7)/Data!B210","v":5.4334043444354476},0.49913062248785767,0.49999997235553595,0.99913059484339362,3.7360000000000002,null,23.300000000000061,7.0276919170946739,{"$f":"('32% Range'!$B$8-Data!J210)/Data!K210","v":1.6648424743179193},{"$f":"(J210-'32% Range'!$B$7)/Data!K210","v":2.8885728400559008},0.45202790625627121,0.49806502806528241,0.95009293432155362,7.0250000000000004,null,23.300000000000061,8.7531072350033448,{"$f":"('32% Range'!$B$8-Data!S210)/Data!T210","v":1.3366681894644317},{"$f":"(S210-'32% Range'!$B$7)/Data!T210","v":2.3191764312930077},0.40933451506739593,0.48980726407075448,0.89914177913815041,8.7460000000000004]
[23.400000000000063,3.7029605807022521,{"$f":"('32% Range'!$B$8-Data!A211)/Data!B211","v":3.1326285406473442},{"$f":"(A211-'32% Range'!$B$7)/Data!B211","v":5.5091053645867554},0.49913375725906839,0.49999998196690054,0.99913373922596893,3.7029999999999998,null,23.400000000000063,6.9761629929604911,{"$f":"('32% Range'!$B$8-Data!J211)/Data!K211","v":1.6628051855590629},{"$f":"(J211-'32% Range'!$B$7)/Data!K211","v":2.924243602190101},0.45182428084896931,0.4982735279537881,0.9500978088027574,6.9729999999999999,null,23.400000000000063,8.7053794371559174,{"$f":"('32% Range'!$B$8-Data!S211)/Data!T211","v":1.3325094079747206},{"$f":"(S211-'32% Range'!$B$7)/Data!T211","v":2.3433786140245285},0.40865357397683177,0.49044501024493192,0.8990985842217637,8.6950000000000003]
[{"$f":"A211+0.1","v":23.500000000000064},3.6698408664046847,{"$f":"('32% Range'!$B$8-Data!A212)/Data!B212","v":3.1336508635227007},{"$f":"(A212-'32% Range'!$B$7)/Data!B212","v":5.5860732784535587},0.49913676928313522,0.49999998838693682,0.99913675767007204,3.67,null,23.500000000000064,6.9238102695963066,{"$f":"('32% Range'!$B$8-Data!J212)/Data!K212","v":1.6609351718516177},{"$f":"(J212-'32% Range'!$B$7)/Data!K212","v":2.960797480257257},0.45163676628477933,0.4984657818305559,0.95010254811533523,6.9210000000000003,null,23.500000000000064,8.6563198215493067,{"$f":"('32% Range'!$B$8-Data!S212)/Data!T212","v":1.3285091398045952},{"$f":"(S212-'32% Range'!$B$7)/Data!T212","v":2.3682119448690813},0.40799501689846485,0.49106285343363676,0.89905787033210161,8.6419999999999995]
[23.600000000000065,3.6367939246964398,{"$f":"('32% Range'!$B$8-Data!A213)/Data!B213","v":3.13462908156158},{"$f":"(A213-'32% Range'!$B$7)/Data!B213","v":5.6643297438744842},0.49913964234330699,0.4999999926199834,0.99913963496329039,3.637,null,23.600000000000065,6.8706924619604557,{"$f":"('32% Range'!$B$8-Data!J213)/Data!K213","v":1.6592214049917036},{"$f":"(J213-'32% Range'!$B$7)/Data!K213","v":2.9982421879674912},0.45146440706454649,0.49864229103880464,0.95010669810335113,6.8680000000000003,null,23.600000000000065,8.6059096442604588,{"$f":"('32% Range'!$B$8-Data!S213)/Data!T213","v":1.3246711238251192},{"$f":"(S213-'32% Range'!$B$7)/Data!T213","v":2.3937039605962895},0.40735987268286089,0.49166039752044943,0.89902027020331032,8.5869999999999997]
[23.700000000000067,3.6038263896478022,{"$f":"('32% Range'!$B$8-Data!A214)/Data!B214","v":3.1355561501130662},{"$f":"(A214-'32% Range'!$B$7)/Data!B214","v":5.7438948944549608},0.49914235705685517,0.49999999537383844,0.9991423524306936,3.6040000000000001,null,23.700000000000067,6.8168856235432287,{"$f":"('32% Range'!$B$8-Data!J214)/Data!K214","v":1.6576484664747104},{"$f":"(J214-'32% Range'!$B$7)/Data!K214","v":3.0365772792944088},0.45130577947592254,0.49880359618375725,0.95010937565967979,6.8150000000000004,null,23.700000000000067,8.5216010519874068,{"$f":"('32% Range'!$B$8-Data!S214)/Data!T214","v":1.3260418941302761},{"$f":"(S214-'32% Range'!$B$7)/Data!T214","v":2.4291209919023862},0.40758708950277789,0.49243225978296545,0.90001934928574334,8.5299999999999994]
[23.800000000000068,3.5709328484604663,{"$f":"('32% Range'!$B$8-Data!A215)/Data!B215","v":3.1364353448507383},{"$f":"(A215-'32% Range'!$B$7)/Data!B215","v":5.8248084975799967},0.49914492430227986,0.49999999714109367,0.99914492144337352,3.5710000000000002,null,23.800000000000068,6.76237457002303,{"$f":"('32% Range'!$B$8-Data!J215)/Data!K215","v":1.6562229560084527},{"$f":"(J215-'32% Range'!$B$7)/Data!K215","v":3.0758426325871553},0.45116166198306995,0.49895045700190688,0.95011211898497683,6.76,null,23.800000000000068,8.4674075205961081,{"$f":"('32% Range'!$B$8-Data!S215)/Data!T215","v":1.3227189045474745},{"$f":"(S215-'32% Range'!$B$7)/Data!T215","v":2.4564779655881899},0.40703556281648101,0.49298467969124971,0.90002024250773072,8.4719999999999995]
[23.90000000000007,3.5381141087339039,{"$f":"('32% Range'!$B$8-Data!A216)/Data!B216","v":3.1372645592744912},{"$f":"(A216-'32% Range'!$B$7)/Data!B216","v":5.9071017377331074},0.49914733912695064,0.49999999825910624,0.99914733738605688,3.5379999999999998,null,23.90000000000007,6.7072001609891991,{"$f":"('32% Range'!$B$8-Data!J216)/Data!K216","v":1.6549379373766695},{"$f":"(J216-'32% Range'!$B$7)/Data!K216","v":3.1160543145200652},0.45103145611798323,0.49908355745143573,0.95011501356941896,6.7050000000000001,null,23.90000000000007,8.4119828650040738,{"$f":"('32% Range'!$B$8-Data!S216)/Data!T216","v":1.3195461971491491},{"$f":"(S216-'32% Range'!$B$7)/Data!T216","v":2.4845509477853587},0.4065067118093213,0.49351425273357108,0.90002096454289238,8.4130000000000003]
[24.000000000000071,3.5053706667713134,{"$f":"('32% Range'!$B$8-Data!A217)/Data!B217","v":3.138041892195008},{"$f":"(A217-'32% Range'!$B$7)/Data!B217","v":5.9908072487359831},0.49914959716549279,0.49999999895599001,0.9991495961214828,3.5059999999999998,null,24.000000000000071,6.6514072761304268,{"$f":"('32% Range'!$B$8-Data!J217)/Data!K217","v":1.6537853635087238},{"$f":"(J217-'32% Range'!$B$7)/Data!K217","v":3.1572266030621403},0.45091443455764846,0.49920361241023248,0.95011804696788094,6.649,null,24.000000000000071,8.3553391866994016,{"$f":"('32% Range'!$B$8-Data!S217)/Data!T217","v":1.3165234533518972},{"$f":"(S217-'32% Range'!$B$7)/Data!T217","v":2.5133629563991016},0.406000794069169,0.49402068849320313,0.90002148256237213,8.3539999999999992]
[24.100000000000072,3.4727017269741838,{"$f":"('32% Range'!$B$8-Data!A218)/Data!B218","v":3.1387665445996302},{"$f":"(A218-'32% Range'!$B$7)/Data!B218","v":6.075960925784667},0.49915169721987229,0.49999999938376294,0.99915169660363523,3.4729999999999999,null,24.100000000000072,6.5950360933134808,{"$f":"('32% Range'!$B$8-Data!J218)/Data!K218","v":1.6527582026504946},{"$f":"(J218-'32% Range'!$B$7)/Data!K218","v":3.1993759702684206},0.45080995811931046,0.49931137283383886,0.95012133095314932,6.593,null,24.100000000000072,8.2974907239300588,{"$f":"('32% Range'!$B$8-Data!S218)/Data!T218","v":1.3136501579404243},{"$f":"(S218-'32% Range'!$B$7)/Data!T218","v":2.5429374617012139},0.40551801943851007,0.49450375491338738,0.90002177435189745,8.2949999999999999]
[24.200000000000074,3.4401059762951594,{"$f":"('32% Range'!$B$8-Data!A219)/Data!B219","v":3.1394381668529423},{"$f":"(A219-'32% Range'!$B$7)/Data!B219","v":6.1626008460447279},0.49915363933158496,0.49999999964220132,0.99915363897378628,3.44,null,24.200000000000074,6.5381280637540078,{"$f":"('32% Range'!$B$8-Data!J219)/Data!K219","v":1.6518489535059477},{"$f":"(J219-'32% Range'!$B$7)/Data!K219","v":3.2425183161413385},0.45071732681793375,0.4994076083377933,0.95012493515572705,6.5359999999999996,null,24.200000000000074,8.238454127089847,{"$f":"('32% Range'!$B$8-Data!S219)/Data!T219","v":1.3109255490647393},{"$f":"(S219-'32% Range'!$B$7)/Data!T219","v":2.5732983000159964},0.40505854093890103,0.49496328282090496,0.90002182375980599,8.2349999999999994]
[24.300000000000075,3.4075814136121663,{"$f":"('32% Range'!$B$8-Data!A220)/Data!B220","v":3.1400570378911405},{"$f":"(A220-'32% Range'!$B$7)/Data!B220","v":6.2507677483254209},0.49915542528253209,0.49999999979578003,0.99915542507831212,3.4079999999999999,null,24.300000000000075,6.4807238395651119,{"$f":"('32% Range'!$B$8-Data!J220)/Data!K220","v":1.6510501395964354},{"$f":"(J220-'32% Range'!$B$7)/Data!K220","v":3.2866699040564904},0.45063583140589014,0.49949310202204433,0.95012893342793447,6.4790000000000001,null,24.300000000000075,8.178248538252177,{"$f":"('32% Range'!$B$8-Data!S220)/Data!T220","v":1.3083485968851085},{"$f":"(S220-'32% Range'!$B$7)/Data!T220","v":2.6044696367900095},0.40462245048404633,0.49539917131482625,0.90002162179887257,8.1750000000000007]
[24.400000000000077,3.375125368322772,{"$f":"('32% Range'!$B$8-Data!A221)/Data!B221","v":3.1406240785856987},{"$f":"(A221-'32% Range'!$B$7)/Data!B221","v":6.3405052152579886},0.49915705861640625,0.49999999988549348,0.99915705850189973,3.375,null,24.400000000000077,6.4228626505551931,{"$f":"('32% Range'!$B$8-Data!J221)/Data!K221","v":1.6503544566819683},{"$f":"(J221-'32% Range'!$B$7)/Data!K221","v":3.3318476766975951},0.45056476985347471,0.49956864268777945,0.95013341254125416,6.4210000000000003,null,24.400000000000077,8.1169826139290766,{"$f":"('32% Range'!$B$8-Data!S221)/Data!T221","v":1.3059039921817606},{"$f":"(S221-'32% Range'!$B$7)/Data!T221","v":2.6364476823292433},0.40420739559193997,0.49581104408451515,0.90001843967645512,8.1140000000000008]
[24.500000000000078,3.3427346921512808,{"$f":"('32% Range'!$B$8-Data!A222)/Data!B222","v":3.1411407027467222},{"$f":"(A222-'32% Range'!$B$7)/Data!B222","v":6.4318595341957403},0.4991585441976687,0.49999999993697386,0.99915854413464256,3.343,null,24.500000000000078,6.3645831493945035,{"$f":"('32% Range'!$B$8-Data!J222)/Data!K222","v":1.6497545484968394},{"$f":"(J222-'32% Range'!$B$7)/Data!K222","v":3.3780688373983279},0.4505034258035574,0.49963501597476534,0.95013844177832274,6.3630000000000004,null,24.500000000000078,8.0544975867879351,{"$f":"('32% Range'!$B$8-Data!S222)/Data!T222","v":1.3036194854938472},{"$f":"(S222-'32% Range'!$B$7)/Data!T222","v":2.6693160893445738},0.40381832320519406,0.49619970577389549,0.90001802897908956,8.0519999999999996]
[24.60000000000008,3.3104056949402474,{"$f":"('32% Range'!$B$8-Data!A223)/Data!B223","v":3.1416089018622957},{"$f":"(A223-'32% Range'!$B$7)/Data!B223","v":6.5248800269448424},0.49915988844921855,0.499999999965972,0.99915988841519054,3.3109999999999999,null,24.60000000000008,6.305921872124129,{"$f":"('32% Range'!$B$8-Data!J223)/Data!K223","v":1.6492433954778312},{"$f":"(J223-'32% Range'!$B$7)/Data!K223","v":3.425351667530919},0.45045110955243473,0.4996929979460768,0.95014410749851153,6.3049999999999997,null,24.60000000000008,7.9909169999859655,{"$f":"('32% Range'!$B$8-Data!S223)/Data!T223","v":1.3014776652064071},{"$f":"(S223-'32% Range'!$B$7)/Data!T223","v":2.7030689969671835},0.40345249766543134,0.49656487582430642,0.90001737348973776,7.99]
[24.700000000000081,3.2781342563427454,{"$f":"('32% Range'!$B$8-Data!A224)/Data!B224","v":3.1420311660728402},{"$f":"(A224-'32% Range'!$B$7)/Data!B224","v":6.6196190586195556},0.49916109912194717,0.49999999998199374,0.99916109910394091,3.278,null,24.700000000000081,6.2469132112810071,{"$f":"('32% Range'!$B$8-Data!J224)/Data!K224","v":1.648814326634094},{"$f":"(J224-'32% Range'!$B$7)/Data!K224","v":3.4737156201903159},0.45040716051297258,0.49974334762414718,0.95015050813711976,6.2460000000000004,null,24.700000000000081,7.9262706100871361,{"$f":"('32% Range'!$B$8-Data!S224)/Data!T224","v":1.2994761984144128},{"$f":"(S224-'32% Range'!$B$7)/Data!T224","v":2.7377314083100082},0.40310972170957504,0.49690677105623926,0.9000164927658143,7.9279999999999999]
[24.800000000000082,3.2459159593154441,{"$f":"('32% Range'!$B$8-Data!A225)/Data!B225","v":3.1424103790262867},{"$f":"(A225-'32% Range'!$B$7)/Data!B225","v":6.7161319865464568},0.49916218499438925,0.49999999999066946,0.99916218498505871,3.246,null,24.800000000000082,6.1875895966738312,{"$f":"('32% Range'!$B$8-Data!J225)/Data!K225","v":1.6484609783239303},{"$f":"(J225-'32% Range'!$B$7)/Data!K225","v":3.5231813066139321},0.4503709440893946,0.49978680021998012,0.95015774430937472,6.1870000000000003,null,24.800000000000082,7.8605907919451727,{"$f":"('32% Range'!$B$8-Data!S225)/Data!T225","v":1.2976123894468545},{"$f":"(S225-'32% Range'!$B$7)/Data!T225","v":2.7733284401903688},0.40278971869085567,0.49722569557923113,0.9000154142700868,7.8659999999999997]
[24.900000000000084,3.2137461623461361,{"$f":"('32% Range'!$B$8-Data!A226)/Data!B226","v":3.1427497660943442},{"$f":"(A226-'32% Range'!$B$7)/Data!B226","v":6.8144772155907898},0.49916315572916148,0.49999999999526967,0.99916315572443115,3.214,null,24.900000000000084,6.1279811312900856,{"$f":"('32% Range'!$B$8-Data!J226)/Data!K226","v":1.648177398658802},{"$f":"(J226-'32% Range'!$B$7)/Data!K226","v":3.5737707951117033},0.45034186333808146,0.49982406151263692,0.95016592485071838,6.1269999999999998,null,24.900000000000084,7.7939058202343938,{"$f":"('32% Range'!$B$8-Data!S226)/Data!T226","v":1.2958842758631344},{"$f":"(S226-'32% Range'!$B$7)/Data!T226","v":2.8098876872676226},0.40249232134455037,0.49752206044893132,0.9000143817934817,7.8040000000000003]
[25.000000000000085,3.1816200918703283,{"$f":"('32% Range'!$B$8-Data!A227)/Data!B227","v":3.1430528193959746},{"$f":"(A227-'32% Range'!$B$7)/Data!B227","v":6.9147162026712294},0.49916402166534501,0.49999999999765599,0.999164021663001,3.1819999999999999,null,25.000000000000085,6.068115464199324,{"$f":"('32% Range'!$B$8-Data!J227)/Data!K227","v":1.6479580948974897},{"$f":"(J227-'32% Range'!$B$7)/Data!K227","v":3.6255078087745223},0.45031936468086931,0.4998558029093142,0.9501751675901835,6.0670000000000002,null,25.000000000000085,7.7579265157690589,{"$f":"('32% Range'!$B$8-Data!S227)/Data!T227","v":1.2890042177730778},{"$f":"(S227-'32% Range'!$B$7)/Data!T227","v":2.8358092791008063},0.4013016898682763,0.49771451332635785,0.89901620319463416,7.7409999999999997]
[25.100000000000087,3.1495329285362348,{"$f":"('32% Range'!$B$8-Data!A228)/Data!B228","v":3.1433232243109139},{"$f":"(A228-'32% Range'!$B$7)/Data!B228","v":7.016913460330513},0.49916479361692134,0.49999999999886591,0.99916479361578725,3.15,null,25.100000000000087,6.0080176893170458,{"$f":"('32% Range'!$B$8-Data!J228)/Data!K228","v":1.6477980778257801},{"$f":"(J228-'32% Range'!$B$7)/Data!K228","v":3.6784179313081014},0.45030294319021746,0.49988265740982174,0.9501856006000392,6.0069999999999997,null,25.100000000000087,7.6885633752253639,{"$f":"('32% Range'!$B$8-Data!S228)/Data!T228","v":1.2876267667767944},{"$f":"(S228-'32% Range'!$B$7)/Data!T228","v":2.8743991460371232},0.40106204141268642,0.49797601485197018,0.8990380562646566,7.6760000000000002]
[25.200000000000088,3.1174798847207987,{"$f":"('32% Range'!$B$8-Data!A229)/Data!B229","v":3.1435647902753345},{"$f":"(A229-'32% Range'!$B$7)/Data!B229","v":7.1211365657258501},0.49916548268442129,0.49999999999946476,0.99916548268388605,3.1179999999999999,null,25.200000000000088,5.9477102698848192,{"$f":"('32% Range'!$B$8-Data!J229)/Data!K229","v":1.6476929028672567},{"$f":"(J229-'32% Range'!$B$7)/Data!K229","v":3.7325288207809764},0.45029214742333223,0.49990521650065478,0.95019736392398702,5.9470000000000001,null,25.200000000000088,7.6182625056597084,{"$f":"('32% Range'!$B$8-Data!S229)/Data!T229","v":1.2863825567469436},{"$f":"(S229-'32% Range'!$B$7)/Data!T229","v":2.9140502816104608},0.40084520849274896,0.4982161378124722,0.89906134630522117,7.61]
[25.30000000000009,3.0854562723475363,{"$f":"('32% Range'!$B$8-Data!A230)/Data!B230","v":3.1437813871916487},{"$f":"(A230-'32% Range'!$B$7)/Data!B230","v":7.2274561788015141},0.49916610008288043,0.49999999999975397,0.9991661000826344,3.0859999999999999,null,25.30000000000009,5.8872129982167021,{"$f":"('32% Range'!$B$8-Data!J230)/Data!K230","v":1.6476387049250878},{"$f":"(J230-'32% Range'!$B$7)/Data!K230","v":3.7878704247247366},0.45028658350215878,0.49992402797428792,0.9502106114764467,5.8869999999999996,null,25.30000000000009,7.5470853672003848,{"$f":"('32% Range'!$B$8-Data!S230)/Data!T230","v":1.2852643806251467},{"$f":"(S230-'32% Range'!$B$7)/Data!T230","v":2.9547830606124896},0.40065004362465739,0.49843555510024251,0.8990855987248999,7.5419999999999998]
[25.400000000000091,3.053456512112215,{"$f":"('32% Range'!$B$8-Data!A231)/Data!B231","v":3.1439779678929018},{"$f":"(A231-'32% Range'!$B$7)/Data!B231","v":7.3359485917502028},0.49916666006233068,0.49999999999988998,0.99916666006222066,3.0539999999999998,null,25.400000000000091,5.8265326684647167,{"$f":"('32% Range'!$B$8-Data!J231)/Data!K231","v":1.6476351453341282},{"$f":"(J231-'32% Range'!$B$7)/Data!K231","v":3.8444820057796845},0.45028621805976166,0.49993959632562068,0.95022581438538234,5.8259999999999996,null,25.400000000000091,7.4749819476242942,{"$f":"('32% Range'!$B$8-Data!S231)/Data!T231","v":1.2842840380438632},{"$f":"(S231-'32% Range'!$B$7)/Data!T231","v":2.9966627554357212},0.40047870511442729,0.49863523754872496,0.89911394266315225,7.4710000000000001]
[25.500000000000092,3.0214853926650749,{"$f":"('32% Range'!$B$8-Data!A232)/Data!B232","v":3.1441489086996763},{"$f":"(A232-'32% Range'!$B$7)/Data!B232","v":7.4466684679730202},0.49916714672277585,0.49999999999995215,0.99916714672272799,3.0219999999999998,null,25.500000000000092,5.7657738094295645,{"$f":"('32% Range'!$B$8-Data!J232)/Data!K232","v":1.6476539514025417},{"$f":"(J232-'32% Range'!$B$7)/Data!K232","v":3.9023383059534424},0.4502881487446293,0.49995236606119942,0.95024051480582872,5.766,null,25.500000000000092,7.4024296104909064,{"$f":"('32% Range'!$B$8-Data!S232)/Data!T232","v":1.283362422864011},{"$f":"(S232-'32% Range'!$B$7)/Data!T232","v":3.0395425804674367},0.40031743378745743,0.4988153114675401,0.89913274525499753,7.4]
[25.600000000000094,2.9895247772963822,{"$f":"('32% Range'!$B$8-Data!A233)/Data!B233","v":3.1443124577481929},{"$f":"(A233-'32% Range'!$B$7)/Data!B233","v":7.5597299516074639},0.49916761209445548,0.49999999999997979,0.99916761209443528,2.99,null,25.600000000000094,5.7048097662567567,{"$f":"('32% Range'!$B$8-Data!J233)/Data!K233","v":1.6477324196855332},{"$f":"(J233-'32% Range'!$B$7)/Data!K233","v":3.9615694345631463},0.45029620387784863,0.49996277063898098,0.95025897451682961,5.7050000000000001,null,25.600000000000094,7.3292449375858828,{"$f":"('32% Range'!$B$8-Data!S233)/Data!T233","v":1.2825332049956146},{"$f":"(S233-'32% Range'!$B$7)/Data!T233","v":3.0835372800958831},0.40017216774048048,0.4989772226029936,0.89914939034347408,7.327]
[25.700000000000095,2.9575768147844603,{"$f":"('32% Range'!$B$8-Data!A234)/Data!B234","v":3.1444660891006011},{"$f":"(A234-'32% Range'!$B$7)/Data!B234","v":7.6752021744714707},0.49916804902782896,0.49999999999999178,0.99916804902782075,2.9580000000000002,null,25.700000000000095,5.6437088867232621,{"$f":"('32% Range'!$B$8-Data!J234)/Data!K234","v":1.6478525357461316},{"$f":"(J234-'32% Range'!$B$7)/Data!K234","v":4.0221776947782502},0.45030853233142909,0.49997116873563652,0.95027970106706561,5.6449999999999996,null,25.700000000000095,7.2555088773178973,{"$f":"('32% Range'!$B$8-Data!S234)/Data!T234","v":1.2817846628337093},{"$f":"(S234-'32% Range'!$B$7)/Data!T234","v":3.1286571877769482},0.40004090207548126,0.49912196472096015,0.89916286679644142,7.2539999999999996]
[25.800000000000097,2.9258000857075226,{"$f":"('32% Range'!$B$8-Data!A235)/Data!B235","v":3.1444390356476259},{"$f":"(A235-'32% Range'!$B$7)/Data!B235","v":7.7927402187790138},0.49916797210209707,0.49999999999999667,0.99916797210209374,2.9260000000000002,null,25.800000000000097,5.5840943523687097,{"$f":"('32% Range'!$B$8-Data!J235)/Data!K235","v":1.6475366316289708},{"$f":"(J235-'32% Range'!$B$7)/Data!K235","v":4.0830255653414227},0.45027610338299084,0.49997777343475547,0.95025387681774631,5.585,null,25.800000000000097,7.1812994590297077,{"$f":"('32% Range'!$B$8-Data!S235)/Data!T235","v":1.2811051888989113},{"$f":"(S235-'32% Range'!$B$7)/Data!T235","v":3.174912859445175},0.39992163923468516,0.49925059247914449,0.89917223171382965,7.18]
[25.900000000000098,2.8940752620951784,{"$f":"('32% Range'!$B$8-Data!A236)/Data!B236","v":3.1443549928317749},{"$f":"(A236-'32% Range'!$B$7)/Data!B236","v":7.9127175094339268},0.49916773308697115,0.49999999999999878,0.99916773308696993,2.8940000000000001,null,25.900000000000098,5.5248222611227771,{"$f":"('32% Range'!$B$8-Data!J236)/Data!K236","v":1.6471118110052219},{"$f":"(J236-'32% Range'!$B$7)/Data!K236","v":4.1449297222000165},0.45023246705768583,0.49998300410279262,0.95021547116047844,5.5259999999999998,null,25.900000000000098,7.1066908819428223,{"$f":"('32% Range'!$B$8-Data!S236)/Data!T236","v":1.2804834417551239},{"$f":"(S236-'32% Range'!$B$7)/Data!T236","v":3.2223154743068987},0.39981241773506848,0.49936420478887589,0.89917662252394437,7.1050000000000004]
[26.000000000000099,2.8623738710444129,{"$f":"('32% Range'!$B$8-Data!A237)/Data!B237","v":3.1442433467700752},{"$f":"(A237-'32% Range'!$B$7)/Data!B237","v":8.0352885528569828},0.49916741547137966,0.49999999999999956,0.99916741547137922,2.863,null,26.000000000000099,5.4656415074763496,{"$f":"('32% Range'!$B$8-Data!J237)/Data!K237","v":1.646650258288797},{"$f":"(J237-'32% Range'!$B$7)/Data!K237","v":4.2081062156269899},0.45018502309950559,0.49998712400892331,0.9501721471084289,5.4660000000000002,null,26.000000000000099,7.0317527506648929,{"$f":"('32% Range'!$B$8-Data!S237)/Data!T237","v":1.2799084835781376},{"$f":"(S237-'32% Range'!$B$7)/Data!T237","v":3.2708772358108464},0.39971133817535809,0.49946392779149917,0.89917526596685726,7.03]
[26.100000000000101,2.8304861991340782,{"$f":"('32% Range'!$B$8-Data!A238)/Data!B238","v":3.1443361224381339},{"$f":"(A238-'32% Range'!$B$7)/Data!B238","v":8.1611420705979807},0.4991676794114811,0.49999999999999989,0.99916767941148099,2.831,null,26.100000000000101,5.4044733022652585,{"$f":"('32% Range'!$B$8-Data!J238)/Data!K238","v":1.646783969914239},{"$f":"(J238-'32% Range'!$B$7)/Data!K238","v":4.2742370455078111},0.45019877130454711,0.49999041035476377,0.95018918165931088,5.4080000000000004,null,26.100000000000101,6.9565494570897819,{"$f":"('32% Range'!$B$8-Data!S238)/Data!T238","v":1.2793699024060621},{"$f":"(S238-'32% Range'!$B$7)/Data!T238","v":3.3206117691663484},0.39961658631624752,0.49955089806944553,0.89916748438569305,6.9550000000000001]
[26.200000000000102,2.7987750976401196,{"$f":"('32% Range'!$B$8-Data!A239)/Data!B239","v":3.1442326349908969},{"$f":"(A239-'32% Range'!$B$7)/Data!B239","v":8.2893405831579514},0.49916738499218005,0.49999999999999989,0.99916738499217994,2.8,null,26.200000000000102,5.3449806586199076,{"$f":"('32% Range'!$B$8-Data!J239)/Data!K239","v":1.6464044609418826},{"$f":"(J239-'32% Range'!$B$7)/Data!K239","v":4.3405208515741238},0.4501597423630318,0.49999289273107583,0.95015263509410763,5.3490000000000002,null,26.200000000000102,6.8811397080108181,{"$f":"('32% Range'!$B$8-Data!S239)/Data!T239","v":1.2788579179340305},{"$f":"(S239-'32% Range'!$B$7)/Data!T239","v":3.3715345109170438},0.39952645302643386,0.49962624663660393,0.89915269966303779,6.8780000000000001]
[26.300000000000104,2.7670783344906322,{"$f":"('32% Range'!$B$8-Data!A240)/Data!B240","v":3.1441104834501927},{"$f":"(A240-'32% Range'!$B$7)/Data!B240","v":8.4204338234931839},0.49916703735068402,0.5,0.99916703735068402,2.7679999999999998,null,26.300000000000104,5.2855574974500357,{"$f":"('32% Range'!$B$8-Data!J240)/Data!K240","v":1.6459947705037972},{"$f":"(J240-'32% Range'!$B$7)/Data!K240","v":4.4082388681309315},0.45011758215928976,0.49999478927141416,0.95011237143070393,5.29,null,26.300000000000104,6.8055656888891081,{"$f":"('32% Range'!$B$8-Data!S240)/Data!T240","v":1.2783654434786629},{"$f":"(S240-'32% Range'!$B$7)/Data!T240","v":3.4236683716153253},0.39943969871213136,0.49969109017172619,0.89913078888385756,6.8]
[26.400000000000105,2.7412496386583993,{"$f":"('32% Range'!$B$8-Data!A241)/Data!B241","v":3.1372553155023266},{"$f":"(A241-'32% Range'!$B$7)/Data!B241","v":8.5362528352041469},0.49914731224199571,0.5,0.99914731224199571,2.7370000000000001,null,26.400000000000105,5.2543559157160828,{"$f":"('32% Range'!$B$8-Data!J241)/Data!K241","v":1.636737240101455},{"$f":"(J241-'32% Range'!$B$7)/Data!K241","v":4.4534478393458938},0.44915730789910835,0.49999577488781122,0.94915308278691957,5.2309999999999999,null,26.400000000000105,6.7298879647793672,{"$f":"('32% Range'!$B$8-Data!S241)/Data!T241","v":1.2778815999623907},{"$f":"(S241-'32% Range'!$B$7)/Data!T241","v":3.4770266789674933},0.39935441161780894,0.49974649631732659,0.89910090793513553,6.72]
[26.500000000000107,2.7055547963421667,{"$f":"('32% Range'!$B$8-Data!A242)/Data!B242","v":3.1416846598308239},{"$f":"(A242-'32% Range'!$B$7)/Data!B242","v":8.685834059532425},0.49916010577295911,0.5,0.99916010577295911,2.7050000000000001,null,26.500000000000107,5.1744120803107894,{"$f":"('32% Range'!$B$8-Data!J242)/Data!K242","v":1.6426987004655724},{"$f":"(J242-'32% Range'!$B$7)/Data!K242","v":4.5415787601107782},0.44977735609722236,0.49999720827404714,0.9497745643712695,5.1710000000000003,null,26.500000000000107,6.6541954255817846,{"$f":"('32% Range'!$B$8-Data!S242)/Data!T242","v":1.2773895950398433},{"$f":"(S242-'32% Range'!$B$7)/Data!T242","v":3.5316065274631563},0.39926763182135805,0.49979347827215992,0.89906111009351797,6.64]
[26.600000000000108,2.6707424107438302,{"$f":"('32% Range'!$B$8-Data!A243)/Data!B243","v":3.1451928745387328},{"$f":"(A243-'32% Range'!$B$7)/Data!B243","v":8.8364942665613562},0.49917011317413196,0.5,0.99917011317413196,2.673,null,26.600000000000108,5.0944432555489261,{"$f":"('32% Range'!$B$8-Data!J243)/Data!K243","v":1.6488553466270364},{"$f":"(J243-'32% Range'!$B$7)/Data!K243","v":4.632498354809373},0.45041136348915101,0.49999819360396269,0.9504095570931137,5.1109999999999998,null,26.600000000000108,6.5572162505683442,{"$f":"('32% Range'!$B$8-Data!S243)/Data!T243","v":1.2810314131811384},{"$f":"(S243-'32% Range'!$B$7)/Data!T243","v":3.5990882560804041},0.39990868369954247,0.49984033259546523,0.8997490162950077,6.5590000000000002]
[26.700000000000109,2.641118491790313,{"$f":"('32% Range'!$B$8-Data!A244)/Data!B244","v":3.1426079616646199},{"$f":"(A244-'32% Range'!$B$7)/Data!B244","v":8.9734709266810615},0.49916275025774348,0.5,0.99916275025774348,2.6419999999999999,null,26.700000000000109,5.0488492928776187,{"$f":"('32% Range'!$B$8-Data!J244)/Data!K244","v":1.6439389489618259},{"$f":"(J244-'32% Range'!$B$7)/Data!K244","v":4.6941389265537312},0.44990559311264799,0.49999866133977577,0.94990425445242377,5.05,null,26.700000000000109,6.4533889177850456,{"$f":"('32% Range'!$B$8-Data!S244)/Data!T244","v":1.2861459468413141},{"$f":"(S244-'32% Range'!$B$7)/Data!T244","v":3.6724890289324921},0.40080393434164197,0.49987990026675233,0.9006838346083943,6.4770000000000003]
[26.800000000000111,2.6096984585649814,{"$f":"('32% Range'!$B$8-Data!A245)/Data!B245","v":3.1421254716565596},{"$f":"(A245-'32% Range'!$B$7)/Data!B245","v":9.1198275884667659},0.49916136928591648,0.5,0.99916136928591648,2.61,null,26.800000000000111,4.989988984431867,{"$f":"('32% Range'!$B$8-Data!J245)/Data!K245","v":1.6432902007565247},{"$f":"(J245-'32% Range'!$B$7)/Data!K245","v":4.7695496070739019},0.44983854759682607,0.49999907680864075,0.94983762440546682,4.9909999999999997,null,26.800000000000111,6.3953002641945798,{"$f":"('32% Range'!$B$8-Data!S245)/Data!T245","v":1.2821915564948994},{"$f":"(S245-'32% Range'!$B$7)/Data!T245","v":3.7214828103145314},0.40011227128885829,0.49990097182494353,0.90001324311380182,6.3970000000000002]
[26.900000000000112,2.578309856335371,{"$f":"('32% Range'!$B$8-Data!A246)/Data!B246","v":3.141592923789486},{"$f":"(A246-'32% Range'!$B$7)/Data!B246","v":9.2696383800703845},0.49915984260697877,0.5,0.99915984260697877,2.5779999999999998,null,26.900000000000112,4.9312844871868657,{"$f":"('32% Range'!$B$8-Data!J246)/Data!K246","v":1.642574063825847},{"$f":"(J246-'32% Range'!$B$7)/Data!K246","v":4.846607422893638},0.44976445468283432,0.49999937204701139,0.94976382672984572,4.9320000000000004,null,26.900000000000112,6.3176921163416626,{"$f":"('32% Range'!$B$8-Data!S246)/Data!T246","v":1.2821137609805355},{"$f":"(S246-'32% Range'!$B$7)/Data!T246","v":3.7830270231401686},0.40009862882159664,0.49992253370691608,0.90002116252851272,6.3179999999999996]
[27.000000000000114,2.5469558063456446,{"$f":"('32% Range'!$B$8-Data!A247)/Data!B247","v":3.1410046377986567},{"$f":"(A247-'32% Range'!$B$7)/Data!B247","v":9.4230139133961472},0.49915815316921708,0.5,0.99915815316921708,2.5470000000000002,null,27.000000000000114,4.8727516980088659,{"$f":"('32% Range'!$B$8-Data!J247)/Data!K247","v":1.641782815091706},{"$f":"(J247-'32% Range'!$B$7)/Data!K247","v":4.925348445275211},0.44968248914642883,0.49999957894921165,0.94968206809564049,4.8730000000000002,null,27.000000000000114,6.2399654536125615,{"$f":"('32% Range'!$B$8-Data!S247)/Data!T247","v":1.2820583798854803},{"$f":"(S247-'32% Range'!$B$7)/Data!T247","v":3.8461751396565136},0.40008891618857134,0.49994001199032345,0.90002892817889479,6.24]
[27.100000000000115,2.5156395774349001,{"$f":"('32% Range'!$B$8-Data!A248)/Data!B248","v":3.140354473217188},{"$f":"(A248-'32% Range'!$B$7)/Data!B248","v":9.5800687094348973},0.49915628239358611,0.5,0.99915628239358611,2.516,null,27.100000000000115,4.8144073268375971,{"$f":"('32% Range'!$B$8-Data!J248)/Data!K248","v":1.6409081042980835},{"$f":"(J248-'32% Range'!$B$7)/Data!K248","v":5.005808267542351},0.44959175376518745,0.49999972185946051,0.94959147562464796,4.8140000000000001,null,27.100000000000115,6.1621532199272133,{"$f":"('32% Range'!$B$8-Data!S248)/Data!T248","v":1.2820194042648616},{"$f":"(S248-'32% Range'!$B$7)/Data!T248","v":3.9109705876941474},0.4000820803035553,0.49995403701635011,0.9000361173199054,6.1619999999999999]
[27.200000000000117,2.4843648145493447,{"$f":"('32% Range'!$B$8-Data!A249)/Data!B249","v":3.1396355133997407},{"$f":"(A249-'32% Range'!$B$7)/Data!B249","v":9.7409204390096438},0.49915420921527009,0.5,0.99915420921527009,2.484,null,27.200000000000117,4.7562700556542952,{"$f":"('32% Range'!$B$8-Data!J249)/Data!K249","v":1.6399405224535506},{"$f":"(J249-'32% Range'!$B$7)/Data!K249","v":5.0880205953047062},0.44949123287344195,0.49999981908995739,0.94949105196339934,4.7539999999999996,null,27.200000000000117,6.0842853794270377,{"$f":"('32% Range'!$B$8-Data!S249)/Data!T249","v":1.2819911482742474},{"$f":"(S249-'32% Range'!$B$7)/Data!T249","v":3.9774597164406926},0.40007712430736586,0.499965172290739,0.90004229659810486,6.0839999999999996]
[27.300000000000118,2.4531353226651089,{"$f":"('32% Range'!$B$8-Data!A250)/Data!B250","v":3.1388402950533241},{"$f":"(A250-'32% Range'!$B$7)/Data!B250","v":9.9056908012723781},0.49915191068221587,0.5,0.99915191068221587,2.452,null,27.300000000000118,4.6983595117867765,{"$f":"('32% Range'!$B$8-Data!J250)/Data!K250","v":1.6388699035658911},{"$f":"(J250-'32% Range'!$B$7)/Data!K250","v":5.1720180073573978},0.44937982154865419,0.49999988421036967,0.94937970575902386,4.694,null,27.300000000000118,6.0063890588075664,{"$f":"('32% Range'!$B$8-Data!S250)/Data!T250","v":1.2819682382560387},{"$f":"(S250-'32% Range'!$B$7)/Data!T250","v":4.0456919726782292},0.4000731058431608,0.49997391560336091,0.90004702144652171,6.0060000000000002]
[27.400000000000119,2.4219554406344317,{"$f":"('32% Range'!$B$8-Data!A251)/Data!B251","v":3.1379602912963005},{"$f":"(A251-'32% Range'!$B$7)/Data!B251","v":10.074504093109383},0.49914936038545543,0.5,0.99914936038545543,2.42,null,27.400000000000119,4.6406981560352163,{"$f":"('32% Range'!$B$8-Data!J251)/Data!K251","v":1.6376846208185507},{"$f":"(J251-'32% Range'!$B$7)/Data!K251","v":5.2578295721017714},0.4492562497933541,0.49999992711724528,0.94925617691059938,4.6319999999999997,null,27.400000000000119,5.9284887572513858,{"$f":"('32% Range'!$B$8-Data!S251)/Data!T251","v":1.2819455870105174},{"$f":"(S251-'32% Range'!$B$7)/Data!T251","v":4.1157200425075358},0.40006913265218458,0.49998070137155959,0.90004983402374417,5.9290000000000003]
[27.500000000000121,2.3908299383197065,{"$f":"('32% Range'!$B$8-Data!A252)/Data!B252","v":3.1369859812241336},{"$f":"(A252-'32% Range'!$B$7)/Data!B252","v":10.247487538665718},0.49914652855706199,0.5,0.99914652855706199,2.3879999999999999,null,27.500000000000121,4.583310831159773,{"$f":"('32% Range'!$B$8-Data!J252)/Data!K252","v":1.6363716702369191},{"$f":"(J252-'32% Range'!$B$7)/Data!K252","v":5.3454807894407148},0.44911908771933151,0.49999995491131877,0.94911904263065028,4.57,null,27.500000000000121,5.8506066076223204,{"$f":"('32% Range'!$B$8-Data!S252)/Data!T252","v":1.281918355308437},{"$f":"(S252-'32% Range'!$B$7)/Data!T252","v":4.1875999606743157},0.40006435586353661,0.49998590400674747,0.90005025987028409,5.851]
[27.600000000000122,2.3541198753189057,{"$f":"('32% Range'!$B$8-Data!A253)/Data!B253","v":3.1434253104878196},{"$f":"(A253-'32% Range'!$B$7)/Data!B253","v":10.449765221351624},0.49916508488182798,0.5,0.99916508488182798,2.3559999999999999,null,27.600000000000122,4.4983801620184964,{"$f":"('32% Range'!$B$8-Data!J253)/Data!K253","v":1.6450365983917592},{"$f":"(J253-'32% Range'!$B$7)/Data!K253","v":5.4686351784375873},0.45001886803714275,0.49999997732429402,0.95001884536143677,4.5069999999999997,null,27.600000000000122,5.7727630702259871,{"$f":"('32% Range'!$B$8-Data!S253)/Data!T253","v":1.2818818146489752},{"$f":"(S253-'32% Range'!$B$7)/Data!T253","v":4.2613908973466845},0.400057945902763,0.49998984207357278,0.90004778797633578,5.7729999999999997]
[27.700000000000124,2.3222767896126122,{"$f":"('32% Range'!$B$8-Data!A254)/Data!B254","v":3.1434668049270806},{"$f":"(A254-'32% Range'!$B$7)/Data!B254","v":10.636113709822},0.49916520324405134,0.5,0.99916520324405134,2.323,null,27.700000000000124,4.4374408804787926,{"$f":"('32% Range'!$B$8-Data!J254)/Data!K254","v":1.6450923396217096},{"$f":"(J254-'32% Range'!$B$7)/Data!K254","v":5.5662713409119347},0.45002461495106227,0.49999998698760528,0.95002460193866756,4.4429999999999996,null,27.700000000000124,5.6949757130345438,{"$f":"('32% Range'!$B$8-Data!S254)/Data!T254","v":1.2818316298156962},{"$f":"(S254-'32% Range'!$B$7)/Data!T254","v":4.3371563364997803},0.4000491419922978,0.49999278310183848,0.90004192509413627,5.6950000000000003]
[27.800000000000125,2.2904275041156046,{"$f":"('32% Range'!$B$8-Data!A255)/Data!B255","v":3.1435179620670803},{"$f":"(A255-'32% Range'!$B$7)/Data!B255","v":10.827672980453521},0.49916534914772526,0.5,0.99916534914772526,2.2909999999999999,null,27.800000000000125,4.3764711985688383,{"$f":"('32% Range'!$B$8-Data!J255)/Data!K255","v":1.6451610608917904},{"$f":"(J255-'32% Range'!$B$7)/Data!K255","v":5.6666658764051823},0.45003169938020082,0.4999999927198564,0.95003169210005722,4.38,null,27.800000000000125,5.6174318883196621,{"$f":"('32% Range'!$B$8-Data!S255)/Data!T255","v":1.2817244860540009},{"$f":"(S255-'32% Range'!$B$7)/Data!T255","v":4.414828785297213},0.40003034389847802,0.49999494550166046,0.90002528940013848,5.6180000000000003]
[27.900000000000126,2.2585709544108226,{"$f":"('32% Range'!$B$8-Data!A256)/Data!B256","v":3.1435806726080919},{"$f":"(A256-'32% Range'!$B$7)/Data!B256","v":11.024670246189194},0.49916552797048452,0.5,0.99916552797048452,2.2589999999999999,null,27.900000000000126,4.3154659050401616,{"$f":"('32% Range'!$B$8-Data!J256)/Data!K256","v":1.645245300561307},{"$f":"(J256-'32% Range'!$B$7)/Data!K256","v":5.7699447864757021},0.45004038249801248,0.49999999603512446,0.95004037853313694,4.3170000000000002,null,27.900000000000126,5.5398788052919983,{"$f":"('32% Range'!$B$8-Data!S256)/Data!T256","v":1.281616484681499},{"$f":"(S256-'32% Range'!$B$7)/Data!T256","v":4.4946831645873315},0.40001139272630004,0.49999651631956499,0.90000790904586503,5.54]
[28.000000000000128,2.2267058837327753,{"$f":"('32% Range'!$B$8-Data!A257)/Data!B257","v":3.1436572073296478},{"$f":"(A257-'32% Range'!$B$7)/Data!B257","v":11.227347169034719},0.49916574616593934,0.5,0.99916574616593934,2.2269999999999999,null,28.000000000000128,4.2544188488384229,{"$f":"('32% Range'!$B$8-Data!J257)/Data!K257","v":1.6453481071594704},{"$f":"(J257-'32% Range'!$B$7)/Data!K257","v":5.8762432398553885},0.45005097779668324,0.49999999790159233,0.95005097569827557,4.2549999999999999,null,28.000000000000128,5.4623653540756498,{"$f":"('32% Range'!$B$8-Data!S257)/Data!T257","v":1.2814961186689833},{"$f":"(S257-'32% Range'!$B$7)/Data!T257","v":4.5767718523893333},0.39999026882008815,0.49999763897022798,0.89998790779031612,5.4630000000000001]
[28.100000000000129,2.1948308076200278,{"$f":"('32% Range'!$B$8-Data!A258)/Data!B258","v":3.1437502954871994},{"$f":"(A258-'32% Range'!$B$7)/Data!B258","v":11.435961219816027},0.49916601148340312,0.5,0.99916601148340312,2.1949999999999998,null,28.100000000000129,4.193322767841912,{"$f":"('32% Range'!$B$8-Data!J258)/Data!K258","v":1.6454731443320179},{"$f":"(J258-'32% Range'!$B$7)/Data!K258","v":5.9857066554687872},0.45006386177408808,0.49999999892273816,0.95006386069682625,4.1929999999999996,null,28.100000000000129,5.3851415016484037,{"$f":"('32% Range'!$B$8-Data!S258)/Data!T258","v":1.2813033785440486},{"$f":"(S258-'32% Range'!$B$7)/Data!T258","v":4.6609731596313608},{"$f":"NORMSDIST(U258)-0.5","v":0.39995643666823699},{"$f":"NORMSDIST(V258)-0.5","v":0.49999842641116177},{"$f":"W258+X258","v":0.89995486307939876},5.3860000000000001]
[28.200000000000131,2.162941265808648,{"$f":"('32% Range'!$B$8-Data!A259)/Data!B259","v":3.1438671532569735},{"$f":"(A259-'32% Range'!$B$7)/Data!B259","v":11.650801803246717},0.49916634443850616,0.5,0.99916634443850616,2.1629999999999998,null,28.200000000000131,4.1321558202929891,{"$f":"('32% Range'!$B$8-Data!J259)/Data!K259","v":1.6456301010250183},{"$f":"(J259-'32% Range'!$B$7)/Data!K259","v":6.0985115508575696},0.45008003102462668,0.49999999946469664,0.95008003048932332,4.1319999999999997,null,28.200000000000131,5.307984559173466,{"$f":"('32% Range'!$B$8-Data!S259)/Data!T259","v":1.2810888811362204},{"$f":"(S259-'32% Range'!$B$7)/Data!T259","v":4.747564677151991},0.39991877558222688,0.49999897059717779,0.89991774617940468,5.3079999999999998]
[28.300000000000132,2.131038339919888,{"$f":"('32% Range'!$B$8-Data!A260)/Data!B260","v":3.1440072543470712},{"$f":"(A260-'32% Range'!$B$7)/Data!B260","v":11.872146796266103},0.49916674345805756,0.5,0.99916674345805756,2.1309999999999998,null,28.300000000000132,4.0709233474555795,{"$f":"('32% Range'!$B$8-Data!J260)/Data!K260","v":1.6458182648384971},{"$f":"(J260-'32% Range'!$B$7)/Data!K260","v":6.2148062836440321},0.45009940964387851,0.49999999974305998,0.95009940938693849,4.0709999999999997,null,28.300000000000132,5.2309791554897709,{"$f":"('32% Range'!$B$8-Data!S260)/Data!T260","v":1.2808309497789527},{"$f":"(S260-'32% Range'!$B$7)/Data!T260","v":4.836570601404226},0.39987347473166612,0.49999933950816611,0.89987281423983223,5.2320000000000002]
[28.400000000000134,2.0991179237821598,{"$f":"('32% Range'!$B$8-Data!A261)/Data!B261","v":3.1441778116534222},{"$f":"(A261-'32% Range'!$B$7)/Data!B261","v":12.100320669090753},0.49916722898227905,0.5,0.99916722898227905,2.0990000000000002,null,28.400000000000134,4.0096052756201752,{"$f":"('32% Range'!$B$8-Data!J261)/Data!K261","v":1.6460473154627493},{"$f":"(J261-'32% Range'!$B$7)/Data!K261","v":6.334788153447712},0.4501229910173663,0.49999999988116617,0.95012299089853247,4.0090000000000003,null,28.400000000000134,5.1541343184760251,{"$f":"('32% Range'!$B$8-Data!S261)/Data!T261","v":1.2805254174965612},{"$f":"(S261-'32% Range'!$B$7)/Data!T261","v":4.928082667335377},0.39981979429603487,0.49999958479758255,0.89981937909361742,5.1550000000000002]
[28.500000000000135,2.0672313989559665,{"$f":"('32% Range'!$B$8-Data!A262)/Data!B262","v":3.1443020860086692},{"$f":"(A262-'32% Range'!$B$7)/Data!B262","v":12.335338952803562},0.49916758258922977,0.5,0.99916758258922977,2.0670000000000002,null,28.500000000000135,3.9481845283507147,{"$f":"('32% Range'!$B$8-Data!J262)/Data!K262","v":1.6463262933445328},{"$f":"(J262-'32% Range'!$B$7)/Data!K262","v":6.4586646892748742},0.45015170052880171,0.49999999994718458,0.95015170047598629,3.948,null,28.500000000000135,5.0774555376117023,{"$f":"('32% Range'!$B$8-Data!S262)/Data!T262","v":1.2801687679686289},{"$f":"(S262-'32% Range'!$B$7)/Data!T262","v":5.0222005512616752},0.39975710625374583,0.49999974458598895,0.89975685083973478,5.0780000000000003]
[28.600000000000136,2.0353482090401318,{"$f":"('32% Range'!$B$8-Data!A263)/Data!B263","v":3.1444251020900729},{"$f":"(A263-'32% Range'!$B$7)/Data!B263","v":12.577700408360627},0.49916793247986524,0.5,0.99916793247986524,2.0350000000000001,null,28.600000000000136,3.8866399388843154,{"$f":"('32% Range'!$B$8-Data!J263)/Data!K263","v":1.6466665553375197},{"$f":"(J263-'32% Range'!$B$7)/Data!K263","v":6.5866662213502538},0.4501866989210912,0.49999999997750944,0.95018669889860063,3.887,null,28.600000000000136,5.0009475976800255,{"$f":"('32% Range'!$B$8-Data!S263)/Data!T263","v":1.2797574609597726},{"$f":"(S263-'32% Range'!$B$7)/Data!T263","v":5.1190298438392263},0.3996847755579952,0.49999984644431716,0.89968462200231236,5.0010000000000003]
[28.700000000000138,2.0035298164634208,{"$f":"('32% Range'!$B$8-Data!A264)/Data!B264","v":3.1444503337217413},{"$f":"(A264-'32% Range'!$B$7)/Data!B264","v":12.82736088518269},{"$f":"NORMSDIST(C264)-0.5","v":0.49916800422864849},{"$f":"NORMSDIST(D264)-0.5","v":0.5},{"$f":"E264+F264","v":0.99916800422864849},2.0030000000000001,null,28.700000000000138,3.8257490910023502,{"$f":"('32% Range'!$B$8-Data!J264)/Data!K264","v":1.6467363253948406},{"$f":"(J264-'32% Range'!$B$7)/Data!K264","v":6.7176386607378662},{"$f":"NORMSDIST(L264)-0.5","v":0.4501938728508631},{"$f":"NORMSDIST(M264)-0.5","v":0.49999999999076539},{"$f":"N264+O264","v":0.95019387284162848},3.8250000000000002,null,28.700000000000138,4.9246173611352564,{"$f":"('32% Range'!$B$8-Data!S264)/Data!T264","v":1.2792872091381213},{"$f":"(S264-'32% Range'!$B$7)/Data!T264","v":5.218679567436606},0.39960203241789838,0.49999990989839205,0.89960194231629043,4.9240000000000004]
[28.800000000000139,1.9716382324118698,{"$f":"('32% Range'!$B$8-Data!A265)/Data!B265","v":3.1445931094648696},{"$f":"(A265-'32% Range'!$B$7)/Data!B265","v":13.085564874870306},0.49916841011917901,0.5,0.99916841011917901,1.972,null,28.800000000000139,3.7641207680762143,{"$f":"('32% Range'!$B$8-Data!J265)/Data!K265","v":1.6471309987135689},{"$f":"(J265-'32% Range'!$B$7)/Data!K265","v":6.8541902849695582},0.45023443862119894,0.49999999999641409,0.95023443861761303,3.7639999999999998,null,28.800000000000139,4.8500473857948831,{"$f":"('32% Range'!$B$8-Data!S265)/Data!T265","v":1.2783380257600785},{"$f":"(S265-'32% Range'!$B$7)/Data!T265","v":5.3195356555824107},0.39943486720064336,0.49999994798378766,0.89943481518443102,4.8470000000000004]
[28.900000000000141,1.9397327243618363,{"$f":"('32% Range'!$B$8-Data!A266)/Data!B266","v":3.1447631539065428},{"$f":"(A266-'32% Range'!$B$7)/Data!B266","v":13.352355030521604},0.49916889329292191,0.5,0.99916889329292191,1.94,null,{"$f":"A265+0.1","v":28.900000000000141},3.7023532254192135,{"$f":"('32% Range'!$B$8-Data!J266)/Data!K266","v":1.647600763244075},{"$f":"(J266-'32% Range'!$B$7)/Data!K266","v":6.9955507816430753},0.45028268814121519,0.49999999999867895,0.95028268813989414,3.702,null,{"$f":"S265+0.1","v":28.900000000000141},4.7748571919063068,{"$f":"('32% Range'!$B$8-Data!S266)/Data!T266","v":1.2775251185186765},{"$f":"(S266-'32% Range'!$B$7)/Data!T266","v":5.4242459950220763},0.39929154088739049,0.49999997090015724,0.89929151178754774,4.7690000000000001]
[29.000000000000142,1.9078112362431006,{"$f":"('32% Range'!$B$8-Data!A267)/Data!B267","v":3.1449652282241383},{"$f":"(A267-'32% Range'!$B$7)/Data!B267","v":13.62818265563833},0.49916946714227417,0.5,0.99916946714227417,1.9079999999999999,null,29.000000000000142,3.640426333239521,{"$f":"('32% Range'!$B$8-Data!J267)/Data!K267","v":1.648158608571709},{"$f":"(J267-'32% Range'!$B$7)/Data!K267","v":7.1420206371442809},0.45033993595718813,0.49999999999954015,0.95033993595672828,3.64,null,29.000000000000142,4.7001283047495592,{"$f":"('32% Range'!$B$8-Data!S267)/Data!T267","v":1.2765608959944257},{"$f":"(S267-'32% Range'!$B$7)/Data!T267","v":5.5317638826426725},0.39912134259684351,0.4999999841486763,0.89912132674551981,4.6900000000000004]
[29.100000000000144,1.8758715857044552,{"$f":"('32% Range'!$B$8-Data!A268)/Data!B268","v":3.1452046317894413},{"$f":"(A268-'32% Range'!$B$7)/Data!B268","v":13.913532354187604},0.49917014652718383,0.5,0.99917014652718383,1.8759999999999999,null,29.100000000000144,3.5783189189563607,{"$f":"('32% Range'!$B$8-Data!J268)/Data!K268","v":1.6488189380617391},{"$f":"(J268-'32% Range'!$B$7)/Data!K268","v":7.2939278446462152},0.45040763302164244,0.49999999999984945,0.95040763302149189,3.5779999999999998,null,29.100000000000144,4.6040954429266607,{"$f":"('32% Range'!$B$8-Data!S268)/Data!T268","v":1.2814677873509579},{"$f":"(S268-'32% Range'!$B$7)/Data!T268","v":5.6688659745527117},0.39998529627745427,0.49999999281271235,0.89998528909016662,4.6100000000000003]
[29.200000000000145,1.8439116230409556,{"$f":"('32% Range'!$B$8-Data!A269)/Data!B269","v":3.1454869786191644},{"$f":"(A269-'32% Range'!$B$7)/Data!B269","v":14.208923937900797},0.49917094712031429,0.5,0.99917094712031429,1.8440000000000001,null,29.200000000000145,3.5160104258567948,{"$f":"('32% Range'!$B$8-Data!J269)/Data!K269","v":1.6495969287652181},{"$f":"(J269-'32% Range'!$B$7)/Data!K269","v":7.4516275058017296},0.45048729820795219,0.49999999999995393,0.95048729820790612,3.5169999999999999,null,29.200000000000145,4.5261289372908742,{"$f":"('32% Range'!$B$8-Data!S269)/Data!T269","v":1.281448248681899},{"$f":"(S269-'32% Range'!$B$7)/Data!T269","v":5.7886110543908238},0.39998186686252712,0.49999999645145898,0.89998186331398611,4.53]
[29.300000000000146,1.8119295677621832,{"$f":"('32% Range'!$B$8-Data!A270)/Data!B270","v":3.1458176418190567},{"$f":"(A270-'32% Range'!$B$7)/Data!B270","v":14.514912978919961},0.49917188381079003,0.5,0.99917188381079003,1.8120000000000001,null,29.300000000000146,3.4534843407945637,{"$f":"('32% Range'!$B$8-Data!J270)/Data!K270","v":1.6505069771616283},{"$f":"(J270-'32% Range'!$B$7)/Data!K270","v":7.6154971051495046},0.45058035626646631,0.4999999999999869,0.95058035626645321,3.456,null,29.300000000000146,4.4481708633775146,{"$f":"('32% Range'!$B$8-Data!S270)/Data!T270","v":1.2814255960644056},{"$f":"(S270-'32% Range'!$B$7)/Data!T270","v":5.9125426625429691},0.39997789078184176,0.49999999831566722,0.89997788909750898,4.4509999999999996]
[29.400000000000148,1.7799246825261295,{"$f":"('32% Range'!$B$8-Data!A271)/Data!B271","v":3.1462005415038923},{"$f":"(A271-'32% Range'!$B$7)/Data!B271","v":14.832088267090253},0.49917296725814642,0.5,0.99917296725814642,1.78,null,29.400000000000148,3.390734942434579,{"$f":"('32% Range'!$B$8-Data!J271)/Data!K271","v":1.6515593507226491},{"$f":"(J271-'32% Range'!$B$7)/Data!K271","v":7.7859226534070238},0.45068779381324142,0.49999999999999656,0.95068779381323798,3.395,null,29.400000000000148,4.3701785064440868,{"$f":"('32% Range'!$B$8-Data!S271)/Data!T271","v":1.2814121875667825},{"$f":"(S271-'32% Range'!$B$7)/Data!T271","v":6.0409431699578828},0.3999755372127568,0.49999999923392024,0.89997553644667705,4.3719999999999999]
[29.500000000000149,1.7478985834255261,{"$f":"('32% Range'!$B$8-Data!A272)/Data!B272","v":3.1466356527510699},{"$f":"(A272-'32% Range'!$B$7)/Data!B272","v":15.161062690528379},0.49917419685930442,0.5,0.99917419685930442,1.7490000000000001,null,29.500000000000149,3.3277802495264117,{"$f":"('32% Range'!$B$8-Data!J272)/Data!K272","v":1.6527533633816642},{"$f":"(J272-'32% Range'!$B$7)/Data!K272","v":7.9632662053846435},0.45080946547888501,0.49999999999999911,0.95080946547888412,3.3340000000000001,null,29.500000000000149,4.2922639156229208,{"$f":"('32% Range'!$B$8-Data!S272)/Data!T272","v":1.2813750757452331},{"$f":"(S272-'32% Range'!$B$7)/Data!T272","v":6.1738980922272342},0.39996902283168079,0.49999999966686748,0.89996902249854827,4.2930000000000001]
[29.600000000000151,1.7178606385681974,{"$f":"('32% Range'!$B$8-Data!A273)/Data!B273","v":3.1434447467756419},{"$f":"(A273-'32% Range'!$B$7)/Data!B273","v":15.48437597485831},0.49916514032544979,0.5,0.99916514032544979,1.7170000000000001,null,29.600000000000151,3.2825496453805867,{"$f":"('32% Range'!$B$8-Data!J273)/Data!K273","v":1.6450627053269624},{"$f":"(J273-'32% Range'!$B$7)/Data!K273","v":8.1034570299441988},0.45002155972454472,0.49999999999999978,0.9500215597245445,3.2730000000000001,null,29.600000000000151,4.2143332460841512,{"$f":"('32% Range'!$B$8-Data!S273)/Data!T273","v":1.281341480296412},{"$f":"(S273-'32% Range'!$B$7)/Data!T273","v":6.3117932177566116},0.39996312542590884,0.49999999986208965,0.89996312528799849,4.2140000000000004]
[29.700000000000152,1.6860548336480492,{"$f":"('32% Range'!$B$8-Data!A274)/Data!B274","v":3.143432760447328},{"$f":"(A274-'32% Range'!$B$7)/Data!B274","v":15.835783906405009},0.49916510613385534,0.5,0.99916510613385534,1.6850000000000001,null,29.700000000000152,3.2217932247872043,{"$f":"('32% Range'!$B$8-Data!J274)/Data!K274","v":1.6450466029985231},{"$f":"(J274-'32% Range'!$B$7)/Data!K274","v":8.2873102452947318},0.45001989954966792,0.49999999999999989,0.95001989954966781,3.2130000000000001,null,29.700000000000152,4.1363975771442449,{"$f":"('32% Range'!$B$8-Data!S274)/Data!T274","v":1.2813081675913152},{"$f":"(S274-'32% Range'!$B$7)/Data!T274","v":6.4548920895640167},0.39995727740280451,0.49999999994585198,0.89995727734865649,4.1360000000000001]
[29.800000000000153,1.6522111911053698,{"$f":"('32% Range'!$B$8-Data!A275)/Data!B275","v":3.1472974084632117},{"$f":"(A275-'32% Range'!$B$7)/Data!B275","v":16.220686643618663},0.49917606372127332,0.5,0.99917606372127332,1.653,null,29.800000000000153,3.1428189399602902,{"$f":"('32% Range'!$B$8-Data!J275)/Data!K275","v":1.6545655665628478},{"$f":"(J275-'32% Range'!$B$7)/Data!K275","v":8.5273763815165164},0.45099367346937735,0.5,0.95099367346937735,3.1520000000000001,null,29.800000000000153,4.0584551534369107,{"$f":"('32% Range'!$B$8-Data!S275)/Data!T275","v":1.2812757079738128},{"$f":"(S275-'32% Range'!$B$7)/Data!T275","v":6.6034978795575752},0.39995157889854227,0.49999999997992162,0.89995157887846389,4.0579999999999998]
[{"$f":"A275+0.1","v":29.900000000000155},1.6207104399884733,{"$f":"('32% Range'!$B$8-Data!A276)/Data!B276","v":3.1467681543632908},{"$f":"(A276-'32% Range'!$B$7)/Data!B276","v":16.597659480857956},0.4991745709675306,0.5,0.9991745709675306,1.6220000000000001,null,29.900000000000155,3.0850818804498932,{"$f":"('32% Range'!$B$8-Data!J276)/Data!K276","v":1.6531165776566421},{"$f":"(J276-'32% Range'!$B$7)/Data!K276","v":8.7193795958755445},0.45084642995761692,0.5,0.95084642995761692,3.0920000000000001,null,29.900000000000155,3.9805428071936197,{"$f":"('32% Range'!$B$8-Data!S276)/Data!T276","v":1.2812322959529909},{"$f":"(S276-'32% Range'!$B$7)/Data!T276","v":6.7578723061052353},0.39994395725573251,0.49999999999299838,0.89994395724873089,3.98]
[30.000000000000156,1.5893131410026138,{"$f":"('32% Range'!$B$8-Data!A277)/Data!B277","v":3.1460131241635665},{"$f":"(A277-'32% Range'!$B$7)/Data!B277","v":16.988470870483887},0.49917243710784509,0.5,0.99917243710784509,1.59,null,30.000000000000156,3.028386081462525,{"$f":"('32% Range'!$B$8-Data!J277)/Data!K277","v":1.6510444393487471},{"$f":"(J277-'32% Range'!$B$7)/Data!K277","v":8.9156399724835644},0.45063524947726818,0.5,0.95063524947726818,3.032,null,30.000000000000156,3.9026024822808094,{"$f":"('32% Range'!$B$8-Data!S277)/Data!T277","v":1.2811963357020362},{"$f":"(S277-'32% Range'!$B$7)/Data!T277","v":6.9184602127912518},0.39993764356382644,0.49999999999771716,0.8999376435615436,3.9009999999999998]
[30.100000000000158,1.5580360562429569,{"$f":"('32% Range'!$B$8-Data!A278)/Data!B278","v":3.1449849830919101},{"$f":"(A278-'32% Range'!$B$7)/Data!B278","v":17.39369245750898},0.49916952322245511,0.5,0.99916952322245511,1.5580000000000001,null,30.100000000000158,2.9729165117748675,{"$f":"('32% Range'!$B$8-Data!J278)/Data!K278","v":1.6482131202111971},{"$f":"(J278-'32% Range'!$B$7)/Data!K278","v":9.115627664841865},0.45034552728835631,0.5,0.95034552728835631,2.9729999999999999,null,30.100000000000158,3.8238574072100016,{"$f":"('32% Range'!$B$8-Data!S278)/Data!T278","v":1.2814285362107751},{"$f":"(S278-'32% Range'!$B$7)/Data!T278","v":7.0870843533292502},0.39997840685495545,0.49999999999931521,0.89997840685427066,3.823]
[30.200000000000159,1.5263437309244254,{"$f":"('32% Range'!$B$8-Data!A279)/Data!B279","v":3.1447700165759751},{"$f":"(A279-'32% Range'!$B$7)/Data!B279","v":17.820363427264553},0.49916891278746922,0.5,0.99916891278746922,1.5269999999999999,null,30.200000000000159,2.9132936168229673,{"$f":"('32% Range'!$B$8-Data!J279)/Data!K279","v":1.647619715459502},{"$f":"(J279-'32% Range'!$B$7)/Data!K279","v":9.3365117209375423},0.45028463393994389,0.5,0.95028463393994389,2.9140000000000001,null,30.200000000000159,3.7363815270623819,{"$f":"('32% Range'!$B$8-Data!S279)/Data!T279","v":1.2846653815285554},{"$f":"(S279-'32% Range'!$B$7)/Data!T279","v":7.2797704953287639},0.40054537973199655,0.4999999999998328,0.90054537973182935,3.7450000000000001]
[30.300000000000161,1.4974696163962289,{"$f":"('32% Range'!$B$8-Data!A280)/Data!B280","v":3.1386279551439156},{"$f":"(A280-'32% Range'!$B$7)/Data!B280","v":18.230753867113261},0.49915129595467578,0.5,0.99915129595467578,1.4950000000000001,null,30.300000000000161,2.8683303443958512,{"$f":"('32% Range'!$B$8-Data!J280)/Data!K280","v":1.6385839271207752},{"$f":"(J280-'32% Range'!$B$7)/Data!K280","v":9.5177321724253101},0.44935002901037924,0.5,0.94935002901037924,2.855,null,30.300000000000161,3.6676019268315163,{"$f":"('32% Range'!$B$8-Data!S280)/Data!T280","v":1.2814913106069348},{"$f":"(S280-'32% Range'!$B$7)/Data!T280","v":7.4435559105469622},0.39998942495065903,0.49999999999995104,0.89998942495061007,3.6680000000000001]
[30.400000000000162,1.4633887145213096,{"$f":"('32% Range'!$B$8-Data!A281)/Data!B281","v":3.1433890082339113},{"$f":"(A281-'32% Range'!$B$7)/Data!B281","v":18.723664962089721},0.4991649813175677,0.5,0.9991649813175677,1.4630000000000001,null,30.400000000000162,2.796373278721914,{"$f":"('32% Range'!$B$8-Data!J281)/Data!K281","v":1.6449878258392863},{"$f":"(J281-'32% Range'!$B$7)/Data!K281","v":9.7984057452170212},0.45001383916072357,0.5,0.95001383916072357,2.7949999999999999,null,30.400000000000162,3.5907473640695753,{"$f":"('32% Range'!$B$8-Data!S281)/Data!T281","v":1.2810703548874645},{"$f":"(S281-'32% Range'!$B$7)/Data!T281","v":7.6307234182430363},0.39991552228975724,0.49999999999998834,0.89991552228974558,3.5910000000000002]
[30.500000000000163,1.4315164356391046,{"$f":"('32% Range'!$B$8-Data!A282)/Data!B282","v":3.1435196187536603},{"$f":"(A282-'32% Range'!$B$7)/Data!B282","v":19.21039767016207},0.49916535387231686,0.5,0.99916535387231686,1.431,null,30.500000000000163,2.7352908004046683,{"$f":"('32% Range'!$B$8-Data!J282)/Data!K282","v":1.6451632855029861},{"$f":"(J282-'32% Range'!$B$7)/Data!K282","v":10.053775633629783},0.45003192870047759,0.5,0.95003192870047759,2.734,null,30.500000000000163,3.5142730314698922,{"$f":"('32% Range'!$B$8-Data!S282)/Data!T282","v":1.2804924260872386},{"$f":"(S282-'32% Range'!$B$7)/Data!T282","v":7.8252314927556768},0.39981399662018646,0.49999999999999745,0.89981399662018391,3.5129999999999999]
[30.600000000000165,1.3995275091223398,{"$f":"('32% Range'!$B$8-Data!A283)/Data!B283","v":3.1439181947621218},{"$f":"(A283-'32% Range'!$B$7)/Data!B283","v":19.720941403508711},0.49916648982930811,0.5,0.99916648982930811,1.4,null,30.600000000000165,2.6736365061724614,{"$f":"('32% Range'!$B$8-Data!J283)/Data!K283","v":1.645698654189462},{"$f":"(J283-'32% Range'!$B$7)/Data!K283","v":10.323018830825257},0.4500870918744283,0.5,0.9500870918744283,2.673,null,30.600000000000165,3.438601864176615,{"$f":"('32% Range'!$B$8-Data!S283)/Data!T283","v":1.2795898373228591},{"$f":"(S283-'32% Range'!$B$7)/Data!T283","v":8.0265180704801011},0.39965528705810249,0.49999999999999944,0.89965528705810194,3.4359999999999999]
[30.700000000000166,1.3675332743555286,{"$f":"('32% Range'!$B$8-Data!A284)/Data!B284","v":3.1443476225660949},{"$f":"(A284-'32% Range'!$B$7)/Data!B284","v":20.255448638391794},0.49916771212315469,0.5,0.99916771212315469,1.3680000000000001,null,30.700000000000166,2.6116760815200517,{"$f":"('32% Range'!$B$8-Data!J284)/Data!K284","v":1.646452265051622},{"$f":"(J284-'32% Range'!$B$7)/Data!K284","v":10.606215753937667},0.45016465991039767,0.5,0.95016465991039767,2.6110000000000002,null,30.700000000000166,3.3660528860477288,{"$f":"('32% Range'!$B$8-Data!S284)/Data!T284","v":1.2774606179906771},{"$f":"(S284-'32% Range'!$B$7)/Data!T284","v":8.2292230507775201},0.39928016221383666,0.49999999999999989,0.89928016221383655,3.3580000000000001]
[30.800000000000168,1.3355437673035482,{"$f":"('32% Range'!$B$8-Data!A285)/Data!B285","v":3.1447864928302556},{"$f":"(A285-'32% Range'!$B$7)/Data!B285","v":20.815491547782173},0.49916895958927654,0.5,0.99916895958927654,1.3360000000000001,null,30.800000000000168,2.5490615216494916,{"$f":"('32% Range'!$B$8-Data!J285)/Data!K285","v":1.6476652149540989},{"$f":"(J285-'32% Range'!$B$7)/Data!K285","v":10.905974518030014},0.4502893050644603,0.5,0.9502893050644603,2.5499999999999998,null,30.800000000000168,3.2775068126857847,{"$f":"('32% Range'!$B$8-Data!S285)/Data!T285","v":1.2814618672167157},{"$f":"(S285-'32% Range'!$B$7)/Data!T285","v":8.4820571211015086},0.39998425718827557,0.5,0.89998425718827557,3.28]
[30.900000000000169,1.3035073441516507,{"$f":"('32% Range'!$B$8-Data!A286)/Data!B286","v":3.145360107401769},{"$f":"(A286-'32% Range'!$B$7)/Data!B286","v":21.40379195036915},0.49917058746552423,0.5,0.99917058746552423,1.304,null,30.900000000000169,2.4859823228871019,{"$f":"('32% Range'!$B$8-Data!J286)/Data!K286","v":1.6492474472780183},{"$f":"(J286-'32% Range'!$B$7)/Data!K286","v":11.222927750989973},0.45045152442557557,0.5,0.95045152442557557,2.4889999999999999,null,30.900000000000169,3.1996227983762937,{"$f":"('32% Range'!$B$8-Data!S286)/Data!T286","v":1.281401045798414},{"$f":"(S286-'32% Range'!$B$7)/Data!T286","v":8.719777848238401},0.39997358148775319,0.5,0.89997358148775319,3.202]
[31.000000000000171,1.2711575224729448,{"$f":"('32% Range'!$B$8-Data!A287)/Data!B287","v":3.1467382517771045},{"$f":"(A287-'32% Range'!$B$7)/Data!B287","v":22.027167762440804},0.49917448655348062,0.5,0.99917448655348062,1.272,null,31.000000000000171,2.4197920243307247,{"$f":"('32% Range'!$B$8-Data!J287)/Data!K287","v":1.6530346243727969},{"$f":"(J287-'32% Range'!$B$7)/Data!K287","v":11.571242370610143},0.45083809147406395,0.5,0.95083809147406395,2.4279999999999999,null,31.000000000000171,3.1218110940745198,{"$f":"('32% Range'!$B$8-Data!S287)/Data!T287","v":1.2813075101155837},{"$f":"(S287-'32% Range'!$B$7)/Data!T287","v":8.9691525708095234},0.3999571619808675,0.5,0.8999571619808675,3.1230000000000002]
[31.100000000000172,1.2406482075540184,{"$f":"('32% Range'!$B$8-Data!A288)/Data!B288","v":3.1435180224769885},{"$f":"(A288-'32% Range'!$B$7)/Data!B288","v":22.649450367078924},0.49916534932000467,0.5,0.99916534932000467,1.24,null,31.100000000000172,2.3705884502224555,{"$f":"('32% Range'!$B$8-Data!J288)/Data!K288","v":1.6451611411646982},{"$f":"(J288-'32% Range'!$B$7)/Data!K288","v":11.853596940187266},0.45003170765501221,0.5,0.95003170765501221,2.3679999999999999,null,31.100000000000172,3.0440566181834434,{"$f":"('32% Range'!$B$8-Data!S288)/Data!T288","v":1.2811851056591625},{"$f":"(S288-'32% Range'!$B$7)/Data!T288","v":9.2311029407754557},0.39993567179854794,0.5,0.89993567179854794,3.0449999999999999]
[31.200000000000173,1.2087569167449488,{"$f":"('32% Range'!$B$8-Data!A289)/Data!B289","v":3.1437255475921613},{"$f":"(A289-'32% Range'!$B$7)/Data!B289","v":23.329752747921983},0.49916594095516831,0.5,0.99916594095516831,1.2090000000000001,null,31.200000000000173,2.3094128158790754,{"$f":"('32% Range'!$B$8-Data!J289)/Data!K289","v":1.6454399031094666},{"$f":"(J289-'32% Range'!$B$7)/Data!K289","v":12.210896123076148},0.45006043681807073,0.5,0.95006043681807073,2.3079999999999998,null,31.200000000000173,2.9663457875686317,{"$f":"('32% Range'!$B$8-Data!S289)/Data!T289","v":1.2810374353269518},{"$f":"(S289-'32% Range'!$B$7)/Data!T289","v":9.5066462305847121},0.39990974127661583,0.5,0.89990974127661583,2.9670000000000001]
[31.300000000000175,1.1768689021692937,{"$f":"('32% Range'!$B$8-Data!A290)/Data!B290","v":3.1439355676572855},{"$f":"(A290-'32% Range'!$B$7)/Data!B290","v":24.046858531001604},0.49916653931036314,0.5,0.99916653931036314,1.177,null,31.300000000000175,2.248253367813478,{"$f":"('32% Range'!$B$8-Data!J290)/Data!K290","v":1.645721987107811},{"$f":"(J290-'32% Range'!$B$7)/Data!K290","v":12.5875492527442},0.45008949494038797,0.5,0.95008949494038797,2.2480000000000002,null,31.300000000000175,2.8886978641027423,{"$f":"('32% Range'!$B$8-Data!S290)/Data!T290","v":1.280853925908614},{"$f":"(S290-'32% Range'!$B$7)/Data!T290","v":9.796801649517759},0.39987751066921029,0.5,0.89987751066921029,2.8889999999999998]
[31.400000000000176,1.1451052309290415,{"$f":"('32% Range'!$B$8-Data!A291)/Data!B291","v":3.1438158719081986},{"$f":"(A291-'32% Range'!$B$7)/Data!B291","v":24.80121410061049},0.49916619834101705,0.5,0.99916619834101705,1.145,null,31.400000000000176,2.1877034702135099,{"$f":"('32% Range'!$B$8-Data!J291)/Data!K291","v":1.645561223911429},{"$f":"(J291-'32% Range'!$B$7)/Data!K291","v":12.98164965530199},0.45007293600640186,0.5,0.95007293600640186,2.1880000000000002,null,31.400000000000176,2.8111272141873176,{"$f":"('32% Range'!$B$8-Data!S291)/Data!T291","v":1.2806250751766726},{"$f":"(S291-'32% Range'!$B$7)/Data!T291","v":10.102708926394307},0.39983730594125622,0.5,0.89983730594125622,2.8109999999999999]
[31.500000000000178,1.1133568695878033,{"$f":"('32% Range'!$B$8-Data!A292)/Data!B292","v":3.14364611707621},{"$f":"(A292-'32% Range'!$B$7)/Data!B292","v":25.598261239050597},0.49916571455160885,0.5,0.99916571455160885,1.113,null,31.500000000000178,2.127228684565138,{"$f":"('32% Range'!$B$8-Data!J292)/Data!K292","v":1.6453332100094895},{"$f":"(J292-'32% Range'!$B$7)/Data!K292","v":13.397713281506606},0.45004944260009461,0.5,0.95004944260009461,2.1269999999999998,null,31.500000000000178,2.7330023808297064,{"$f":"('32% Range'!$B$8-Data!S292)/Data!T292","v":1.2806428653520838},{"$f":"(S292-'32% Range'!$B$7)/Data!T292","v":10.42809190358185},0.39984043175968353,0.5,0.89984043175968353,2.7330000000000001]
[31.600000000000179,1.0816281275355724,{"$f":"('32% Range'!$B$8-Data!A293)/Data!B293","v":3.1434093783660435},{"$f":"(A293-'32% Range'!$B$7)/Data!B293","v":26.441620065080627},0.49916503943160373,0.5,0.99916503943160373,1.0820000000000001,null,31.600000000000179,2.0668502137225766,{"$f":"('32% Range'!$B$8-Data!J293)/Data!K293","v":1.6450151914376638},{"$f":"(J293-'32% Range'!$B$7)/Data!K293","v":13.837480727976459},0.45001666084276581,0.5,0.95001666084276581,2.0670000000000002,null,31.600000000000179,2.6524397901028145,{"$f":"('32% Range'!$B$8-Data!S293)/Data!T293","v":1.2818387104153754},{"$f":"(S293-'32% Range'!$B$7)/Data!T293","v":10.782525622906441},0.40005038417412264,0.5,0.90005038417412264,2.6549999999999998]
[31.70000000000018,1.0512978062372065,{"$f":"('32% Range'!$B$8-Data!A294)/Data!B294","v":3.1389773482084427},{"$f":"(A294-'32% Range'!$B$7)/Data!B294","v":27.299590876844785},0.49915230723585025,0.5,0.99915230723585025,1.05,null,31.70000000000018,2.0133559675439159,{"$f":"('32% Range'!$B$8-Data!J294)/Data!K294","v":1.6390544211739542},{"$f":"(J294-'32% Range'!$B$7)/Data!K294","v":14.254806632634956},0.4493990368687002,0.5,0.9493990368687002,2.0059999999999998,null,31.70000000000018,2.5757648279380034,{"$f":"('32% Range'!$B$8-Data!S294)/Data!T294","v":1.2811728633788333},{"$f":"(S294-'32% Range'!$B$7)/Data!T294","v":11.14232156938629},0.39993352227280587,0.5,0.89993352227280587,2.577]
[31.800000000000182,1.0177747956586976,{"$f":"('32% Range'!$B$8-Data!A295)/Data!B295","v":3.1441140158406045},{"$f":"(A295-'32% Range'!$B$7)/Data!B295","v":28.297026142567226},0.49916704740569018,0.5,0.99916704740569018,1.018,null,31.800000000000182,1.9441522309154731,{"$f":"('32% Range'!$B$8-Data!J295)/Data!K295","v":1.6459616428765893},{"$f":"(J295-'32% Range'!$B$7)/Data!K295","v":14.813654785890238},0.45011417183655134,0.5,0.95011417183655134,1.9450000000000001,null,31.800000000000182,2.5055188884475199,{"$f":"('32% Range'!$B$8-Data!S295)/Data!T295","v":1.2771805531997469},{"$f":"(S295-'32% Range'!$B$7)/Data!T295","v":11.494624978798447},0.39923074452161345,0.5,0.89923074452161345,2.4990000000000001]
[31.900000000000183,0.98554048791529214,{"$f":"('32% Range'!$B$8-Data!A296)/Data!B296","v":3.14548213697159},{"$f":"(A296-'32% Range'!$B$7)/Data!B296","v":29.32401088983384},0.49917093339783569,0.5,0.99917093339783569,0.98599999999999999,null,31.900000000000183,1.8792621418851034,{"$f":"('32% Range'!$B$8-Data!J296)/Data!K296","v":1.6495835950221298},{"$f":"(J296-'32% Range'!$B$7)/Data!K296","v":15.378376095529894},0.45048593371165513,0.5,0.95048593371165513,1.8839999999999999,null,31.900000000000183,2.419359533930955,{"$f":"('32% Range'!$B$8-Data!S296)/Data!T296","v":1.2813308466654243},{"$f":"(S296-'32% Range'!$B$7)/Data!T296","v":11.945310151171995},0.39996125872622224,0.5,0.89996125872622224,2.4209999999999998]
[32.000000000000185,0.95430831887750323,{"$f":"('32% Range'!$B$8-Data!A297)/Data!B297","v":3.1436381100906035},{"$f":"(A297-'32% Range'!$B$7)/Data!B297","v":30.388501730877898},0.49916569172588277,0.5,0.99916569172588277,0.95399999999999996,null,32.000000000000185,1.8233507915943648,{"$f":"('32% Range'!$B$8-Data!J297)/Data!K297","v":1.6453224545873431},{"$f":"(J297-'32% Range'!$B$7)/Data!K297","v":15.90478372767873},0.45004833419775803,0.5,0.95004833419775803,1.823,null,32.000000000000185,2.3420980662826709,{"$f":"('32% Range'!$B$8-Data!S297)/Data!T297","v":1.2809028123922037},{"$f":"(S297-'32% Range'!$B$7)/Data!T297","v":12.382060519792145},0.39988609756862248,0.5,0.89988609756862248,2.343]
[32.100000000000186,0.92230483455219359,{"$f":"('32% Range'!$B$8-Data!A298)/Data!B298","v":3.1442966483070101},{"$f":"(A298-'32% Range'!$B$7)/Data!B298","v":31.551390505427744},0.49916756711982824,0.5,0.99916756711982824,0.92200000000000004,null,32.100000000000186,1.7615138116612576,{"$f":"('32% Range'!$B$8-Data!J298)/Data!K298","v":1.6463112470658783},{"$f":"(J298-'32% Range'!$B$7)/Data!K298","v":16.519881824007047},0.45015015245814904,0.5,0.95015015245814904,1.762,null,32.100000000000186,2.2656676334945609,{"$f":"('32% Range'!$B$8-Data!S298)/Data!T298","v":1.2799759139988507},{"$f":"(S298-'32% Range'!$B$7)/Data!T298","v":12.843896240472134},0.39972319651885957,0.5,0.89972319651885957,2.2650000000000001]
[32.200000000000188,0.8904764153353093,{"$f":"('32% Range'!$B$8-Data!A299)/Data!B299","v":3.1443842327317237},{"$f":"(A299-'32% Range'!$B$7)/Data!B299","v":32.79143556991896},0.49916781625149231,0.5,0.99916781625149231,0.89100000000000001,null,32.200000000000188,1.700521697222197,{"$f":"('32% Range'!$B$8-Data!J299)/Data!K299","v":1.6465535279988568},{"$f":"(J299-'32% Range'!$B$7)/Data!K299","v":17.171201077703625},0.45017507542147861,0.5,0.95017507542147861,1.7010000000000001,null,32.200000000000188,2.1912582579564108,{"$f":"('32% Range'!$B$8-Data!S299)/Data!T299","v":1.2778046539393855},{"$f":"(S299-'32% Range'!$B$7)/Data!T299","v":13.325677105368856},0.39934084348164722,0.5,0.89934084348164722,2.1869999999999998]
[32.300000000000189,0.85885661931375445,{"$f":"('32% Range'!$B$8-Data!A300)/Data!B300","v":3.1437144912001389},{"$f":"(A300-'32% Range'!$B$7)/Data!B300","v":34.115123923026339},0.49916590944413686,0.5,0.99916590944413686,0.85899999999999999,null,32.300000000000189,1.6409133898247703,{"$f":"('32% Range'!$B$8-Data!J300)/Data!K300","v":1.6454250521340059},{"$f":"(J300-'32% Range'!$B$7)/Data!K300","v":17.855908899085208},0.45005890661110448,0.5,0.95005890661110448,1.641,null,32.300000000000189,2.1038511334427548,{"$f":"('32% Range'!$B$8-Data!S300)/Data!T300","v":1.2833607649708154},{"$f":"(S300-'32% Range'!$B$7)/Data!T300","v":13.926840893943618},0.40031714350457837,0.5,0.90031714350457837,2.1080000000000001]
[32.40000000000019,0.82696978245801223,{"$f":"('32% Range'!$B$8-Data!A301)/Data!B301","v":3.1440084694168609},{"$f":"(A301-'32% Range'!$B$7)/Data!B301","v":35.55148038494734},0.49916674691790863,0.5,0.99916674691790863,0.82699999999999996,null,32.40000000000019,1.5797597326716897,{"$f":"('32% Range'!$B$8-Data!J301)/Data!K301","v":1.6458198966767494},{"$f":"(J301-'32% Range'!$B$7)/Data!K301","v":18.61042498550011},0.45009957767742881,0.5,0.95009957767742881,1.58,null,32.40000000000019,2.0288958117264579,{"$f":"('32% Range'!$B$8-Data!S301)/Data!T301","v":1.2814852221452313},{"$f":"(S301-'32% Range'!$B$7)/Data!T301","v":14.490640588874157},0.39998835634910546,0.5,0.89998835634910546,2.0299999999999998]
[32.500000000000192,0.79518887376622327,{"$f":"('32% Range'!$B$8-Data!A302)/Data!B302","v":3.1439071678142976},{"$f":"(A302-'32% Range'!$B$7)/Data!B302","v":37.098104580211803},0.49916645842122287,0.5,0.99916645842122287,0.79500000000000004,null,32.500000000000192,1.5191253221792314,{"$f":"('32% Range'!$B$8-Data!J302)/Data!K302","v":1.6456838441831003},{"$f":"(J302-'32% Range'!$B$7)/Data!K302","v":19.419069361362201},0.45008556653847842,0.5,0.95008556653847842,1.5189999999999999,null,32.500000000000192,1.952805962076154,{"$f":"('32% Range'!$B$8-Data!S302)/Data!T302","v":1.2802091188526978},{"$f":"(S302-'32% Range'!$B$7)/Data!T302","v":15.106467602463093},0.39976420013704739,0.5,0.89976420013704739,1.9510000000000001]
[32.600000000000193,0.76376739530393123,{"$f":"('32% Range'!$B$8-Data!A303)/Data!B303","v":3.142317955383207},{"$f":"(A303-'32% Range'!$B$7)/Data!B303","v":38.755254783062924},0.49916192045946206,0.5,0.99916192045946206,0.76300000000000001,null,32.600000000000193,1.4602549987979301,{"$f":"('32% Range'!$B$8-Data!J303)/Data!K303","v":1.6435485596525723},{"$f":"(J303-'32% Range'!$B$7)/Data!K303","v":20.270432235716825},0.44986525651517362,0.5,0.94986525651517362,1.4590000000000001,null,32.600000000000193,1.872242105467099,{"$f":"('32% Range'!$B$8-Data!S303)/Data!T303","v":1.2818854960005504},{"$f":"(S303-'32% Range'!$B$7)/Data!T303","v":15.809921117341496},0.40005859169888502,0.5,0.90005859169888502,1.873]
[32.700000000000195,0.73142005875263116,{"$f":"('32% Range'!$B$8-Data!A304)/Data!B304","v":3.1445678478140744},{"$f":"(A304-'32% Range'!$B$7)/Data!B304","v":40.605941339168055},0.49916833831727314,0.5,0.99916833831727314,0.73199999999999998,null,32.700000000000195,1.3964265700266574,{"$f":"('32% Range'!$B$8-Data!J304)/Data!K304","v":1.6470611841451133},{"$f":"(J304-'32% Range'!$B$7)/Data!K304","v":21.268572682223621},0.45022726477883901,0.5,0.95022726477883901,1.3979999999999999,null,32.700000000000195,1.7923923257019181,{"$f":"('32% Range'!$B$8-Data!S304)/Data!T304","v":1.2832012093664278},{"$f":"(S304-'32% Range'!$B$7)/Data!T304","v":16.570033007907121},0.40028920379666277,0.5,0.90028920379666277,1.7949999999999999]
[32.800000000000196,0.69986348197561798,{"$f":"('32% Range'!$B$8-Data!A305)/Data!B305","v":3.1434702004875401},{"$f":"(A305-'32% Range'!$B$7)/Data!B305","v":42.579732715698938},0.49916521292914984,0.5,0.99916521292914984,0.7,null,32.800000000000196,1.3373072436859479,{"$f":"('32% Range'!$B$8-Data!J305)/Data!K305","v":1.6450968993004647},{"$f":"(J305-'32% Range'!$B$7)/Data!K305","v":22.283585272344791},0.45002508503006189,0.5,0.95002508503006189,1.337,null,32.800000000000196,1.7169566086269525,{"$f":"('32% Range'!$B$8-Data!S305)/Data!T305","v":1.2813369825106649},{"$f":"(S305-'32% Range'!$B$7)/Data!T305","v":17.356291854009758},0.39996233585720464,0.5,0.89996233585720464,1.7170000000000001]
[32.900000000000198,0.66891895995692274,{"$f":"('32% Range'!$B$8-Data!A306)/Data!B306","v":3.1393937467926443},{"$f":"(A306-'32% Range'!$B$7)/Data!B306","v":44.698987156718815},0.49915351100972383,0.5,0.99915351100972383,0.66800000000000004,null,32.900000000000198,1.2807884531660023,{"$f":"('32% Range'!$B$8-Data!J306)/Data!K306","v":1.6396150315134224},{"$f":"(J306-'32% Range'!$B$7)/Data!K306","v":23.344994972502985},0.44945738214486353,0.5,0.94945738214486353,1.276,null,32.900000000000198,1.6390159992311035,{"$f":"('32% Range'!$B$8-Data!S306)/Data!T306","v":1.2812565594142804},{"$f":"(S306-'32% Range'!$B$7)/Data!T306","v":18.242652917376589},0.39994821712892659,0.5,0.89994821712892659,1.639]
[33.000000000000199,0.63602861720567083,{"$f":"('32% Range'!$B$8-Data!A307)/Data!B307","v":3.1445125987987841},{"$f":"(A307-'32% Range'!$B$7)/Data!B307","v":47.167688981986764},0.49916818126155171,0.5,0.99916818126155171,0.63600000000000001,null,33.000000000000199,1.214396571084829,{"$f":"('32% Range'!$B$8-Data!J307)/Data!K307","v":1.6469084709397581},{"$f":"(J307-'32% Range'!$B$7)/Data!K307","v":24.703627064098992},0.45021156975600829,0.5,0.95021156975600829,1.2150000000000001,null,33.000000000000199,1.5625810931264921,{"$f":"('32% Range'!$B$8-Data!S307)/Data!T307","v":1.2799335719582392},{"$f":"(S307-'32% Range'!$B$7)/Data!T307","v":19.199003579375624},0.39971575034849516,0.5,0.89971575034849516,1.5609999999999999]
[33.1000000000002,0.6040035470815055,{"$f":"('32% Range'!$B$8-Data!A308)/Data!B308","v":3.1456768907739705},{"$f":"(A308-'32% Range'!$B$7)/Data!B308","v":49.834144427530063},{"$f":"NORMSDIST(C308)-0.5","v":0.49917148521553112},{"$f":"NORMSDIST(D308)-0.5","v":0.5},{"$f":"E308+F308","v":0.99917148521553112},0.60399999999999998,null,33.1000000000002,1.1514315891929123,{"$f":"('32% Range'!$B$8-Data!J308)/Data!K308","v":1.650119744701108},{"$f":"(J308-'32% Range'!$B$7)/Data!K308","v":26.141370692373116},{"$f":"NORMSDIST(L308)-0.5","v":0.45054077643948465},{"$f":"NORMSDIST(M308)-0.5","v":0.5},{"$f":"N308+O308","v":0.95054077643948465},1.1539999999999999,null,33.1000000000002,1.4857032265807537,{"$f":"('32% Range'!$B$8-Data!S308)/Data!T308","v":1.2788556731969427},{"$f":"(S308-'32% Range'!$B$7)/Data!T308","v":20.25976619117489},{"$f":"NORMSDIST(U308)-0.5","v":0.3995260577174099},{"$f":"NORMSDIST(V308)-0.5","v":0.5},{"$f":"W308+X308","v":0.8995260577174099},1.484]
[33.200000000000202,0.57234881345867705,{"$f":"('32% Range'!$B$8-Data!A309)/Data!B309","v":3.1449353220852903},{"$f":"(A309-'32% Range'!$B$7)/Data!B309","v":52.765025959437246},0.49916938223800289,0.5,0.99916938223800289,0.57299999999999995,null,33.200000000000202,1.0921825907146474,{"$f":"('32% Range'!$B$8-Data!J309)/Data!K309","v":1.6480760774826166},{"$f":"(J309-'32% Range'!$B$7)/Data!K309","v":27.651054188878298},0.45033146967783233,0.5,0.95033146967783233,1.093,null,33.200000000000202,1.4048065024035026,{"$f":"('32% Range'!$B$8-Data!S309)/Data!T309","v":1.2813152536809544},{"$f":"(S309-'32% Range'!$B$7)/Data!T309","v":21.497622589538565},0.39995852138200394,0.5,0.89995852138200394,1.4059999999999999]
[33.300000000000203,0.54049212121846224,{"$f":"('32% Range'!$B$8-Data!A310)/Data!B310","v":3.1452817409574627},{"$f":"(A310-'32% Range'!$B$7)/Data!B310","v":56.060021618248911},0.49917036524044922,0.5,0.99917036524044922,0.54100000000000004,null,33.300000000000203,1.0309081469756909,{"$f":"('32% Range'!$B$8-Data!J310)/Data!K310","v":1.6490314922691975},{"$f":"(J310-'32% Range'!$B$7)/Data!K310","v":29.391561303389995},0.45042940843133084,0.5,0.95042940843133084,1.032,null,33.300000000000203,1.3274348156622824,{"$f":"('32% Range'!$B$8-Data!S310)/Data!T310","v":1.2806655211552775},{"$f":"(S310-'32% Range'!$B$7)/Data!T310","v":22.82597958294695},0.39984441238895907,0.5,0.89984441238895907,1.3280000000000001]
[33.400000000000205,0.5093914548538051,{"$f":"('32% Range'!$B$8-Data!A311)/Data!B311","v":3.1410028274993227},{"$f":"(A311-'32% Range'!$B$7)/Data!B311","v":59.679053722495162},0.49915814796558566,0.5,0.99915814796558566,0.50900000000000001,null,33.400000000000205,0.97455186956631101,{"$f":"('32% Range'!$B$8-Data!J311)/Data!K311","v":1.6417802376304684},{"$f":"(J311-'32% Range'!$B$7)/Data!K311","v":31.193824514983099},0.44968222197290375,0.5,0.94968222197290375,0.97199999999999998,null,33.400000000000205,1.2485664899143796,{"$f":"('32% Range'!$B$8-Data!S311)/Data!T311","v":1.2814695996762777},{"$f":"(S311-'32% Range'!$B$7)/Data!T311","v":24.347922393852556},0.39998561437130498,0.5,0.89998561437130498,1.2490000000000001]
[33.500000000000206,0.47696062303498388,{"$f":"('32% Range'!$B$8-Data!A312)/Data!B312","v":3.1449137047310773},{"$f":"(A312-'32% Range'!$B$7)/Data!B312","v":63.946578662874451},0.49916932086082466,0.5,0.99916932086082466,0.47699999999999998,null,33.500000000000206,0.91018510894875493,{"$f":"('32% Range'!$B$8-Data!J312)/Data!K312","v":1.6480164147403631},{"$f":"(J312-'32% Range'!$B$7)/Data!K312","v":33.509667099725547},0.4503253485828751,0.5,0.9503253485828751,0.91100000000000003,null,33.500000000000206,1.1724263454594024,{"$f":"('32% Range'!$B$8-Data!S312)/Data!T312","v":1.2793980669310492},{"$f":"(S312-'32% Range'!$B$7)/Data!T312","v":26.014427360935084},0.39962154288136176,0.5,0.89962154288136176,1.171]
[33.600000000000207,0.44513354130219468,{"$f":"('32% Range'!$B$8-Data!A313)/Data!B313","v":3.1451235867425971},{"$f":"(A313-'32% Range'!$B$7)/Data!B313","v":68.743415538813139},0.49916991659296917,0.5,0.99916991659296917,0.44500000000000001,null,33.600000000000207,0.84920772187187565,{"$f":"('32% Range'!$B$8-Data!J313)/Data!K313","v":1.6485954660348905},{"$f":"(J313-'32% Range'!$B$7)/Data!K313","v":36.03358661476819},0.4503847308898401,0.5,0.9503847308898401,0.85,null,33.600000000000207,1.0924824586811155,{"$f":"('32% Range'!$B$8-Data!S313)/Data!T313","v":1.2814851065800392},{"$f":"(S313-'32% Range'!$B$7)/Data!T313","v":28.009603043825198},0.39998833606588113,0.5,0.89998833606588113,1.093]
[33.700000000000209,0.41347777812422748,{"$f":"('32% Range'!$B$8-Data!A314)/Data!B314","v":3.1440625561483309},{"$f":"(A314-'32% Range'!$B$7)/Data!B314","v":74.24824651828456},0.49916690091381044,0.5,0.99916690091381044,0.41299999999999998,null,33.700000000000209,0.78984500662745882,{"$f":"('32% Range'!$B$8-Data!J314)/Data!K314","v":1.6458925347273277},{"$f":"(J314-'32% Range'!$B$7)/Data!K314","v":38.86838524318263},0.45010705690127684,0.5,0.95010705690127684,0.79,null,33.700000000000209,1.0145197321375543,{"$f":"('32% Range'!$B$8-Data!S314)/Data!T314","v":1.2813944951674234},{"$f":"(S314-'32% Range'!$B$7)/Data!T314","v":30.260623847420376},0.39997243163634577,0.5,0.89997243163634577,1.0149999999999999]
[33.80000000000021,0.38175285717766833,{"$f":"('32% Range'!$B$8-Data!A315)/Data!B315","v":3.1433949410922364},{"$f":"(A315-'32% Range'!$B$7)/Data!B315","v":80.680470154715422},0.49916499824382843,0.5,0.99916499824382843,0.38200000000000001,null,33.80000000000021,0.72948514688585864,{"$f":"('32% Range'!$B$8-Data!J315)/Data!K315","v":1.6449957961756165},{"$f":"(J315-'32% Range'!$B$7)/Data!K315","v":42.22155876851518},0.45001466099963805,0.5,0.95001466099963805,0.72899999999999998,null,33.80000000000021,0.93809613108672563,{"$f":"('32% Range'!$B$8-Data!S315)/Data!T315","v":1.2791865995755305},{"$f":"(S315-'32% Range'!$B$7)/Data!T315","v":32.832456055777932},0.3995843232007471,0.5,0.8995843232007471,0.93700000000000006]
[33.900000000000212,0.34982302294395418,{"$f":"('32% Range'!$B$8-Data!A316)/Data!B316","v":3.1444471285585496},{"$f":"(A316-'32% Range'!$B$7)/Data!B316","v":88.33037842952595},0.49916799511474741,0.5,0.99916799511474741,0.35,null,33.900000000000212,0.66799153169486303,{"$f":"('32% Range'!$B$8-Data!J316)/Data!K316","v":1.6467274625605071},{"$f":"(J316-'32% Range'!$B$7)/Data!K316","v":46.258071448299823},0.45019296159802658,0.5,0.95019296159802658,0.66800000000000004,null,33.900000000000212,0.85888734485824236,{"$f":"('32% Range'!$B$8-Data!S316)/Data!T316","v":1.2807267525653683},{"$f":"(S316-'32% Range'!$B$7)/Data!T316","v":35.97677877661615},0.39985517018240957,0.5,0.89985517018240957,0.85899999999999999]
[34.000000000000213,0.31811599129738177,{"$f":"('32% Range'!$B$8-Data!A317)/Data!B317","v":3.143507485811881},{"$f":"(A317-'32% Range'!$B$7)/Data!B317","v":97.448732060189755},0.49916531927063701,0.5,0.99916531927063701,0.318,null,34.000000000000213,0.60784842206104717,{"$f":"('32% Range'!$B$8-Data!J317)/Data!K317","v":1.6451469868245463},{"$f":"(J317-'32% Range'!$B$7)/Data!K317","v":50.999556591572158},0.45003024855936913,0.5,0.95003024855936913,0.60799999999999998,null,34.000000000000213,0.78160750640026921,{"$f":"('32% Range'!$B$8-Data!S317)/Data!T317","v":1.2794145294296555},{"$f":"(S317-'32% Range'!$B$7)/Data!T317","v":39.661850412328043},0.39962443996969998,0.5,0.89962443996969998,0.78100000000000003]
[34.100000000000215,0.28618374568388977,{"$f":"('32% Range'!$B$8-Data!A318)/Data!B318","v":3.1448326942855069},{"$f":"(A318-'32% Range'!$B$7)/Data!B318","v":108.67144088033696},0.49916909081440075,0.5,0.99916909081440075,0.28599999999999998,null,34.100000000000215,0.54618518048920461,{"$f":"('32% Range'!$B$8-Data!J318)/Data!K318","v":1.6477927855781029},{"$f":"(J318-'32% Range'!$B$7)/Data!K318","v":56.94039514610175},0.45030240000796651,0.5,0.95030240000796651,0.54700000000000004,null,34.100000000000215,0.70145300204450278,{"$f":"('32% Range'!$B$8-Data!S318)/Data!T318","v":1.283051034604719},{"$f":"(S318-'32% Range'!$B$7)/Data!T318","v":44.336541306907279},0.40026290153740263,0.5,0.90026290153740263,0.70299999999999996]
[34.200000000000216,0.25449397908559057,{"$f":"('32% Range'!$B$8-Data!A319)/Data!B319","v":3.1434928357606866},{"$f":"(A319-'32% Range'!$B$7)/Data!B319","v":122.59622059470072},0.49916527748870709,0.5,0.99916527748870709,0.255,null,34.200000000000216,0.48628455485014049,{"$f":"('32% Range'!$B$8-Data!J319)/Data!K319","v":1.645127306678128},{"$f":"(J319-'32% Range'!$B$7)/Data!K319","v":64.159964960464762},0.45002821978128549,0.5,0.95002821978128549,0.48699999999999999,null,34.200000000000216,0.62425727118315733,{"$f":"('32% Range'!$B$8-Data!S319)/Data!T319","v":1.2815229184011598},{"$f":"(S319-'32% Range'!$B$7)/Data!T319","v":49.979393817659073},0.39999497238182391,0.5,0.89999497238182391,0.626]
[34.300000000000217,0.22261876942982936,{"$f":"('32% Range'!$B$8-Data!A320)/Data!B320","v":3.1443889560283744},{"$f":"(A320-'32% Range'!$B$7)/Data!B320","v":140.59910617674197},0.49916782968483953,0.5,0.99916782968483953,0.224,null,34.300000000000217,0.42512705141886753,{"$f":"('32% Range'!$B$8-Data!J320)/Data!K320","v":1.6465665914778245},{"$f":"(J320-'32% Range'!$B$7)/Data!K320","v":73.625049018960397},0.45017641895341987,0.5,0.95017641895341987,0.42799999999999999,null,34.300000000000217,0.54629402215586043,{"$f":"('32% Range'!$B$8-Data!S320)/Data!T320","v":1.281361266296392},{"$f":"(S320-'32% Range'!$B$7)/Data!T320","v":57.29515376441401},0.39996659872681573,0.5,0.89996659872681573,0.55000000000000004]
[34.400000000000219,0.19092190941047421,{"$f":"('32% Range'!$B$8-Data!A321)/Data!B321","v":3.1426461313552339},{"$f":"(A321-'32% Range'!$B$7)/Data!B321","v":164.46514754098501},0.49916285941680849,0.5,0.99916285941680849,0.19400000000000001,null,34.400000000000219,0.36496580341322327,{"$f":"('32% Range'!$B$8-Data!J321)/Data!K321","v":1.6439896406416092},{"$f":"(J321-'32% Range'!$B$7)/Data!K321","v":86.035457860276196},0.44991082888283418,0.5,0.94991082888283418,0.371,null,34.400000000000219,0.4681052476228843,{"$f":"('32% Range'!$B$8-Data!S321)/Data!T321","v":1.2817630288202924},{"$f":"(S321-'32% Range'!$B$7)/Data!T321","v":67.078931841620232},0.4000371064237046,0.5,0.9000371064237046,0.47699999999999998]
[34.50000000000022,0.1590299912019329,{"$f":"('32% Range'!$B$8-Data!A322)/Data!B322","v":3.1440610429569249},{"$f":"(A322-'32% Range'!$B$7)/Data!B322","v":198.07584570637491},0.49916689660580338,0.5,0.99916689660580338,0.1590299912019329,null,34.50000000000022,0.30378691609507658,{"$f":"('32% Range'!$B$8-Data!J322)/Data!K322","v":1.6458905025498007},{"$f":"(J322-'32% Range'!$B$7)/Data!K322","v":103.69110166068386},0.45010684766896147,0.5,0.95010684766896147,0.318,null,34.50000000000022,0.39034654395506879,{"$f":"('32% Range'!$B$8-Data!S322)/Data!T322","v":1.2809130956654062},{"$f":"(S322-'32% Range'!$B$7)/Data!T322","v":80.697525026956711},0.39988790375470906,0.5,0.89988790375470906,0.40899999999999997]
[34.600000000000222,0.12717798233245883,{"$f":"('32% Range'!$B$8-Data!A323)/Data!B323","v":3.1451985057769614},{"$f":"(A323-'32% Range'!$B$7)/Data!B323","v":248.4706819565194},0.49917012914902226,0.5,0.99917012914902226,0.12717798233245883,null,34.600000000000222,0.24260037783199268,{"$f":"('32% Range'!$B$8-Data!J323)/Data!K323","v":1.6488020487618082},{"$f":"(J323-'32% Range'!$B$7)/Data!K323","v":130.25536185225596},0.45040590244663681,0.5,0.95040590244663681,0.27100000000000002,null,34.600000000000222,0.31202342977204001,{"$f":"('32% Range'!$B$8-Data!S323)/Data!T323","v":1.2819550130963331},{"$f":"(S323-'32% Range'!$B$7)/Data!T323","v":101.27444603466715},0.40007078606928026,0.5,0.90007078606928026,0.34799999999999998]
[34.700000000000223,9.5410076664405014E-2,{"$f":"('32% Range'!$B$8-Data!A324)/Data!B324","v":3.1443219677413694},{"$f":"(A324-'32% Range'!$B$7)/Data!B324","v":332.25002125825415},0.49916763914736439,0.5,0.99916763914736439,9.5410076664405014E-2,null,34.700000000000223,0.18221781357029904,{"$f":"('32% Range'!$B$8-Data!J324)/Data!K324","v":1.646381295668647},{"$f":"(J324-'32% Range'!$B$7)/Data!K324","v":173.9676235757843},0.45015735924190603,0.5,0.95015735924190603,0.23,null,34.700000000000223,0.23504933083965224,{"$f":"('32% Range'!$B$8-Data!S324)/Data!T324","v":1.2763278199010624},{"$f":"(S324-'32% Range'!$B$7)/Data!T324","v":134.86530630298017},0.39908017006422691,0.5,0.89908017006422691,0.29499999999999998]
[34.800000000000225,6.3622982044520701E-2,{"$f":"('32% Range'!$B$8-Data!A325)/Data!B325","v":3.1435181686363558},{"$f":"(A325-'32% Range'!$B$7)/Data!B325","v":499.81938881374526},0.49916534973682747,0.5,0.99916534973682747,6.3622982044520701E-2,null,34.800000000000225,0.12156862396423349,{"$f":"('32% Range'!$B$8-Data!J325)/Data!K325","v":1.645161337506108},{"$f":"(J325-'32% Range'!$B$7)/Data!K325","v":261.58065266376673},0.45003172789456491,0.5,0.95003172789456491,0.19600000000000001,null,34.800000000000225,0.15632785229928453,{"$f":"('32% Range'!$B$8-Data!S325)/Data!T325","v":1.279362551574508},{"$f":"(S325-'32% Range'!$B$7)/Data!T325","v":203.41864570057658},0.39961529264262718,0.5,0.89961529264262718,0.252]
[34.900000000000226,3.1773799087092693E-2,{"$f":"('32% Range'!$B$8-Data!A326)/Data!B326","v":3.1472471933769022},{"$f":"(A326-'32% Range'!$B$7)/Data!B326","v":1003.9718546895074},0.4991759221970653,0.5,0.9991759221970653,3.1773799087092693E-2,null,34.900000000000226,6.044384356157978E-2,{"$f":"('32% Range'!$B$8-Data!J326)/Data!K326","v":1.6544282115000633},{"$f":"(J326-'32% Range'!$B$7)/Data!K326","v":527.76259946971641},0.45097973084343002,0.5,0.95097973084343002,0.16800000000000001,null,34.900000000000226,7.79418456114295E-2,{"$f":"('32% Range'!$B$8-Data!S326)/Data!T326","v":1.2830078530384441},{"$f":"(S326-'32% Range'!$B$7)/Data!T326","v":409.2795051201914},0.40025533759234144,0.5,0.90025533759234144,0.217]
[35.000000000000227,1.5899213620450728E-2,{"$f":"('32% Range'!$B$8-Data!A327)/Data!B327","v":-1.4300938453381584E-11},{"$f":"(A327-'32% Range'!$B$7)/Data!B327","v":2012.6781590530675},-5.7052695900949857E-12,0.5,0.49999999999429473,1.5899213620450728E-2,null,35.000000000000227,3.0344794195102033E-2,{"$f":"('32% Range'!$B$8-Data!J327)/Data!K327","v":-7.4930043677782639E-12},{"$f":"(J327-'32% Range'!$B$7)/Data!K327","v":1054.5466149566228},-2.989275493803234E-12,0.5,0.49999999999701072,3.0344794195102033E-2,null,35.000000000000227,3.9097910278621098E-2,{"$f":"('32% Range'!$B$8-Data!S327)/Data!T327","v":-5.8154943275206439E-12},{"$f":"(S327-'32% Range'!$B$7)/Data!T327","v":818.45806519991845},-2.3200330545591896E-12,0.5,0.49999999999767997,3.9097910278621098E-2]