{"text_format":"1","workbook":"xlsx","n_sheets":2,"sheets":["BSG","Data"],"not_rendered":{"charts":1,"images":1,"macros":1,"external_links":0,"defined_names":0,"comments":0,"pivot_tables":0},"unopened":[],"bounds":{"document_bytes":16777216,"sheet_cells":100000,"rows_first":2000,"rows_last":500,"rows_between":2000,"halvings":0,"cell_chars":16384,"cell_head_chars":4096},"cells_cut":0,"cells_raw":0,"read":"whole","date_system":"1900"}

{"sheet":"BSG","index":0,"n_rows":15,"n_cols":2,"rows_kept":15,"cut":false,"hidden":false,"merged":[[0,0,1,1]]}
["Please enter your specific information below"]
[]
[]
["Target"]
["Mean"]
["Standard Deviation"]
[]
[]
["Y Axis Min",-0.05]
["Y Axis Max",0.05]
[]
["Lower Limit",-0.116666666666666]
["Upper Limit",0.116666666666666]
[]
["Deviation from Target",{"$f":"B4-B5","v":0}]

{"sheet":"Data","index":1,"n_rows":61,"n_cols":7,"rows_kept":61,"cut":false,"hidden":false,"merged":[]}
["Mean","Std Dev"]
[0.05,0.02]
[0,3.5000000000000003E-2]
[-0.05,0.02]
[]
["Mean","Std Dev","Z Upper","Z Lower","% Compliance","% Compliance","Total Compliance"]
[0.05,3.5000000000000003E-2,{"$f":"(BSG!$B$13-A7)/B7","v":1.9047619047618856},{"$f":"(A7-BSG!$B$12)/B7","v":4.7619047619047432},{"$f":"NORMSDIST(C7)-0.5","v":0.47159448603263487},{"$f":"NORMSDIST(D7)-0.5","v":0.49999904112896676},{"$f":"E7+F7","v":0.97159352716160163}]
[4.9000000000000002E-2,3.5999999999999997E-2,{"$f":"(BSG!$B$13-A8)/B8","v":1.8796296296296113},{"$f":"(A8-BSG!$B$12)/B8","v":4.6018518518518343},{"$f":"NORMSDIST(C8)-0.5","v":0.46992071389283385},{"$f":"NORMSDIST(D8)-0.5","v":0.49999790624483931},{"$f":"E8+F8","v":0.96991862013767316}]
[{"$f":"A7-0.002","v":4.8000000000000001E-2},3.7100000000000001E-2,{"$f":"(BSG!$B$13-A9)/B9","v":1.8508535489667386},{"$f":"(A9-BSG!$B$12)/B9","v":4.4384546271338552},{"$f":"NORMSDIST(C9)-0.5","v":0.46790468755663417},0.49999546964601871,{"$f":"E9+F9","v":0.96790015720265288}]
[4.7E-2,3.7969999999999997E-2,{"$f":"(BSG!$B$13-A10)/B10","v":1.8347818453164606},{"$f":"(A10-BSG!$B$12)/B10","v":4.3104205074181206},{"$f":"NORMSDIST(C10)-0.5","v":0.46673099018945663},{"$f":"NORMSDIST(D10)-0.5","v":0.49999185278014791},{"$f":"E10+F10","v":0.96672284296960453}]
[{"$f":"A9-0.002","v":4.5999999999999999E-2},3.879568921664673E-2,{"$f":"(BSG!$B$13-A11)/B11","v":1.8215082163392486},{"$f":"(A11-BSG!$B$12)/B11","v":4.1929057055356509},0.46573518056832075,0.49998622980299623,0.96572141037131698]
[{"$f":"A11-0.002","v":4.3999999999999997E-2},3.9896848850180917E-2,{"$f":"(BSG!$B$13-A12)/B12","v":1.8213635603037479},{"$f":"(A12-BSG!$B$12)/B12","v":4.0270515415890404},0.4657241947425389,0.49997175967249152,0.96569595441503042]
[4.1999999999999996E-2,4.1000267920484806E-2,{"$f":"(BSG!$B$13-A13)/B13","v":1.8211263109663873},{"$f":"(A13-BSG!$B$12)/B13","v":3.8698934108035914},0.46570617070007803,0.49994555852647027,0.96565172922654829]
[3.9999999999999994E-2,4.2100664516409696E-2,{"$f":"(BSG!$B$13-A14)/B14","v":1.8210322223484958},{"$f":"(A14-BSG!$B$12)/B14","v":3.72123975871216},0.46569902054746026,0.49990087644907,0.96559989699653026]
[3.7999999999999992E-2,4.3193415627706913E-2,{"$f":"(BSG!$B$13-A15)/B15","v":1.8212652443305357},{"$f":"(A15-BSG!$B$12)/B15","v":3.5807926837685256},0.46571672653586305,0.49982872330910189,0.96554544984496493]
[3.599999999999999E-2,4.4271709856632785E-2,{"$f":"(BSG!$B$13-A16)/B16","v":1.8220815714570946},{"$f":"(A16-BSG!$B$12)/B16","v":3.4484023129229442},0.46577869525289306,0.49971804329506908,0.96549673854796214]
[3.3999999999999989E-2,4.5332390145753979E-2,{"$f":"(BSG!$B$13-A17)/B17","v":1.8235673521928542},{"$f":"(A17-BSG!$B$12)/B17","v":3.3235985612547294},0.46589124697096362,0.49955567992682104,0.96544692689778466]
[3.1999999999999987E-2,4.6364412475992406E-2,{"$f":"(BSG!$B$13-A18)/B18","v":1.8261132223018377},{"$f":"(A18-BSG!$B$12)/B18","v":3.206482272230796},0.46608339553026501,0.49932815708037381,0.96541155261063882]
[2.9999999999999985E-2,4.7370676875168195E-2,{"$f":"(BSG!$B$13-A19)/B19","v":1.8295425014730338},{"$f":"(A19-BSG!$B$12)/B19","v":3.0961488486466817},0.4663408108038698,0.49901974040411923,0.96536055120798903]
[2.7999999999999983E-2,4.8326117531620083E-2,{"$f":"(BSG!$B$13-A20)/B20","v":1.8347566739382872},{"$f":"(A20-BSG!$B$12)/B20","v":2.9935503627414244},0.46672912459469185,0.49862124002974439,0.96535036462443624]
[2.5999999999999981E-2,4.9237493553566582E-2,{"$f":"(BSG!$B$13-A21)/B21","v":1.8414151518096205},{"$f":"(A21-BSG!$B$12)/B21","v":2.897520900641616},0.46721962795939276,0.49811937662154759,0.96533900458094035]
[2.399999999999998E-2,5.0096686767917203E-2,{"$f":"(BSG!$B$13-A22)/B22","v":1.8497563939899391},{"$f":"(A22-BSG!$B$12)/B22","v":2.80790359087682},0.46782566581159879,0.49750674236461201,0.9653324081762108]
[2.1999999999999978E-2,5.0899033553920586E-2,{"$f":"(BSG!$B$13-A23)/B23","v":1.8598912406928041},{"$f":"(A23-BSG!$B$12)/B23","v":2.724347732845803},0.46854954256484116,0.49677856842158197,0.96532811098642313]
[1.9999999999999976E-2,5.1638212552052781E-2,{"$f":"(BSG!$B$13-A24)/B24","v":1.8719986980421386},{"$f":"(A24-BSG!$B$12)/B24","v":2.6466188489561313},0.46939660818243678,0.49593495345706196,0.96533156163949874]
[1.7999999999999974E-2,5.2306790140236412E-2,{"$f":"(BSG!$B$13-A25)/B25","v":1.8863070435432396},{"$f":"(A25-BSG!$B$12)/B25","v":2.5745542080792903},0.47037320466530741,0.49498153214059681,0.96535473680590422]
[1.5999999999999973E-2,5.2915430280982417E-2,{"$f":"(BSG!$B$13-A26)/B26","v":1.9024066540161009},{"$f":"(A26-BSG!$B$12)/B26","v":2.5071451930410897},0.47144099410247264,0.4939144647367697,0.96535545883924234]
[1.3999999999999973E-2,5.3452106967234597E-2,{"$f":"(BSG!$B$13-A27)/B27","v":1.9207225400787153},{"$f":"(A27-BSG!$B$12)/B27","v":2.4445559601001854},0.47261665180079326,0.49274847102650932,0.96536512282730258]
[1.1999999999999972E-2,5.3916690269706705E-2,{"$f":"(BSG!$B$13-A28)/B28","v":1.9412665381182235},{"$f":"(A28-BSG!$B$12)/B28","v":2.3863977188332317},0.4738870219688287,0.49149283027473789,0.96537985224356659]
[9.9999999999999725E-3,5.4311366210270273E-2,{"$f":"(BSG!$B$13-A29)/B29","v":1.9639842285259137},{"$f":"(A29-BSG!$B$12)/B29","v":2.3322312713745235},0.47523403953663146,0.49015573604341589,0.96538977558004735]
[7.9999999999999724E-3,5.4633687824753245E-2,{"$f":"(BSG!$B$13-A30)/B30","v":1.989004787947551},{"$f":"(A30-BSG!$B$12)/B30","v":2.2818643886269458},0.4766496627555511,0.48875132605798788,0.96540098881353897]
[5.9999999999999724E-3,5.4884350107756531E-2,{"$f":"(BSG!$B$13-A31)/B31","v":2.0163610655749764},{"$f":"(A31-BSG!$B$12)/B31","v":2.2350026269023839},0.47811888315681661,0.48729141185666391,0.96541029501348052]
[3.9999999999999723E-3,5.5063413665421057E-2,{"$f":"(BSG!$B$13-A32)/B32","v":2.0461257151846159},{"$f":"(A32-BSG!$B$12)/B32","v":2.1914127482154764},0.4796279982204561,0.48578903129557327,0.96541702951602937]
[1.9999999999999723E-3,5.5170834669608752E-2,{"$f":"(BSG!$B$13-A33)/B33","v":2.0783928202889954},{"$f":"(A33-BSG!$B$12)/B33","v":2.1508948954153553},0.48116340326937268,0.48425775172825791,0.96542115499763059]
[0,5.520663229121673E-2,{"$f":"(BSG!$B$13-A34)/B34","v":2.1132726599087888},{"$f":"(A34-BSG!$B$12)/B34","v":2.1132726599087888},0.48271128130747054,0.48271128130747054,0.96542256261494108]
[-2E-3,5.5170838196549998E-2,{"$f":"(BSG!$B$13-A35)/B35","v":2.1508947579137305},{"$f":"(A35-BSG!$B$12)/B35","v":2.078392687422256},0.48425774630051743,0.481163397155564,0.96542114345608143]
[-4.0000000000000001E-3,5.5063429923356583E-2,{"$f":"(BSG!$B$13-A36)/B36","v":2.191412101182642},{"$f":"(A36-BSG!$B$12)/B36","v":2.0461251110489851},0.48578900790543922,0.47962796850861711,0.96541697641405633]
[-6.0000000000000001E-3,5.488436270742536E-2,{"$f":"(BSG!$B$13-A37)/B37","v":2.2350021138183012},{"$f":"(A37-BSG!$B$12)/B37","v":2.0163606026839007},0.48729139501453511,0.47811885897266015,0.96541025398719527]
[-8.0000000000000002E-3,5.4633682947454361E-2,{"$f":"(BSG!$B$13-A38)/B38","v":2.2818645923352459},{"$f":"(A38-BSG!$B$12)/B38","v":1.989004965511469},0.48875133207323707,0.47664967255495883,0.96540100462819589]
[-0.01,5.4311359624631322E-2,{"$f":"(BSG!$B$13-A39)/B39","v":2.3322315541741672},{"$f":"(A39-BSG!$B$12)/B39","v":1.9639844666729807},0.49015574347804347,0.47523405334579816,0.96538979682384163]
[-1.2E-2,5.3924128893297348E-2,{"$f":"(BSG!$B$13-A40)/B40","v":2.3860685245609781},{"$f":"(A40-BSG!$B$12)/B40","v":1.9409987479589279},0.49148521119721678,0.4738707853811841,0.96535599657840088]
[-1.4E-2,5.3452153991442826E-2,{"$f":"(BSG!$B$13-A41)/B41","v":2.444553809516909},{"$f":"(A41-BSG!$B$12)/B41","v":1.9207208503347115},0.49274842779232231,0.47261654523017249,0.9653649730224948]
[-1.6E-2,5.2915270733827353E-2,{"$f":"(BSG!$B$13-A42)/B42","v":2.5071527524445916},{"$f":"(A42-BSG!$B$12)/B42","v":1.9024123900458931},0.49391459488981693,0.47144136875651554,0.96535596364633247]
[-1.8000000000000002E-2,5.2306702301332948E-2,{"$f":"(BSG!$B$13-A43)/B43","v":2.5745585315408852},{"$f":"(A43-BSG!$B$12)/B43","v":1.8863102112279719},0.49498159486200777,0.47037341797340315,0.96535501283541092]
[-2.0000000000000004E-2,5.1638204773284221E-2,{"$f":"(BSG!$B$13-A44)/B44","v":2.6466192476422514},{"$f":"(A44-BSG!$B$12)/B44","v":1.8719989800396375},0.49593495824902267,0.46939662768936774,0.96533158593839041]
[-2.2000000000000006E-2,5.0898959194175905E-2,{"$f":"(BSG!$B$13-A45)/B45","v":2.7243517129232946},{"$f":"(A45-BSG!$B$12)/B45","v":1.8598939578610911},0.49677860724708522,0.46854973481679507,0.9653283420638803]
[-2.4000000000000007E-2,5.0096695982879517E-2,{"$f":"(BSG!$B$13-A46)/B46","v":2.8079030743811657},{"$f":"(A46-BSG!$B$12)/B46","v":1.8497560537392468},0.49750673836591797,0.46782564128041548,0.96533237964633345]
[-2.6000000000000009E-2,4.9237509827281874E-2,{"$f":"(BSG!$B$13-A47)/B47","v":2.897519942968688},{"$f":"(A47-BSG!$B$12)/B47","v":1.841414543195049},0.49811937087984715,0.46721958339913727,0.96533895427898442]
[-2.8000000000000011E-2,4.8326130808538807E-2,{"$f":"(BSG!$B$13-A48)/B48","v":2.9935495403059385},{"$f":"(A48-BSG!$B$12)/B48","v":1.8347561698649246},0.49862123631369604,0.4667290872340526,0.96535032354774863]
[-3.0000000000000013E-2,4.7372034133002491E-2,{"$f":"(BSG!$B$13-A49)/B49","v":3.0960601407759332},{"$f":"(A49-BSG!$B$12)/B49","v":1.8294900831857726},0.4990194470930116,0.46633688821422603,0.96535633530723763]
[-3.2000000000000015E-2,4.6364576979993757E-2,{"$f":"(BSG!$B$13-A50)/B50","v":3.2064708954600283},{"$f":"(A50-BSG!$B$12)/B50","v":1.8261067431543594},0.49932813051405267,0.4660829076515447,0.96541103816559737]
[-3.4000000000000016E-2,4.5332387591366527E-2,{"$f":"(BSG!$B$13-A51)/B51","v":3.3235987485327203},{"$f":"(A51-BSG!$B$12)/B51","v":1.8235674549471492},0.49955568022516894,0.46589125474432813,0.96544693496949707]
[-3.6000000000000018E-2,4.4271705655417118E-2,{"$f":"(BSG!$B$13-A52)/B52","v":3.4484026401631445},{"$f":"(A52-BSG!$B$12)/B52","v":1.8220817443656714},0.4997180436367139,0.46577870836890378,0.96549675200561769]
[-3.800000000000002E-2,4.3193416953562859E-2,{"$f":"(BSG!$B$13-A53)/B53","v":3.5807925738532744},{"$f":"(A53-BSG!$B$12)/B53","v":1.8212651884253643},0.49982872323704508,0.4657167222888543,0.96554544552589938]
[-4.0000000000000022E-2,4.2100662166668926E-2,{"$f":"(BSG!$B$13-A54)/B54","v":3.7212399664036386},{"$f":"(A54-BSG!$B$12)/B54","v":1.8210323239847506},0.49990087653060478,0.46569902827184739,0.96559990480245217]
[-4.2000000000000023E-2,4.1000222362980197E-2,{"$f":"(BSG!$B$13-A55)/B55","v":3.8698977108458039},{"$f":"(A55-BSG!$B$12)/B55","v":1.8211283345156632},0.49994555948667851,0.4657063244638413,0.96565188395051982]
[-4.4000000000000025E-2,3.9896874127564916E-2,{"$f":"(BSG!$B$13-A56)/B56","v":4.0270489901779234},{"$f":"(A56-BSG!$B$12)/B56","v":1.8213624063460219},0.49997175936616234,0.46572410709419443,0.96569586646035677]
[-4.6000000000000027E-2,3.8789999999999998E-2,{"$f":"(BSG!$B$13-A57)/B57","v":4.1935206668385154},{"$f":"(A57-BSG!$B$12)/B57","v":1.8217753716593446},0.49998626709794847,0.46575546192904516,0.96574172902699362]
[-4.7E-2,3.7969999999999997E-2,{"$f":"(BSG!$B$13-A58)/B58","v":4.3104205074181206},{"$f":"(A58-BSG!$B$12)/B58","v":1.8347818453164606},{"$f":"NORMSDIST(C58)-0.5","v":0.49999185278014791},{"$f":"NORMSDIST(D58)-0.5","v":0.46673099018945663},{"$f":"E58+F58","v":0.96672284296960453}]
[{"$f":"A57-0.002","v":-4.8000000000000029E-2},3.7100000000000001E-2,{"$f":"(BSG!$B$13-A59)/B59","v":4.4384546271338552},{"$f":"(A59-BSG!$B$12)/B59","v":1.8508535489667377},0.49999546964601871,0.46790468755663439,0.9679001572026531]
[-4.9000000000000002E-2,3.5999999999999997E-2,{"$f":"(BSG!$B$13-A60)/B60","v":4.6018518518518343},{"$f":"(A60-BSG!$B$12)/B60","v":1.8796296296296113},{"$f":"NORMSDIST(C60)-0.5","v":0.49999790624483931},{"$f":"NORMSDIST(D60)-0.5","v":0.46992071389283385},{"$f":"E60+F60","v":0.96991862013767316}]
[{"$f":"A59-0.002","v":-5.0000000000000031E-2},3.5000000000000003E-2,{"$f":"(BSG!$B$13-A61)/B61","v":4.7619047619047432},{"$f":"(A61-BSG!$B$12)/B61","v":1.9047619047618847},0.49999904112896676,0.47159448603263487,0.97159352716160163]